Report for Test-TempDir-0.10

Back
From: metabase:user:68a9c4ac-1ec7-11e0-bf29-9c4bfeb2ac3f
Subject: PASS Test-TempDir-0.10 v5.18.2 Mac OS X
Date: 2016-03-03T14:57:36Z

This distribution has been tested as part of the CPAN Testers
project, supporting the Perl programming language.  See
http://wiki.cpantesters.org/ for more information or email
questions to cpan-testers-discuss@perl.org


--
Dear Karen Etheridge,

This is a computer-generated report for Test-TempDir-0.10
on perl 5.18.2, created by CPAN-Reporter-1.2011.

Thank you for uploading your work to CPAN.  Congratulations!
All tests were successful.

Sections of this report:

    * Tester comments
    * Program output
    * Prerequisites
    * Environment and other context

------------------------------
TESTER COMMENTS
------------------------------

Additional comments from tester:

none provided

------------------------------
PROGRAM OUTPUT
------------------------------

Output from './Build test':

# 
# Versions for all modules listed in MYMETA.json (including optional ones):
# 
# === Configure Requires ===
# 
#     Module               Want  Have
#     ------------------- ----- -----
#     Module::Build::Tiny 0.039 0.039
# 
# === Test Requires ===
# 
#     Module              Want     Have
#     ------------------- ---- --------
#     ExtUtils::MakeMaker  any     7.10
#     File::Path          2.04     2.09
#     File::Spec           any     3.40
#     Test::More          0.88 1.001014
#     Test::Requires       any     0.07
#     ok                   any     0.16
# 
# === Test Recommends ===
# 
#     Module         Want     Have
#     ---------- -------- --------
#     CPAN::Meta 2.120900 2.150005
# 
# === Runtime Requires ===
# 
#     Module                       Want     Have
#     ---------------------------- ---- --------
#     Carp                          any     1.29
#     File::NFSLock                 any     1.27
#     File::Spec                    any     3.40
#     File::Temp                    any     0.23
#     Moose                         any   2.1605
#     Moose::Util::TypeConstraints  any   2.1605
#     MooseX::Types::Path::Class    any     0.08
#     Path::Class                   any     0.33
#     Sub::Exporter                 any    0.987
#     Test::Builder                 any 1.001014
#     namespace::autoclean         0.08     0.28
#     strict                        any     1.07
#     warnings                      any     1.18
# 
# === Runtime Recommends ===
# 
#     Module             Want Have
#     ------------------ ---- ----
#     Directory::Scratch  any 0.18
# 
t/00-report-prereqs.t .. ok
t/00_load.t ............ ok
t/basic.t .............. ok
Warning: not cleaning up files in t/tmp/TOxuuSeyhZ at t/directory_scratch.t line 0.
t/directory_scratch.t .. ok
t/factory.t ............ ok
t/handle.t ............. ok
All tests successful.
Files=6, Tests=73,  2 wallclock secs ( 0.04 usr  0.01 sys +  1.91 cusr  0.15 csys =  2.11 CPU)
Result: PASS

------------------------------
PREREQUISITES
------------------------------

Prerequisite modules loaded:

requires:

    Module                       Need  Have    
    ---------------------------- ----- --------
    Carp                         0     1.29    
    File::NFSLock                0     1.27    
    File::Spec                   0     3.40    
    File::Temp                   0     0.23    
    Moose                        0     2.1605  
    Moose::Util::TypeConstraints 0     2.1605  
    MooseX::Types::Path::Class   0     0.08    
    namespace::autoclean         0.08  0.28    
    Path::Class                  0     0.33    
    perl                         5.006 5.018002
    strict                       0     1.07    
    Sub::Exporter                0     0.987   
    Test::Builder                0     1.001014
    warnings                     0     1.18    

build_requires:

    Module                       Need  Have    
    ---------------------------- ----- --------
    ExtUtils::MakeMaker          0     7.10    
    File::Path                   2.04  2.09    
    File::Spec                   0     3.40    
    ok                           0     0.16    
    perl                         5.006 5.018002
    Test::More                   0.88  1.001014
    Test::Requires               0     0.07    

configure_requires:

    Module                       Need  Have    
    ---------------------------- ----- --------
    Module::Build::Tiny          0.039 0.039   
    perl                         5.006 5.018002


------------------------------
ENVIRONMENT AND OTHER CONTEXT
------------------------------

Environment variables:

    HARNESS_SUBCLASS = TAP::Harness::Restricted
    LANG = en_US.UTF-8
    LANGUAGE = en_US.UTF-8
    LC_ALL = en_US.UTF-8
    LC_CTYPE = en_US.UTF-8
    PATH = /Users/rwstauner/python/venv/2.7.6/bin:/Users/rwstauner/node/global/bin:/Users/rwstauner/usr/node/bin:/Users/rwstauner/usr/haste-compiler/bin:/Users/rwstauner/bin:/Users/rwstauner/homebrew/opt/coreutils/libexec/gnubin:/Users/rwstauner/homebrew/sbin:/Users/rwstauner/homebrew/bin:/Users/rwstauner/usr/bin:/usr/local/bin:/usr/bin:/bin:/usr/sbin:/sbin:/opt/X11/bin:/Users/rwstauner/perl5/bin:/Users/rwstauner/python/venv/2.7.6/bin
    PERL5LIB = /Users/rwstauner/perl5/lib/perl5
    PERL5OPT = 
    PERL5_CPANPLUS_IS_RUNNING = 54972
    PERL5_CPAN_IS_RUNNING = 54972
    PERL_LOCAL_LIB_ROOT = /Users/rwstauner/perl5
    PERL_MB_OPT = --install_base "/Users/rwstauner/perl5"
    PERL_MM_OPT = INSTALL_BASE=/Users/rwstauner/perl5
    SHELL = /Users/rwstauner/homebrew/bin/zsh
    TERM = screen-256color
    TMPDIR = /var/folders/1_/4k_9x9z51rv3p9kvgfs_tt3h0000gn/T/
    VERSIONER_PERL_PREFER_32_BIT = no
    VERSIONER_PERL_VERSION = 5.18

Perl special variables (and OS-specific diagnostics, for MSWin32):

    $^X = /usr/bin/perl
    $UID/$EUID = 501 / 501
    $GID = 20 20 12 61 79 80 81 98 401 33 100 204 395 398 399
    $EGID = 20 20 12 61 79 80 81 98 401 33 100 204 395 398 399

Perl module toolchain versions installed:

    Module              Have    
    ------------------- --------
    CPAN                2.10    
    CPAN::Meta          2.150005
    Cwd                 3.40    
    ExtUtils::CBuilder  0.280210
    ExtUtils::Command   7.10    
    ExtUtils::Install   1.59    
    ExtUtils::MakeMaker 7.10    
    ExtUtils::Manifest  1.70    
    ExtUtils::ParseXS   3.18    
    File::Spec          3.40    
    JSON                2.90    
    JSON::PP            2.27300 
    Module::Build       0.4216  
    Module::Signature   n/a     
    Parse::CPAN::Meta   1.4417  
    Test::Harness       3.36    
    Test::More          1.001014
    YAML                1.14    
    YAML::Syck          1.27    
    version             0.9912  


--

Summary of my perl5 (revision 5 version 18 subversion 2) configuration:
   
  Platform:
    osname=darwin, osvers=14.0, archname=darwin-thread-multi-2level
    uname='darwin osx228.apple.com 14.0 darwin kernel version 14.0.0: tue jun 2 11:49:04 pdt 2015; root:xnu-2782.1.97.1.3~1development_x86_64 x86_64 '
    config_args='-ds -e -Dprefix=/usr -Dccflags=-g  -pipe  -Dldflags= -Dman3ext=3pm -Duseithreads -Duseshrplib -Dinc_version_list=none -Dcc=cc'
    hint=recommended, useposix=true, d_sigaction=define
    useithreads=define, usemultiplicity=define
    useperlio=define, d_sfio=undef, uselargefiles=define, usesocks=undef
    use64bitint=define, use64bitall=define, uselongdouble=undef
    usemymalloc=n, bincompat5005=undef
  Compiler:
    cc='cc', ccflags ='-arch i386 -arch x86_64 -g -pipe -fno-common -DPERL_DARWIN -fno-strict-aliasing -fstack-protector',
    optimize='-Os',
    cppflags='-g -pipe -fno-common -DPERL_DARWIN -fno-strict-aliasing -fstack-protector'
    ccversion='', gccversion='4.2.1 Compatible Apple LLVM 6.0 (clang-600.0.39)', gccosandvers=''
    intsize=4, longsize=8, ptrsize=8, doublesize=8, byteorder=12345678
    d_longlong=define, longlongsize=8, d_longdbl=define, longdblsize=16
    ivtype='long', ivsize=8, nvtype='double', nvsize=8, Off_t='off_t', lseeksize=8
    alignbytes=8, prototype=define
  Linker and Libraries:
    ld='cc -mmacosx-version-min=10.10.5', ldflags ='-arch i386 -arch x86_64 -fstack-protector'
    libpth=/usr/lib /usr/local/lib
    libs= 
    perllibs=
    libc=, so=dylib, useshrplib=true, libperl=libperl.dylib
    gnulibc_version=''
  Dynamic Linking:
    dlsrc=dl_dlopen.xs, dlext=bundle, d_dlsymun=undef, ccdlflags=' '
    cccdlflags=' ', lddlflags='-arch i386 -arch x86_64 -bundle -undefined dynamic_lookup -fstack-protector'


Characteristics of this binary (from libperl): 
  Compile-time options: HAS_TIMES MULTIPLICITY PERLIO_LAYERS
                        PERL_DONT_CREATE_GVSV
                        PERL_HASH_FUNC_ONE_AT_A_TIME_HARD
                        PERL_IMPLICIT_CONTEXT PERL_MALLOC_WRAP
                        PERL_PRESERVE_IVUV PERL_SAWAMPERSAND USE_64_BIT_ALL
                        USE_64_BIT_INT USE_ITHREADS USE_LARGE_FILES
                        USE_LOCALE USE_LOCALE_COLLATE USE_LOCALE_CTYPE
                        USE_LOCALE_NUMERIC USE_PERLIO USE_PERL_ATOF
                        USE_REENTRANT_API
  Locally applied patches:
	/Library/Perl/Updates/<version> comes before system perl directories
	installprivlib and installarchlib points to the Updates directory
  Built under darwin
  Compiled at Jul  9 2015 01:30:43
  %ENV:
    PERL5LIB="/Users/rwstauner/perl5/lib/perl5"
    PERL5OPT=""
    PERL5_CPANPLUS_IS_RUNNING="54972"
    PERL5_CPAN_IS_RUNNING="54972"
    PERL_LOCAL_LIB_ROOT="/Users/rwstauner/perl5"
    PERL_MB_OPT="--install_base "/Users/rwstauner/perl5""
    PERL_MM_OPT="INSTALL_BASE=/Users/rwstauner/perl5"
  @INC:
    /Users/rwstauner/perl5/lib/perl5/darwin-thread-multi-2level
    /Users/rwstauner/perl5/lib/perl5
    /Library/Perl/5.18/darwin-thread-multi-2level
    /Library/Perl/5.18
    /Network/Library/Perl/5.18/darwin-thread-multi-2level
    /Network/Library/Perl/5.18
    /Library/Perl/Updates/5.18.2
    /System/Library/Perl/5.18/darwin-thread-multi-2level
    /System/Library/Perl/5.18
    /System/Library/Perl/Extras/5.18/darwin-thread-multi-2level
    /System/Library/Perl/Extras/5.18
    .