Net-Amazon-S3 v0.98 Perl 5 v5.34.0 x86_64-linux

Status
Pass
From
Dagfinn Ilmari Mannsåker
Dist
Net-Amazon-S3 v0.98
Platform
Perl 5 v5.34.0 x86_64-linux
Date
2021-05-21 02:07:15
ID
43a2a814-b9d9-11eb-9db0-9f4bc4b231f8
This distribution has been tested as part of the CPAN Testers
project, supporting the Perl programming language.  See
http://wiki.cpantesters.org/ for more information or email
questions to cpan-testers-discuss@perl.org


--
Dear BARNEY,

This is a computer-generated report for Net-Amazon-S3-0.98
on perl 5.34.0, created by App::cpanminus::reporter 0.17 (1.7044).

Thank you for uploading your work to CPAN.  Congratulations!
All tests were successful.

Sections of this report:

    * Tester comments
    * Program output
    * Prerequisites
    * Environment and other context

------------------------------
TESTER COMMENTS
------------------------------

Additional comments from tester:

none provided

------------------------------
PROGRAM OUTPUT
------------------------------

Output from '':

Building and testing Net-Amazon-S3-0.98
cp lib/Net/Amazon/S3/Error/Handler/Legacy.pm blib/lib/Net/Amazon/S3/Error/Handler/Legacy.pm
cp lib/Net/Amazon/S3/Authorization.pm blib/lib/Net/Amazon/S3/Authorization.pm
cp lib/Net/Amazon/S3/Features.pod blib/lib/Net/Amazon/S3/Features.pod
cp lib/Net/Amazon/S3/Client/Bucket.pm blib/lib/Net/Amazon/S3/Client/Bucket.pm
cp lib/Net/Amazon/S3/Constants.pm blib/lib/Net/Amazon/S3/Constants.pm
cp lib/Net/Amazon/S3/Client/Object.pm blib/lib/Net/Amazon/S3/Client/Object.pm
cp lib/Net/Amazon/S3/Constraint/ACL/Canned.pm blib/lib/Net/Amazon/S3/Constraint/ACL/Canned.pm
cp lib/Net/Amazon/S3/ACL/Grantee/User.pm blib/lib/Net/Amazon/S3/ACL/Grantee/User.pm
cp lib/Net/Amazon/S3/ACL/Grantee/Email.pm blib/lib/Net/Amazon/S3/ACL/Grantee/Email.pm
cp lib/Net/Amazon/S3/ACL/Grantee/Group.pm blib/lib/Net/Amazon/S3/ACL/Grantee/Group.pm
cp lib/Net/Amazon/S3/Error/Handler/X.pm blib/lib/Net/Amazon/S3/Error/Handler/X.pm
cp lib/Net/Amazon/S3/Operation/Bucket/Acl/Set/Request.pm blib/lib/Net/Amazon/S3/Operation/Bucket/Acl/Set/Request.pm
cp lib/Net/Amazon/S3/Operation/Bucket/Acl/Set.pm blib/lib/Net/Amazon/S3/Operation/Bucket/Acl/Set.pm
cp lib/Net/Amazon/S3/Error/Handler.pm blib/lib/Net/Amazon/S3/Error/Handler.pm
cp lib/Net/Amazon/S3/Operation/Bucket/Acl/Fetch/Request.pm blib/lib/Net/Amazon/S3/Operation/Bucket/Acl/Fetch/Request.pm
cp lib/Net/Amazon/S3/Operation/Bucket/Acl/Fetch/Response.pm blib/lib/Net/Amazon/S3/Operation/Bucket/Acl/Fetch/Response.pm
cp lib/Net/Amazon/S3.pm blib/lib/Net/Amazon/S3.pm
cp lib/Net/Amazon/S3/ACL/Set.pm blib/lib/Net/Amazon/S3/ACL/Set.pm
cp lib/Net/Amazon/S3/Client.pm blib/lib/Net/Amazon/S3/Client.pm
cp lib/Net/Amazon/S3/ACL/Grantee.pm blib/lib/Net/Amazon/S3/ACL/Grantee.pm
cp lib/Net/Amazon/S3/Bucket.pm blib/lib/Net/Amazon/S3/Bucket.pm
cp lib/Net/Amazon/S3/ACL.pod blib/lib/Net/Amazon/S3/ACL.pod
cp lib/Net/Amazon/S3/Authorization/Basic.pm blib/lib/Net/Amazon/S3/Authorization/Basic.pm
cp lib/Net/Amazon/S3/Error/Handler/Confess.pm blib/lib/Net/Amazon/S3/Error/Handler/Confess.pm
cp lib/Net/Amazon/S3/Authorization/IAM.pm blib/lib/Net/Amazon/S3/Authorization/IAM.pm
cp lib/Net/Amazon/S3/Operation/Bucket/Acl/Fetch.pm blib/lib/Net/Amazon/S3/Operation/Bucket/Acl/Fetch.pm
cp lib/Net/Amazon/S3/Operation/Bucket/Acl/Set/Response.pm blib/lib/Net/Amazon/S3/Operation/Bucket/Acl/Set/Response.pm
cp lib/Net/Amazon/S3/Error/Handler/Status.pm blib/lib/Net/Amazon/S3/Error/Handler/Status.pm
cp lib/Net/Amazon/S3/ACL/Canned.pm blib/lib/Net/Amazon/S3/ACL/Canned.pm
cp lib/Net/Amazon/S3/HTTPRequest.pm blib/lib/Net/Amazon/S3/HTTPRequest.pm
cp lib/Net/Amazon/S3/Operation/Bucket/Delete/Response.pm blib/lib/Net/Amazon/S3/Operation/Bucket/Delete/Response.pm
cp lib/Net/Amazon/S3/Operation/Object/Acl/Fetch/Response.pm blib/lib/Net/Amazon/S3/Operation/Object/Acl/Fetch/Response.pm
cp lib/Net/Amazon/S3/Operation/Object/Acl/Set.pm blib/lib/Net/Amazon/S3/Operation/Object/Acl/Set.pm
cp lib/Net/Amazon/S3/Operation/Buckets/List/Request.pm blib/lib/Net/Amazon/S3/Operation/Buckets/List/Request.pm
cp lib/Net/Amazon/S3/Operation/Bucket/Create.pm blib/lib/Net/Amazon/S3/Operation/Bucket/Create.pm
cp lib/Net/Amazon/S3/Operation/Buckets/List.pm blib/lib/Net/Amazon/S3/Operation/Buckets/List.pm
cp lib/Net/Amazon/S3/Operation/Object/Acl/Fetch/Request.pm blib/lib/Net/Amazon/S3/Operation/Object/Acl/Fetch/Request.pm
cp lib/Net/Amazon/S3/Operation/Bucket/Tags/Delete/Request.pm blib/lib/Net/Amazon/S3/Operation/Bucket/Tags/Delete/Request.pm
cp lib/Net/Amazon/S3/Operation/Bucket/Location/Request.pm blib/lib/Net/Amazon/S3/Operation/Bucket/Location/Request.pm
cp lib/Net/Amazon/S3/Operation/Bucket/Location/Response.pm blib/lib/Net/Amazon/S3/Operation/Bucket/Location/Response.pm
cp lib/Net/Amazon/S3/Operation/Bucket/Tags/Add/Request.pm blib/lib/Net/Amazon/S3/Operation/Bucket/Tags/Add/Request.pm
cp lib/Net/Amazon/S3/Operation/Buckets/List/Response.pm blib/lib/Net/Amazon/S3/Operation/Buckets/List/Response.pm
cp lib/Net/Amazon/S3/Operation/Bucket/Tags/Delete/Response.pm blib/lib/Net/Amazon/S3/Operation/Bucket/Tags/Delete/Response.pm
cp lib/Net/Amazon/S3/Operation/Bucket/Delete/Request.pm blib/lib/Net/Amazon/S3/Operation/Bucket/Delete/Request.pm
cp lib/Net/Amazon/S3/Operation/Bucket/Tags/Add/Response.pm blib/lib/Net/Amazon/S3/Operation/Bucket/Tags/Add/Response.pm
cp lib/Net/Amazon/S3/Operation/Object/Acl/Fetch.pm blib/lib/Net/Amazon/S3/Operation/Object/Acl/Fetch.pm
cp lib/Net/Amazon/S3/Operation/Bucket/Location.pm blib/lib/Net/Amazon/S3/Operation/Bucket/Location.pm
cp lib/Net/Amazon/S3/Operation/Bucket/Delete.pm blib/lib/Net/Amazon/S3/Operation/Bucket/Delete.pm
cp lib/Net/Amazon/S3/Operation/Bucket/Tags/Add.pm blib/lib/Net/Amazon/S3/Operation/Bucket/Tags/Add.pm
cp lib/Net/Amazon/S3/Operation/Bucket/Create/Response.pm blib/lib/Net/Amazon/S3/Operation/Bucket/Create/Response.pm
cp lib/Net/Amazon/S3/Operation/Object/Acl/Set/Request.pm blib/lib/Net/Amazon/S3/Operation/Object/Acl/Set/Request.pm
cp lib/Net/Amazon/S3/Operation/Bucket/Tags/Delete.pm blib/lib/Net/Amazon/S3/Operation/Bucket/Tags/Delete.pm
cp lib/Net/Amazon/S3/Operation/Bucket/Create/Request.pm blib/lib/Net/Amazon/S3/Operation/Bucket/Create/Request.pm
cp lib/Net/Amazon/S3/Operation/Object/Add.pm blib/lib/Net/Amazon/S3/Operation/Object/Add.pm
cp lib/Net/Amazon/S3/Operation/Object/Add/Response.pm blib/lib/Net/Amazon/S3/Operation/Object/Add/Response.pm
cp lib/Net/Amazon/S3/Operation/Object/Delete.pm blib/lib/Net/Amazon/S3/Operation/Object/Delete.pm
cp lib/Net/Amazon/S3/Operation/Object/Tags/Delete/Response.pm blib/lib/Net/Amazon/S3/Operation/Object/Tags/Delete/Response.pm
cp lib/Net/Amazon/S3/Operation/Object/Fetch/Response.pm blib/lib/Net/Amazon/S3/Operation/Object/Fetch/Response.pm
cp lib/Net/Amazon/S3/Operation/Object/Restore/Response.pm blib/lib/Net/Amazon/S3/Operation/Object/Restore/Response.pm
cp lib/Net/Amazon/S3/Operation/Object/Fetch/Request.pm blib/lib/Net/Amazon/S3/Operation/Object/Fetch/Request.pm
cp lib/Net/Amazon/S3/Operation/Object/Tags/Delete.pm blib/lib/Net/Amazon/S3/Operation/Object/Tags/Delete.pm
cp lib/Net/Amazon/S3/Operation/Object/Tags/Add/Request.pm blib/lib/Net/Amazon/S3/Operation/Object/Tags/Add/Request.pm
cp lib/Net/Amazon/S3/Operation/Object/Upload/Abort.pm blib/lib/Net/Amazon/S3/Operation/Object/Upload/Abort.pm
cp lib/Net/Amazon/S3/Operation/Object/Acl/Set/Response.pm blib/lib/Net/Amazon/S3/Operation/Object/Acl/Set/Response.pm
cp lib/Net/Amazon/S3/Operation/Object/Add/Request.pm blib/lib/Net/Amazon/S3/Operation/Object/Add/Request.pm
cp lib/Net/Amazon/S3/Operation/Object/Tags/Delete/Request.pm blib/lib/Net/Amazon/S3/Operation/Object/Tags/Delete/Request.pm
cp lib/Net/Amazon/S3/Operation/Object/Delete/Response.pm blib/lib/Net/Amazon/S3/Operation/Object/Delete/Response.pm
cp lib/Net/Amazon/S3/Operation/Object/Fetch.pm blib/lib/Net/Amazon/S3/Operation/Object/Fetch.pm
cp lib/Net/Amazon/S3/Operation/Object/Tags/Add/Response.pm blib/lib/Net/Amazon/S3/Operation/Object/Tags/Add/Response.pm
cp lib/Net/Amazon/S3/Operation/Object/Head/Request.pm blib/lib/Net/Amazon/S3/Operation/Object/Head/Request.pm
cp lib/Net/Amazon/S3/Operation/Object/Tags/Add.pm blib/lib/Net/Amazon/S3/Operation/Object/Tags/Add.pm
cp lib/Net/Amazon/S3/Operation/Object/Head.pm blib/lib/Net/Amazon/S3/Operation/Object/Head.pm
cp lib/Net/Amazon/S3/Operation/Object/Delete/Request.pm blib/lib/Net/Amazon/S3/Operation/Object/Delete/Request.pm
cp lib/Net/Amazon/S3/Operation/Object/Head/Response.pm blib/lib/Net/Amazon/S3/Operation/Object/Head/Response.pm
cp lib/Net/Amazon/S3/Operation/Object/Restore/Request.pm blib/lib/Net/Amazon/S3/Operation/Object/Restore/Request.pm
cp lib/Net/Amazon/S3/Operation/Object/Restore.pm blib/lib/Net/Amazon/S3/Operation/Object/Restore.pm
cp lib/Net/Amazon/S3/Operation/Object/Upload/Part/Request.pm blib/lib/Net/Amazon/S3/Operation/Object/Upload/Part/Request.pm
cp lib/Net/Amazon/S3/Operation/Object/Upload/Complete/Response.pm blib/lib/Net/Amazon/S3/Operation/Object/Upload/Complete/Response.pm
cp lib/Net/Amazon/S3/Operation/Objects/Delete.pm blib/lib/Net/Amazon/S3/Operation/Objects/Delete.pm
cp lib/Net/Amazon/S3/Operation/Object/Upload/Complete/Request.pm blib/lib/Net/Amazon/S3/Operation/Object/Upload/Complete/Request.pm
cp lib/Net/Amazon/S3/Operation/Object/Upload/Part.pm blib/lib/Net/Amazon/S3/Operation/Object/Upload/Part.pm
cp lib/Net/Amazon/S3/Operation/Object/Upload/Abort/Request.pm blib/lib/Net/Amazon/S3/Operation/Object/Upload/Abort/Request.pm
cp lib/Net/Amazon/S3/Request.pm blib/lib/Net/Amazon/S3/Request.pm
cp lib/Net/Amazon/S3/Operation/Object/Upload/Create/Response.pm blib/lib/Net/Amazon/S3/Operation/Object/Upload/Create/Response.pm
cp lib/Net/Amazon/S3/Operation/Object/Upload/Parts/Request.pm blib/lib/Net/Amazon/S3/Operation/Object/Upload/Parts/Request.pm
cp lib/Net/Amazon/S3/Operation/Object/Upload/Complete.pm blib/lib/Net/Amazon/S3/Operation/Object/Upload/Complete.pm
cp lib/Net/Amazon/S3/Operation/Objects/List/Request.pm blib/lib/Net/Amazon/S3/Operation/Objects/List/Request.pm
cp lib/Net/Amazon/S3/Operation/Object/Upload/Create.pm blib/lib/Net/Amazon/S3/Operation/Object/Upload/Create.pm
cp lib/Net/Amazon/S3/Request/Object.pm blib/lib/Net/Amazon/S3/Request/Object.pm
cp lib/Net/Amazon/S3/Operation/Objects/List.pm blib/lib/Net/Amazon/S3/Operation/Objects/List.pm
cp lib/Net/Amazon/S3/Operation/Objects/List/Response.pm blib/lib/Net/Amazon/S3/Operation/Objects/List/Response.pm
cp lib/Net/Amazon/S3/Operation/Object/Upload/Part/Response.pm blib/lib/Net/Amazon/S3/Operation/Object/Upload/Part/Response.pm
cp lib/Net/Amazon/S3/Operation/Object/Upload/Create/Request.pm blib/lib/Net/Amazon/S3/Operation/Object/Upload/Create/Request.pm
cp lib/Net/Amazon/S3/Operation/Objects/Delete/Request.pm blib/lib/Net/Amazon/S3/Operation/Objects/Delete/Request.pm
cp lib/Net/Amazon/S3/Operation/Object/Upload/Parts.pm blib/lib/Net/Amazon/S3/Operation/Object/Upload/Parts.pm
cp lib/Net/Amazon/S3/Operation/Objects/Delete/Response.pm blib/lib/Net/Amazon/S3/Operation/Objects/Delete/Response.pm
cp lib/Net/Amazon/S3/Operation/Object/Upload/Parts/Response.pm blib/lib/Net/Amazon/S3/Operation/Object/Upload/Parts/Response.pm
cp lib/Net/Amazon/S3/Operation/Object/Upload/Abort/Response.pm blib/lib/Net/Amazon/S3/Operation/Object/Upload/Abort/Response.pm
cp lib/Net/Amazon/S3/Request/Bucket.pm blib/lib/Net/Amazon/S3/Request/Bucket.pm
cp lib/Net/Amazon/S3/Request/Role/Query/Param/Delimiter.pm blib/lib/Net/Amazon/S3/Request/Role/Query/Param/Delimiter.pm
cp lib/Net/Amazon/S3/Request/Role/HTTP/Method/PUT.pm blib/lib/Net/Amazon/S3/Request/Role/HTTP/Method/PUT.pm
cp lib/Net/Amazon/S3/Request/Role/HTTP/Method/HEAD.pm blib/lib/Net/Amazon/S3/Request/Role/HTTP/Method/HEAD.pm
cp lib/Net/Amazon/S3/Request/Role/Query/Action/Acl.pm blib/lib/Net/Amazon/S3/Request/Role/Query/Action/Acl.pm
cp lib/Net/Amazon/S3/Request/Role/Query/Action/Delete.pm blib/lib/Net/Amazon/S3/Request/Role/Query/Action/Delete.pm
cp lib/Net/Amazon/S3/Request/Role/HTTP/Method/DELETE.pm blib/lib/Net/Amazon/S3/Request/Role/HTTP/Method/DELETE.pm
cp lib/Net/Amazon/S3/Request/Role/HTTP/Header/Encryption.pm blib/lib/Net/Amazon/S3/Request/Role/HTTP/Header/Encryption.pm
cp lib/Net/Amazon/S3/Request/Role/Query/Param.pm blib/lib/Net/Amazon/S3/Request/Role/Query/Param.pm
cp lib/Net/Amazon/S3/Request/Role/HTTP/Header/Content_md5.pm blib/lib/Net/Amazon/S3/Request/Role/HTTP/Header/Content_md5.pm
cp lib/Net/Amazon/S3/Request/Role/Query/Param/Marker.pm blib/lib/Net/Amazon/S3/Request/Role/Query/Param/Marker.pm
cp lib/Net/Amazon/S3/Request/Role/HTTP/Header/Content_type.pm blib/lib/Net/Amazon/S3/Request/Role/HTTP/Header/Content_type.pm
cp lib/Net/Amazon/S3/Request/Role/HTTP/Header/Copy_source.pm blib/lib/Net/Amazon/S3/Request/Role/HTTP/Header/Copy_source.pm
cp lib/Net/Amazon/S3/Request/Role/HTTP/Method/POST.pm blib/lib/Net/Amazon/S3/Request/Role/HTTP/Method/POST.pm
cp lib/Net/Amazon/S3/Request/Role/Query/Action.pm blib/lib/Net/Amazon/S3/Request/Role/Query/Action.pm
cp lib/Net/Amazon/S3/Request/Role/HTTP/Method/GET.pm blib/lib/Net/Amazon/S3/Request/Role/HTTP/Method/GET.pm
cp lib/Net/Amazon/S3/Request/Role/HTTP/Header.pm blib/lib/Net/Amazon/S3/Request/Role/HTTP/Header.pm
cp lib/Net/Amazon/S3/Request/Role/Query/Action/Uploads.pm blib/lib/Net/Amazon/S3/Request/Role/Query/Action/Uploads.pm
cp lib/Net/Amazon/S3/Request/Role/HTTP/Method.pm blib/lib/Net/Amazon/S3/Request/Role/HTTP/Method.pm
cp lib/Net/Amazon/S3/Request/Role/HTTP/Header/ACL.pm blib/lib/Net/Amazon/S3/Request/Role/HTTP/Header/ACL.pm
cp lib/Net/Amazon/S3/Request/Role/Query/Action/Tagging.pm blib/lib/Net/Amazon/S3/Request/Role/Query/Action/Tagging.pm
cp lib/Net/Amazon/S3/Request/Role/Query/Action/Location.pm blib/lib/Net/Amazon/S3/Request/Role/Query/Action/Location.pm
cp lib/Net/Amazon/S3/Request/Role/Query/Action/Restore.pm blib/lib/Net/Amazon/S3/Request/Role/Query/Action/Restore.pm
cp lib/Net/Amazon/S3/Request/Role/HTTP/Header/Content_length.pm blib/lib/Net/Amazon/S3/Request/Role/HTTP/Header/Content_length.pm
cp lib/Net/Amazon/S3/Signature/V4Implementation.pm blib/lib/Net/Amazon/S3/Signature/V4Implementation.pm
cp lib/Net/Amazon/S3/Request/Role/Query/Param/Max_keys.pm blib/lib/Net/Amazon/S3/Request/Role/Query/Param/Max_keys.pm
cp lib/Net/Amazon/S3/Request/Role/Tags/Add.pm blib/lib/Net/Amazon/S3/Request/Role/Tags/Add.pm
cp lib/Net/Amazon/S3/Request/Role/Query/Param/Upload_id.pm blib/lib/Net/Amazon/S3/Request/Role/Query/Param/Upload_id.pm
cp lib/Shared/Examples/Net/Amazon/S3/Client.pm blib/lib/Shared/Examples/Net/Amazon/S3/Client.pm
cp lib/Net/Amazon/S3/Request/Service.pm blib/lib/Net/Amazon/S3/Request/Service.pm
cp lib/Shared/Examples/Net/Amazon/S3/Fixture.pm blib/lib/Shared/Examples/Net/Amazon/S3/Fixture.pm
cp lib/Net/Amazon/S3/Request/Role/Query/Param/Part_number.pm blib/lib/Net/Amazon/S3/Request/Role/Query/Param/Part_number.pm
cp lib/Net/Amazon/S3/Role/Bucket.pm blib/lib/Net/Amazon/S3/Role/Bucket.pm
cp lib/Net/Amazon/S3/Role/ACL.pm blib/lib/Net/Amazon/S3/Role/ACL.pm
cp lib/Net/Amazon/S3/Response.pm blib/lib/Net/Amazon/S3/Response.pm
cp lib/Net/Amazon/S3/Vendor/Generic.pm blib/lib/Net/Amazon/S3/Vendor/Generic.pm
cp lib/Shared/Examples/Net/Amazon/S3/Fixture/error/bucket_already_exists.pm blib/lib/Shared/Examples/Net/Amazon/S3/Fixture/error/bucket_already_exists.pm
cp lib/Net/Amazon/S3/Signature/V2.pm blib/lib/Net/Amazon/S3/Signature/V2.pm
cp lib/Net/Amazon/S3/Request/Role/Query/Param/Version_id.pm blib/lib/Net/Amazon/S3/Request/Role/Query/Param/Version_id.pm
cp lib/Shared/Examples/Net/Amazon/S3/API.pm blib/lib/Shared/Examples/Net/Amazon/S3/API.pm
cp lib/Net/Amazon/S3/Vendor/Amazon.pm blib/lib/Net/Amazon/S3/Vendor/Amazon.pm
cp lib/Net/Amazon/S3/Signature/V4.pm blib/lib/Net/Amazon/S3/Signature/V4.pm
cp lib/Net/Amazon/S3/Signature.pm blib/lib/Net/Amazon/S3/Signature.pm
cp lib/Net/Amazon/S3/Request/Role/XML/Content.pm blib/lib/Net/Amazon/S3/Request/Role/XML/Content.pm
cp lib/Net/Amazon/S3/Utils.pm blib/lib/Net/Amazon/S3/Utils.pm
cp lib/Net/Amazon/S3/Request/Role/Query/Param/Prefix.pm blib/lib/Net/Amazon/S3/Request/Role/Query/Param/Prefix.pm
cp lib/Shared/Examples/Net/Amazon/S3/Fixture/error/bucket_not_empty.pm blib/lib/Shared/Examples/Net/Amazon/S3/Fixture/error/bucket_not_empty.pm
cp lib/Shared/Examples/Net/Amazon/S3/Fixture/error/access_denied.pm blib/lib/Shared/Examples/Net/Amazon/S3/Fixture/error/access_denied.pm
cp lib/Net/Amazon/S3/Vendor.pm blib/lib/Net/Amazon/S3/Vendor.pm
cp lib/Shared/Examples/Net/Amazon/S3.pm blib/lib/Shared/Examples/Net/Amazon/S3.pm
cp lib/Net/Amazon/S3/X.pm blib/lib/Net/Amazon/S3/X.pm
cp lib/Shared/Examples/Net/Amazon/S3/Fixture/error/http_bad_request.pm blib/lib/Shared/Examples/Net/Amazon/S3/Fixture/error/http_bad_request.pm
cp lib/Shared/Examples/Net/Amazon/S3/Fixture/request/bucket_create_ca_central_1.pm blib/lib/Shared/Examples/Net/Amazon/S3/Fixture/request/bucket_create_ca_central_1.pm
cp lib/Shared/Examples/Net/Amazon/S3/Fixture/response/bucket_objects_delete_quiet_without_errors.pm blib/lib/Shared/Examples/Net/Amazon/S3/Fixture/response/bucket_objects_delete_quiet_without_errors.pm
cp lib/Shared/Examples/Net/Amazon/S3/Fixture/error/no_such_bucket.pm blib/lib/Shared/Examples/Net/Amazon/S3/Fixture/error/no_such_bucket.pm
cp lib/Shared/Examples/Net/Amazon/S3/Fixture/response/bucket_objects_list_v1.pm blib/lib/Shared/Examples/Net/Amazon/S3/Fixture/response/bucket_objects_list_v1.pm
cp lib/Shared/Examples/Net/Amazon/S3/Fixture/response/create_multipart_upload_with_success.pm blib/lib/Shared/Examples/Net/Amazon/S3/Fixture/response/create_multipart_upload_with_success.pm
cp lib/Shared/Examples/Net/Amazon/S3/Fixture/error/invalid_bucket_name.pm blib/lib/Shared/Examples/Net/Amazon/S3/Fixture/error/invalid_bucket_name.pm
cp lib/Shared/Examples/Net/Amazon/S3/Fixture/response/bucket_objects_list_v1_with_delimiter.pm blib/lib/Shared/Examples/Net/Amazon/S3/Fixture/response/bucket_objects_list_v1_with_delimiter.pm
cp lib/Shared/Examples/Net/Amazon/S3/Fixture/response/bucket_objects_list_v1_with_prefix_and_delimiter.pm blib/lib/Shared/Examples/Net/Amazon/S3/Fixture/response/bucket_objects_list_v1_with_prefix_and_delimiter.pm
cp lib/Shared/Examples/Net/Amazon/S3/Fixture/response/bucket_objects_list_v1_google_cloud_storage.pm blib/lib/Shared/Examples/Net/Amazon/S3/Fixture/response/bucket_objects_list_v1_google_cloud_storage.pm
cp lib/Shared/Examples/Net/Amazon/S3/Fixture/error/no_such_key.pm blib/lib/Shared/Examples/Net/Amazon/S3/Fixture/error/no_such_key.pm
cp lib/Shared/Examples/Net/Amazon/S3/Fixture/response/bucket_objects_list_v1_with_filter.pm blib/lib/Shared/Examples/Net/Amazon/S3/Fixture/response/bucket_objects_list_v1_with_filter.pm
cp lib/Shared/Examples/Net/Amazon/S3/Fixture/response/bucket_objects_list_v1_with_filter_truncated.pm blib/lib/Shared/Examples/Net/Amazon/S3/Fixture/response/bucket_objects_list_v1_with_filter_truncated.pm
cp lib/Shared/Examples/Net/Amazon/S3/Fixture/error/invalid_object_state.pm blib/lib/Shared/Examples/Net/Amazon/S3/Fixture/error/invalid_object_state.pm
cp lib/Shared/Examples/Net/Amazon/S3/Fixture/response/acl.pm blib/lib/Shared/Examples/Net/Amazon/S3/Fixture/response/acl.pm
cp lib/Shared/Examples/Net/Amazon/S3/Fixture/response/service_list_buckets_without_owner_displayname.pm blib/lib/Shared/Examples/Net/Amazon/S3/Fixture/response/service_list_buckets_without_owner_displayname.pm
cp lib/Shared/Examples/Net/Amazon/S3/Fixture/response/service_list_buckets_with_owner_displayname.pm blib/lib/Shared/Examples/Net/Amazon/S3/Fixture/response/service_list_buckets_with_owner_displayname.pm
cp lib/Shared/Examples/Net/Amazon/S3/Request.pm blib/lib/Shared/Examples/Net/Amazon/S3/Request.pm
cp lib/Shared/Examples/Net/Amazon/S3/Fixture/response/http_ok_empty.pm blib/lib/Shared/Examples/Net/Amazon/S3/Fixture/response/http_ok_empty.pm
cp bin/s3cl blib/script/s3cl
"/home/ilmari/perl5/perlbrew/perls/34.0/bin/perl" -MExtUtils::MY -e 'MY->fixin(shift)' -- blib/script/s3cl
PERL_DL_NONLAZY=1 "/home/ilmari/perl5/perlbrew/perls/34.0/bin/perl" "-MExtUtils::Command::MM" "-MTest::Harness" "-e" "undef *Test::Harness::Switches; test_harness(0, 'blib/lib', 'blib/arch')" t/*.t
t/01api.t ................................ skipped: Testing this module for real costs money. Enable it by setting true value to env variable AMAZON_S3_EXPENSIVE_TESTS
t/02client.t ............................. skipped: Testing this module for real costs money.
t/03token.t .............................. skipped: Need these vars in ENV: AWS_ACCESS_KEY_ID, AWS_ACCESS_KEY_SECRET, AWS_ACCESS_TOKEN
t/acl-set.t .............................. ok
t/api-bucket-acl-get.t ................... ok
t/api-bucket-acl-set.t ................... ok
t/api-bucket-create.t .................... ok
t/api-bucket-delete.t .................... ok
t/api-bucket-objects-delete.t ............ ok
t/api-bucket-objects-list.t .............. ok
t/api-bucket-tags-add.t .................. ok
t/api-bucket-tags-delete.t ............... ok
t/api-build-bucket.t ..................... ok
t/api-construct.t ........................ ok
t/api-object-acl-get.t ................... ok
t/api-object-acl-set.t ................... ok
t/api-object-create.t .................... ok
t/api-object-delete.t .................... ok
t/api-object-fetch.t ..................... ok
t/api-object-head.t ...................... ok
t/api-object-tags-add.t .................. ok
t/api-object-tags-delete.t ............... ok
t/api-service-buckets-list.t ............. ok
t/author-eol.t ........................... skipped: these tests are for testing by the author
t/client-bucket-acl-get.t ................ ok
t/client-bucket-acl-set.t ................ ok
t/client-bucket-create.t ................. ok
t/client-bucket-delete.t ................. ok
t/client-bucket-objects-delete.t ......... ok
t/client-bucket-objects-list.t ........... ok
t/client-bucket-tags-add.t ............... ok
t/client-bucket-tags-delete.t ............ ok
t/client-construct.t ..................... ok
t/client-object-acl-set.t ................ ok
t/client-object-create.t ................. ok
t/client-object-delete.t ................. ok
t/client-object-fetch.t .................. ok
t/client-object-head.t ................... ok
t/client-object-tags-add.t ............... ok
t/client-object-tags-delete.t ............ ok
t/client-service-buckets-list.t .......... ok
t/error-handler-x.t ...................... ok
t/issue-39-content-length-0.t ............ ok
t/issue-88-non-standard-service-port.t ... ok
t/query-string-authentication-uri.t ...... ok
t/request.t .............................. ok
t/response.t ............................. ok
t/s3-operation-bucket-acl-fetch.t ........ ok
t/s3-operation-bucket-acl-set.t .......... ok
t/s3-operation-bucket-create.t ........... ok
t/s3-operation-bucket-delete.t ........... ok
t/s3-operation-bucket-location.t ......... ok
t/s3-operation-bucket-tags-add.t ......... ok
t/s3-operation-bucket-tags-delete.t ...... ok
t/s3-operation-buckets-list.t ............ ok
t/s3-operation-object-acl-fetch.t ........ ok
t/s3-operation-object-acl-set.t .......... ok
t/s3-operation-object-add.t .............. ok
t/s3-operation-object-copy.t ............. ok
t/s3-operation-object-delete.t ........... ok
t/s3-operation-object-fetch.t ............ ok
t/s3-operation-object-head.t ............. ok
t/s3-operation-object-restore.t .......... ok
t/s3-operation-object-tags-add.t ......... ok
t/s3-operation-object-tags-delete.t ...... ok
t/s3-operation-object-upload-abort.t ..... ok
t/s3-operation-object-upload-complete.t .. ok
t/s3-operation-object-upload-create.t .... ok
t/s3-operation-object-upload-part.t ...... ok
t/s3-operation-objects-delete.t .......... ok
t/s3-operation-objects-list.t ............ ok
t/s3-request-bucket-acl-fetch.t .......... ok
t/s3-request-bucket-acl-set.t ............ ok
t/s3-request-bucket-create.t ............. ok
t/s3-request-bucket-delete.t ............. ok
t/s3-request-bucket-location.t ........... ok
t/s3-request-bucket-objects-delete.t ..... ok
t/s3-request-bucket-objects-list.t ....... ok
t/s3-request-bucket-tags-add.t ........... ok
t/s3-request-bucket-tags-delete.t ........ ok
t/s3-request-object-acl-fetch.t .......... ok
t/s3-request-object-acl-set.t ............ ok
t/s3-request-object-add.t ................ ok
t/s3-request-object-delete.t ............. ok
t/s3-request-object-fetch.t .............. ok
t/s3-request-object-restore.t ............ ok
t/s3-request-object-tags-add.t ........... ok
t/s3-request-object-tags-delete.t ........ ok
t/s3-request-object-upload-abort.t ....... ok
t/s3-request-object-upload-complete.t .... ok
t/s3-request-object-upload-create.t ...... ok
t/s3-request-object-upload-part.t ........ ok
t/s3-request-object-upload-parts.t ....... ok
t/s3-request-service-buckets-list.t ...... ok
t/s3-response-object-upload-create.t ..... ok
t/s3-response-service-buckets-list.t ..... ok
t/signature-v4-with-security-token.t ..... ok
t/utils-parse-arguments.t ................ ok
t/vendor-amazon.t ........................ ok
t/vendor-generic.t ....................... ok
t/vendor-info.t .......................... ok
All tests successful.
Files=101, Tests=531, 80 wallclock secs ( 0.33 usr  0.12 sys + 75.38 cusr  4.23 csys = 80.06 CPU)
Result: PASS

------------------------------
PREREQUISITES
------------------------------

Prerequisite modules loaded:

    No requirements found

------------------------------
ENVIRONMENT AND OTHER CONTEXT
------------------------------

Environment variables:

    LANG = en_GB.UTF-8
    PATH = /home/ilmari/.perlbrew/libs/34.0@std/bin:/home/ilmari/perl5/perlbrew/bin:/home/ilmari/perl5/perlbrew/perls/34.0/bin:/home/ilmari/.perlbrew/libs/32.0@std/bin:/home/ilmari/perl5/perlbrew/bin:/home/ilmari/perl5/perlbrew/perls/32.0/bin:/home/ilmari/.pyenv/bin:/home/ilmari/.local/bin:/home/ilmari/.cargo/bin:/usr/lib/ccache:/home/ilmari/bin:/usr/local/bin:/usr/bin:/bin:/usr/local/games:/usr/games
    PERL5LIB = /home/ilmari/.perlbrew/libs/34.0@std/lib/perl5
    PERLBREW_HOME = /home/ilmari/.perlbrew
    PERLBREW_LIB = std
    PERLBREW_MANPATH = /home/ilmari/.perlbrew/libs/34.0@std/man:/home/ilmari/perl5/perlbrew/perls/34.0/man
    PERLBREW_PATH = /home/ilmari/.perlbrew/libs/34.0@std/bin:/home/ilmari/perl5/perlbrew/bin:/home/ilmari/perl5/perlbrew/perls/34.0/bin
    PERLBREW_PERL = 34.0
    PERLBREW_ROOT = /home/ilmari/perl5/perlbrew
    PERLBREW_SHELLRC_VERSION = 0.82
    PERLBREW_VERSION = 0.88
    PERL_LOCAL_LIB_ROOT = /home/ilmari/.perlbrew/libs/34.0@std
    PERL_MB_OPT = --install_base "/home/ilmari/.perlbrew/libs/34.0@std"
    PERL_MM_OPT = INSTALL_BASE=/home/ilmari/.perlbrew/libs/34.0@std
    SHELL = /bin/bash
    TERM = xterm-256color

Perl special variables (and OS-specific diagnostics, for MSWin32):

    EGID = 1000 4 24 25 27 29 30 44 46 50 108 114 128 129 999 1000
    EUID = 1000
    EXECUTABLE_NAME = /home/ilmari/perl5/perlbrew/perls/34.0/bin/perl
    GID = 1000 4 24 25 27 29 30 44 46 50 108 114 128 129 999 1000
    UID = 1000

Perl module toolchain versions installed:

    Module              Have    
    ------------------- --------
    CPAN                2.28    
    CPAN::Meta          2.150010
    Cwd                 3.80    
    ExtUtils::CBuilder  0.280236
    ExtUtils::Command   7.62    
    ExtUtils::Install   2.20    
    ExtUtils::MakeMaker 7.62    
    ExtUtils::Manifest  1.73    
    ExtUtils::ParseXS   3.43    
    File::Spec          3.80    
    JSON                4.03    
    JSON::PP            4.06    
    Module::Build       0.4231  
    Module::Signature   n/a     
    Parse::CPAN::Meta   2.150010
    Test::Harness       3.43    
    Test::More          1.302185
    YAML                1.30    
    YAML::Syck          n/a     
    version             0.9928  


--

Summary of my perl5 (revision 5 version 34 subversion 0) configuration:
   
  Platform:
    osname=linux
    osvers=5.10.0-0.bpo.5-amd64
    archname=x86_64-linux
    uname='linux ilmari-thinkpad 5.10.0-0.bpo.5-amd64 #1 smp debian 5.10.24-1~bpo10+1 (2021-03-29) x86_64 gnulinux '
    config_args='-de -Dprefix=/home/ilmari/perl5/perlbrew/perls/34.0 -Duseshrplib -Dman1dir=none -Dman3dir=none -Aeval:scriptdir=/home/ilmari/perl5/perlbrew/perls/34.0/bin'
    hint=recommended
    useposix=true
    d_sigaction=define
    useithreads=undef
    usemultiplicity=undef
    use64bitint=define
    use64bitall=define
    uselongdouble=undef
    usemymalloc=n
    default_inc_excludes_dot=define
  Compiler:
    cc='cc'
    ccflags ='-fwrapv -fno-strict-aliasing -pipe -fstack-protector-strong -I/usr/local/include -D_LARGEFILE_SOURCE -D_FILE_OFFSET_BITS=64 -D_FORTIFY_SOURCE=2'
    optimize='-O2'
    cppflags='-fwrapv -fno-strict-aliasing -pipe -fstack-protector-strong -I/usr/local/include'
    ccversion=''
    gccversion='8.3.0'
    gccosandvers=''
    intsize=4
    longsize=8
    ptrsize=8
    doublesize=8
    byteorder=12345678
    doublekind=3
    d_longlong=define
    longlongsize=8
    d_longdbl=define
    longdblsize=16
    longdblkind=3
    ivtype='long'
    ivsize=8
    nvtype='double'
    nvsize=8
    Off_t='off_t'
    lseeksize=8
    alignbytes=8
    prototype=define
  Linker and Libraries:
    ld='cc'
    ldflags =' -fstack-protector-strong -L/usr/local/lib'
    libpth=/usr/local/lib /usr/lib/x86_64-linux-gnu /usr/lib /lib/x86_64-linux-gnu /lib
    libs=-lpthread -lnsl -lgdbm -ldb -ldl -lm -lcrypt -lutil -lc
    perllibs=-lpthread -lnsl -ldl -lm -lcrypt -lutil -lc
    libc=libc-2.28.so
    so=so
    useshrplib=true
    libperl=libperl.so
    gnulibc_version='2.28'
  Dynamic Linking:
    dlsrc=dl_dlopen.xs
    dlext=so
    d_dlsymun=undef
    ccdlflags='-Wl,-E -Wl,-rpath,/home/ilmari/perl5/perlbrew/perls/34.0/lib/5.34.0/x86_64-linux/CORE'
    cccdlflags='-fPIC'
    lddlflags='-shared -O2 -L/usr/local/lib -fstack-protector-strong'


Characteristics of this binary (from libperl): 
  Compile-time options:
    HAS_TIMES
    PERLIO_LAYERS
    PERL_COPY_ON_WRITE
    PERL_DONT_CREATE_GVSV
    PERL_MALLOC_WRAP
    PERL_OP_PARENT
    PERL_PRESERVE_IVUV
    USE_64_BIT_ALL
    USE_64_BIT_INT
    USE_LARGE_FILES
    USE_LOCALE
    USE_LOCALE_COLLATE
    USE_LOCALE_CTYPE
    USE_LOCALE_NUMERIC
    USE_LOCALE_TIME
    USE_PERLIO
    USE_PERL_ATOF
  Built under linux
  Compiled at May 21 2021 00:00:34
  %ENV:
    PERL5LIB="/home/ilmari/.perlbrew/libs/34.0@std/lib/perl5"
    PERLBREW_HOME="/home/ilmari/.perlbrew"
    PERLBREW_LIB="std"
    PERLBREW_MANPATH="/home/ilmari/.perlbrew/libs/34.0@std/man:/home/ilmari/perl5/perlbrew/perls/34.0/man"
    PERLBREW_PATH="/home/ilmari/.perlbrew/libs/34.0@std/bin:/home/ilmari/perl5/perlbrew/bin:/home/ilmari/perl5/perlbrew/perls/34.0/bin"
    PERLBREW_PERL="34.0"
    PERLBREW_ROOT="/home/ilmari/perl5/perlbrew"
    PERLBREW_SHELLRC_VERSION="0.82"
    PERLBREW_VERSION="0.88"
    PERL_LOCAL_LIB_ROOT="/home/ilmari/.perlbrew/libs/34.0@std"
    PERL_MB_OPT="--install_base "/home/ilmari/.perlbrew/libs/34.0@std""
    PERL_MM_OPT="INSTALL_BASE=/home/ilmari/.perlbrew/libs/34.0@std"
  @INC:
    /home/ilmari/.perlbrew/libs/34.0@std/lib/perl5/x86_64-linux
    /home/ilmari/.perlbrew/libs/34.0@std/lib/perl5
    /home/ilmari/perl5/perlbrew/perls/34.0/lib/site_perl/5.34.0/x86_64-linux
    /home/ilmari/perl5/perlbrew/perls/34.0/lib/site_perl/5.34.0
    /home/ilmari/perl5/perlbrew/perls/34.0/lib/5.34.0/x86_64-linux
    /home/ilmari/perl5/perlbrew/perls/34.0/lib/5.34.0