Back
From: metabase:user:320bfe00-2aae-11df-837a-5e0a49663a4f
Subject: PASS App-RoboBot-4.004 v5.24.2 GNU/Linux
Date: 2017-08-06T21:36:10Z
This distribution has been tested as part of the CPAN Testers
project, supporting the Perl programming language. See
http://wiki.cpantesters.org/ for more information or email
questions to cpan-testers-discuss@perl.org
--
Dear Jon Sime,
This is a computer-generated report for App-RoboBot-4.004
on perl 5.24.2, created by CPAN-Reporter-1.2018.
Thank you for uploading your work to CPAN. Congratulations!
All tests were successful.
Sections of this report:
* Tester comments
* Program output
* Prerequisites
* Environment and other context
------------------------------
TESTER COMMENTS
------------------------------
Additional comments from tester:
this report is from an automated smoke testing program
and was not reviewed by a human for accuracy
------------------------------
PROGRAM OUTPUT
------------------------------
Output from '/usr/bin/make test':
Skip blib/lib/auto/share/dist/App-RoboBot/migrations/sqitch.conf (unchanged)
Skip blib/lib/auto/share/dist/App-RoboBot/migrations/revert/p-location-20161128204426.sql (unchanged)
Skip blib/lib/auto/share/dist/App-RoboBot/migrations/verify/p-github-20161128190436.sql (unchanged)
Skip blib/lib/auto/share/dist/App-RoboBot/migrations/deploy/p-markov-20161128212720.sql (unchanged)
Skip blib/lib/auto/share/dist/App-RoboBot/migrations/verify/p-thinge-20161128223332.sql (unchanged)
Skip blib/lib/auto/share/dist/App-RoboBot/migrations/deploy/p-variables-20161128195027.sql (unchanged)
Skip blib/lib/auto/share/dist/App-RoboBot/migrations/deploy/base.sql (unchanged)
Skip blib/lib/auto/share/dist/App-RoboBot/migrations/verify/p-macros-20161128210159.sql (unchanged)
Skip blib/lib/auto/share/dist/App-RoboBot/migrations/revert/p-factoids-20161128182038.sql (unchanged)
Skip blib/lib/auto/share/dist/App-RoboBot/migrations/verify/p-skills-20161128231536.sql (unchanged)
Skip blib/lib/auto/share/dist/App-RoboBot/migrations/revert/p-thinge-20161128223332.sql (unchanged)
Skip blib/lib/auto/share/dist/App-RoboBot/migrations/verify/p-logger-20161128205533.sql (unchanged)
Skip blib/lib/auto/share/dist/App-RoboBot/migrations/deploy/p-karma-20161128200656.sql (unchanged)
Skip blib/lib/auto/share/dist/App-RoboBot/migrations/revert/p-net-http-20161128214753.sql (unchanged)
Skip blib/lib/auto/share/dist/App-RoboBot/Vagrantfile (unchanged)
Skip blib/lib/auto/share/dist/App-RoboBot/migrations/deploy/p-alarms-20161128153112.sql (unchanged)
Skip blib/lib/auto/share/dist/App-RoboBot/migrations/revert/p-memos-20161128214110.sql (unchanged)
Skip blib/lib/auto/share/dist/App-RoboBot/migrations/deploy/p-fakequotes-20161128183237.sql (unchanged)
Skip blib/lib/auto/share/dist/App-RoboBot/robobot.conf.sample (unchanged)
Skip blib/lib/auto/share/dist/App-RoboBot/migrations/deploy/p-github-20161128190436.sql (unchanged)
Skip blib/lib/auto/share/dist/App-RoboBot/migrations/sqitch.plan (unchanged)
Skip blib/lib/auto/share/dist/App-RoboBot/migrations/verify/p-voting-20161128224521.sql (unchanged)
Skip blib/lib/auto/share/dist/App-RoboBot/ubuntu-xenial-16.04-cloudimg-console.log (unchanged)
Skip blib/lib/auto/share/dist/App-RoboBot/migrations/deploy/p-location-20161128204426.sql (unchanged)
Skip blib/lib/auto/share/dist/App-RoboBot/migrations/revert/p-voting-20161128224521.sql (unchanged)
Skip blib/lib/auto/share/dist/App-RoboBot/migrations/revert/p-github-20161128190436.sql (unchanged)
Skip blib/lib/auto/share/dist/App-RoboBot/migrations/revert/p-achievements-20161128144040.sql (unchanged)
Skip blib/lib/auto/share/dist/App-RoboBot/migrations/deploy/p-logger-20161128205533.sql (unchanged)
Skip blib/lib/auto/share/dist/App-RoboBot/migrations/deploy/p-autoreply-20161128171050.sql (unchanged)
Skip blib/lib/auto/share/dist/App-RoboBot/migrations/revert/p-karma-20161128200656.sql (unchanged)
Skip blib/lib/auto/share/dist/App-RoboBot/migrations/verify/p-skills-20161128215019.sql (unchanged)
Skip blib/lib/auto/share/dist/App-RoboBot/migrations/verify/p-net-urls-20161128224203.sql (unchanged)
Skip blib/lib/auto/share/dist/App-RoboBot/migrations/verify/p-factoids-20161128182038.sql (unchanged)
Skip blib/lib/auto/share/dist/App-RoboBot/migrations/verify/p-karma-20161128200656.sql (unchanged)
Skip blib/lib/auto/share/dist/App-RoboBot/migrations/revert/p-logger-20161128205533.sql (unchanged)
Skip blib/lib/auto/share/dist/App-RoboBot/migrations/revert/p-auth-20161128164909.sql (unchanged)
Skip blib/lib/auto/share/dist/App-RoboBot/migrations/verify/p-auth-20161128164909.sql (unchanged)
Skip blib/lib/auto/share/dist/App-RoboBot/migrations/deploy/p-skills-20161128231536.sql (unchanged)
Skip blib/lib/auto/share/dist/App-RoboBot/migrations/revert/p-fakequotes-20161128183237.sql (unchanged)
Skip blib/lib/auto/share/dist/App-RoboBot/migrations/deploy/p-factoids-20161128182038.sql (unchanged)
Skip blib/lib/auto/share/dist/App-RoboBot/migrations/revert/p-madlibs-20161128211213.sql (unchanged)
Skip blib/lib/auto/share/dist/App-RoboBot/migrations/verify/p-madlibs-20161128211213.sql (unchanged)
Skip blib/lib/auto/share/dist/App-RoboBot/migrations/revert/p-skills-20161128231536.sql (unchanged)
Skip blib/lib/auto/share/dist/App-RoboBot/migrations/deploy/p-achievements-20161128144040.sql (unchanged)
Skip blib/lib/auto/share/dist/App-RoboBot/migrations/revert/p-autoreply-20161128171050.sql (unchanged)
Skip blib/lib/auto/share/dist/App-RoboBot/migrations/deploy/p-macros-20161128210159.sql (unchanged)
Skip blib/lib/auto/share/dist/App-RoboBot/migrations/verify/p-location-20161128204426.sql (unchanged)
Skip blib/lib/auto/share/dist/App-RoboBot/migrations/revert/p-variables-20161128195027.sql (unchanged)
Skip blib/lib/auto/share/dist/App-RoboBot/migrations/deploy/p-net-urls-20161128224203.sql (unchanged)
Skip blib/lib/auto/share/dist/App-RoboBot/migrations/verify/p-achievements-20161128144040.sql (unchanged)
Skip blib/lib/auto/share/dist/App-RoboBot/migrations/revert/base.sql (unchanged)
Skip blib/lib/auto/share/dist/App-RoboBot/migrations/verify/p-channellink-20161128173743.sql (unchanged)
Skip blib/lib/auto/share/dist/App-RoboBot/migrations/deploy/p-channellink-20161128173743.sql (unchanged)
Skip blib/lib/auto/share/dist/App-RoboBot/migrations/revert/p-net-urls-20161128224203.sql (unchanged)
Skip blib/lib/auto/share/dist/App-RoboBot/migrations/revert/p-skills-20161128215019.sql (unchanged)
Skip blib/lib/auto/share/dist/App-RoboBot/migrations/verify/p-net-http-20161128214753.sql (unchanged)
Skip blib/lib/auto/share/dist/App-RoboBot/migrations/deploy/p-net-http-20161128214753.sql (unchanged)
Skip blib/lib/auto/share/dist/App-RoboBot/migrations/deploy/p-skills-20161128215019.sql (unchanged)
Skip blib/lib/auto/share/dist/App-RoboBot/migrations/deploy/p-thinge-20161128223332.sql (unchanged)
Skip blib/lib/auto/share/dist/App-RoboBot/migrations/verify/p-markov-20161128212720.sql (unchanged)
Skip blib/lib/auto/share/dist/App-RoboBot/migrations/revert/p-markov-20161128212720.sql (unchanged)
Skip blib/lib/auto/share/dist/App-RoboBot/migrations/revert/p-macros-20161128210159.sql (unchanged)
Skip blib/lib/auto/share/dist/App-RoboBot/migrations/verify/p-fakequotes-20161128183237.sql (unchanged)
Skip blib/lib/auto/share/dist/App-RoboBot/migrations/verify/p-alarms-20161128153112.sql (unchanged)
Skip blib/lib/auto/share/dist/App-RoboBot/migrations/verify/p-autoreply-20161128171050.sql (unchanged)
Skip blib/lib/auto/share/dist/App-RoboBot/migrations/verify/p-variables-20161128195027.sql (unchanged)
Skip blib/lib/auto/share/dist/App-RoboBot/migrations/verify/p-memos-20161128214110.sql (unchanged)
Skip blib/lib/auto/share/dist/App-RoboBot/migrations/revert/p-channellink-20161128173743.sql (unchanged)
Skip blib/lib/auto/share/dist/App-RoboBot/migrations/deploy/p-auth-20161128164909.sql (unchanged)
Skip blib/lib/auto/share/dist/App-RoboBot/migrations/verify/base.sql (unchanged)
Skip blib/lib/auto/share/dist/App-RoboBot/migrations/deploy/p-madlibs-20161128211213.sql (unchanged)
Skip blib/lib/auto/share/dist/App-RoboBot/migrations/deploy/p-memos-20161128214110.sql (unchanged)
Skip blib/lib/auto/share/dist/App-RoboBot/migrations/deploy/p-voting-20161128224521.sql (unchanged)
Skip blib/lib/auto/share/dist/App-RoboBot/migrations/revert/p-alarms-20161128153112.sql (unchanged)
PERL_DL_NONLAZY=1 "/home/sand/src/perl/repoperls/installed-perls/host/k93msid/v5.24.2/f11c/bin/perl" "-MExtUtils::Command::MM" "-MTest::Harness" "-e" "undef *Test::Harness::Switches; test_harness(0, 'blib/lib', 'blib/arch')" t/*.t
#
# Versions for all modules listed in MYMETA.json (including optional ones):
#
# === Configure Requires ===
#
# Module Want Have
# ----------------------- ---- ----
# ExtUtils::MakeMaker any 7.30
# File::ShareDir::Install 0.06 0.11
#
# === Build Requires ===
#
# Module Want Have
# ------------------- ---- ----
# ExtUtils::MakeMaker any 7.30
#
# === Test Requires ===
#
# Module Want Have
# ------------------- ---- --------
# ExtUtils::MakeMaker any 7.30
# File::Spec any 3.63_01
# Test::More any 1.302086
#
# === Test Recommends ===
#
# Module Want Have
# ---------- -------- --------
# CPAN::Meta 2.120900 2.150010
#
# === Runtime Requires ===
#
# Module Want Have
# ------------------------------- ---- ---------
# Acme::Zalgo any 0.002
# AnyEvent any 7.14
# AnyEvent::IRC::Client any undef
# AnyEvent::Mattermost any 0.002
# AnyEvent::SlackRTM any 0.161950
# App::Sqitch any 0.9996
# Clone any 0.39
# Config::Any::Merge any 0.08
# Config::General any 2.63
# DBD::Pg any 3.6.2
# DBIx::DataStore any 0.097
# Data::Dumper any 2.161
# DateTime any 1.43
# DateTime::Format::Pg any 0.16013
# EV any 4.22
# Exporter::Easy any 0.18
# File::HomeDir any 1.002
# File::ShareDir any 1.104
# FileHandle any 2.02
# Getopt::Long::Descriptive any 0.100
# HTML::TreeBuilder::LibXML any 0.26
# HTML::TreeBuilder::XPath any 0.14
# HTTP::Request any 6.13
# IPC::Open2 any 1.04
# JSON any 2.94
# JSON::Path any 0.410
# LWP::Protocol::https any 6.07
# LWP::Simple any 6.26
# LWP::UserAgent any 6.26
# Lingua::EN::Tagger any 0.28
# List::Util any 1.48
# Log::Dispatch::Screen any 2.65
# Log::Log4perl any 1.49
# Log::Log4perl::Appender::Screen any undef
# Module::Loaded any 0.08
# Module::Pluggable::Object any 5.2
# Moose any 2.2006
# MooseX::ClassAttribute any 0.29
# MooseX::SetOnce any 0.200002
# Number::Format any 1.75
# Pod::Simple::SimpleTree any 3.32
# Scalar::Util any 1.48
# Term::ExtendedColor any 0.224
# Text::Aspell any 0.09
# Text::Levenshtein any 0.13
# Text::Wrap any 2013.0523
# Time::HiRes any 1.9744
# Try::Tiny any 0.28
# URI any 1.72
# URI::Find any 20160806
# URI::QueryParam any 1.72
# XML::LibXML any 2.0129
# namespace::autoclean any 0.28
# strict any 1.11
# vars any 1.03
# warnings any 1.36
#
t/00-report-prereqs.t ............ ok
t/01-use.t ....................... ok
t/50-types-list.t ................ ok
t/50-types-map.t ................. ok
t/50-types-string.t .............. ok
t/50-types-vector.t .............. ok
t/author-pod-syntax.t ............ skipped: these tests are for testing by the author
t/release-changes_has_content.t .. skipped: these tests are for release candidate testing
All tests successful.
Files=8, Tests=96, 15 wallclock secs ( 0.03 usr 0.04 sys + 5.28 cusr 0.61 csys = 5.96 CPU)
Result: PASS
------------------------------
PREREQUISITES
------------------------------
Prerequisite modules loaded:
requires:
Module Need Have
------------------------------- -------- ---------
Acme::Zalgo 0 0.002
AnyEvent 0 7.14
AnyEvent::IRC::Client 0 0
AnyEvent::Mattermost 0 0.002
AnyEvent::SlackRTM 0 0.161950
App::Sqitch 0 0.9996
Clone 0 0.39
Config::Any::Merge 0 0.08
Config::General 0 2.63
Data::Dumper 0 2.161
DateTime 0 1.43
DateTime::Format::Pg 0 0.16013
DBD::Pg 0 3.6.2
DBIx::DataStore 0 0.097
EV 0 4.22
Exporter::Easy 0 0.18
File::HomeDir 0 1.002
File::ShareDir 0 1.104
FileHandle 0 2.02
Getopt::Long::Descriptive 0 0.100
HTML::TreeBuilder::LibXML 0 0.26
HTML::TreeBuilder::XPath 0 0.14
HTTP::Request 0 6.13
IPC::Open2 0 1.04
JSON 0 2.94
JSON::Path 0 0.410
Lingua::EN::Tagger 0 0.28
List::Util 0 1.48
Log::Dispatch::Screen 0 2.65
Log::Log4perl 0 1.49
Log::Log4perl::Appender::Screen 0 0
LWP::Protocol::https 0 6.07
LWP::Simple 0 6.26
LWP::UserAgent 0 6.26
Module::Loaded 0 0.08
Module::Pluggable::Object 0 5.2
Moose 0 2.2006
MooseX::ClassAttribute 0 0.29
MooseX::SetOnce 0 0.200002
namespace::autoclean 0 0.28
Number::Format 0 1.75
perl 5.020000 5.024002
Pod::Simple::SimpleTree 0 3.32
Scalar::Util 0 1.48
strict 0 1.11
Term::ExtendedColor 0 0.224
Text::Aspell 0 0.09
Text::Levenshtein 0 0.13
Text::Wrap 0 2013.0523
Time::HiRes 0 1.9744
Try::Tiny 0 0.28
URI 0 1.72
URI::Find 0 20160806
URI::QueryParam 0 1.72
vars 0 1.03
warnings 0 1.36
XML::LibXML 0 2.0129
build_requires:
Module Need Have
------------------------------- -------- ---------
ExtUtils::MakeMaker 0 7.30
File::Spec 0 3.63_01
Test::More 0 1.302086
configure_requires:
Module Need Have
------------------------------- -------- ---------
ExtUtils::MakeMaker 0 7.30
File::ShareDir::Install 0.06 0.11
------------------------------
ENVIRONMENT AND OTHER CONTEXT
------------------------------
Environment variables:
AUTOMATED_TESTING = 1
LANG = en_US.UTF-8
PATH = /home/sand/bin:/usr/local/bin:/usr/bin:/bin:/usr/games:/usr/local/perl/bin:/usr/X11/bin:/sbin:/usr/sbin
PERL5LIB =
PERL5OPT =
PERL5_CPANPLUS_IS_RUNNING = 7302
PERL5_CPAN_IS_RUNNING = 7302
PERL_CANARY_STABILITY_NOPROMPT = 1
PERL_MM_USE_DEFAULT = 1
PERL_USE_UNSAFE_INC = 1
SHELL = /usr/bin/zsh
TERM = screen
Perl special variables (and OS-specific diagnostics, for MSWin32):
$^X = /home/sand/src/perl/repoperls/installed-perls/host/k93msid/v5.24.2/f11c/bin/perl
$UID/$EUID = 1005 / 1005
$GID = 1005 1005
$EGID = 1005 1005
Perl module toolchain versions installed:
Module Have
------------------- ----------
CPAN 2.18
CPAN::Meta 2.150010
Cwd 3.63_01
ExtUtils::CBuilder 0.280226
ExtUtils::Command 1.20
ExtUtils::Install 2.14
ExtUtils::MakeMaker 7.30
ExtUtils::Manifest 1.70
ExtUtils::ParseXS 3.31
File::Spec 3.63_01
JSON 2.94
JSON::PP 2.27300_01
Module::Build 0.4224
Module::Signature 0.81
Parse::CPAN::Meta 2.150010
Test::Harness 3.39
Test::More 1.302086
YAML 1.23
YAML::Syck 1.30
version 0.9916
--
Summary of my perl5 (revision 5 version 24 subversion 2) configuration:
Derived from: eb3b805818a89c08b5564d383beddf70f69af1a3
Platform:
osname=linux, osvers=4.9.0-2-amd64, archname=x86_64-linux-thread-multi
uname='linux k93msid 4.9.0-2-amd64 #1 smp debian 4.9.18-1 (2017-03-30) x86_64 gnulinux '
config_args='-Dprefix=/home/sand/src/perl/repoperls/installed-perls/host/k93msid/v5.24.2/f11c -Dmyhostname=k93msid -Dinstallusrbinperl=n -Uversiononly -Dusedevel -des -Ui_db -Dlibswanted=cl pthread socket inet nsl gdbm dbm malloc dl ld sun m crypt sec util c cposix posix ucb BSD gdbm_compat -Duseithreads -Uuselongdouble -DDEBUGGING=-g'
hint=recommended, useposix=true, d_sigaction=define
useithreads=define, usemultiplicity=define
use64bitint=define, use64bitall=define, uselongdouble=undef
usemymalloc=n, bincompat5005=undef
Compiler:
cc='cc', ccflags ='-D_REENTRANT -D_GNU_SOURCE -fwrapv -fno-strict-aliasing -pipe -fstack-protector-strong -I/usr/local/include -D_LARGEFILE_SOURCE -D_FILE_OFFSET_BITS=64',
optimize='-O2 -g',
cppflags='-D_REENTRANT -D_GNU_SOURCE -fwrapv -fno-strict-aliasing -pipe -fstack-protector-strong -I/usr/local/include'
ccversion='', gccversion='6.3.0 20170406', gccosandvers=''
intsize=4, longsize=8, ptrsize=8, doublesize=8, byteorder=12345678, doublekind=3
d_longlong=define, longlongsize=8, d_longdbl=define, longdblsize=16, longdblkind=3
ivtype='long', ivsize=8, nvtype='double', nvsize=8, Off_t='off_t', lseeksize=8
alignbytes=8, prototype=define
Linker and Libraries:
ld='cc', ldflags =' -fstack-protector-strong -L/usr/local/lib'
libpth=/usr/local/lib /usr/lib/gcc/x86_64-linux-gnu/6/include-fixed /usr/include/x86_64-linux-gnu /usr/lib /lib/x86_64-linux-gnu /lib/../lib /usr/lib/x86_64-linux-gnu /usr/lib/../lib /lib
libs=-lpthread -lnsl -ldl -lm -lcrypt -lutil -lc
perllibs=-lpthread -lnsl -ldl -lm -lcrypt -lutil -lc
libc=libc-2.24.so, so=so, useshrplib=false, libperl=libperl.a
gnulibc_version='2.24'
Dynamic Linking:
dlsrc=dl_dlopen.xs, dlext=so, d_dlsymun=undef, ccdlflags='-Wl,-E'
cccdlflags='-fPIC', lddlflags='-shared -O2 -g -L/usr/local/lib -fstack-protector-strong'
Characteristics of this binary (from libperl):
Compile-time options: HAS_TIMES MULTIPLICITY PERLIO_LAYERS
PERL_COPY_ON_WRITE PERL_DONT_CREATE_GVSV
PERL_HASH_FUNC_ONE_AT_A_TIME_HARD
PERL_IMPLICIT_CONTEXT PERL_MALLOC_WRAP
PERL_PRESERVE_IVUV PERL_USE_DEVEL USE_64_BIT_ALL
USE_64_BIT_INT USE_ITHREADS USE_LARGE_FILES
USE_LOCALE USE_LOCALE_COLLATE USE_LOCALE_CTYPE
USE_LOCALE_NUMERIC USE_LOCALE_TIME USE_PERLIO
USE_PERL_ATOF USE_REENTRANT_API
Locally applied patches:
uncommitted-changes
Built under linux
Compiled at Jul 19 2017 03:14:23
%ENV:
PERL5LIB=""
PERL5OPT=""
PERL5_CPANPLUS_IS_RUNNING="7302"
PERL5_CPAN_IS_RUNNING="7302"
PERL_CANARY_STABILITY_NOPROMPT="1"
PERL_MM_USE_DEFAULT="1"
PERL_USE_UNSAFE_INC="1"
@INC:
/home/sand/src/perl/repoperls/installed-perls/host/k93msid/v5.24.2/f11c/lib/site_perl/5.24.2/x86_64-linux-thread-multi
/home/sand/src/perl/repoperls/installed-perls/host/k93msid/v5.24.2/f11c/lib/site_perl/5.24.2
/home/sand/src/perl/repoperls/installed-perls/host/k93msid/v5.24.2/f11c/lib/5.24.2/x86_64-linux-thread-multi
/home/sand/src/perl/repoperls/installed-perls/host/k93msid/v5.24.2/f11c/lib/5.24.2
.