Dist-Zilla-Plugin-Git v2.043 Perl 5 v5.22.3 x86_64-linux
- Status
- Pass
- From
- Alceu Rodrigues de Freitas Junior
- Dist
-
Dist-Zilla-Plugin-Git v2.043
- Platform
- Perl 5 v5.22.3 x86_64-linux
- Date
- 2018-06-02 18:03:32
- ID
- 42c39138-668f-11e8-a1cf-8ed823f1c0c4
This distribution has been tested as part of the CPAN Testers
project, supporting the Perl programming language. See
http://wiki.cpantesters.org/ for more information or email
questions to cpan-testers-discuss@perl.org
--
Dear Karen Etheridge,
This is a computer-generated report for Dist-Zilla-Plugin-Git-2.043
on perl 5.22.3, created by CPAN-Reporter-1.2018.
Thank you for uploading your work to CPAN. Congratulations!
All tests were successful.
Sections of this report:
* Tester comments
* Program output
* Prerequisites
* Environment and other context
------------------------------
TESTER COMMENTS
------------------------------
Additional comments from tester:
none provided
------------------------------
PROGRAM OUTPUT
------------------------------
Output from '/usr/bin/make test':
"/home/alceu/perl5/perlbrew/perls/perl-5.22.0/bin/perl" "-Iblib/arch" "-Iblib/lib" Makefile_git.PL Makefile_git
PERL_DL_NONLAZY=1 "/home/alceu/perl5/perlbrew/perls/perl-5.22.0/bin/perl" "-MExtUtils::Command::MM" "-MTest::Harness" "-e" "undef *Test::Harness::Switches; test_harness(0, 'blib/lib', 'blib/arch')" t/*.t
#
# Versions for all modules listed in MYMETA.json (including optional ones):
#
# === Configure Requires ===
#
# Module Want Have
# ------------------- ---- ------
# ExtUtils::MakeMaker any 7.28
# Text::ParseWords any 3.30
# version any 0.9918
#
# === Build Requires ===
#
# Module Want Have
# ------------------- ---- ----
# ExtUtils::MakeMaker any 7.28
#
# === Test Requires ===
#
# Module Want Have
# -------------------------------- ----- --------
# CPAN::Meta::Check 0.011 0.014
# CPAN::Meta::Requirements any 2.140
# Devel::SimpleTrace any 0.08
# Dist::Zilla::File::InMemory any 6.012
# Dist::Zilla::Plugin::Config::Git any 0.92
# Dist::Zilla::Role::Releaser any 6.012
# Dist::Zilla::Tester any 6.012
# Encode any 2.89
# Exporter any 5.72
# ExtUtils::MakeMaker any 7.28
# File::Copy any 2.30
# File::Copy::Recursive any 0.38
# File::Path 2.07 2.13
# File::Spec any 3.62
# File::Which any 1.21
# File::pushd any 1.014
# Log::Dispatchouli any 2.015
# Test::DZil any 6.012
# Test::Fatal any 0.014
# Test::More 0.88 1.302136
# lib any 0.63
# utf8 any 1.17
#
# === Test Recommends ===
#
# Module Want Have
# ---------- -------- --------
# CPAN::Meta 2.120900 2.150010
#
# === Runtime Requires ===
#
# Module Want Have
# ---------------------------------- -------- --------
# Cwd any 3.62
# DateTime any 1.49
# Dist::Zilla 4 6.012
# Dist::Zilla::Plugin::GatherDir 4.200016 6.012
# Dist::Zilla::Role::AfterBuild any 6.012
# Dist::Zilla::Role::AfterMint any 6.012
# Dist::Zilla::Role::AfterRelease any 6.012
# Dist::Zilla::Role::BeforeRelease any 6.012
# Dist::Zilla::Role::FilePruner any 6.012
# Dist::Zilla::Role::GitConfig any 0.92
# Dist::Zilla::Role::PluginBundle any 6.012
# Dist::Zilla::Role::VersionProvider any 6.012
# File::Spec::Functions any 3.62
# File::Temp any 0.2304
# File::chdir any 0.1010
# Git::Wrapper 0.021 0.047
# IPC::Open3 any 1.18
# IPC::System::Simple any 1.25
# List::Util 1.45 1.47
# Module::Runtime any 0.014
# Moose any 2.2005
# Moose::Role any 2.2005
# Moose::Util::TypeConstraints any 2.2005
# MooseX::Has::Sugar any 1.000006
# MooseX::Types::Moose any 0.50
# MooseX::Types::Path::Tiny 0.010 0.012
# Path::Tiny 0.048 0.104
# String::Formatter any 0.102084
# Try::Tiny any 0.28
# Version::Next any 1.000
# constant any 1.33
# namespace::autoclean 0.09 0.28
# strict any 1.09
# version 0.80 0.9918
# warnings any 1.34
#
# === Other Modules ===
#
# Module Have
# ------------- ----
# JSON::PP 2.94
# Pod::Coverage 0.23
# Sub::Name 0.21
# YAML 1.23
# autodie 2.29
#
t/00-report-prereqs.t ........... ok
# git version 2.7.4
t/000-report-git-version.t ...... ok
t/check.t ....................... ok
t/commit-build-custom.t ......... ok
t/commit-build-src-as-parent.t .. ok
t/commit-build.t ................ ok
t/commit-dirtydir.t ............. ok
t/commit-message.t .............. ok
t/commit-utf8.t ................. ok
t/commit-ws.t ................... ok
t/commit.t ...................... ok
t/gatherdir-multi.t ............. ok
t/gatherdir.t ................... ok
t/push-gitconfig.t .............. ok
t/push-multi.t .................. ok
t/push.t ........................ ok
t/repo-dir.t .................... ok
t/tag-signed.t .................. ok
t/tag.t ......................... ok
t/version-by-branch.t ........... ok
t/version-default.t ............. ok
t/version-extraction.t .......... ok
t/version-regexp.t .............. ok
t/zzz-check-breaks.t ............ ok
All tests successful.
Files=24, Tests=207, 19 wallclock secs ( 0.08 usr 0.01 sys + 15.33 cusr 1.40 csys = 16.82 CPU)
Result: PASS
------------------------------
PREREQUISITES
------------------------------
Prerequisite modules loaded:
requires:
Module Need Have
---------------------------------- -------- --------
constant 0 1.33
Cwd 0 3.62
DateTime 0 1.49
Dist::Zilla 4 6.012
Dist::Zilla::Plugin::GatherDir 4.200016 6.012
Dist::Zilla::Role::AfterBuild 0 6.012
Dist::Zilla::Role::AfterMint 0 6.012
Dist::Zilla::Role::AfterRelease 0 6.012
Dist::Zilla::Role::BeforeRelease 0 6.012
Dist::Zilla::Role::FilePruner 0 6.012
Dist::Zilla::Role::GitConfig 0 0.92
Dist::Zilla::Role::PluginBundle 0 6.012
Dist::Zilla::Role::VersionProvider 0 6.012
File::chdir 0 0.1010
File::Spec::Functions 0 3.62
File::Temp 0 0.2304
Git::Wrapper 0.021 0.047
IPC::Open3 0 1.18
IPC::System::Simple 0 1.25
List::Util 1.45 1.47
Module::Runtime 0 0.014
Moose 0 2.2005
Moose::Role 0 2.2005
Moose::Util::TypeConstraints 0 2.2005
MooseX::Has::Sugar 0 1.000006
MooseX::Types::Moose 0 0.50
MooseX::Types::Path::Tiny 0.010 0.012
namespace::autoclean 0.09 0.28
Path::Tiny 0.048 0.104
perl 5.010 5.022003
strict 0 1.09
String::Formatter 0 0.102084
Try::Tiny 0 0.28
version 0.80 0.9918
Version::Next 0 1.000
warnings 0 1.34
build_requires:
Module Need Have
---------------------------------- -------- --------
CPAN::Meta::Check 0.011 0.014
CPAN::Meta::Requirements 0 2.140
Devel::SimpleTrace 0 0.08
Dist::Zilla::File::InMemory 0 6.012
Dist::Zilla::Plugin::Config::Git 0 0.92
Dist::Zilla::Role::Releaser 0 6.012
Dist::Zilla::Tester 0 6.012
Encode 0 2.89
Exporter 0 5.72
ExtUtils::MakeMaker 0 7.28
File::Copy 0 2.30
File::Copy::Recursive 0 0.38
File::Path 2.07 2.13
File::pushd 0 1.014
File::Spec 0 3.62
File::Which 0 1.21
lib 0 0.63
Log::Dispatchouli 0 2.015
Test::DZil 0 6.012
Test::Fatal 0 0.014
Test::More 0.88 1.302136
utf8 0 1.17
configure_requires:
Module Need Have
---------------------------------- -------- --------
ExtUtils::MakeMaker 0 7.28
perl 5.010 5.022003
Text::ParseWords 0 3.30
version 0 0.9918
------------------------------
ENVIRONMENT AND OTHER CONTEXT
------------------------------
Environment variables:
LANG = pt_BR.UTF-8
LANGUAGE = pt_BR:pt:en
NONINTERACTIVE_TESTING = 1
PATH = /home/alceu/perl5/perlbrew/bin:/home/alceu/perl5/perlbrew/perls/perl-5.22.0/bin:/home/alceu/.sdkman/candidates/groovy/current/bin:/home/alceu/.sdkman/candidates/gradle/current/bin:/home/alceu/bin:/usr/local/sbin:/usr/local/bin:/usr/sbin:/usr/bin:/sbin:/bin:/usr/games:/usr/local/games:/snap/bin
PERL5LIB =
PERL5OPT =
PERL5_CPANPLUS_IS_RUNNING = 26307
PERL5_CPAN_IS_RUNNING = 26307
PERLBREW_HOME = /home/alceu/.perlbrew
PERLBREW_MANPATH = /home/alceu/perl5/perlbrew/perls/perl-5.22.0/man
PERLBREW_PATH = /home/alceu/perl5/perlbrew/bin:/home/alceu/perl5/perlbrew/perls/perl-5.22.0/bin
PERLBREW_PERL = perl-5.22.0
PERLBREW_ROOT = /home/alceu/perl5/perlbrew
PERLBREW_SHELLRC_VERSION = 0.82
PERLBREW_VERSION = 0.82
PERL_MM_USE_DEFAULT = 1
SHELL = /bin/bash
TERM = xterm
Perl special variables (and OS-specific diagnostics, for MSWin32):
$^X = /home/alceu/perl5/perlbrew/perls/perl-5.22.0/bin/perl
$UID/$EUID = 1000 / 1000
$GID = 1000 4 24 27 29 30 44 46 108 122 123 124 129 142 1000 1002
$EGID = 1000 4 24 27 29 30 44 46 108 122 123 124 129 142 1000 1002
Perl module toolchain versions installed:
Module Have
------------------- --------
CPAN 2.16
CPAN::Meta 2.150010
Cwd 3.62
ExtUtils::CBuilder 0.280224
ExtUtils::Command 7.28
ExtUtils::Install 2.14
ExtUtils::MakeMaker 7.28
ExtUtils::Manifest 1.70
ExtUtils::ParseXS 3.30
File::Spec 3.62
JSON 2.94
JSON::PP 2.94
Module::Build 0.4224
Module::Signature n/a
Parse::CPAN::Meta 2.150010
Test::Harness 3.39
Test::More 1.302136
YAML 1.23
YAML::Syck 1.30
version 0.9918
--
Summary of my perl5 (revision 5 version 22 subversion 3) configuration:
Platform:
osname=linux, osvers=4.4.0-78-generic, archname=x86_64-linux
uname='linux yggdrasil 4.4.0-78-generic #99-ubuntu smp thu apr 27 15:29:09 utc 2017 x86_64 x86_64 x86_64 gnulinux '
config_args='-de -Dprefix=/home/alceu/perl5/perlbrew/perls/perl-5.22.0 -Aeval:scriptdir=/home/alceu/perl5/perlbrew/perls/perl-5.22.0/bin'
hint=recommended, useposix=true, d_sigaction=define
useithreads=undef, usemultiplicity=undef
use64bitint=define, use64bitall=define, uselongdouble=undef
usemymalloc=n, bincompat5005=undef
Compiler:
cc='cc', ccflags ='-fwrapv -fno-strict-aliasing -pipe -fstack-protector-strong -I/usr/local/include -D_LARGEFILE_SOURCE -D_FILE_OFFSET_BITS=64',
optimize='-O2',
cppflags='-fwrapv -fno-strict-aliasing -pipe -fstack-protector-strong -I/usr/local/include'
ccversion='', gccversion='5.4.0 20160609', gccosandvers=''
intsize=4, longsize=8, ptrsize=8, doublesize=8, byteorder=12345678, doublekind=3
d_longlong=define, longlongsize=8, d_longdbl=define, longdblsize=16, longdblkind=3
ivtype='long', ivsize=8, nvtype='double', nvsize=8, Off_t='off_t', lseeksize=8
alignbytes=8, prototype=define
Linker and Libraries:
ld='cc', ldflags =' -fstack-protector-strong -L/usr/local/lib'
libpth=/usr/local/lib /usr/lib/gcc/x86_64-linux-gnu/5/include-fixed /usr/include/x86_64-linux-gnu /usr/lib /lib/x86_64-linux-gnu /lib/../lib /usr/lib/x86_64-linux-gnu /usr/lib/../lib /lib
libs=-lpthread -lnsl -ldl -lm -lcrypt -lutil -lc
perllibs=-lpthread -lnsl -ldl -lm -lcrypt -lutil -lc
libc=libc-2.23.so, so=so, useshrplib=false, libperl=libperl.a
gnulibc_version='2.23'
Dynamic Linking:
dlsrc=dl_dlopen.xs, dlext=so, d_dlsymun=undef, ccdlflags='-Wl,-E'
cccdlflags='-fPIC', lddlflags='-shared -O2 -L/usr/local/lib -fstack-protector-strong'
Characteristics of this binary (from libperl):
Compile-time options: HAS_TIMES PERLIO_LAYERS PERL_DONT_CREATE_GVSV
PERL_HASH_FUNC_ONE_AT_A_TIME_HARD PERL_MALLOC_WRAP
PERL_NEW_COPY_ON_WRITE PERL_PRESERVE_IVUV
USE_64_BIT_ALL USE_64_BIT_INT USE_LARGE_FILES
USE_LOCALE USE_LOCALE_COLLATE USE_LOCALE_CTYPE
USE_LOCALE_NUMERIC USE_LOCALE_TIME USE_PERLIO
USE_PERL_ATOF
Locally applied patches:
Devel::PatchPerl 1.38
Built under linux
Compiled at Jun 5 2017 17:23:43
%ENV:
PERL5LIB=""
PERL5OPT=""
PERL5_CPANPLUS_IS_RUNNING="26307"
PERL5_CPAN_IS_RUNNING="26307"
PERLBREW_HOME="/home/alceu/.perlbrew"
PERLBREW_MANPATH="/home/alceu/perl5/perlbrew/perls/perl-5.22.0/man"
PERLBREW_PATH="/home/alceu/perl5/perlbrew/bin:/home/alceu/perl5/perlbrew/perls/perl-5.22.0/bin"
PERLBREW_PERL="perl-5.22.0"
PERLBREW_ROOT="/home/alceu/perl5/perlbrew"
PERLBREW_SHELLRC_VERSION="0.82"
PERLBREW_VERSION="0.82"
PERL_MM_USE_DEFAULT="1"
@INC:
/home/alceu/perl5/perlbrew/perls/perl-5.22.0/lib/site_perl/5.22.3/x86_64-linux
/home/alceu/perl5/perlbrew/perls/perl-5.22.0/lib/site_perl/5.22.3
/home/alceu/perl5/perlbrew/perls/perl-5.22.0/lib/5.22.3/x86_64-linux
/home/alceu/perl5/perlbrew/perls/perl-5.22.0/lib/5.22.3
/home/alceu/perl5/perlbrew/perls/perl-5.22.0/lib/site_perl/5.22.2/x86_64-linux
/home/alceu/perl5/perlbrew/perls/perl-5.22.0/lib/site_perl/5.22.2
/home/alceu/perl5/perlbrew/perls/perl-5.22.0/lib/site_perl/5.22.1/x86_64-linux
/home/alceu/perl5/perlbrew/perls/perl-5.22.0/lib/site_perl/5.22.1
/home/alceu/perl5/perlbrew/perls/perl-5.22.0/lib/site_perl/5.22.0/x86_64-linux
/home/alceu/perl5/perlbrew/perls/perl-5.22.0/lib/site_perl/5.22.0
/home/alceu/perl5/perlbrew/perls/perl-5.22.0/lib/site_perl
.