Test-Moose-More v0.050 Perl 5 v5.32.1 x86_64-linux

Status
Pass
From
Ioan Rogers
Dist
Test-Moose-More v0.050
Platform
Perl 5 v5.32.1 x86_64-linux
Date
2021-01-27 23:34:54
ID
424c328a-60f8-11eb-bf2e-61f57c8e46e0
This distribution has been tested as part of the CPAN Testers
project, supporting the Perl programming language.  See
http://wiki.cpantesters.org/ for more information or email
questions to cpan-testers-discuss@perl.org


--
Dear RSRCHBOY,

This is a computer-generated report for Test-Moose-More-0.050
on perl 5.32.1, created by App::cpanminus::reporter 0.17 (1.7044).

Thank you for uploading your work to CPAN.  Congratulations!
All tests were successful.

Sections of this report:

    * Tester comments
    * Program output
    * Prerequisites
    * Environment and other context

------------------------------
TESTER COMMENTS
------------------------------

Additional comments from tester:

none provided

------------------------------
PROGRAM OUTPUT
------------------------------

Output from '':

Building and testing Test-Moose-More-0.050
cp lib/Test/Moose/More/Utils.pm blib/lib/Test/Moose/More/Utils.pm
cp lib/Test/Moose/More.pm blib/lib/Test/Moose/More.pm
PERL_DL_NONLAZY=1 "/home/ioan/.plenv/versions/mm-perl/bin/perl5.32.1" "-MExtUtils::Command::MM" "-MTest::Harness" "-e" "undef *Test::Harness::Switches; test_harness(0, 'blib/lib', 'blib/arch')" t/*.t t/attribute_options_ok/*.t t/is_class_ok/*.t t/validate_attribute/*.t t/validate_class/*.t t/validate_role/*.t t/validate_thing/*.t t/wrapped/*.t
t/00-check-deps.t ...................................... ok
# 
# Versions for all modules listed in MYMETA.json (including optional ones):
# 
# === Configure Requires ===
# 
#     Module              Want Have
#     ------------------- ---- ----
#     ExtUtils::MakeMaker  any 7.58
# 
# === Build Requires ===
# 
#     Module              Want Have
#     ------------------- ---- ----
#     ExtUtils::MakeMaker  any 7.58
# 
# === Test Requires ===
# 
#     Module                  Want     Have
#     ---------------------- ----- --------
#     ExtUtils::MakeMaker      any     7.58
#     File::Spec               any     3.75
#     IO::Handle               any     1.42
#     IPC::Open3               any     1.21
#     List::Util              1.45     1.55
#     Moose                    any   2.2014
#     Moose::Meta::Attribute   any   2.2014
#     Moose::Role              any   2.2014
#     Moose::Util::MetaRole    any   2.2014
#     TAP::SimpleOutput      0.009    0.009
#     Test::Builder::Tester    any 1.302183
#     Test::CheckDeps        0.010    0.010
#     Test::More              0.94 1.302183
#     namespace::autoclean     any     0.29
# 
# === Test Recommends ===
# 
#     Module         Want     Have
#     ---------- -------- --------
#     CPAN::Meta 2.120900 2.150010
# 
# === Runtime Requires ===
# 
#     Module                       Want     Have
#     ---------------------------- ---- --------
#     Carp                          any     1.50
#     Data::OptList                 any    0.110
#     List::MoreUtils               any    0.430
#     List::Util                   1.45     1.55
#     Moose::Util                   any   2.2014
#     Moose::Util::TypeConstraints  any   2.2014
#     Scalar::Util                  any     1.55
#     Sub::Exporter::Progressive    any 0.001013
#     Syntax::Keyword::Junction     any 0.003008
#     Test::Builder                 any 1.302183
#     Test::Moose                   any   2.2014
#     Test::More                   0.94 1.302183
#     strict                        any     1.11
#     warnings                      any     1.47
# 
t/00-report-prereqs.t .................................. ok
t/check_sugar.t ........................................ ok
t/attribute_options_ok/subtest-wrapper.t ............... ok
t/00-compile.t ......................................... ok
t/attribute_options_ok/basic.t ......................... ok
t/definition_context.t ................................. ok
t/does_metaroles_ok.t .................................. ok
t/does_not_metaroles_ok.t .............................. ok
t/does_not_ok.t ........................................ ok
t/is_class_ok/basic.t .................................. ok
t/does_ok.t ............................................ ok
t/is_class_ok/moose-meta-attribute-should-be-moosey.t .. ok
t/has_attribute_ok.t ................................... ok
t/is_anon_ok.t ......................................... ok
t/is_immutable_ok.t .................................... ok
t/meta_ok.t ............................................ ok
t/is_role_ok.t ......................................... ok
t/method_is_accessor_ok.t .............................. ok
t/is_not_anon_ok.t ..................................... ok
t/method_from_pkg_ok.t ................................. ok
t/method_not_from_pkg_ok.t ............................. ok
t/method_is_not_accessor_ok.t .......................... ok
t/method_ok.t .......................................... ok
t/no_meta_ok.t ......................................... ok
t/pristine_ok.t ........................................ ok
t/subtest-1.t .......................................... ok
t/requires_method_ok.t ................................. ok
t/validate_attribute/basic.t ........................... ok
t/validate_attribute/coerce.t .......................... ok
t/validate_attribute/in_roles.t ........................ ok
t/validate_attribute/lazy.t ............................ ok
t/validate_attribute/required.t ........................ ok
t/validate_class/basic.t ............................... ok
t/validate_class/metaclasses.t ......................... ok
t/validate_class/metaroles.t ........................... ok
t/validate_class/methods.t ............................. ok
t/validate_role/compose.t .............................. ok
t/validate_role/basic.t ................................ ok
t/validate_role/metaclasses.t .......................... ok
t/validate_thing/methods.t ............................. ok
t/validate_role/metaroles.t ............................ ok
t/validate_thing/metaclasses.t ......................... ok
t/validate_thing/sugar.t ............................... ok
t/wrapped/in_roles.t ................................... ok
All tests successful.

Test Summary Report
-------------------
t/00-check-deps.t                                    (Wstat: 0 Tests: 32 Failed: 0)
  TODO passed:   32
Files=45, Tests=235,  2 wallclock secs ( 0.20 usr  0.05 sys + 14.71 cusr  1.76 csys = 16.72 CPU)
Result: PASS

------------------------------
PREREQUISITES
------------------------------

Prerequisite modules loaded:

    No requirements found

------------------------------
ENVIRONMENT AND OTHER CONTEXT
------------------------------

Environment variables:

    HARNESS_OPTIONS = j8
    LANG = en_GB.UTF-8
    LANGUAGE = en_GB:en_CA:en_US:en
    LC_ADDRESS = en_GB.UTF-8
    LC_ALL = en_GB.UTF-8
    LC_IDENTIFICATION = en_GB.UTF-8
    LC_MEASUREMENT = en_GB.UTF-8
    LC_MONETARY = en_GB.UTF-8
    LC_NAME = en_GB.UTF-8
    LC_NUMERIC = en_GB.UTF-8
    LC_PAPER = en_GB.UTF-8
    LC_TELEPHONE = en_GB.UTF-8
    LC_TIME = en_GB.UTF-8
    PATH = /home/ioan/.plenv/versions/mm-perl/bin:/home/ioan/.plenv/libexec:/home/ioan/.plenv/plugins/perl-build/bin:/home/ioan/Projects/mm_website/bin:/home/ioan/Projects/mm_website/dev/bin/containers:/home/ioan/Projects/mm_website/dev/bin/go:/home/ioan/Projects/mm_website/ansible/bin:/home/ioan/Projects/mm_website/ansible/roles/server_management/files:/home/ioan/go/bin:/home/ioan/.raku/bin:/home/ioan/.plenv/shims:/snap/bin:/snap/google-cloud-sdk/current/bin:/home/ioan/.krew/bin::/home/ioan/.local/bin:/usr/local/bin:/usr/bin:/bin:/usr/local/sbin:/sbin:/usr/sbin:/usr/games
    PERL5LIB = /home/ioan/Projects/mm_website/lib:/home/ioan/Projects/mm_website/t/lib:/home/ioan/Projects/mm_website/ansible/roles/server_management/files/perl_modules/
    PERL_CPANM_OPT = --prompt --no-man-pages --verify --mirror https://cpan.metacpan.org
    SHELL = /usr/bin/zsh
    TERM = xterm-256color

Perl special variables (and OS-specific diagnostics, for MSWin32):

    EGID = 1001 4 24 27 30 46 119 130 131 134 1001
    EUID = 1001
    EXECUTABLE_NAME = /home/ioan/.plenv/versions/mm-perl/bin/perl5.32.1
    GID = 1001 4 24 27 30 46 119 130 131 134 1001
    UID = 1001

Perl module toolchain versions installed:

    Module              Have    
    ------------------- --------
    CPAN                2.28    
    CPAN::Meta          2.150010
    Cwd                 3.75    
    ExtUtils::CBuilder  0.280234
    ExtUtils::Command   7.58    
    ExtUtils::Install   2.20    
    ExtUtils::MakeMaker 7.58    
    ExtUtils::Manifest  1.72    
    ExtUtils::ParseXS   3.40    
    File::Spec          3.75    
    JSON                4.02    
    JSON::PP            4.05    
    Module::Build       0.4231  
    Module::Signature   0.87    
    Parse::CPAN::Meta   2.150010
    Test::Harness       3.42    
    Test::More          1.302183
    YAML                1.30    
    YAML::Syck          n/a     
    version             0.9928  


--

Summary of my perl5 (revision 5 version 32 subversion 1) configuration:
   
  Platform:
    osname=linux
    osvers=5.8.0-36-generic
    archname=x86_64-linux
    uname='linux impatience 5.8.0-36-generic #40-ubuntu smp tue jan 5 21:54:35 utc 2021 x86_64 x86_64 x86_64 gnulinux '
    config_args='-Dprefix=/home/ioan/.plenv/versions/mm-perl -de -Dversiononly -Doptimize=-O2 -Dccflags-march=native -Dcc=clang -Dman1dir=none -Dman3dir=none -A'eval:scriptdir=/home/ioan/.plenv/versions/mm-perl/bin''
    hint=recommended
    useposix=true
    d_sigaction=define
    useithreads=undef
    usemultiplicity=undef
    use64bitint=define
    use64bitall=define
    uselongdouble=undef
    usemymalloc=n
    default_inc_excludes_dot=define
    bincompat5005=undef
  Compiler:
    cc='clang'
    ccflags ='-fno-strict-aliasing -pipe -fstack-protector-strong -I/usr/local/include -D_LARGEFILE_SOURCE -D_FILE_OFFSET_BITS=64'
    optimize='-O2'
    cppflags='-fno-strict-aliasing -pipe -fstack-protector-strong -I/usr/local/include'
    ccversion=''
    gccversion='Ubuntu Clang 11.0.0'
    gccosandvers=''
    intsize=4
    longsize=8
    ptrsize=8
    doublesize=8
    byteorder=12345678
    doublekind=3
    d_longlong=define
    longlongsize=8
    d_longdbl=define
    longdblsize=16
    longdblkind=3
    ivtype='long'
    ivsize=8
    nvtype='double'
    nvsize=8
    Off_t='off_t'
    lseeksize=8
    alignbytes=8
    prototype=define
  Linker and Libraries:
    ld='clang'
    ldflags =' -fstack-protector-strong -L/usr/local/lib'
    libpth=/usr/local/lib /usr/lib/llvm-11/lib/clang/11.0.0/lib /usr/include/x86_64-linux-gnu /usr/lib /lib/x86_64-linux-gnu /lib/../lib /usr/lib/x86_64-linux-gnu /usr/lib/../lib /lib /lib64 /usr/lib64
    libs=-lpthread -lnsl -ldb -ldl -lm -lcrypt -lutil -lc
    perllibs=-lpthread -lnsl -ldl -lm -lcrypt -lutil -lc
    libc=libc-2.32.so
    so=so
    useshrplib=false
    libperl=libperl.a
    gnulibc_version='2.32'
  Dynamic Linking:
    dlsrc=dl_dlopen.xs
    dlext=so
    d_dlsymun=undef
    ccdlflags='-Wl,-E'
    cccdlflags='-fPIC'
    lddlflags='-shared -O2 -L/usr/local/lib -fstack-protector-strong'


Characteristics of this binary (from libperl): 
  Compile-time options:
    HAS_TIMES
    PERLIO_LAYERS
    PERL_COPY_ON_WRITE
    PERL_DONT_CREATE_GVSV
    PERL_MALLOC_WRAP
    PERL_OP_PARENT
    PERL_PRESERVE_IVUV
    USE_64_BIT_ALL
    USE_64_BIT_INT
    USE_LARGE_FILES
    USE_LOCALE
    USE_LOCALE_COLLATE
    USE_LOCALE_CTYPE
    USE_LOCALE_NUMERIC
    USE_LOCALE_TIME
    USE_PERLIO
    USE_PERL_ATOF
  Locally applied patches:
    Devel::PatchPerl 2.08
  Built under linux
  Compiled at Jan 27 2021 13:26:47
  %ENV:
    PERL5LIB="/home/ioan/Projects/mm_website/lib:/home/ioan/Projects/mm_website/t/lib:/home/ioan/Projects/mm_website/ansible/roles/server_management/files/perl_modules/"
    PERL_CPANM_OPT="--prompt --no-man-pages --verify --mirror https://cpan.metacpan.org"
  @INC:
    /home/ioan/Projects/mm_website/lib
    /home/ioan/Projects/mm_website/t/lib
    /home/ioan/Projects/mm_website/ansible/roles/server_management/files/perl_modules/
    /home/ioan/.plenv/versions/mm-perl/lib/site_perl/5.32.1/x86_64-linux
    /home/ioan/.plenv/versions/mm-perl/lib/site_perl/5.32.1
    /home/ioan/.plenv/versions/mm-perl/lib/5.32.1/x86_64-linux
    /home/ioan/.plenv/versions/mm-perl/lib/5.32.1