Pod-Perldoc v3.28 Perl 5 v5.22.2 x86_64-linux-thread-multi

Status
Pass
From
Arpad Szasz
Dist
Pod-Perldoc v3.28
Platform
Perl 5 v5.22.2 x86_64-linux-thread-multi
Date
2017-12-29 07:24:07
ID
41e92728-ec69-11e7-afd1-c52b6983f4be
This distribution has been tested as part of the CPAN Testers
project, supporting the Perl programming language.  See
http://wiki.cpantesters.org/ for more information or email
questions to cpan-testers-discuss@perl.org


--
Dear MALLEN,

This is a computer-generated report for Pod-Perldoc-3.28
on perl 5.22.2, created by App::cpanminus::reporter 0.17 (1.7043).

Thank you for uploading your work to CPAN.  Congratulations!
All tests were successful.

Sections of this report:

    * Tester comments
    * Program output
    * Prerequisites
    * Environment and other context

------------------------------
TESTER COMMENTS
------------------------------

Additional comments from tester:

none provided

------------------------------
PROGRAM OUTPUT
------------------------------

Output from '':

Building and testing Pod-Perldoc-3.28
cp lib/Pod/Perldoc/ToTerm.pm blib/lib/Pod/Perldoc/ToTerm.pm
cp lib/Pod/Perldoc/ToXml.pm blib/lib/Pod/Perldoc/ToXml.pm
cp lib/Pod/Perldoc/GetOptsOO.pm blib/lib/Pod/Perldoc/GetOptsOO.pm
cp lib/Pod/Perldoc/ToText.pm blib/lib/Pod/Perldoc/ToText.pm
cp perldoc.pod blib/lib/perldoc.pod
cp lib/Pod/Perldoc/ToMan.pm blib/lib/Pod/Perldoc/ToMan.pm
cp lib/Pod/Perldoc/ToNroff.pm blib/lib/Pod/Perldoc/ToNroff.pm
cp lib/Pod/Perldoc/BaseTo.pm blib/lib/Pod/Perldoc/BaseTo.pm
cp lib/Pod/Perldoc/ToPod.pm blib/lib/Pod/Perldoc/ToPod.pm
cp lib/Pod/Perldoc/ToChecker.pm blib/lib/Pod/Perldoc/ToChecker.pm
cp lib/Pod/Perldoc/ToANSI.pm blib/lib/Pod/Perldoc/ToANSI.pm
cp lib/Pod/Perldoc/ToTk.pm blib/lib/Pod/Perldoc/ToTk.pm
cp lib/Pod/Perldoc/ToRtf.pm blib/lib/Pod/Perldoc/ToRtf.pm
cp lib/Pod/Perldoc.pm blib/lib/Pod/Perldoc.pm
cp perldoc blib/script/perldoc
"/home/arpi/opt/perl5/perls/perl-5.22.2/bin/perl" -MExtUtils::MY -e 'MY->fixin(shift)' -- blib/script/perldoc
Manifying 1 pod document
Manifying 14 pod documents
PERL_DL_NONLAZY=1 "/home/arpi/opt/perl5/perls/perl-5.22.2/bin/perl" "-MExtUtils::Command::MM" "-MTest::Harness" "-e" "undef *Test::Harness::Switches; test_harness(0, 'blib/lib', 'blib/arch')" t/*.t t/*/*.t
t/01_about_verbose.t ...... ok
t/pod.t ................... skipped: Pod tests not required for installation.
t/man/_get_columns.t ...... ok
t/00_load.t ............... ok
t/02_module_pod_output.t .. ok
All tests successful.
Files=5, Tests=56,  1 wallclock secs ( 0.06 usr  0.01 sys +  0.92 cusr  0.07 csys =  1.06 CPU)
Result: PASS

------------------------------
PREREQUISITES
------------------------------

Prerequisite modules loaded:

    No requirements found

------------------------------
ENVIRONMENT AND OTHER CONTEXT
------------------------------

Environment variables:

    LANG = en_US.UTF-8
    LC_ADDRESS = ro_RO.UTF-8
    LC_IDENTIFICATION = ro_RO.UTF-8
    LC_MEASUREMENT = ro_RO.UTF-8
    LC_MONETARY = ro_RO.UTF-8
    LC_NAME = ro_RO.UTF-8
    LC_NUMERIC = ro_RO.UTF-8
    LC_PAPER = ro_RO.UTF-8
    LC_TELEPHONE = ro_RO.UTF-8
    LC_TIME = ro_RO.UTF-8
    PATH = /home/arpi/.local/share/umake/bin:/home/arpi/.rakudobrew/bin:/home/arpi/bin:/home/arpi/.nvm/versions/node/v6.9.5/bin:/home/arpi/opt/perl5/bin:/home/arpi/opt/perl5/perls/perl-5.22.2/bin:/home/arpi/.local/share/umake/bin:/home/arpi/.rakudobrew/bin:/home/arpi/bin:/usr/local/sbin:/usr/local/bin:/usr/sbin:/usr/bin:/sbin:/bin:/usr/games:/usr/local/games:/snap/bin:/usr/lib/jvm/java-8-oracle/bin:/usr/lib/jvm/java-8-oracle/db/bin:/usr/lib/jvm/java-8-oracle/jre/bin:/home/arpi/.fzf/bin:/usr/lib/jvm/java-8-oracle/bin:/usr/lib/jvm/java-8-oracle/db/bin:/usr/lib/jvm/java-8-oracle/jre/bin
    PERLBREW_HOME = /home/arpi/.perlbrew
    PERLBREW_MANPATH = /home/arpi/opt/perl5/perls/perl-5.22.2/man
    PERLBREW_PATH = /home/arpi/opt/perl5/bin:/home/arpi/opt/perl5/perls/perl-5.22.2/bin
    PERLBREW_PERL = perl-5.22.2
    PERLBREW_ROOT = /home/arpi/opt/perl5
    PERLBREW_SHELLRC_VERSION = 0.82
    PERLBREW_VERSION = 0.82
    SHELL = /bin/bash
    TERM = screen-256color

Perl special variables (and OS-specific diagnostics, for MSWin32):

    EGID = 1000 4 20 24 27 29 30 46 108 115 131 132 998 1000
    EUID = 1000
    EXECUTABLE_NAME = /home/arpi/opt/perl5/perls/perl-5.22.2/bin/perl
    GID = 1000 4 20 24 27 29 30 46 108 115 131 132 998 1000
    UID = 1000

Perl module toolchain versions installed:

    Module              Have    
    ------------------- --------
    CPAN                2.16    
    CPAN::Meta          2.150010
    Cwd                 3.62    
    ExtUtils::CBuilder  0.280230
    ExtUtils::Command   7.30    
    ExtUtils::Install   2.14    
    ExtUtils::MakeMaker 7.30    
    ExtUtils::Manifest  1.70    
    ExtUtils::ParseXS   3.35    
    File::Spec          3.62    
    JSON                2.97001 
    JSON::PP            2.97001 
    Module::Build       0.4224  
    Module::Signature   n/a     
    Parse::CPAN::Meta   2.150010
    Test::Harness       3.39    
    Test::More          1.302120
    YAML                1.24    
    YAML::Syck          n/a     
    version             0.9918  


--

Summary of my perl5 (revision 5 version 22 subversion 2) configuration:
   
  Platform:
    osname=linux, osvers=4.4.0-47-lowlatency, archname=x86_64-linux-thread-multi
    uname='linux guppy 4.4.0-47-lowlatency #68-ubuntu smp preempt wed oct 26 21:00:05 utc 2016 x86_64 x86_64 x86_64 gnulinux '
    config_args='-de -Dprefix=/home/arpi/opt/perl5/perls/perl-5.22.2 -Dusethreads -Duselargefiles -Duse64bitall -Dusesitecustomize -Duseshrplib -Dinc_version_list=none -Dpager=/bin/less -Doptimize=-O2 -Dcf_by=Plenum.ro -Dcf_email=arpad.szasz@plenum.ro -Uuserelocatableinc -UDEBUGGING -Aeval:scriptdir=/home/arpi/opt/perl5/perls/perl-5.22.2/bin'
    hint=recommended, useposix=true, d_sigaction=define
    useithreads=define, usemultiplicity=define
    use64bitint=define, use64bitall=define, uselongdouble=undef
    usemymalloc=n, bincompat5005=undef
  Compiler:
    cc='cc', ccflags ='-D_REENTRANT -D_GNU_SOURCE -fwrapv -fno-strict-aliasing -pipe -fstack-protector-strong -I/usr/local/include -D_LARGEFILE_SOURCE -D_FILE_OFFSET_BITS=64',
    optimize='-O2',
    cppflags='-D_REENTRANT -D_GNU_SOURCE -fwrapv -fno-strict-aliasing -pipe -fstack-protector-strong -I/usr/local/include'
    ccversion='', gccversion='5.4.0 20160609', gccosandvers=''
    intsize=4, longsize=8, ptrsize=8, doublesize=8, byteorder=12345678, doublekind=3
    d_longlong=define, longlongsize=8, d_longdbl=define, longdblsize=16, longdblkind=3
    ivtype='long', ivsize=8, nvtype='double', nvsize=8, Off_t='off_t', lseeksize=8
    alignbytes=8, prototype=define
  Linker and Libraries:
    ld='cc', ldflags =' -fstack-protector-strong -L/usr/local/lib'
    libpth=/usr/local/lib /usr/lib/gcc/x86_64-linux-gnu/5/include-fixed /usr/include/x86_64-linux-gnu /usr/lib /lib/x86_64-linux-gnu /lib/../lib /usr/lib/x86_64-linux-gnu /usr/lib/../lib /lib
    libs=-lpthread -lnsl -ldl -lm -lcrypt -lutil -lc
    perllibs=-lpthread -lnsl -ldl -lm -lcrypt -lutil -lc
    libc=libc-2.23.so, so=so, useshrplib=true, libperl=libperl.so
    gnulibc_version='2.23'
  Dynamic Linking:
    dlsrc=dl_dlopen.xs, dlext=so, d_dlsymun=undef, ccdlflags='-Wl,-E -Wl,-rpath,/home/arpi/opt/perl5/perls/perl-5.22.2/lib/5.22.2/x86_64-linux-thread-multi/CORE'
    cccdlflags='-fPIC', lddlflags='-shared -O2 -L/usr/local/lib -fstack-protector-strong'


Characteristics of this binary (from libperl): 
  Compile-time options: HAS_TIMES MULTIPLICITY PERLIO_LAYERS
                        PERL_DONT_CREATE_GVSV
                        PERL_HASH_FUNC_ONE_AT_A_TIME_HARD
                        PERL_IMPLICIT_CONTEXT PERL_MALLOC_WRAP
                        PERL_NEW_COPY_ON_WRITE PERL_PRESERVE_IVUV
                        USE_64_BIT_ALL USE_64_BIT_INT USE_ITHREADS
                        USE_LARGE_FILES USE_LOCALE USE_LOCALE_COLLATE
                        USE_LOCALE_CTYPE USE_LOCALE_NUMERIC USE_LOCALE_TIME
                        USE_PERLIO USE_PERL_ATOF USE_REENTRANT_API
                        USE_SITECUSTOMIZE
  Locally applied patches:
	Devel::PatchPerl 1.38
  Built under linux
  Compiled at Nov 18 2016 20:33:52
  %ENV:
    PERLBREW_HOME="/home/arpi/.perlbrew"
    PERLBREW_MANPATH="/home/arpi/opt/perl5/perls/perl-5.22.2/man"
    PERLBREW_PATH="/home/arpi/opt/perl5/bin:/home/arpi/opt/perl5/perls/perl-5.22.2/bin"
    PERLBREW_PERL="perl-5.22.2"
    PERLBREW_ROOT="/home/arpi/opt/perl5"
    PERLBREW_SHELLRC_VERSION="0.82"
    PERLBREW_VERSION="0.82"
  @INC:
    /home/arpi/opt/perl5/perls/perl-5.22.2/lib/site_perl/5.22.2/x86_64-linux-thread-multi
    /home/arpi/opt/perl5/perls/perl-5.22.2/lib/site_perl/5.22.2
    /home/arpi/opt/perl5/perls/perl-5.22.2/lib/5.22.2/x86_64-linux-thread-multi
    /home/arpi/opt/perl5/perls/perl-5.22.2/lib/5.22.2
    .