Back
From: metabase:user:3215efbe-2aae-11df-837a-5e0a49663a4f
Subject: PASS PostScript-Graph-1.02 v5.16.3 GNU/Linux
Date: 2013-03-22T12:51:47Z
This distribution has been tested as part of the CPAN Testers
project, supporting the Perl programming language. See
http://wiki.cpantesters.org/ for more information or email
questions to cpan-testers-discuss@perl.org
--
Dear Christopher Willmot,
This is a computer-generated report for PostScript-Graph-1.02
on perl 5.16.3, created by CPAN-Reporter-1.2009.
Thank you for uploading your work to CPAN. Congratulations!
All tests were successful.
Sections of this report:
* Tester comments
* Program output
* Prerequisites
* Environment and other context
------------------------------
TESTER COMMENTS
------------------------------
Additional comments from tester:
this report is from an automated smoke testing program
and was not reviewed by a human for accuracy
------------------------------
PROGRAM OUTPUT
------------------------------
Output from '/usr/bin/make test':
PERL_DL_NONLAZY=1 /opt/perl/nothreads/5.16.3/bin/perl "-MExtUtils::Command::MM" "-e" "test_harness(0, 'blib/lib', 'blib/arch')" t/*.t
Use ghostview or similar to inspect results file:
/home/tf/.cpan/build/PostScript-Graph-1.02-l5TRAZ/t/01pa-simple.ps
t/01pa-simple.t .... ok
t/02pa-defaults.t .. ok
Use ghostview or similar to inspect results file:
/home/tf/.cpan/build/PostScript-Graph-1.02-l5TRAZ/t/03pa-barchart.ps
t/03pa-barchart.t .. ok
Use ghostview or similar to inspect results file:
/home/tf/.cpan/build/PostScript-Graph-1.02-l5TRAZ/t/04pa-twobars.ps
t/04pa-twobars.t ... ok
Use ghostview or similar to inspect results file:
/home/tf/.cpan/build/PostScript-Graph-1.02-l5TRAZ/t/10ke-simple.ps
t/10ke-simple.t .... ok
Use of uninitialized value in numeric eq (==) at t/21st-simple.t line 53.
Use ghostview or similar to inspect results file:
/home/tf/.cpan/build/PostScript-Graph-1.02-l5TRAZ/t/21st-simple.ps
t/21st-simple.t .... ok
Use of uninitialized value in numeric eq (==) at t/22st-styles.t line 72.
Use ghostview or similar to inspect results file:
/home/tf/.cpan/build/PostScript-Graph-1.02-l5TRAZ/t/22st-styles.ps
t/22st-styles.t .... ok
Use of uninitialized value in numeric eq (==) at t/23st-const.t line 56.
Use ghostview or similar to inspect results file:
/home/tf/.cpan/build/PostScript-Graph-1.02-l5TRAZ/t/23st-const.ps
t/23st-const.t ..... ok
Use of uninitialized value in numeric eq (==) at t/24st-colour.t line 54.
Use ghostview or similar to inspect results file:
/home/tf/.cpan/build/PostScript-Graph-1.02-l5TRAZ/t/24st-colour.ps
t/24st-colour.t .... ok
Use of uninitialized value in numeric eq (==) at t/31ba-default.t line 45.
Use ghostview or similar to inspect results file:
/home/tf/.cpan/build/PostScript-Graph-1.02-l5TRAZ/t/31ba-default.ps
t/31ba-default.t ... ok
Use of uninitialized value in numeric eq (==) at t/32ba-arrays.t line 67.
Use ghostview or similar to inspect results file:
/home/tf/.cpan/build/PostScript-Graph-1.02-l5TRAZ/t/32ba-arrays.ps
t/32ba-arrays.t .... ok
Use of uninitialized value in numeric eq (==) at t/33ba-minus.t line 55.
Use ghostview or similar to inspect results file:
/home/tf/.cpan/build/PostScript-Graph-1.02-l5TRAZ/t/33ba-minus.ps
t/33ba-minus.t ..... ok
Use of uninitialized value in numeric eq (==) at t/34ba-multi.t line 52.
Use ghostview or similar to inspect results file:
/home/tf/.cpan/build/PostScript-Graph-1.02-l5TRAZ/t/34ba-multi.ps
t/34ba-multi.t ..... ok
Use of uninitialized value in numeric eq (==) at t/35ba-single.t line 57.
Use ghostview or similar to inspect results file:
/home/tf/.cpan/build/PostScript-Graph-1.02-l5TRAZ/t/35ba-single.ps
t/35ba-single.t .... ok
Use of uninitialized value in numeric eq (==) at t/36ba-extra.t line 84.
Use ghostview or similar to inspect results file:
/home/tf/.cpan/build/PostScript-Graph-1.02-l5TRAZ/t/36ba-extra.ps
t/36ba-extra.t ..... ok
Use of uninitialized value in numeric eq (==) at t/37ba-lines.t line 74.
Use ghostview or similar to inspect results file:
/home/tf/.cpan/build/PostScript-Graph-1.02-l5TRAZ/t/37ba-lines.ps
t/37ba-lines.t ..... ok
Use of uninitialized value in numeric eq (==) at t/41xy-ohms.t line 42.
Use ghostview or similar to inspect results file:
/home/tf/.cpan/build/PostScript-Graph-1.02-l5TRAZ/t/41xy-ohms.ps
t/41xy-ohms.t ...... ok
Use of uninitialized value in numeric eq (==) at t/42xy-lines.t line 106.
Use ghostview or similar to inspect results file:
/home/tf/.cpan/build/PostScript-Graph-1.02-l5TRAZ/t/42xy-lines.ps
t/42xy-lines.t ..... ok
Use of uninitialized value in numeric eq (==) at t/43xy-styles.t line 82.
Use ghostview or similar to inspect results file:
/home/tf/.cpan/build/PostScript-Graph-1.02-l5TRAZ/t/43xy-styles.ps
t/43xy-styles.t .... ok
All tests successful.
Files=19, Tests=261, 4 wallclock secs ( 0.06 usr 0.03 sys + 4.01 cusr 0.08 csys = 4.18 CPU)
Result: PASS
------------------------------
PREREQUISITES
------------------------------
Prerequisite modules loaded:
requires:
Module Need Have
------------------- ---- ----
Carp 0 1.26
Exporter 0 5.67
PostScript::File 1.01 2.20
Test::More 0 0.98
Text::CSV_XS 0 0.95
build_requires:
Module Need Have
------------------- ---- ----
ExtUtils::MakeMaker 0 6.64
------------------------------
ENVIRONMENT AND OTHER CONTEXT
------------------------------
Environment variables:
AUTOMATED_TESTING = 1
LANG = C
PATH = /opt/perl/nothreads/5.16.3/bin:/usr/local/sbin:/usr/local/bin:/usr/sbin:/usr/bin:/sbin:/bin:/usr/games
PERL5LIB =
PERL5OPT =
PERL5_CPANPLUS_IS_RUNNING = 10440
PERL5_CPAN_IS_RUNNING = 10440
PERL5_CPAN_IS_RUNNING_IN_RECURSION = 4723,10440
PERL_CR_SMOKER_CURRENT = PostScript-Graph-1.02
PERL_EXTUTILS_AUTOINSTALL = --defaultdeps
PERL_MM_USE_DEFAULT = 1
SHELL = /bin/bash
TERM = screen
Perl special variables (and OS-specific diagnostics, for MSWin32):
$^X = /opt/perl/nothreads/5.16.3/bin/perl
$UID/$EUID = 1000 / 1000
$GID = 1000 4 24 27 30 46 112 113 1000
$EGID = 1000 4 24 27 30 46 112 113 1000
Perl module toolchain versions installed:
Module Have
------------------- --------
CPAN 1.9800
CPAN::Meta 2.120351
Cwd 3.40
ExtUtils::CBuilder 0.280205
ExtUtils::Command 1.17
ExtUtils::Install 1.52
ExtUtils::MakeMaker 6.64
ExtUtils::Manifest 1.61
ExtUtils::ParseXS 3.18
File::Spec 3.40
JSON 2.53
JSON::PP 2.27200
Module::Build 0.4003
Module::Signature 0.70
Parse::CPAN::Meta 1.4404
Test::Harness 3.26
Test::More 0.98
YAML 0.84
YAML::Syck 1.25
version 0.9902
--
Summary of my perl5 (revision 5 version 16 subversion 3) configuration:
Platform:
osname=linux, osvers=3.2.0-38-virtual, archname=x86_64-linux
uname='linux cpansmoker 3.2.0-38-virtual #61-ubuntu smp tue feb 19 12:37:47 utc 2013 x86_64 x86_64 x86_64 gnulinux '
config_args='-des -Dprefix=/opt/perl/nothreads/5.16.3'
hint=recommended, useposix=true, d_sigaction=define
useithreads=undef, usemultiplicity=undef
useperlio=define, d_sfio=undef, uselargefiles=define, usesocks=undef
use64bitint=define, use64bitall=define, uselongdouble=undef
usemymalloc=n, bincompat5005=undef
Compiler:
cc='cc', ccflags ='-fno-strict-aliasing -pipe -fstack-protector -I/usr/local/include -D_LARGEFILE_SOURCE -D_FILE_OFFSET_BITS=64',
optimize='-O2',
cppflags='-fno-strict-aliasing -pipe -fstack-protector -I/usr/local/include'
ccversion='', gccversion='4.6.3', gccosandvers=''
intsize=4, longsize=8, ptrsize=8, doublesize=8, byteorder=12345678
d_longlong=define, longlongsize=8, d_longdbl=define, longdblsize=16
ivtype='long', ivsize=8, nvtype='double', nvsize=8, Off_t='off_t', lseeksize=8
alignbytes=8, prototype=define
Linker and Libraries:
ld='cc', ldflags =' -fstack-protector -L/usr/local/lib'
libpth=/usr/local/lib /lib/x86_64-linux-gnu /lib/../lib /usr/lib/x86_64-linux-gnu /usr/lib/../lib /lib /usr/lib
libs=-lnsl -lgdbm -ldb -ldl -lm -lcrypt -lutil -lc -lgdbm_compat
perllibs=-lnsl -ldl -lm -lcrypt -lutil -lc
libc=, so=so, useshrplib=false, libperl=libperl.a
gnulibc_version='2.15'
Dynamic Linking:
dlsrc=dl_dlopen.xs, dlext=so, d_dlsymun=undef, ccdlflags='-Wl,-E'
cccdlflags='-fPIC', lddlflags='-shared -O2 -L/usr/local/lib -fstack-protector'
Characteristics of this binary (from libperl):
Compile-time options: HAS_TIMES PERLIO_LAYERS PERL_DONT_CREATE_GVSV
PERL_MALLOC_WRAP PERL_PRESERVE_IVUV USE_64_BIT_ALL
USE_64_BIT_INT USE_LARGE_FILES USE_LOCALE
USE_LOCALE_COLLATE USE_LOCALE_CTYPE
USE_LOCALE_NUMERIC USE_PERLIO USE_PERL_ATOF
Built under linux
Compiled at Mar 18 2013 16:09:17
%ENV:
PERL5LIB=""
PERL5OPT=""
PERL5_CPANPLUS_IS_RUNNING="10440"
PERL5_CPAN_IS_RUNNING="10440"
PERL5_CPAN_IS_RUNNING_IN_RECURSION="4723,10440"
PERL_CR_SMOKER_CURRENT="PostScript-Graph-1.02"
PERL_EXTUTILS_AUTOINSTALL="--defaultdeps"
PERL_MM_USE_DEFAULT="1"
@INC:
/opt/perl/nothreads/5.16.3/lib/site_perl/5.16.3/x86_64-linux
/opt/perl/nothreads/5.16.3/lib/site_perl/5.16.3
/opt/perl/nothreads/5.16.3/lib/5.16.3/x86_64-linux
/opt/perl/nothreads/5.16.3/lib/5.16.3
.