Back
From: metabase:user:3143a46e-bb30-11e0-8dd5-45d7e6fb0a34
Subject: PASS Vim-Tag-1.110690 v5.12.3 GNU/Linux
Date: 2011-08-17T20:34:07Z
This distribution has been tested as part of the CPAN Testers
project, supporting the Perl programming language. See
http://wiki.cpantesters.org/ for more information or email
questions to cpan-testers-discuss@perl.org
--
Dear Marcel Gruenauer,
This is a computer-generated report for Vim-Tag-1.110690
on perl 5.12.3, created by CPAN-Reporter-1.2001.
Thank you for uploading your work to CPAN. Congratulations!
All tests were successful.
Sections of this report:
* Tester comments
* Program output
* Prerequisites
* Environment and other context
------------------------------
TESTER COMMENTS
------------------------------
Additional comments from tester:
this report is from an automated smoke testing program
and was not reviewed by a human for accuracy
------------------------------
PROGRAM OUTPUT
------------------------------
Output from 'make test':
PERL_DL_NONLAZY=1 /usr/bin/perl "-MExtUtils::Command::MM" "-e" "test_harness(0, 'blib/lib', 'blib/arch')" t/*.t
t/00-compile.t ............... ok
# Testing with Perl 5.012003, /usr/bin/perl
# Carp version is 1.17
# Class::Accessor::Constructor version is 1.111590
# English version is 1.04
# ExtUtils::MakeMaker version is 6.59
# File::Find version is 1.15
# File::Slurp version is 9999.19
# File::Temp version is 0.22
# Getopt::Inherited version is 1.100860
# Hash::Rename version is 1.100860
# Scalar::Util version is 1.22
# Test::More version is 0.98
# UNIVERSAL::require version is 0.13
# constant version is 1.20
# parent version is 0.223
t/000-report-versions.t ...... ok
t/author-critic.t ............ skipped: these tests are for testing by the author
t/release-check-changes.t .... skipped: these tests are for release candidate testing
t/release-dist-manifest.t .... skipped: these tests are for release candidate testing
t/release-distmeta.t ......... skipped: these tests are for release candidate testing
t/release-eol.t .............. skipped: these tests are for release candidate testing
t/release-has-version.t ...... skipped: these tests are for release candidate testing
t/release-kwalitee.t ......... skipped: these tests are for release candidate testing
t/release-minimum-version.t .. skipped: these tests are for release candidate testing
t/release-no-tabs.t .......... skipped: these tests are for release candidate testing
t/release-pod-coverage.t ..... skipped: these tests are for release candidate testing
t/release-pod-spell.t ........ skipped: these tests are for release candidate testing
t/release-pod-syntax.t ....... skipped: these tests are for release candidate testing
t/release-portability.t ...... skipped: these tests are for release candidate testing
t/release-synopsis.t ......... skipped: these tests are for release candidate testing
t/release-unused-vars.t ...... skipped: these tests are for release candidate testing
All tests successful.
Files=17, Tests=18, 1 wallclock secs ( 0.09 usr 0.06 sys + 0.67 cusr 0.16 csys = 0.98 CPU)
Result: PASS
------------------------------
PREREQUISITES
------------------------------
Prerequisite modules loaded:
requires:
Module Need Have
---------------------------- ---- --------
Class::Accessor::Constructor 0 1.111590
constant 0 1.20
File::Find 0 1.15
File::Slurp 0 9999.19
Getopt::Inherited 0 1.100860
Hash::Rename 0 1.100860
parent 0 0.223
UNIVERSAL::require 0 0.13
build_requires:
Module Need Have
---------------------------- ---- --------
Carp 0 1.17
English 0 1.04
File::Temp 0 0.22
Scalar::Util 0 1.22
Test::More 0.94 0.98
configure_requires:
Module Need Have
---------------------------- ---- --------
ExtUtils::MakeMaker 6.31 6.59
------------------------------
ENVIRONMENT AND OTHER CONTEXT
------------------------------
Environment variables:
AUTOMATED_TESTING = 1
LANG = POSIX
LC_CTYPE = en_US.UTF-8
PATH = /sbin:/usr/sbin:/usr/local/sbin:/root/bin:/usr/local/bin:/usr/bin:/bin:/usr/bin/X11:/usr/X11R6/bin:/usr/games:/usr/lib64/jvm/jre/bin
PERL5LIB = /root/.cpan/build/Class-Accessor-Constructor-1.111590-ikNCKi/blib/arch:/root/.cpan/build/Class-Accessor-Constructor-1.111590-ikNCKi/blib/lib:/root/.cpan/build/Getopt-Inherited-1.100860-2wUpe0/blib/arch:/root/.cpan/build/Getopt-Inherited-1.100860-2wUpe0/blib/lib:/root/.cpan/build/Data-Inherited-1.100860-Q32pKx/blib/arch:/root/.cpan/build/Data-Inherited-1.100860-Q32pKx/blib/lib:/root/.cpan/build/Class-Accessor-Complex-1.100880-oLqUPI/blib/arch:/root/.cpan/build/Class-Accessor-Complex-1.100880-oLqUPI/blib/lib:/root/.cpan/build/UNIVERSAL-require-0.13-Gd6q0I/blib/arch:/root/.cpan/build/UNIVERSAL-require-0.13-Gd6q0I/blib/lib:/root/.cpan/build/Class-Accessor-Installer-1.100880-JJg0mr/blib/arch:/root/.cpan/build/Class-Accessor-Installer-1.100880-JJg0mr/blib/lib:/root/.cpan/build/Class-Accessor-0.34-AjkeOI/blib/arch:/root/.cpan/build/Class-Accessor-0.34-AjkeOI/blib/lib:/root/.cpan/build/Data-Miscellany-1.100850-5AjQll/blib/arch:/root/.cpan/build/Data-Miscellany-1.100850-5AjQll/blib/lib:/root/.cpan/build/Hash-Rename-1.100860-MJ7xRV/blib/arch:/root/.cpan/build/Hash-Rename-1.100860-MJ7xRV/blib/lib
PERL5OPT =
PERL5_CPANPLUS_IS_RUNNING = 3911
PERL5_CPAN_IS_RUNNING = 3911
PERL5_CPAN_IS_RUNNING_IN_RECURSION = 32222,3911
PERL_CR_SMOKER_CURRENT = Vim-Tag-1.110690
PERL_EXTUTILS_AUTOINSTALL = --defaultdeps
PERL_MM_USE_DEFAULT = 1
SHELL = /bin/bash
TERM = xterm
TMPDIR = /tmp
Perl special variables (and OS-specific diagnostics, for MSWin32):
$^X = /usr/bin/perl
$UID/$EUID = 0 / 0
$GID = 0 0
$EGID = 0 0
Perl module toolchain versions installed:
Module Have
------------------- --------
CPAN 1.9800
CPAN::Meta 2.112150
Cwd 3.31
ExtUtils::CBuilder 0.27
ExtUtils::Command 1.16
ExtUtils::Install 1.55
ExtUtils::MakeMaker 6.59
ExtUtils::Manifest 1.58
ExtUtils::ParseXS 3.02
File::Spec 3.31_01
JSON 2.53
JSON::PP 2.27104
Module::Build 0.3800
Module::Signature 0.68
Parse::CPAN::Meta 1.4401
Test::Harness 3.23
Test::More 0.98
YAML 0.73
YAML::Syck 1.17
version 0.88
--
Summary of my perl5 (revision 5 version 12 subversion 3) configuration:
Platform:
osname=linux, osvers=2.6.36, archname=x86_64-linux-thread-multi
uname='linux build33 2.6.36 #1 smp 2011-02-21 10:34:10 +0100 x86_64 x86_64 x86_64 gnulinux '
config_args='-ds -e -Dprefix=/usr -Dvendorprefix=/usr -Dinstallusrbinperl -Dusethreads -Di_db -Di_dbm -Di_ndbm -Di_gdbm -Duseshrplib=true -Doptimize=-fmessage-length=0 -O2 -Wall -D_FORTIFY_SOURCE=2 -fstack-protector -funwind-tables -fasynchronous-unwind-tables -g -Wall -pipe -Accflags=-DPERL_USE_SAFE_PUTENV'
hint=recommended, useposix=true, d_sigaction=define
useithreads=define, usemultiplicity=define
useperlio=define, d_sfio=undef, uselargefiles=define, usesocks=undef
use64bitint=define, use64bitall=define, uselongdouble=undef
usemymalloc=n, bincompat5005=undef
Compiler:
cc='cc', ccflags ='-D_REENTRANT -D_GNU_SOURCE -DPERL_USE_SAFE_PUTENV -DDEBUGGING -fno-strict-aliasing -pipe -fstack-protector -D_LARGEFILE_SOURCE -D_FILE_OFFSET_BITS=64',
optimize='-fmessage-length=0 -O2 -Wall -D_FORTIFY_SOURCE=2 -fstack-protector -funwind-tables -fasynchronous-unwind-tables -g -Wall -pipe',
cppflags='-D_REENTRANT -D_GNU_SOURCE -DPERL_USE_SAFE_PUTENV -DDEBUGGING -fno-strict-aliasing -pipe -fstack-protector'
ccversion='', gccversion='4.5.1 20101208 [gcc-4_5-branch revision 167585]', gccosandvers=''
intsize=4, longsize=8, ptrsize=8, doublesize=8, byteorder=12345678
d_longlong=define, longlongsize=8, d_longdbl=define, longdblsize=16
ivtype='long', ivsize=8, nvtype='double', nvsize=8, Off_t='off_t', lseeksize=8
alignbytes=8, prototype=define
Linker and Libraries:
ld='cc', ldflags =' -L/usr/local/lib64 -fstack-protector'
libpth=/lib64 /usr/lib64 /usr/local/lib64
libs=-lm -ldl -lcrypt -lpthread
perllibs=-lm -ldl -lcrypt -lpthread
libc=/lib64/libc-2.11.3.so, so=so, useshrplib=true, libperl=libperl.so
gnulibc_version='2.11.3'
Dynamic Linking:
dlsrc=dl_dlopen.xs, dlext=so, d_dlsymun=undef, ccdlflags='-Wl,-E -Wl,-rpath,/usr/lib/perl5/5.12.3/x86_64-linux-thread-multi/CORE'
cccdlflags='-fPIC', lddlflags='-shared -L/usr/local/lib64 -fstack-protector'
Characteristics of this binary (from libperl):
Compile-time options: DEBUGGING MULTIPLICITY PERL_DONT_CREATE_GVSV
PERL_IMPLICIT_CONTEXT PERL_MALLOC_WRAP
PERL_TRACK_MEMPOOL PERL_USE_SAFE_PUTENV
USE_64_BIT_ALL USE_64_BIT_INT USE_ITHREADS
USE_LARGE_FILES USE_PERLIO USE_PERL_ATOF
USE_REENTRANT_API
Built under linux
Compiled at May 6 2011 13:34:02
%ENV:
PERL5LIB="/root/.cpan/build/Class-Accessor-Constructor-1.111590-ikNCKi/blib/arch:/root/.cpan/build/Class-Accessor-Constructor-1.111590-ikNCKi/blib/lib:/root/.cpan/build/Getopt-Inherited-1.100860-2wUpe0/blib/arch:/root/.cpan/build/Getopt-Inherited-1.100860-2wUpe0/blib/lib:/root/.cpan/build/Data-Inherited-1.100860-Q32pKx/blib/arch:/root/.cpan/build/Data-Inherited-1.100860-Q32pKx/blib/lib:/root/.cpan/build/Class-Accessor-Complex-1.100880-oLqUPI/blib/arch:/root/.cpan/build/Class-Accessor-Complex-1.100880-oLqUPI/blib/lib:/root/.cpan/build/UNIVERSAL-require-0.13-Gd6q0I/blib/arch:/root/.cpan/build/UNIVERSAL-require-0.13-Gd6q0I/blib/lib:/root/.cpan/build/Class-Accessor-Installer-1.100880-JJg0mr/blib/arch:/root/.cpan/build/Class-Accessor-Installer-1.100880-JJg0mr/blib/lib:/root/.cpan/build/Class-Accessor-0.34-AjkeOI/blib/arch:/root/.cpan/build/Class-Accessor-0.34-AjkeOI/blib/lib:/root/.cpan/build/Data-Miscellany-1.100850-5AjQll/blib/arch:/root/.cpan/build/Data-Miscellany-1.100850-5AjQll/blib/lib:/root/.cpan/build/Hash-Rename-1.100860-MJ7xRV/blib/arch:/root/.cpan/build/Hash-Rename-1.100860-MJ7xRV/blib/lib"
PERL5OPT=""
PERL5_CPANPLUS_IS_RUNNING="3911"
PERL5_CPAN_IS_RUNNING="3911"
PERL5_CPAN_IS_RUNNING_IN_RECURSION="32222,3911"
PERL_CR_SMOKER_CURRENT="Vim-Tag-1.110690"
PERL_EXTUTILS_AUTOINSTALL="--defaultdeps"
PERL_MM_USE_DEFAULT="1"
@INC:
/root/.cpan/build/Class-Accessor-Constructor-1.111590-ikNCKi/blib/arch
/root/.cpan/build/Class-Accessor-Constructor-1.111590-ikNCKi/blib/lib
/root/.cpan/build/Getopt-Inherited-1.100860-2wUpe0/blib/arch
/root/.cpan/build/Getopt-Inherited-1.100860-2wUpe0/blib/lib
/root/.cpan/build/Data-Inherited-1.100860-Q32pKx/blib/arch
/root/.cpan/build/Data-Inherited-1.100860-Q32pKx/blib/lib
/root/.cpan/build/Class-Accessor-Complex-1.100880-oLqUPI/blib/arch
/root/.cpan/build/Class-Accessor-Complex-1.100880-oLqUPI/blib/lib
/root/.cpan/build/UNIVERSAL-require-0.13-Gd6q0I/blib/arch
/root/.cpan/build/UNIVERSAL-require-0.13-Gd6q0I/blib/lib
/root/.cpan/build/Class-Accessor-Installer-1.100880-JJg0mr/blib/arch
/root/.cpan/build/Class-Accessor-Installer-1.100880-JJg0mr/blib/lib
/root/.cpan/build/Class-Accessor-0.34-AjkeOI/blib/arch
/root/.cpan/build/Class-Accessor-0.34-AjkeOI/blib/lib
/root/.cpan/build/Data-Miscellany-1.100850-5AjQll/blib/arch
/root/.cpan/build/Data-Miscellany-1.100850-5AjQll/blib/lib
/root/.cpan/build/Hash-Rename-1.100860-MJ7xRV/blib/arch
/root/.cpan/build/Hash-Rename-1.100860-MJ7xRV/blib/lib
/usr/lib/perl5/site_perl/5.12.3/x86_64-linux-thread-multi
/usr/lib/perl5/site_perl/5.12.3
/usr/lib/perl5/vendor_perl/5.12.3/x86_64-linux-thread-multi
/usr/lib/perl5/vendor_perl/5.12.3
/usr/lib/perl5/5.12.3/x86_64-linux-thread-multi
/usr/lib/perl5/5.12.3
.