Back
From: metabase:user:314402c4-2aae-11df-837a-5e0a49663a4f
Subject: PASS Dist-Zilla-Plugin-CheckExtraTests-0.021 v5.18.1 FreeBSD
Date: 2014-03-25T18:42:45Z
This distribution has been tested as part of the CPAN Testers
project, supporting the Perl programming language. See
http://wiki.cpantesters.org/ for more information or email
questions to cpan-testers-discuss@perl.org
--
Dear David Golden,
This is a computer-generated report for Dist-Zilla-Plugin-CheckExtraTests-0.021
on perl 5.18.1, created by CPAN-Reporter-1.2010.
Thank you for uploading your work to CPAN. Congratulations!
All tests were successful.
Sections of this report:
* Tester comments
* Program output
* Prerequisites
* Environment and other context
------------------------------
TESTER COMMENTS
------------------------------
Additional comments from tester:
none provided
------------------------------
PROGRAM OUTPUT
------------------------------
Output from '/usr/bin/make test':
PERL_DL_NONLAZY=1 /usr/perl5.18.1/bin/perl "-MExtUtils::Command::MM" "-MTest::Harness" "-e" "undef *Test::Harness::Switches; test_harness(0, 'blib/lib', 'blib/arch')" t/*.t
#
# Versions for all modules listed in MYMETA.json (including optional ones):
# Version Module
# -------- --------------------------------
# 3.30 App::Prove
# 1.90 Archive::Tar
# 2.132830 CPAN::Meta
# 2.122 CPAN::Meta::Requirements
# 0.24 Capture::Tiny
# 5.011 Dist::Zilla
# 5.011 Dist::Zilla::App
# 5.011 Dist::Zilla::App::Tester
# 5.011 Dist::Zilla::Role::BeforeRelease
# 5.011 Dist::Zilla::Role::TestRunner
# 5.011 Dist::Zilla::Tester
# 6.86 ExtUtils::MakeMaker
# 3.40 File::Spec::Functions
# 1.005 File::pushd
# 1.37 List::Util
# 2.1204 Moose
# 0.15 Moose::Autobox
# 1.07 Params::Util
# 1.006 Path::Iterator::Rule
# 0.051 Path::Tiny
# 0.987 Sub::Exporter
# 1.001002 Test::More
# 0.07 Test::Requires
# 0.18 Try::Tiny
# 0.63 lib
# 0.14 namespace::autoclean
# 1.07 strict
# 0.9904 version
# 1.18 warnings
t/00-report-prereqs.t .. ok
t/checkxt.t ............ ok
t/runxt.t .............. ok
t/withblib.t ........... ok
All tests successful.
Files=4, Tests=16, 13 wallclock secs ( 0.05 usr 0.01 sys + 11.47 cusr 1.69 csys = 13.22 CPU)
Result: PASS
------------------------------
PREREQUISITES
------------------------------
Prerequisite modules loaded:
requires:
Module Need Have
-------------------------------- ----- --------
App::Prove 3.00 3.30
Archive::Tar 0 1.90
Dist::Zilla 4.3 5.011
Dist::Zilla::App 0 5.011
Dist::Zilla::Role::BeforeRelease 0 5.011
Dist::Zilla::Role::TestRunner 0 5.011
File::pushd 0 1.005
Moose 2 2.1204
Moose::Autobox 0 0.15
namespace::autoclean 0.09 0.14
Path::Iterator::Rule 0 1.006
Path::Tiny 0.013 0.051
strict 0 1.07
warnings 0 1.18
build_requires:
Module Need Have
-------------------------------- ----- --------
Capture::Tiny 0 0.24
Dist::Zilla::App::Tester 0 5.011
Dist::Zilla::Tester 0 5.011
ExtUtils::MakeMaker 0 6.86
File::Spec::Functions 0 3.40
lib 0 0.63
List::Util 0 1.37
Params::Util 0 1.07
Sub::Exporter 0 0.987
Test::More 0.88 1.001002
Test::Requires 0 0.07
Try::Tiny 0 0.18
version 0 0.9904
configure_requires:
Module Need Have
-------------------------------- ----- --------
ExtUtils::MakeMaker 6.17 6.86
------------------------------
ENVIRONMENT AND OTHER CONTEXT
------------------------------
Environment variables:
DBIC_NO_WARN_BAD_PERL = 1
LC_ALL = de_DE.ISO8859-1
PATH = /usr/local/bin:/usr/bin:/bin:/usr/local/sbin:/usr/sbin:/sbin:/home/cpansand/bin/freebsd9.1:/home/cpansand/bin/sh:/home/cpansand/bin:/usr/games:/home/cpansand/devel:/usr/home/eserte/work/srezic-misc/scripts
PERL5LIB =
PERL5OPT =
PERL5_CPANPLUS_IS_RUNNING = 58445
PERL5_CPAN_IS_RUNNING = 58445
PERL5_CPAN_IS_RUNNING_IN_RECURSION = 58423,58445
PERLDOC = -MPod::Perldoc::ToTextOverstrike
PERL_BATCH = yes
PERL_CPAN_REPORTER_CONFIG = /var/tmp/cpansmoker-1023/U4osvj80a6_config.ini
PERL_EXTUTILS_AUTOINSTALL = --defaultdeps
PERL_HTML_DISPLAY_CLASS = HTML::Display::Mozilla
SHELL = /usr/local/bin/zsh
TERM = screen
TMPDIR = /var/tmp/cpansmoker-1023
Perl special variables (and OS-specific diagnostics, for MSWin32):
$^X = /usr/perl5.18.1/bin/perl
$UID/$EUID = 1023 / 1023
$GID = 1023 1023
$EGID = 1023 1023
Perl module toolchain versions installed:
Module Have
------------------- --------
CPAN 2.00
CPAN::Meta 2.132830
Cwd 3.40
ExtUtils::CBuilder 0.280210
ExtUtils::Command 1.17
ExtUtils::Install 1.59
ExtUtils::MakeMaker 6.86
ExtUtils::Manifest 1.63
ExtUtils::ParseXS 3.18
File::Spec 3.40
JSON 2.90
JSON::PP 2.27203
Module::Build 0.4204
Module::Signature 0.73
Parse::CPAN::Meta 1.4409
Test::Harness 3.30
Test::More 1.001002
YAML 0.85
YAML::Syck 1.27
version 0.9904
--
Summary of my perl5 (revision 5 version 18 subversion 1) configuration:
Platform:
osname=freebsd, osvers=9.2-release, archname=amd64-freebsd
uname='freebsd cvrsnica-freebsd-92 9.2-release freebsd 9.2-release #0 r255898: thu sep 26 22:50:31 utc 2013 root@bake.isc.freebsd.org:usrobjusrsrcsysgeneric amd64 '
config_args='-ds -e -Dprefix=/usr/perl5.18.1 -Dshrplib'
hint=previous, useposix=true, d_sigaction=define
useithreads=undef, usemultiplicity=undef
useperlio=define, d_sfio=undef, uselargefiles=define, usesocks=undef
use64bitint=define, use64bitall=define, uselongdouble=undef
usemymalloc=n, bincompat5005=undef
Compiler:
cc='cc', ccflags ='-DHAS_FPSETMASK -DHAS_FLOATINGPOINT_H -fno-strict-aliasing -pipe -fstack-protector -I/usr/local/include',
optimize='-O',
cppflags='-DHAS_FPSETMASK -DHAS_FLOATINGPOINT_H -fno-strict-aliasing -pipe -fstack-protector -I/usr/local/include -DHAS_FPSETMASK -DHAS_FLOATINGPOINT_H -fno-strict-aliasing -pipe -fstack-protector -I/usr/local/include'
ccversion='', gccversion='4.2.1 20070831 patched [FreeBSD]', gccosandvers=''
intsize=4, longsize=8, ptrsize=8, doublesize=8, byteorder=12345678
d_longlong=define, longlongsize=8, d_longdbl=define, longdblsize=16
ivtype='long', ivsize=8, nvtype='double', nvsize=8, Off_t='off_t', lseeksize=8
alignbytes=8, prototype=define
Linker and Libraries:
ld='cc', ldflags ='-Wl,-E -fstack-protector -L/usr/local/lib'
libpth=/usr/lib /usr/local/lib
libs=-lm -lcrypt -lutil -lc
perllibs=-lm -lcrypt -lutil -lc
libc=, so=so, useshrplib=false, libperl=libperl.a
gnulibc_version=''
Dynamic Linking:
dlsrc=dl_dlopen.xs, dlext=so, d_dlsymun=undef, ccdlflags=' '
cccdlflags='-DPIC -fPIC', lddlflags='-shared -L/usr/local/lib -fstack-protector'
Characteristics of this binary (from libperl):
Compile-time options: HAS_TIMES PERLIO_LAYERS PERL_DONT_CREATE_GVSV
PERL_HASH_FUNC_ONE_AT_A_TIME_HARD PERL_MALLOC_WRAP
PERL_PRESERVE_IVUV PERL_SAWAMPERSAND USE_64_BIT_ALL
USE_64_BIT_INT USE_LARGE_FILES USE_LOCALE
USE_LOCALE_COLLATE USE_LOCALE_CTYPE
USE_LOCALE_NUMERIC USE_PERLIO USE_PERL_ATOF
Built under freebsd
Compiled at Oct 15 2013 21:30:37
%ENV:
PERL5LIB=""
PERL5OPT=""
PERL5_CPANPLUS_IS_RUNNING="58445"
PERL5_CPAN_IS_RUNNING="58445"
PERL5_CPAN_IS_RUNNING_IN_RECURSION="58423,58445"
PERLDOC="-MPod::Perldoc::ToTextOverstrike"
PERL_BATCH="yes"
PERL_CPAN_REPORTER_CONFIG="/var/tmp/cpansmoker-1023/U4osvj80a6_config.ini"
PERL_EXTUTILS_AUTOINSTALL="--defaultdeps"
PERL_HTML_DISPLAY_CLASS="HTML::Display::Mozilla"
@INC:
/usr/perl5.18.1/lib/site_perl/5.18.1/amd64-freebsd
/usr/perl5.18.1/lib/site_perl/5.18.1
/usr/perl5.18.1/lib/5.18.1/amd64-freebsd
/usr/perl5.18.1/lib/5.18.1
.