CPAN-Testers-WWW-Reports v3.60 Perl 5 v5.26.1 RC1 x86_64-linux

Status
Pass
From
Slaven Rezić (SREZIC)
Dist
CPAN-Testers-WWW-Reports v3.60
Platform
Perl 5 v5.26.1 RC1 x86_64-linux
Date
2017-09-11T07:24:31
ID
411e645e-96c2-11e7-ba9a-ea82ce953f04
This distribution has been tested as part of the CPAN Testers
project, supporting the Perl programming language.  See
http://wiki.cpantesters.org/ for more information or email
questions to cpan-testers-discuss@perl.org


--
Dear Barbie,

This is a computer-generated report for CPAN-Testers-WWW-Reports-3.60
on perl 5.26.1, created by CPAN-Reporter-1.2018.

Thank you for uploading your work to CPAN.  Congratulations!
All tests were successful.

Sections of this report:

    * Tester comments
    * Program output
    * Prerequisites
    * Environment and other context

------------------------------
TESTER COMMENTS
------------------------------

Additional comments from tester:

none provided

------------------------------
PROGRAM OUTPUT
------------------------------

Output from '/usr/bin/make test':

PERL_DL_NONLAZY=1 "/opt/perl-5.26.1-RC1/bin/perl" "-MExtUtils::Command::MM" "-MTest::Harness" "-e" "undef *Test::Harness::Switches; test_harness(0, 'blib/lib', 'blib/arch')" t/*.t
t/00use.t ......... ok
t/90podtest.t ..... skipped: Author tests not required for installation
t/91podcover.t .... skipped: Author tests not required for installation
t/94metatest.t .... skipped: Author tests not required for installation
t/95changedate.t .. skipped: Author tests not required for installation
t/96metatest.t .... skipped: Author tests not required for installation
All tests successful.
Files=6, Tests=9,  1 wallclock secs ( 0.02 usr  0.03 sys +  0.71 cusr  0.11 csys =  0.87 CPU)
Result: PASS

------------------------------
PREREQUISITES
------------------------------

Prerequisite modules loaded:

requires:

    Module                            Need Have    
    --------------------------------- ---- --------
    Carp                              0    1.42    
    CGI                               0    4.36    
    Class::Accessor::Fast             0    0.34    
    Clone                             0    0.39    
    CPAN::Testers::Common::Article    0    0.46    
    CPAN::Testers::Common::Utils      0    0.003   
    CPAN::Testers::Fact::LegacyReport 0    1.999003
    CPAN::Testers::Fact::TestSummary  0    1.999003
    Cwd                               0    3.67    
    Data::Dumper                      0    2.167   
    Data::FlexSerializer              0    1.10    
    Email::Address                    0    1.908   
    File::Basename                    0    2.85    
    File::Find::Rule                  0    0.34    
    File::Path                        0    2.12_01 
    File::Slurp                       0    9999.19 
    GD::Graph::colour                 0    1.10    
    GD::Graph::lines                  0    1.15    
    Getopt::Long                      0    2.49    
    HTML::Entities                    0    3.69    
    IO::File                          0    1.16    
    JSON::XS                          0    3.04    
    Labyrinth                         5.32 5.32    
    Labyrinth::DIUtils::ImageMagick   5.04 5.08    
    Labyrinth::Plugin::Core           5.19 5.19    
    Labyrinth::Plugin::CPAN           3.54 3.56    
    Labyrinth::Plugin::Requests       1.08 1.08    
    Metabase::Resource                0    0.025   
    Sort::Versions                    0    1.62    
    Test::More                        0    1.302086
    Time::Local                       0    1.25    
    Try::Tiny                         0    0.28    
    version                           0    0.9917  
    WWW::Mechanize                    0    1.86    
    XML::RSS                          0    1.59    
    YAML::XS                          0    0.66    

build_requires:

    Module                            Need Have    
    --------------------------------- ---- --------
    ExtUtils::MakeMaker               0    7.30    
    IO::File                          0    1.16    
    Test::More                        0.70 1.302086

opt_build_requires:

    Module                            Need Have    
    --------------------------------- ---- --------
    Test::CPAN::Meta                  0    0.25    
    Test::CPAN::Meta::JSON            0    0.16    
    Test::Pod                         1.00 1.51    
    Test::Pod::Coverage               0.08 1.10    


------------------------------
ENVIRONMENT AND OTHER CONTEXT
------------------------------

Environment variables:

    LANG = C
    LC_ALL = de_DE.UTF-8
    PATH = /usr/local/bin:/usr/bin:/bin:/usr/local/sbin:/usr/sbin:/sbin:/home/cpansand/bin/linux-gnu:/home/cpansand/bin/sh:/home/cpansand/bin:/usr/games:/home/cpansand/devel:/home/eserte/src/srezic-misc/scripts
    PERL5LIB = 
    PERL5OPT = 
    PERL5_CPANPLUS_IS_RUNNING = 23617
    PERL5_CPAN_IS_RUNNING = 23617
    PERL5_CPAN_IS_RUNNING_IN_RECURSION = 13130,23617
    PERLDOC = -MPod::Perldoc::ToTextOverstrike
    PERL_BATCH = yes
    PERL_CANARY_STABILITY_NOPROMPT = 1
    PERL_CPAN_REPORTER_CONFIG = /var/tmp/cpansmoker-1023/2017091103/cpanreporter_000_config.ini
    PERL_EXTUTILS_AUTOINSTALL = --defaultdeps
    PERL_PARALLEL_SMOKER = yes
    PERL_USE_UNSAFE_INC = 1
    SHELL = /usr/bin/zsh
    TERM = screen
    TMPDIR = /var/tmp/cpansmoker-1023/2017091103

Perl special variables (and OS-specific diagnostics, for MSWin32):

    $^X = /opt/perl-5.26.1-RC1/bin/perl
    $UID/$EUID = 1023 / 1023
    $GID = 1023 1023
    $EGID = 1023 1023

Perl module toolchain versions installed:

    Module              Have    
    ------------------- --------
    CPAN                2.18    
    CPAN::Meta          2.150010
    Cwd                 3.67    
    ExtUtils::CBuilder  0.280225
    ExtUtils::Command   7.30    
    ExtUtils::Install   2.06    
    ExtUtils::MakeMaker 7.30    
    ExtUtils::Manifest  1.70    
    ExtUtils::ParseXS   3.34    
    File::Spec          3.67    
    JSON                2.94    
    JSON::PP            2.94    
    Module::Build       0.4224  
    Module::Signature   0.81    
    Parse::CPAN::Meta   2.150010
    Test::Harness       3.38    
    Test::More          1.302086
    YAML                1.23    
    YAML::Syck          1.30    
    version             0.9917  


--

Summary of my perl5 (revision 5 version 26 subversion 1) configuration:
   
  Platform:
    osname=linux
    osvers=4.9.0-3-amd64
    archname=x86_64-linux
    uname='linux debian9 4.9.0-3-amd64 #1 smp debian 4.9.30-2+deb9u3 (2017-08-06) x86_64 gnulinux '
    config_args='-ds -e -Dprefix=/opt/perl-5.26.1-RC1 -Dcf_email=srezic@cpan.org'
    hint=recommended
    useposix=true
    d_sigaction=define
    useithreads=undef
    usemultiplicity=undef
    use64bitint=define
    use64bitall=define
    uselongdouble=undef
    usemymalloc=n
    default_inc_excludes_dot=define
    bincompat5005=undef
  Compiler:
    cc='cc'
    ccflags ='-fwrapv -fno-strict-aliasing -pipe -fstack-protector-strong -I/usr/local/include -D_LARGEFILE_SOURCE -D_FILE_OFFSET_BITS=64'
    optimize='-O2'
    cppflags='-fwrapv -fno-strict-aliasing -pipe -fstack-protector-strong -I/usr/local/include'
    ccversion=''
    gccversion='6.3.0 20170516'
    gccosandvers=''
    intsize=4
    longsize=8
    ptrsize=8
    doublesize=8
    byteorder=12345678
    doublekind=3
    d_longlong=define
    longlongsize=8
    d_longdbl=define
    longdblsize=16
    longdblkind=3
    ivtype='long'
    ivsize=8
    nvtype='double'
    nvsize=8
    Off_t='off_t'
    lseeksize=8
    alignbytes=8
    prototype=define
  Linker and Libraries:
    ld='cc'
    ldflags =' -fstack-protector-strong -L/usr/local/lib'
    libpth=/usr/local/lib /usr/lib/gcc/x86_64-linux-gnu/6/include-fixed /usr/include/x86_64-linux-gnu /usr/lib /lib/x86_64-linux-gnu /lib/../lib /usr/lib/x86_64-linux-gnu /usr/lib/../lib /lib
    libs=-lpthread -lnsl -lgdbm -ldb -ldl -lm -lcrypt -lutil -lc -lgdbm_compat
    perllibs=-lpthread -lnsl -ldl -lm -lcrypt -lutil -lc
    libc=libc-2.24.so
    so=so
    useshrplib=false
    libperl=libperl.a
    gnulibc_version='2.24'
  Dynamic Linking:
    dlsrc=dl_dlopen.xs
    dlext=so
    d_dlsymun=undef
    ccdlflags='-Wl,-E'
    cccdlflags='-fPIC'
    lddlflags='-shared -O2 -L/usr/local/lib -fstack-protector-strong'


Characteristics of this binary (from libperl): 
  Compile-time options:
    HAS_TIMES
    PERLIO_LAYERS
    PERL_COPY_ON_WRITE
    PERL_DONT_CREATE_GVSV
    PERL_MALLOC_WRAP
    PERL_OP_PARENT
    PERL_PRESERVE_IVUV
    USE_64_BIT_ALL
    USE_64_BIT_INT
    USE_LARGE_FILES
    USE_LOCALE
    USE_LOCALE_COLLATE
    USE_LOCALE_CTYPE
    USE_LOCALE_NUMERIC
    USE_LOCALE_TIME
    USE_PERLIO
    USE_PERL_ATOF
  Locally applied patches:
    RC1
  Built under linux
  Compiled at Sep 10 2017 15:50:48
  %ENV:
    PERL5LIB=""
    PERL5OPT=""
    PERL5_CPANPLUS_IS_RUNNING="23617"
    PERL5_CPAN_IS_RUNNING="23617"
    PERL5_CPAN_IS_RUNNING_IN_RECURSION="13130,23617"
    PERLDOC="-MPod::Perldoc::ToTextOverstrike"
    PERL_BATCH="yes"
    PERL_CANARY_STABILITY_NOPROMPT="1"
    PERL_CPAN_REPORTER_CONFIG="/var/tmp/cpansmoker-1023/2017091103/cpanreporter_000_config.ini"
    PERL_EXTUTILS_AUTOINSTALL="--defaultdeps"
    PERL_PARALLEL_SMOKER="yes"
    PERL_USE_UNSAFE_INC="1"
  @INC:
    /opt/perl-5.26.1-RC1/lib/site_perl/5.26.1/x86_64-linux
    /opt/perl-5.26.1-RC1/lib/site_perl/5.26.1
    /opt/perl-5.26.1-RC1/lib/5.26.1/x86_64-linux
    /opt/perl-5.26.1-RC1/lib/5.26.1
    .