WWW-Contact v0.51 Perl 5 v5.43.4 amd64-netbsd-thread-multi
- Status
- Pass
- From
- Carlos Guevara
- Dist
-
WWW-Contact v0.51
- Platform
- Perl 5 v5.43.4 amd64-netbsd-thread-multi
- Date
- 2025-10-21 14:00:08
- ID
- 40c5c328-ae86-11f0-99f8-cfea003d635f
This distribution has been tested as part of the CPAN Testers
project, supporting the Perl programming language. See
http://wiki.cpantesters.org/ for more information or email
questions to cpan-testers-discuss@perl.org
--
Dear Fayland Lin,
This is a computer-generated report for WWW-Contact-0.51
on perl 5.43.4, created by CPAN-Reporter-1.2020.
Thank you for uploading your work to CPAN. Congratulations!
All tests were successful.
Sections of this report:
* Tester comments
* Program output
* Prerequisites
* Environment and other context
------------------------------
TESTER COMMENTS
------------------------------
Additional comments from tester:
this report is from an automated smoke testing program
and was not reviewed by a human for accuracy
------------------------------
PROGRAM OUTPUT
------------------------------
Output from './Build test':
# Testing WWW::Contact 0.51, Perl 5.043004, /home/cpan/bin/perl/bin/perl5.43.4
t/00-load.t ......... ok
t/01-basic.t ........ ok
t/02-supplier.t ..... ok
t/101-gmail.t ....... skipped: set $ENV{TEST_GMAIL} and $ENV{TEST_GMAIL_PASS} to test
t/102-yahoo.t ....... skipped: set $ENV{TEST_YAHOO} and $ENV{TEST_YAHOO_PASS} to test
t/103-rediff.t ...... skipped: set $ENV{TEST_REDIFF} and $ENV{TEST_REDIFF_PASS} to test
t/104-163.t ......... skipped: set $ENV{TEST_163} and $ENV{TEST_163_PASS} to test
t/105-aol.t ......... skipped: set $ENV{TEST_AOL} and $ENV{TEST_AOL_PASS} to test
t/106-mail.t ........ skipped: set $ENV{TEST_MAIL} and $ENV{TEST_MAIL_PASS} to test
t/107-hotmail.t ..... skipped: set $ENV{TEST_HOTMAIL} and $ENV{TEST_HOTMAIL_PASS} to test
t/108-indiatimes.t .. skipped: set $ENV{TEST_INDIATIMES} and $ENV{TEST_INDIATIMES_PASS} to test
t/109-lycos.t ....... skipped: set $ENV{TEST_LYCOS} and $ENV{TEST_LYCOS_PASS} to test
t/110-plaxo.t ....... skipped: set $ENV{TEST_PLAXO} and $ENV{TEST_PLAXO_PASS} to test
t/999-author.t ...... skipped: author tests
t/pod.t ............. ok
All tests successful.
Files=15, Tests=35, 3 wallclock secs ( 0.00 usr 0.07 sys + 2.19 cusr 0.48 csys = 2.74 CPU)
Result: PASS
------------------------------
PREREQUISITES
------------------------------
Prerequisite modules loaded:
requires:
Module Need Have
------------------------ ---- --------
! Crypt::SSLeay 0 n/a
HTML::Entities 0 3.83
HTML::TokeParser::Simple 0 3.16
HTML::TreeBuilder 0 5.07
JSON::XS 0 4.04
Moose 0.77 2.4000
Net::DNS::Resolver 0 2017
! Net::Google::AuthSub 0 n/a
Text::CSV 0 2.06
Text::vCard 0 3.09
! WWW::Mechanize 0 n/a
! WWW::Mechanize::GZip 0 n/a
build_requires:
Module Need Have
------------------------ ---- --------
Test::More 0.90 1.302214
configure_requires:
Module Need Have
------------------------ ---- --------
Module::Build 0.42 0.4234
------------------------------
ENVIRONMENT AND OTHER CONTEXT
------------------------------
Environment variables:
AUTOMATED_TESTING = 1
CJG_PERL_COMMIT = a2ff23c0fd
DATE_MANIP_TEST_DM5 = 1
LC_ALL = C
NONINTERACTIVE_TESTING = 1
NO_NETWORK_TESTING = 1
PATH = /home/cpan/bin/perl/bin:/home/cpan/bin:/home/cpan/bin:/bin:/sbin:/usr/bin:/usr/sbin:/usr/X11R7/bin:/usr/pkg/bin:/usr/pkg/sbin:/usr/games:/usr/local/bin:/usr/local/sbin
PERL5LIB =
PERL5OPT =
PERL5_CPANPLUS_IS_RUNNING = 18719
PERL5_CPAN_IS_RUNNING = 18719
PERL_MM_USE_DEFAULT = 1
PERL_PERTURB_KEYS = 0
PERL_USE_UNSAFE_INC = 1
SHELL = /usr/pkg/bin/bash
TERM = screen
TMPDIR = /home/cpan/tmp
Perl special variables (and OS-specific diagnostics, for MSWin32):
$^X = /home/cpan/bin/perl/bin/perl5.43.4
$UID/$EUID = 1003 / 1003
$GID = 100 100
$EGID = 100 100
Perl module toolchain versions installed:
Module Have
------------------- --------
CPAN 2.38
CPAN::Meta 2.150010
Cwd 3.94
ExtUtils::CBuilder 0.280242
ExtUtils::Command 7.76
ExtUtils::Install 2.22
ExtUtils::MakeMaker 7.76
ExtUtils::Manifest 1.75
ExtUtils::ParseXS 3.60
File::Spec 3.94
JSON 4.10
JSON::PP 4.16
Module::Build 0.4234
Module::Signature n/a
Parse::CPAN::Meta 2.150010
Test2 1.302214
Test::Harness 3.52
Test::More 1.302214
YAML 1.31
YAML::Syck 1.36
version 0.9933
--
Summary of my perl5 (revision 5 version 43 subversion 4) configuration:
Commit id: a2ff23c0fd40267426bcff0f2b90250875d4387a
Platform:
osname=netbsd
osvers=10.1
archname=amd64-netbsd-thread-multi
uname='netbsd cjg-netbsd10 10.1 netbsd 10.1 (generic) #0: mon dec 16 13:08:11 utc 2024 mkrepro@mkrepro.netbsd.org:usrsrcsysarchamd64compilegeneric amd64 '
config_args='-des -Dprefix=/home/cpan/bin/perl -Dscriptdir=/home/cpan/bin/perl/bin -Dusedevel -Duse64bitall -Duseithreads'
hint=recommended
useposix=true
d_sigaction=define
useithreads=define
usemultiplicity=define
use64bitint=define
use64bitall=define
uselongdouble=undef
usemymalloc=n
default_inc_excludes_dot=define
Compiler:
cc='cc'
ccflags ='-fwrapv -fno-strict-aliasing -pipe -fstack-protector-strong -I/usr/pkg/include -D_FORTIFY_SOURCE=2'
optimize='-O'
cppflags='-fwrapv -fno-strict-aliasing -pipe -fstack-protector-strong -I/usr/pkg/include'
ccversion=''
gccversion='10.5.0'
gccosandvers=''
intsize=4
longsize=8
ptrsize=8
doublesize=8
byteorder=12345678
doublekind=3
d_longlong=define
longlongsize=8
d_longdbl=define
longdblsize=16
longdblkind=3
ivtype='long'
ivsize=8
nvtype='double'
nvsize=8
Off_t='off_t'
lseeksize=8
alignbytes=8
prototype=define
Linker and Libraries:
ld='cc'
ldflags =' -Wl,-rpath,/usr/pkg/lib -Wl,-rpath,/usr/local/lib -fstack-protector-strong -L/usr/pkg/lib'
libpth=/usr/lib /usr/pkg/lib /lib
libs=-lpthread -lm -lcrypt -lutil -lc -lposix
perllibs=-lpthread -lm -lcrypt -lutil -lc -lposix
libc=/lib/libc.so
so=so
useshrplib=false
libperl=libperl.a
gnulibc_version=''
Dynamic Linking:
dlsrc=dl_dlopen.xs
dlext=so
d_dlsymun=undef
ccdlflags='-Wl,-E '
cccdlflags='-DPIC -fPIC '
lddlflags='-shared -L/usr/pkg/lib -fstack-protector-strong'
Characteristics of this binary (from libperl):
Compile-time options:
HAS_LONG_DOUBLE
HAS_STRTOLD
HAS_TIMES
MULTIPLICITY
PERLIO_LAYERS
PERL_COPY_ON_WRITE
PERL_DONT_CREATE_GVSV
PERL_HASH_FUNC_SIPHASH13
PERL_HASH_USE_SBOX32
PERL_MALLOC_WRAP
PERL_OP_PARENT
PERL_PRESERVE_IVUV
PERL_USE_DEVEL
PERL_USE_SAFE_PUTENV
USE_64_BIT_ALL
USE_64_BIT_INT
USE_ITHREADS
USE_LARGE_FILES
USE_LOCALE
USE_LOCALE_COLLATE
USE_LOCALE_CTYPE
USE_LOCALE_NUMERIC
USE_LOCALE_TIME
USE_PERLIO
USE_PERL_ATOF
USE_REENTRANT_API
Built under netbsd
Compiled at Oct 20 2025 17:42:06
%ENV:
PERL5LIB=""
PERL5OPT=""
PERL5_CPANPLUS_IS_RUNNING="18719"
PERL5_CPAN_IS_RUNNING="18719"
PERL_MM_USE_DEFAULT="1"
PERL_PERTURB_KEYS="0"
PERL_USE_UNSAFE_INC="1"
@INC:
/home/cpan/bin/perl/lib/site_perl/5.43.4/amd64-netbsd-thread-multi
/home/cpan/bin/perl/lib/site_perl/5.43.4
/home/cpan/bin/perl/lib/5.43.4/amd64-netbsd-thread-multi
/home/cpan/bin/perl/lib/5.43.4
.