Module-Install v1.21 Perl 5 v5.40.0 BePC-haiku-thread-multi

Status
Pass
From
Nigel Horne
Dist
Module-Install v1.21
Platform
Perl 5 v5.40.0 BePC-haiku-thread-multi
Date
2024-09-27 20:37:02
ID
40432aa6-7d10-11ef-80d6-8ef07e855f45
This distribution has been tested as part of the CPAN Testers
project, supporting the Perl programming language.  See
http://wiki.cpantesters.org/ for more information or email
questions to cpan-testers-discuss@perl.org


--
Dear Karen Etheridge,

This is a computer-generated report for Module-Install-1.21
on perl 5.40.0, created by CPAN-Reporter-1.2020.

Thank you for uploading your work to CPAN.  Congratulations!
All tests were successful.

Sections of this report:

    * Tester comments
    * Program output
    * Prerequisites
    * Environment and other context

------------------------------
TESTER COMMENTS
------------------------------

Additional comments from tester:

none provided

------------------------------
PROGRAM OUTPUT
------------------------------

Output from '/bin/make test':

"/packages/perl_x86-5.40.0-4/.self/bin/perl" "-MExtUtils::Command::MM" "-MTest::Harness" "-e" "undef *Test::Harness::Switches; test_harness(0, 'inc', 'blib/lib', 'blib/arch')" t/*.t t/recursive/*.t
t/02_mymeta.t ........................... skipped: New EU::MM has own MYMETA support
t/01_compile.t .......................... ok
t/03_autoinstall.t ...................... skipped: Skipping dangerous test
t/04_version.t .......................... ok
t/06_ppport.t ........................... ok
t/07_perl_version.t ..................... ok
t/09_read.t ............................. ok
t/10_test.t ............................. ok
t/11_extraction.t ....................... ok
t/12_eumm_params.t ...................... ok
t/13_author_tests.t ..................... ok
t/13_author_tests_ext.t ................. skipped: requires Module::Install::AuthorTests
t/13_author_tests_ext2.t ................ skipped: requires Module::Install::ExtraTests 0.007
t/14_auto_include_deps_with_version.t ... skipped: your perl is new enough to have File::Spec 3.30 in core

Please invoke Module::Install with:

	use inc::Module::Install;

not:

	use Module::Install;

BEGIN failed--compilation aborted at Makefile.PL line 1.
t/15_wrong_usage.t ...................... ok
t/16_require.t .......................... ok
t/05_share.t ............................ ok
t/17_sign.t ............................. ok
t/18_all_from.t ......................... ok
t/20_authors_with_special_characters.t .. ok
t/19_authors.t .......................... ok
Use of uninitialized value $cmd in substitution (s///) at /packages/perl_x86-5.40.0-4/.self/lib/perl5/5.40.0/ExtUtils/MM_Any.pm line 347.
Use of uninitialized value $mandir in pattern match (m//) at /packages/perl_x86-5.40.0-4/.self/lib/perl5/5.40.0/ExtUtils/MM_Unix.pm line 1530.
Use of uninitialized value $mandir in pattern match (m//) at /packages/perl_x86-5.40.0-4/.self/lib/perl5/5.40.0/ExtUtils/MM_Unix.pm line 1530.
Use of uninitialized value $mandir in pattern match (m//) at /packages/perl_x86-5.40.0-4/.self/lib/perl5/5.40.0/ExtUtils/MM_Unix.pm line 1530.
Use of uninitialized value $mandir in pattern match (m//) at /packages/perl_x86-5.40.0-4/.self/lib/perl5/5.40.0/ExtUtils/MM_Unix.pm line 1530.
Use of uninitialized value $mandir in pattern match (m//) at /packages/perl_x86-5.40.0-4/.self/lib/perl5/5.40.0/ExtUtils/MM_Unix.pm line 1530.
Use of uninitialized value $mandir in pattern match (m//) at /packages/perl_x86-5.40.0-4/.self/lib/perl5/5.40.0/ExtUtils/MM_Unix.pm line 1530.
Use of uninitialized value $mandir in pattern match (m//) at /packages/perl_x86-5.40.0-4/.self/lib/perl5/5.40.0/ExtUtils/MM_Unix.pm line 1530.
Use of uninitialized value $mandir in pattern match (m//) at /packages/perl_x86-5.40.0-4/.self/lib/perl5/5.40.0/ExtUtils/MM_Unix.pm line 1530.
Use of uninitialized value $mandir in pattern match (m//) at /packages/perl_x86-5.40.0-4/.self/lib/perl5/5.40.0/ExtUtils/MM_Unix.pm line 1530.
Use of uninitialized value $cmd in substitution (s///) at /packages/perl_x86-5.40.0-4/.self/lib/perl5/5.40.0/ExtUtils/MM_Any.pm line 347.
Use of uninitialized value $mandir in pattern match (m//) at /packages/perl_x86-5.40.0-4/.self/lib/perl5/5.40.0/ExtUtils/MM_Unix.pm line 1530.
Use of uninitialized value $mandir in pattern match (m//) at /packages/perl_x86-5.40.0-4/.self/lib/perl5/5.40.0/ExtUtils/MM_Unix.pm line 1530.
Use of uninitialized value $mandir in pattern match (m//) at /packages/perl_x86-5.40.0-4/.self/lib/perl5/5.40.0/ExtUtils/MM_Unix.pm line 1530.
Use of uninitialized value $mandir in pattern match (m//) at /packages/perl_x86-5.40.0-4/.self/lib/perl5/5.40.0/ExtUtils/MM_Unix.pm line 1530.
Use of uninitialized value $mandir in pattern match (m//) at /packages/perl_x86-5.40.0-4/.self/lib/perl5/5.40.0/ExtUtils/MM_Unix.pm line 1530.
Use of uninitialized value $mandir in pattern match (m//) at /packages/perl_x86-5.40.0-4/.self/lib/perl5/5.40.0/ExtUtils/MM_Unix.pm line 1530.
Use of uninitialized value $mandir in pattern match (m//) at /packages/perl_x86-5.40.0-4/.self/lib/perl5/5.40.0/ExtUtils/MM_Unix.pm line 1530.
Use of uninitialized value $mandir in pattern match (m//) at /packages/perl_x86-5.40.0-4/.self/lib/perl5/5.40.0/ExtUtils/MM_Unix.pm line 1530.
Use of uninitialized value $mandir in pattern match (m//) at /packages/perl_x86-5.40.0-4/.self/lib/perl5/5.40.0/ExtUtils/MM_Unix.pm line 1530.
Use of uninitialized value $cmd in substitution (s///) at /packages/perl_x86-5.40.0-4/.self/lib/perl5/5.40.0/ExtUtils/MM_Any.pm line 347.
Use of uninitialized value $mandir in pattern match (m//) at /packages/perl_x86-5.40.0-4/.self/lib/perl5/5.40.0/ExtUtils/MM_Unix.pm line 1530.
Use of uninitialized value $mandir in pattern match (m//) at /packages/perl_x86-5.40.0-4/.self/lib/perl5/5.40.0/ExtUtils/MM_Unix.pm line 1530.
Use of uninitialized value $mandir in pattern match (m//) at /packages/perl_x86-5.40.0-4/.self/lib/perl5/5.40.0/ExtUtils/MM_Unix.pm line 1530.
Use of uninitialized value $mandir in pattern match (m//) at /packages/perl_x86-5.40.0-4/.self/lib/perl5/5.40.0/ExtUtils/MM_Unix.pm line 1530.
Use of uninitialized value $mandir in pattern match (m//) at /packages/perl_x86-5.40.0-4/.self/lib/perl5/5.40.0/ExtUtils/MM_Unix.pm line 1530.
Use of uninitialized value $mandir in pattern match (m//) at /packages/perl_x86-5.40.0-4/.self/lib/perl5/5.40.0/ExtUtils/MM_Unix.pm line 1530.
Use of uninitialized value $mandir in pattern match (m//) at /packages/perl_x86-5.40.0-4/.self/lib/perl5/5.40.0/ExtUtils/MM_Unix.pm line 1530.
Use of uninitialized value $mandir in pattern match (m//) at /packages/perl_x86-5.40.0-4/.self/lib/perl5/5.40.0/ExtUtils/MM_Unix.pm line 1530.
Use of uninitialized value $mandir in pattern match (m//) at /packages/perl_x86-5.40.0-4/.self/lib/perl5/5.40.0/ExtUtils/MM_Unix.pm line 1530.
Use of uninitialized value $cmd in substitution (s///) at /packages/perl_x86-5.40.0-4/.self/lib/perl5/5.40.0/ExtUtils/MM_Any.pm line 347.
Use of uninitialized value $mandir in pattern match (m//) at /packages/perl_x86-5.40.0-4/.self/lib/perl5/5.40.0/ExtUtils/MM_Unix.pm line 1530.
Use of uninitialized value $mandir in pattern match (m//) at /packages/perl_x86-5.40.0-4/.self/lib/perl5/5.40.0/ExtUtils/MM_Unix.pm line 1530.
Use of uninitialized value $mandir in pattern match (m//) at /packages/perl_x86-5.40.0-4/.self/lib/perl5/5.40.0/ExtUtils/MM_Unix.pm line 1530.
Use of uninitialized value $mandir in pattern match (m//) at /packages/perl_x86-5.40.0-4/.self/lib/perl5/5.40.0/ExtUtils/MM_Unix.pm line 1530.
Use of uninitialized value $mandir in pattern match (m//) at /packages/perl_x86-5.40.0-4/.self/lib/perl5/5.40.0/ExtUtils/MM_Unix.pm line 1530.
Use of uninitialized value $mandir in pattern match (m//) at /packages/perl_x86-5.40.0-4/.self/lib/perl5/5.40.0/ExtUtils/MM_Unix.pm line 1530.
Use of uninitialized value $mandir in pattern match (m//) at /packages/perl_x86-5.40.0-4/.self/lib/perl5/5.40.0/ExtUtils/MM_Unix.pm line 1530.
Use of uninitialized value $mandir in pattern match (m//) at /packages/perl_x86-5.40.0-4/.self/lib/perl5/5.40.0/ExtUtils/MM_Unix.pm line 1530.
Use of uninitialized value $mandir in pattern match (m//) at /packages/perl_x86-5.40.0-4/.self/lib/perl5/5.40.0/ExtUtils/MM_Unix.pm line 1530.
old INSTALLDIRS (probably set by makemaker_args) is overriden by installdirs
Use of uninitialized value $cmd in substitution (s///) at /packages/perl_x86-5.40.0-4/.self/lib/perl5/5.40.0/ExtUtils/MM_Any.pm line 347.
Use of uninitialized value $mandir in pattern match (m//) at /packages/perl_x86-5.40.0-4/.self/lib/perl5/5.40.0/ExtUtils/MM_Unix.pm line 1530.
Use of uninitialized value $mandir in pattern match (m//) at /packages/perl_x86-5.40.0-4/.self/lib/perl5/5.40.0/ExtUtils/MM_Unix.pm line 1530.
Use of uninitialized value $mandir in pattern match (m//) at /packages/perl_x86-5.40.0-4/.self/lib/perl5/5.40.0/ExtUtils/MM_Unix.pm line 1530.
Use of uninitialized value $mandir in pattern match (m//) at /packages/perl_x86-5.40.0-4/.self/lib/perl5/5.40.0/ExtUtils/MM_Unix.pm line 1530.
Use of uninitialized value $mandir in pattern match (m//) at /packages/perl_x86-5.40.0-4/.self/lib/perl5/5.40.0/ExtUtils/MM_Unix.pm line 1530.
Use of uninitialized value $mandir in pattern match (m//) at /packages/perl_x86-5.40.0-4/.self/lib/perl5/5.40.0/ExtUtils/MM_Unix.pm line 1530.
Use of uninitialized value $mandir in pattern match (m//) at /packages/perl_x86-5.40.0-4/.self/lib/perl5/5.40.0/ExtUtils/MM_Unix.pm line 1530.
Use of uninitialized value $mandir in pattern match (m//) at /packages/perl_x86-5.40.0-4/.self/lib/perl5/5.40.0/ExtUtils/MM_Unix.pm line 1530.
Use of uninitialized value $mandir in pattern match (m//) at /packages/perl_x86-5.40.0-4/.self/lib/perl5/5.40.0/ExtUtils/MM_Unix.pm line 1530.
Use of uninitialized value $cmd in substitution (s///) at /packages/perl_x86-5.40.0-4/.self/lib/perl5/5.40.0/ExtUtils/MM_Any.pm line 347.
Use of uninitialized value $mandir in pattern match (m//) at /packages/perl_x86-5.40.0-4/.self/lib/perl5/5.40.0/ExtUtils/MM_Unix.pm line 1530.
Use of uninitialized value $mandir in pattern match (m//) at /packages/perl_x86-5.40.0-4/.self/lib/perl5/5.40.0/ExtUtils/MM_Unix.pm line 1530.
Use of uninitialized value $mandir in pattern match (m//) at /packages/perl_x86-5.40.0-4/.self/lib/perl5/5.40.0/ExtUtils/MM_Unix.pm line 1530.
Use of uninitialized value $mandir in pattern match (m//) at /packages/perl_x86-5.40.0-4/.self/lib/perl5/5.40.0/ExtUtils/MM_Unix.pm line 1530.
Use of uninitialized value $mandir in pattern match (m//) at /packages/perl_x86-5.40.0-4/.self/lib/perl5/5.40.0/ExtUtils/MM_Unix.pm line 1530.
Use of uninitialized value $mandir in pattern match (m//) at /packages/perl_x86-5.40.0-4/.self/lib/perl5/5.40.0/ExtUtils/MM_Unix.pm line 1530.
Use of uninitialized value $mandir in pattern match (m//) at /packages/perl_x86-5.40.0-4/.self/lib/perl5/5.40.0/ExtUtils/MM_Unix.pm line 1530.
Use of uninitialized value $mandir in pattern match (m//) at /packages/perl_x86-5.40.0-4/.self/lib/perl5/5.40.0/ExtUtils/MM_Unix.pm line 1530.
Use of uninitialized value $mandir in pattern match (m//) at /packages/perl_x86-5.40.0-4/.self/lib/perl5/5.40.0/ExtUtils/MM_Unix.pm line 1530.
t/22_installdirs.t ...................... ok
t/21_makemaker_args.t ................... ok
t/24_multiple_license_blocks.t .......... ok
t/23_pl_files.t ......................... ok
Unknown function is found at Makefile.PL line 8.
Execution of Makefile.PL aborted due to runtime errors.

If you're a contributor to a project, you may need to install
some Module::Install extensions from CPAN (or other repository).
If you're a user of a module, please contact the author.
Bareword "unknown_func" not allowed while "strict subs" in use at Makefile.PL line 8.
Execution of Makefile.PL aborted due to compilation errors.
t/25_perl_version_from.t ................ ok
String found where operator expected (Do you need to predeclare "unknown_func"?) at Makefile.PL line 8, near "unknown_func 'args'"
syntax error at Makefile.PL line 8, near "unknown_func 'args'"
Execution of Makefile.PL aborted due to compilation errors.
t/26_unknown_func.t ..................... ok
Warning: prerequisite Test::More 9999 not found. We have 1.302204.
t/28_makemaker_args.t ................... ok
t/27_build_requires_and_include.t ....... ok
t/29_requires_from.t .................... ok
No license specified, setting license = 'unknown'
t/31_add_metadata.t ..................... ok
t/32_module_name.t ...................... ok
No license specified, setting license = 'unknown'
t/30_build_subdirs.t .................... ok
t/33_copy.t ............................. ok
t/recursive/test.t ...................... ok
t/34_readwrite.t ........................ ok
All tests successful.
Files=36, Tests=547, 52 wallclock secs ( 0.44 usr  0.10 sys + 94.57 cusr  8.88 csys = 103.99 CPU)
Result: PASS

------------------------------
PREREQUISITES
------------------------------

Prerequisite modules loaded:

requires:

    Module              Need   Have      
    ------------------- ------ ----------
    Devel::PPPort       3.16   3.72      
    ExtUtils::Install   1.52   2.22      
    ExtUtils::MakeMaker 6.59   7.70      
    ExtUtils::ParseXS   2.19   3.51      
    File::Path          0      2.18      
    File::Remove        1.42   1.61      
    File::Spec          3.28   3.75      
    Module::Build       0.29   0.4234    
    Module::CoreList    2.17   5.20240920
    Module::ScanDeps    1.09   1.35      
    Parse::CPAN::Meta   1.4413 2.150010  
    perl                5.006  5.040000  
    YAML::Tiny          1.38   1.74      

build_requires:

    Module              Need   Have      
    ------------------- ------ ----------
    autodie             0      2.37      
    ExtUtils::MakeMaker 6.59   7.70      
    Test::Harness       3.13   3.50      
    Test::More          0.86   1.302204  
    YAML::Tiny          1.33   1.74      

configure_requires:

    Module              Need   Have      
    ------------------- ------ ----------
    ExtUtils::MakeMaker 6.59   7.70      
    YAML::Tiny          1.33   1.74      

opt_requires:

    Module              Need   Have      
    ------------------- ------ ----------
    Archive::Zip        1.37   1.68      
    File::HomeDir       1      1.006     
    JSON                2.9    4.10      
    LWP::Simple         6.00   6.77      
    LWP::UserAgent      6.05   6.77      
    PAR::Dist           0.29   0.53      


------------------------------
ENVIRONMENT AND OTHER CONTEXT
------------------------------

Environment variables:

    HARNESS_OPTIONS = c:j2
    LC_COLLATE = en.UTF-8
    LC_CTYPE = en.UTF-8
    LC_MESSAGES = en.UTF-8
    LC_MONETARY = en.UTF-8
    LC_NUMERIC = en.UTF-8
    LC_TIME = en.UTF-8
    NONINTERACTIVE_TESTING = 1
    PATH = /boot/home/perl5/perlbrew/bin:/boot/system/develop/tools/x86/bin:/boot/home/perl5/bin:.:/boot/home/config/non-packaged/bin:/boot/home/config/bin:/boot/system/non-packaged/bin:/bin:/boot/system/apps:/boot/system/preferences
    PERL5LIB = /boot/home/perl5/lib/perl5
    PERL5OPT = 
    PERL5_CPANPLUS_IS_RUNNING = 9759
    PERL5_CPAN_IS_RUNNING = 9759
    PERLBREW_HOME = /boot/home/.perlbrew
    PERLBREW_PATH = /boot/home/perl5/perlbrew/bin
    PERLBREW_ROOT = /boot/home/perl5/perlbrew
    PERLBREW_SHELLRC_VERSION = 0.99
    PERLBREW_VERSION = 0.99
    PERL_LOCAL_LIB_ROOT = /boot/home/perl5
    PERL_MB_OPT = --install_base "/boot/home/perl5"
    PERL_MM_OPT = INSTALL_BASE=/boot/home/perl5
    PERL_MM_USE_DEFAULT = 1
    PERL_USE_UNSAFE_INC = 1
    SHELL = /bin/bash
    TERM = xterm-256color

Perl special variables (and OS-specific diagnostics, for MSWin32):

    $^X = /packages/perl_x86-5.40.0-4/.self/bin/perl
    $UID/$EUID = 0 / 0
    $GID = 0 101 0
    $EGID = 0 101 0

Perl module toolchain versions installed:

    Module              Have    
    ------------------- --------
    CPAN                2.37    
    CPAN::Meta          2.150010
    Cwd                 3.75    
    ExtUtils::CBuilder  0.280240
    ExtUtils::Command   7.70    
    ExtUtils::Install   2.22    
    ExtUtils::MakeMaker 7.70    
    ExtUtils::Manifest  1.75    
    ExtUtils::ParseXS   3.51    
    File::Spec          3.75    
    JSON                4.10    
    JSON::PP            4.16    
    Module::Build       0.4234  
    Module::Signature   n/a     
    Parse::CPAN::Meta   2.150010
    Test2               1.302204
    Test::Harness       3.50    
    Test::More          1.302204
    YAML                1.31    
    YAML::Syck          n/a     
    version             0.9933  


--

Summary of my perl5 (revision 5 version 40 subversion 0) configuration:
  Derived from: 
  Platform:
    osname=haiku
    osvers=1
    archname=BePC-haiku-thread-multi
    uname='haiku shredder 1 hrev57937+5 aug 8 2024 06:51:3 bepc x86 haiku '
    config_args='-Dprefix=/packages/perl_x86-5.40.0-4/.self -Dprivlib=/packages/perl_x86-5.40.0-4/.self/lib/perl5/5.40.0 -Dsiteprefix=/packages/perl_x86-5.40.0-4/.self/non-packaged -Dsitelib=/packages/perl_x86-5.40.0-4/.self/non-packaged/lib/perl5/site_perl/5.40 -Dvendorprefix=/packages/perl_x86-5.40.0-4/.self -Dvendorlib=/packages/perl_x86-5.40.0-4/.self/lib/perl5/vendor_perl/5.40 -Dcf_email=zooey@hirschkaefer.de -Uusenm -Duseshrplib -Dusethreads -Uusemymalloc -Dlibpth=/boot/home/config/develop/lib/x86 /boot/system/develop/lib/x86 /boot/home/config/lib/x86 /boot/system/lib/x86 -Dusrinc=/boot/system/develop/headers/x86/posix -Dlocinc=/boot/home/config/develop/headers/x86 /boot/system/develop/headers/x86 -Dlibc='/boot/system/lib/x86/libroot.so' -Dlibs=-lnetwork -Dcc=gcc -Dld=gcc -Ud_link -Ddont_use_nlink -Ud_syserrlst -Dldlibpthname=LIBRARY_PATH -Dstartperl=#! perl -Dccdlflags=-Wl,-fno-stack-protector,-rpath=/packages/perl_x86-5.40.0-4/.self/lib/perl5/5.40.0/BePC-haiku-thread-multi/CORE -Dusesitecustomize -de'
    hint=recommended
    useposix=true
    d_sigaction=define
    useithreads=define
    usemultiplicity=define
    use64bitint=undef
    use64bitall=undef
    uselongdouble=undef
    usemymalloc=n
    default_inc_excludes_dot=define
  Compiler:
    cc='gcc'
    ccflags ='-fno-stack-protector -fwrapv -fno-strict-aliasing -pipe -D_FORTIFY_SOURCE=2'
    optimize='-O'
    cppflags='-fno-stack-protector -fwrapv -fno-strict-aliasing -pipe'
    ccversion=''
    gccversion='13.3.0'
    gccosandvers=''
    intsize=4
    longsize=4
    ptrsize=4
    doublesize=8
    byteorder=1234
    doublekind=3
    d_longlong=define
    longlongsize=8
    d_longdbl=define
    longdblsize=12
    longdblkind=3
    ivtype='long'
    ivsize=4
    nvtype='double'
    nvsize=8
    Off_t='off_t'
    lseeksize=8
    alignbytes=4
    prototype=define
  Linker and Libraries:
    ld='gcc'
    ldflags =''
    libpth=/boot/home/config/develop/lib/x86 /boot/system/develop/lib/x86 /boot/home/config/lib/x86 /boot/system/lib/x86
    libs=-lnetwork
    perllibs=-lnetwork
    libc=/boot/system/lib/x86/libroot.so
    so=so
    useshrplib=true
    libperl=libperl.so
    gnulibc_version=''
  Dynamic Linking:
    dlsrc=dl_dlopen.xs
    dlext=so
    d_dlsymun=undef
    ccdlflags='-Wl,-fno-stack-protector,-rpath=/packages/perl_x86-5.40.0-4/.self/lib/perl5/5.40.0/BePC-haiku-thread-multi/CORE -Wl,-rpath,/packages/perl_x86-5.40.0-4/.self/lib/perl5/5.40.0/BePC-haiku-thread-multi/CORE'
    cccdlflags='-fpic'
    lddlflags='-shared'


Characteristics of this binary (from libperl): 
  Compile-time options:
    HAS_LONG_DOUBLE
    HAS_STRTOLD
    HAS_TIMES
    MULTIPLICITY
    PERLIO_LAYERS
    PERL_COPY_ON_WRITE
    PERL_DONT_CREATE_GVSV
    PERL_HASH_FUNC_ZAPHOD32
    PERL_HASH_USE_SBOX32
    PERL_OP_PARENT
    PERL_PRESERVE_IVUV
    PERL_USE_SAFE_PUTENV
    USE_ITHREADS
    USE_LARGE_FILES
    USE_LOCALE
    USE_LOCALE_COLLATE
    USE_LOCALE_CTYPE
    USE_LOCALE_NUMERIC
    USE_LOCALE_TIME
    USE_PERLIO
    USE_PERL_ATOF
    USE_REENTRANT_API
    USE_SITECUSTOMIZE
    USE_THREAD_SAFE_LOCALE
  Locally applied patches:
    uncommitted-changes
  Built under haiku
  Compiled at Aug 18 2024 17:21:04
  %ENV:
    PERL5LIB="/boot/home/perl5/lib/perl5"
    PERL5OPT=""
    PERL5_CPANPLUS_IS_RUNNING="9759"
    PERL5_CPAN_IS_RUNNING="9759"
    PERLBREW_HOME="/boot/home/.perlbrew"
    PERLBREW_PATH="/boot/home/perl5/perlbrew/bin"
    PERLBREW_ROOT="/boot/home/perl5/perlbrew"
    PERLBREW_SHELLRC_VERSION="0.99"
    PERLBREW_VERSION="0.99"
    PERL_LOCAL_LIB_ROOT="/boot/home/perl5"
    PERL_MB_OPT="--install_base "/boot/home/perl5""
    PERL_MM_OPT="INSTALL_BASE=/boot/home/perl5"
    PERL_MM_USE_DEFAULT="1"
    PERL_USE_UNSAFE_INC="1"
  @INC:
    /boot/home/perl5/lib/perl5/5.40.0/BePC-haiku-thread-multi
    /boot/home/perl5/lib/perl5/5.40.0
    /boot/home/perl5/lib/perl5/BePC-haiku-thread-multi
    /boot/home/perl5/lib/perl5
    /packages/perl_x86-5.40.0-4/.self/non-packaged/lib/perl5/site_perl/5.40/BePC-haiku-thread-multi
    /packages/perl_x86-5.40.0-4/.self/non-packaged/lib/perl5/site_perl/5.40
    /packages/perl_x86-5.40.0-4/.self/lib/perl5/vendor_perl/5.40/BePC-haiku-thread-multi
    /packages/perl_x86-5.40.0-4/.self/lib/perl5/vendor_perl/5.40
    /packages/perl_x86-5.40.0-4/.self/lib/perl5/5.40.0/BePC-haiku-thread-multi
    /packages/perl_x86-5.40.0-4/.self/lib/perl5/5.40.0
    .