Geo-Coder-CA v0.10 Perl 5 v5.22.4 amd64-freebsd

Status
Pass
From
Nigel Horne
Dist
Geo-Coder-CA v0.10
Platform
Perl 5 v5.22.4 amd64-freebsd
Date
2018-07-13 12:57:05
ID
3eb4c094-869c-11e8-b614-e00eb9d57a06
This distribution has been tested as part of the CPAN Testers
project, supporting the Perl programming language.  See
http://wiki.cpantesters.org/ for more information or email
questions to cpan-testers-discuss@perl.org


--
Dear Nigel Horne,

This is a computer-generated report for Geo-Coder-CA-0.10
on perl 5.22.4, created by CPAN-Reporter-1.2018.

Thank you for uploading your work to CPAN.  Congratulations!
All tests were successful.

Sections of this report:

    * Tester comments
    * Program output
    * Prerequisites
    * Environment and other context

------------------------------
TESTER COMMENTS
------------------------------

Additional comments from tester:

none provided

------------------------------
PROGRAM OUTPUT
------------------------------

Output from '/usr/bin/make test':

PERL_DL_NONLAZY=1 "/usr/home/njh/perl5/perlbrew/perls/perl-5.22.4/bin/perl5.22.4" "-MExtUtils::Command::MM" "-MTest::Harness" "-e" "undef *Test::Harness::Switches; test_harness(0, 'blib/lib', 'blib/arch')" t/*.t
# Testing Geo::Coder::CA 0.10, Perl 5.022004, /usr/home/njh/perl5/perlbrew/perls/perl-5.22.4/bin/perl5.22.4
t/00-load.t ..... ok
t/10-new.t ...... ok
# Author tests not required for installation
t/bin.t ......... ok
t/boiler.t ...... ok
# Author tests not required for installation
t/ca.t .......... ok
t/carp.t ........ ok
t/changes.t ..... skipped: Author tests not required for installation
t/coverage.t .... ok
t/critic.t ...... skipped: Author tests not required for installation
t/cv.t .......... skipped: Author tests not required for installation
t/dist.t ........ skipped: Author tests not required for installation
t/gv.t .......... skipped: Author tests not required for installation
t/kwalitee.t .... skipped: Author tests not required for installation
t/links.t ....... skipped: Author tests not required for installation
t/manifest.t .... skipped: Author tests not required for installation
t/metrics.t ..... skipped: Author tests not required for installation
t/namespaces.t .. skipped: Author tests not required for installation
t/no404s.t ...... skipped: Author tests not required for installation
t/noplan.t ...... skipped: Author tests not required for installation
t/pod-cm.t ...... skipped: Test::Pod::Spelling::CommonMistakes required for testing POD spelling
t/pod.t ......... skipped: Author tests not required for installation
t/port.t ........ skipped: Test::Portability::Files required for testing filenames portability
t/prereq.t ...... skipped: Author tests not required for installation
t/snippets.t .... skipped: Author tests not required for installation
t/spelling.t .... skipped: Author tests not required for installation
t/strict.t ...... skipped: Author tests not required for installation
t/unused.t ...... skipped: Author tests not required for installation
# Author tests not required for installation
t/us.t .......... ok
t/used.t ........ skipped: Author tests not required for installation
t/vars.t ........ skipped: Author tests not required for installation
All tests successful.

Test Summary Report
-------------------
t/boiler.t    (Wstat: 0 Tests: 3 Failed: 0)
  TODO passed:   1-3
Files=30, Tests=35,  4 wallclock secs ( 0.08 usr  0.05 sys +  2.73 cusr  0.67 csys =  3.52 CPU)
Result: PASS

------------------------------
PREREQUISITES
------------------------------

Prerequisite modules loaded:

requires:

    Module               Need     Have    
    -------------------- -------- --------
    Encode               0        2.98    
    HTTP::Request        0        6.18    
    JSON                 0        2.97001 
    LWP::Protocol::https 0        6.07    
    LWP::UserAgent       0        6.34    
    perl                 5.006002 5.022004
    URI                  0        1.74    

build_requires:

    Module               Need     Have    
    -------------------- -------- --------
    ExtUtils::MakeMaker  0        7.34    
    IPC::System::Simple  0        1.25    
    Test::Carp           0        0.2     
    Test::LWP::UserAgent 0        0.033   
    Test::Most           0        0.35    
    Test::NoWarnings     0        1.04    
    Test::Number::Delta  0        1.06    
    Test::Script         0        1.23    

configure_requires:

    Module               Need     Have    
    -------------------- -------- --------
    ExtUtils::MakeMaker  0        7.34    


------------------------------
ENVIRONMENT AND OTHER CONTEXT
------------------------------

Environment variables:

    NONINTERACTIVE_TESTING = 1
    PATH = /home/njh/perl5/perlbrew/bin:/home/njh/perl5/perlbrew/perls/perl-5.22.4/bin:/home/njh/perl5/perlbrew/bin:/sbin:/bin:/usr/sbin:/usr/bin:/usr/local/sbin:/usr/local/bin:/home/njh/bin
    PERL5LIB = 
    PERL5OPT = 
    PERL5_CPANPLUS_IS_RUNNING = 99155
    PERL5_CPAN_IS_RUNNING = 99155
    PERLBREW_HOME = /home/njh/.perlbrew
    PERLBREW_LIB = 
    PERLBREW_MANPATH = /home/njh/perl5/perlbrew/perls/perl-5.22.4/man
    PERLBREW_PATH = /home/njh/perl5/perlbrew/bin:/home/njh/perl5/perlbrew/perls/perl-5.22.4/bin
    PERLBREW_PERL = perl-5.22.4
    PERLBREW_ROOT = /home/njh/perl5/perlbrew
    PERLBREW_SHELLRC_VERSION = 0.83
    PERLBREW_VERSION = 0.83
    PERL_LOCAL_LIB_ROOT = 
    PERL_MM_USE_DEFAULT = 1
    SHELL = /usr/local/bin/bash
    TERM = xterm-256color

Perl special variables (and OS-specific diagnostics, for MSWin32):

    $^X = /usr/home/njh/perl5/perlbrew/perls/perl-5.22.4/bin/perl5.22.4
    $UID/$EUID = 1000 / 1000
    $GID = 1000 1000 0
    $EGID = 1000 1000 0

Perl module toolchain versions installed:

    Module              Have    
    ------------------- --------
    CPAN                2.16    
    CPAN::Meta          2.150010
    Cwd                 3.56_02 
    ExtUtils::CBuilder  0.280230
    ExtUtils::Command   7.34    
    ExtUtils::Install   2.14    
    ExtUtils::MakeMaker 7.34    
    ExtUtils::Manifest  1.71    
    ExtUtils::ParseXS   3.35    
    File::Spec          3.56_02 
    JSON                2.97001 
    JSON::PP            2.97001 
    Module::Build       0.4224  
    Module::Signature   n/a     
    Parse::CPAN::Meta   2.150010
    Test::Harness       3.42    
    Test::More          1.302136
    YAML                1.26    
    YAML::Syck          1.30    
    version             0.9924  


--

Summary of my perl5 (revision 5 version 22 subversion 4) configuration:
   
  Platform:
    osname=freebsd, osvers=11.1-release-p4, archname=amd64-freebsd
    uname='freebsd njh3.vultr.com 11.1-release-p4 freebsd 11.1-release-p4 #0: tue nov 14 06:12:40 utc 2017 root@amd64-builder.daemonology.net:usrobjusrsrcsysgeneric amd64 '
    config_args='-de -Dprefix=/home/njh/perl5/perlbrew/perls/perl-5.22.4 -Aeval:scriptdir=/home/njh/perl5/perlbrew/perls/perl-5.22.4/bin'
    hint=recommended, useposix=true, d_sigaction=define
    useithreads=undef, usemultiplicity=undef
    use64bitint=define, use64bitall=define, uselongdouble=undef
    usemymalloc=n, bincompat5005=undef
  Compiler:
    cc='cc', ccflags ='-DHAS_FPSETMASK -DHAS_FLOATINGPOINT_H -fno-strict-aliasing -pipe -fstack-protector-strong -I/usr/local/include -D_FORTIFY_SOURCE=2',
    optimize='-O',
    cppflags='-DHAS_FPSETMASK -DHAS_FLOATINGPOINT_H -fno-strict-aliasing -pipe -fstack-protector-strong -I/usr/local/include'
    ccversion='', gccversion='4.2.1 Compatible FreeBSD Clang 4.0.0 (tags/RELEASE_400/final 297347)', gccosandvers=''
    intsize=4, longsize=8, ptrsize=8, doublesize=8, byteorder=12345678, doublekind=3
    d_longlong=define, longlongsize=8, d_longdbl=define, longdblsize=16, longdblkind=3
    ivtype='long', ivsize=8, nvtype='double', nvsize=8, Off_t='off_t', lseeksize=8
    alignbytes=8, prototype=define
  Linker and Libraries:
    ld='cc', ldflags ='-Wl,-E  -fstack-protector-strong -L/usr/local/lib'
    libpth=/usr/lib /usr/local/lib /usr/bin/../lib/clang/4.0.0/lib /usr/lib
    libs=-lpthread -lm -lcrypt -lutil -lc
    perllibs=-lpthread -lm -lcrypt -lutil -lc
    libc=, so=so, useshrplib=false, libperl=libperl.a
    gnulibc_version=''
  Dynamic Linking:
    dlsrc=dl_dlopen.xs, dlext=so, d_dlsymun=undef, ccdlflags=' '
    cccdlflags='-DPIC -fPIC', lddlflags='-shared  -L/usr/local/lib -fstack-protector-strong'


Characteristics of this binary (from libperl): 
  Compile-time options: HAS_TIMES PERLIO_LAYERS PERL_DONT_CREATE_GVSV
                        PERL_HASH_FUNC_ONE_AT_A_TIME_HARD PERL_MALLOC_WRAP
                        PERL_NEW_COPY_ON_WRITE PERL_PRESERVE_IVUV
                        USE_64_BIT_ALL USE_64_BIT_INT USE_LARGE_FILES
                        USE_LOCALE USE_LOCALE_COLLATE USE_LOCALE_CTYPE
                        USE_LOCALE_NUMERIC USE_LOCALE_TIME USE_PERLIO
                        USE_PERL_ATOF
  Locally applied patches:
	Devel::PatchPerl 1.48
  Built under freebsd
  Compiled at Jun  3 2018 17:12:33
  %ENV:
    PERL5LIB=""
    PERL5OPT=""
    PERL5_CPANPLUS_IS_RUNNING="99155"
    PERL5_CPAN_IS_RUNNING="99155"
    PERLBREW_HOME="/home/njh/.perlbrew"
    PERLBREW_LIB=""
    PERLBREW_MANPATH="/home/njh/perl5/perlbrew/perls/perl-5.22.4/man"
    PERLBREW_PATH="/home/njh/perl5/perlbrew/bin:/home/njh/perl5/perlbrew/perls/perl-5.22.4/bin"
    PERLBREW_PERL="perl-5.22.4"
    PERLBREW_ROOT="/home/njh/perl5/perlbrew"
    PERLBREW_SHELLRC_VERSION="0.83"
    PERLBREW_VERSION="0.83"
    PERL_LOCAL_LIB_ROOT=""
    PERL_MM_USE_DEFAULT="1"
  @INC:
    /home/njh/perl5/perlbrew/perls/perl-5.22.4/lib/site_perl/5.22.4/amd64-freebsd
    /home/njh/perl5/perlbrew/perls/perl-5.22.4/lib/site_perl/5.22.4
    /home/njh/perl5/perlbrew/perls/perl-5.22.4/lib/5.22.4/amd64-freebsd
    /home/njh/perl5/perlbrew/perls/perl-5.22.4/lib/5.22.4
    .