Test-Class-Moose v0.98 Perl 5 v5.12.5 x86_64-linux-thread-multi

Status
Pass
From
David Cantrell (DCANTRELL)
Dist
Test-Class-Moose v0.98
Platform
Perl 5 v5.12.5 x86_64-linux-thread-multi
Date
2019-10-28 10:39:39
ID
3ea94da8-f96f-11e9-bd69-0609052d0de1
This distribution has been tested as part of the CPAN Testers
project, supporting the Perl programming language.  See
http://wiki.cpantesters.org/ for more information or email
questions to cpan-testers-discuss@perl.org


--
Dear Dave Rolsky,

This is a computer-generated report for Test-Class-Moose-0.98
on perl 5.12.5, created by CPAN-Reporter-1.2018.

Thank you for uploading your work to CPAN.  Congratulations!
All tests were successful.

Sections of this report:

    * Tester comments
    * Program output
    * Prerequisites
    * Environment and other context

------------------------------
TESTER COMMENTS
------------------------------

Additional comments from tester:

this report is from an automated smoke testing program
and was not reviewed by a human for accuracy

------------------------------
PROGRAM OUTPUT
------------------------------

Output from '/usr/bin/make test':

PERL_DL_NONLAZY=1 "/home/david/cpantesting/perl-5.12.5/bin/perl" "-MExtUtils::Command::MM" "-MTest::Harness" "-e" "undef *Test::Harness::Switches; test_harness(0, 'blib/lib', 'blib/arch')" t/*.t
# 
# Versions for all modules listed in MYMETA.json (including optional ones):
# 
# === Configure Requires ===
# 
#     Module              Want Have
#     ------------------- ---- ----
#     ExtUtils::MakeMaker  any 7.34
# 
# === Build Requires ===
# 
#     Module              Want Have
#     ------------------- ---- ----
#     ExtUtils::MakeMaker  any 7.34
# 
# === Test Requires ===
# 
#     Module                    Want     Have
#     --------------------- -------- --------
#     ExtUtils::MakeMaker        any     7.34
#     File::Spec                 any  3.31_01
#     File::Temp                 any     0.22
#     Test2::Tools::Basic        any 0.000126
#     Test2::Tools::Class        any 0.000126
#     Test2::Tools::Compare      any 0.000126
#     Test2::Tools::Subtest      any 0.000126
#     Test2::V0                  any 0.000126
#     Test::Builder              any 1.302162
#     Test::More            1.302015 1.302162
#     Test::Requires             any     0.10
#     Test::Warnings             any    0.026
#     lib                        any     0.62
# 
# === Test Recommends ===
# 
#     Module           Want     Have
#     ------------ -------- --------
#     CPAN::Meta   2.120900 2.143240
#     Test::Output   0.0005  missing
# 
# === Runtime Requires ===
# 
#     Module                           Want     Have
#     ---------------------------- -------- --------
#     Benchmark                         any     1.11
#     Carp                              any     1.50
#     Class::MOP                        any   2.2011
#     Exporter                          any  5.64_01
#     File::Find                        any     1.15
#     File::Spec                        any  3.31_01
#     Import::Into                      any 1.002005
#     JSON::MaybeXS                     any 1.004000
#     List::SomeUtils                   any     0.58
#     List::Util                        any     1.53
#     Module::Runtime                   any    0.016
#     Module::Util                      any     1.09
#     Moose                          2.0000   2.2011
#     Moose::Role                    2.0000   2.2011
#     Moose::Util                       any   2.2011
#     Moose::Util::TypeConstraints      any   2.2011
#     MooseX::Getopt                   0.71     0.74
#     MooseX::Getopt::Dashes            any     0.74
#     Package::DeprecationManager      0.16     0.17
#     Parallel::ForkManager             any     2.02
#     Scalar::Util                      any     1.53
#     Sub::Attribute                    any     0.07
#     TAP::Formatter::Color            3.29     3.42
#     Test2                        1.302118 1.302162
#     Test2::API                        any 1.302162
#     Test2::AsyncSubtest          0.000018 0.000126
#     Test2::IPC                        any 1.302162
#     Test2::Tools::AsyncSubtest        any 0.000126
#     Test::Most                        any     0.35
#     Try::Tiny                         any     0.30
#     namespace::autoclean              any     0.29
#     strict                            any     1.04
#     warnings                          any     1.09
# 
# === Runtime Recommends ===
# 
#     Module                  Want Have
#     --------------------- ------ ----
#     Parallel::ForkManager v0.7.6 2.02
# 
t/00-report-prereqs.t .......... ok
t/autouse.t .................... ok
t/bad_subclass.t ............... ok
t/bare.t ....................... ok
t/basic.t ...................... ok
Can't stat t/lib/Local: No such file or directory
 at /home/david/cpantesting/perl-5.12.5/.cpan/build/Test-Class-Moose-0.98-6vOAIQ/blib/lib/Test/Class/Moose/Load.pm line 73.
t/cli.t ........................ ok
t/environment.t ................ ok
t/executor_roles.t ............. ok
t/include_classes.t ............ ok
t/include_exclude.t ............ ok
t/load-special-characters.t .... ok
t/load.t ....................... ok
t/no_tests_run.t ............... ok
t/non_randomize_classes.t ...... ok
......................XX..t/parallel.t ................... ok
t/parameterized.t .............. ok
t/plans.t ...................... ok
t/process_name.t ............... ok
t/reportpassed.t ............... ok
t/skip.t ....................... ok
t/tags.t ....................... ok
t/test_class_is_not_loaded.t ... ok
t/test_control_methods.t ....... ok
t/test_control_methods_skip.t .. ok
t/timing.t ..................... ok
t/todo.t ....................... ok
All tests successful.
Files=26, Tests=215, 128 wallclock secs ( 0.34 usr  0.07 sys + 13.66 cusr  1.10 csys = 15.17 CPU)
Result: PASS

------------------------------
PREREQUISITES
------------------------------

Prerequisite modules loaded:

requires:

    Module                       Need     Have    
    ---------------------------- -------- --------
    Benchmark                    0        1.11    
    Carp                         0        1.50    
    Class::MOP                   0        2.2011  
    Exporter                     0        5.64_01 
    File::Find                   0        1.15    
    File::Spec                   0        3.31_01 
    Import::Into                 0        1.002005
    JSON::MaybeXS                0        1.004000
    List::SomeUtils              0        0.58    
    List::Util                   0        1.53    
    Module::Runtime              0        0.016   
    Module::Util                 0        1.09    
    Moose                        2.0000   2.2011  
    Moose::Role                  2.0000   2.2011  
    Moose::Util                  0        2.2011  
    Moose::Util::TypeConstraints 0        2.2011  
    MooseX::Getopt               0.71     0.74    
    MooseX::Getopt::Dashes       0        0.74    
    namespace::autoclean         0        0.29    
    Package::DeprecationManager  0.16     0.17    
    Parallel::ForkManager        0        2.02    
    perl                         5.010000 5.012005
    Scalar::Util                 0        1.53    
    strict                       0        1.04    
    Sub::Attribute               0        0.07    
    TAP::Formatter::Color        3.29     3.42    
    Test2                        1.302118 1.302162
    Test2::API                   0        1.302162
    Test2::AsyncSubtest          0.000018 0.000126
    Test2::IPC                   0        1.302162
    Test2::Tools::AsyncSubtest   0        0.000126
    Test::Most                   0        0.35    
    Try::Tiny                    0        0.30    
    warnings                     0        1.09    

build_requires:

    Module                       Need     Have    
    ---------------------------- -------- --------
    ExtUtils::MakeMaker          0        7.34    
    File::Spec                   0        3.31_01 
    File::Temp                   0        0.22    
    lib                          0        0.62    
    Test2::Tools::Basic          0        0.000126
    Test2::Tools::Class          0        0.000126
    Test2::Tools::Compare        0        0.000126
    Test2::Tools::Subtest        0        0.000126
    Test2::V0                    0        0.000126
    Test::Builder                0        1.302162
    Test::More                   1.302015 1.302162
    Test::Requires               0        0.10    
    Test::Warnings               0        0.026   

configure_requires:

    Module                       Need     Have    
    ---------------------------- -------- --------
    ExtUtils::MakeMaker          0        7.34    


------------------------------
ENVIRONMENT AND OTHER CONTEXT
------------------------------

Environment variables:

    AUTOMATED_TESTING = 1
    LANG = en_US.UTF-8
    NONINTERACTIVE_TESTING = 1
    PATH = /usr/local/bin:/usr/bin:/bin:/usr/local/games:/usr/games
    PERL = 5.12.5
    PERL5LIB = 
    PERL5OPT = 
    PERL5_CPANPLUS_IS_RUNNING = 1355
    PERL5_CPAN_IS_RUNNING = 1355
    PERLVER = 5.12.5
    PERL_INLINE_DIRECTORY = /home/david/.Inline-5.12.5
    PERL_MM_USE_DEFAULT = 1
    PERL_USE_UNSAFE_INC = 0
    SHELL = /bin/bash
    TERM = screen

Perl special variables (and OS-specific diagnostics, for MSWin32):

    $^X = /home/david/cpantesting/perl-5.12.5/bin/perl
    $UID/$EUID = 1000 / 1000
    $GID = 1000 27 1000
    $EGID = 1000 27 1000

Perl module toolchain versions installed:

    Module              Have    
    ------------------- --------
    CPAN                1.94_56 
    CPAN::Meta          2.143240
    Cwd                 3.31    
    ExtUtils::CBuilder  0.27    
    ExtUtils::Command   7.34    
    ExtUtils::Install   2.06    
    ExtUtils::MakeMaker 7.34    
    ExtUtils::Manifest  1.70    
    ExtUtils::ParseXS   2.21    
    File::Spec          3.31_01 
    JSON                n/a     
    JSON::PP            4.02    
    Module::Build       0.4229  
    Module::Signature   n/a     
    Parse::CPAN::Meta   1.4414  
    Test::Harness       3.42    
    Test::More          1.302162
    YAML                n/a     
    YAML::Syck          n/a     
    version             0.9924  


--

Summary of my perl5 (revision 5 version 12 subversion 5) configuration:
   
  Platform:
    osname=linux, osvers=4.9.0-8-amd64, archname=x86_64-linux-thread-multi
    uname='linux pigsty 4.9.0-8-amd64 #1 smp debian 4.9.144-3 (2019-02-02) x86_64 gnulinux '
    config_args='-de -Duse64bitall -Dusethreads -Dprefix=/home/david/cpantesting/perl-5.12.5 -A ccflags=-fwrapv'
    hint=previous, useposix=true, d_sigaction=define
    useithreads=define, usemultiplicity=define
    useperlio=define, d_sfio=undef, uselargefiles=define, usesocks=undef
    use64bitint=define, use64bitall=define, uselongdouble=undef
    usemymalloc=n, bincompat5005=undef
  Compiler:
    cc='cc', ccflags ='-D_REENTRANT -D_GNU_SOURCE -fno-strict-aliasing -pipe -fstack-protector -I/usr/local/include -D_LARGEFILE_SOURCE -D_FILE_OFFSET_BITS=64 -fwrapv',
    optimize='-O2',
    cppflags='-D_REENTRANT -D_GNU_SOURCE -fno-strict-aliasing -pipe -fstack-protector -I/usr/local/include -D_REENTRANT -D_GNU_SOURCE -fno-strict-aliasing -pipe -fstack-protector -I/usr/local/include -D_LARGEFILE_SOURCE -D_FILE_OFFSET_BITS=64 -fwrapv'
    ccversion='', gccversion='6.3.0 20170516', gccosandvers=''
    intsize=4, longsize=8, ptrsize=8, doublesize=8, byteorder=12345678
    d_longlong=define, longlongsize=8, d_longdbl=define, longdblsize=16
    ivtype='long', ivsize=8, nvtype='double', nvsize=8, Off_t='off_t', lseeksize=8
    alignbytes=8, prototype=define
  Linker and Libraries:
    ld='cc', ldflags =' -fstack-protector -L/usr/local/lib'
    libpth=/usr/local/lib /lib/x86_64-linux-gnu /lib/../lib /usr/lib/x86_64-linux-gnu /usr/lib/../lib /lib /usr/lib
    libs=-lnsl -ldb -ldl -lm -lcrypt -lutil -lpthread -lc
    perllibs=-lnsl -ldl -lm -lcrypt -lutil -lpthread -lc
    libc=libc-2.24.so, so=so, useshrplib=false, libperl=libperl.a
    gnulibc_version='2.24'
  Dynamic Linking:
    dlsrc=dl_dlopen.xs, dlext=so, d_dlsymun=undef, ccdlflags='-Wl,-E'
    cccdlflags='-fPIC', lddlflags='-shared -O2 -L/usr/local/lib -fstack-protector'


Characteristics of this binary (from libperl): 
  Compile-time options: MULTIPLICITY PERL_DONT_CREATE_GVSV
                        PERL_IMPLICIT_CONTEXT PERL_MALLOC_WRAP USE_64_BIT_ALL
                        USE_64_BIT_INT USE_ITHREADS USE_LARGE_FILES
                        USE_PERLIO USE_PERL_ATOF USE_REENTRANT_API
  Locally applied patches:
	Devel::PatchPerl 1.56
  Built under linux
  Compiled at Apr 25 2019 17:06:45
  %ENV:
    PERL="5.12.5"
    PERL5LIB=""
    PERL5OPT=""
    PERL5_CPANPLUS_IS_RUNNING="1355"
    PERL5_CPAN_IS_RUNNING="1355"
    PERLVER="5.12.5"
    PERL_INLINE_DIRECTORY="/home/david/.Inline-5.12.5"
    PERL_MM_USE_DEFAULT="1"
    PERL_USE_UNSAFE_INC="0"
  @INC:
    /home/david/cpantesting/perl-5.12.5/lib/site_perl/5.12.5/x86_64-linux-thread-multi
    /home/david/cpantesting/perl-5.12.5/lib/site_perl/5.12.5
    /home/david/cpantesting/perl-5.12.5/lib/5.12.5/x86_64-linux-thread-multi
    /home/david/cpantesting/perl-5.12.5/lib/5.12.5
    .