Report for Module-Provision-0.42.1

Back
From: metabase:user:314402c4-2aae-11df-837a-5e0a49663a4f
Subject: PASS Module-Provision-0.42.1 v5.26.0 RC1 FreeBSD
Date: 2017-05-12T09:34:49Z

This distribution has been tested as part of the CPAN Testers
project, supporting the Perl programming language.  See
http://wiki.cpantesters.org/ for more information or email
questions to cpan-testers-discuss@perl.org


--
Dear Peter Flanigan,

This is a computer-generated report for Module-Provision-0.42.1
on perl 5.26.0, created by CPAN-Reporter-1.2018.

Thank you for uploading your work to CPAN.  Congratulations!
All tests were successful.

Sections of this report:

    * Tester comments
    * Program output
    * Prerequisites
    * Environment and other context

------------------------------
TESTER COMMENTS
------------------------------

Additional comments from tester:

none provided

------------------------------
PROGRAM OUTPUT
------------------------------

Output from './Build test':


OS: freebsd, Host: cvrsnica-freebsd-101.herceg.de

=== Environment variables ===

    $AUTHOR_TESTING                   undef
    $AUTOMATED_TESTING                undef
    $EXTENDED_TESTING                 undef
    $NONINTERACTIVE_TESTING           undef
    $PERL_CPAN_REPORTER_CONFIG        /var/tmp/cpansmoker-1023/2017051209/cpanreporter_002_config.ini
    $PERL_CR_SMOKER_CURRENT           undef
    $PERL5_CPAN_IS_RUNNING            45486
    $PERL5_CPANPLUS_IS_VERSION        undef
    $TEST_CRITIC                      undef
    $TEST_SPELLING                    undef

Versions for all modules listed in MYMETA.json (including optional ones):

=== Configure Requires ===

    Module          Want   Have
    ------------- ------ ------
    Module::Build 0.4004 0.4222
    version         0.88 0.9917

=== Build Requires ===

    Module          Want   Have
    ------------- ------ ------
    Module::Build 0.4004 0.4222
    version         0.88 0.9917

=== Test Requires ===

    Module               Want     Have
    ---------------- -------- --------
    File::Spec            any     3.67
    Module::Build      0.4004   0.4222
    Module::Metadata 1.000011 1.000033
    Sys::Hostname         any     1.20
    Test::Requires       0.08     0.10
    version              0.88   0.9917

=== Test Recommends ===

    Module         Want     Have
    ---------- -------- --------
    CPAN::Meta 2.120900 2.150010

=== Runtime Requires ===

    Module                                         Want     Have
    ------------------------------------------ -------- --------
    CPAN::Meta                                 2.150005 2.150010
    CPAN::Uploader                             0.103004  missing
    Class::Null                                2.110730 2.110730
    Class::Usul                                 v0.73.0   0.81.1
    Config::Tiny                                   2.22     2.23
    Date::Format                                   2.24     2.24
    Dist::Zilla                                   5.037  missing
    Dist::Zilla::Plugin::AbstractFromPOD         v0.3.0  missing
    Dist::Zilla::Plugin::LicenseFromModule         0.05  missing
    Dist::Zilla::Plugin::ManifestInRoot         v0.13.0  missing
    Dist::Zilla::Plugin::Meta::Dynamic::Config     0.04  missing
    Dist::Zilla::Plugin::ModuleBuild::Custom       4.26  missing
    Dist::Zilla::Plugin::ReadmeAnyFromPod      0.150250  missing
    Dist::Zilla::Plugin::Signature             1.100930  missing
    Dist::Zilla::Plugin::Test::ReportMetadata    v0.4.0  missing
    Dist::Zilla::Plugin::VersionFromModule         0.08  missing
    File::DataClass                             v0.68.0   0.72.1
    File::ShareDir                                1.102    1.102
    HTTP::Message                                  6.06     6.11
    LWP                                            6.13  missing
    LWP::Protocol::https                            any  missing
    Module::Metadata                           1.000011 1.000033
    Moo                                        2.000001 2.003002
    Perl::Version                                 1.013    1.013
    Pod::Eventual                              0.094001 0.094001
    Software::License                          0.103010 0.103012
    Template                                       2.26     2.27
    Test::Requires                                 0.08     0.10
    Try::Tiny                                      0.22     0.28
    Type::Tiny                                 1.000004 1.000006
    Unexpected                                  v0.43.0   0.46.1
    local::lib                                 2.000014 2.000019
    namespace::autoclean                           0.26     0.28


*** WARNING WARNING WARNING WARNING WARNING WARNING ***

The following REQUIRED prerequisites were not satisfied:

CPAN::Uploader is not installed (version '0.103004' required)
Dist::Zilla is not installed (version '5.037' required)
Dist::Zilla::Plugin::AbstractFromPOD is not installed (version 'v0.3.0' required)
Dist::Zilla::Plugin::LicenseFromModule is not installed (version '0.05' required)
Dist::Zilla::Plugin::ManifestInRoot is not installed (version 'v0.13.0' required)
Dist::Zilla::Plugin::Meta::Dynamic::Config is not installed (version '0.04' required)
Dist::Zilla::Plugin::ModuleBuild::Custom is not installed (version '4.26' required)
Dist::Zilla::Plugin::ReadmeAnyFromPod is not installed (version '0.150250' required)
Dist::Zilla::Plugin::Signature is not installed (version '1.100930' required)
Dist::Zilla::Plugin::Test::ReportMetadata is not installed (version 'v0.4.0' required)
Dist::Zilla::Plugin::VersionFromModule is not installed (version '0.08' required)
LWP is not installed (version '6.13' required)
LWP::Protocol::https is not installed (any version required)

t/00report-metadata.t .. ok
t/02pod.t .............. skipped: POD test only for developers
t/03podcoverage.t ...... skipped: POD coverage test only for developers
t/05kwalitee.t ......... skipped: Kwalitee test only for developers
t/06yaml.t ............. skipped: YAML test only for developers
t/07podspelling.t ...... skipped: POD spelling test only for developers
t/10test_script.t ...... ok
All tests successful.
Files=7, Tests=4,  5 wallclock secs ( 0.00 usr  0.03 sys +  0.17 cusr  0.75 csys =  0.95 CPU)
Result: PASS

------------------------------
PREREQUISITES
------------------------------

Prerequisite modules loaded:

requires:

    Module                                     Need     Have    
    ------------------------------------------ -------- --------
    Class::Null                                2.110730 2.110730
    Class::Usul                                v0.73.0  0.81.1  
    Config::Tiny                               2.22     2.23    
    CPAN::Meta                                 2.150005 2.150010
  ! CPAN::Uploader                             0.103004 n/a     
    Date::Format                               2.24     2.24    
  ! Dist::Zilla                                5.037    n/a     
  ! Dist::Zilla::Plugin::AbstractFromPOD       v0.3.0   n/a     
  ! Dist::Zilla::Plugin::LicenseFromModule     0.05     n/a     
  ! Dist::Zilla::Plugin::ManifestInRoot        v0.13.0  n/a     
  ! Dist::Zilla::Plugin::Meta::Dynamic::Config 0.04     n/a     
  ! Dist::Zilla::Plugin::ModuleBuild::Custom   4.26     n/a     
  ! Dist::Zilla::Plugin::ReadmeAnyFromPod      0.150250 n/a     
  ! Dist::Zilla::Plugin::Signature             1.100930 n/a     
  ! Dist::Zilla::Plugin::Test::ReportMetadata  v0.4.0   n/a     
  ! Dist::Zilla::Plugin::VersionFromModule     0.08     n/a     
    File::DataClass                            v0.68.0  0.72.1  
    File::ShareDir                             1.102    1.102   
    HTTP::Message                              6.06     6.11    
    local::lib                                 2.000014 2.000019
  ! LWP                                        6.13     n/a     
  ! LWP::Protocol::https                       0        n/a     
    Module::Metadata                           1.000011 1.000033
    Moo                                        2.000001 2.003002
    namespace::autoclean                       0.26     0.28    
    perl                                       5.010001 5.026000
    Perl::Version                              1.013    1.013   
    Pod::Eventual                              0.094001 0.094001
    Software::License                          0.103010 0.103012
    Template                                   2.26     2.27    
    Test::Requires                             0.08     0.10    
    Try::Tiny                                  0.22     0.28    
    Type::Tiny                                 1.000004 1.000006
    Unexpected                                 v0.43.0  0.46.1  

build_requires:

    Module                                     Need     Have    
    ------------------------------------------ -------- --------
    File::Spec                                 0        3.67    
    Module::Build                              0.4004   0.4222  
    Module::Metadata                           1.000011 1.000033
    Sys::Hostname                              0        1.20    
    Test::Requires                             0.08     0.10    
    version                                    0.88     0.9917  

configure_requires:

    Module                                     Need     Have    
    ------------------------------------------ -------- --------
    Module::Build                              0.4004   0.4222  
    version                                    0.88     0.9917  


------------------------------
ENVIRONMENT AND OTHER CONTEXT
------------------------------

Environment variables:

    LC_ALL = de_DE.ISO8859-1
    PATH = /usr/local/bin:/usr/bin:/bin:/usr/local/sbin:/usr/sbin:/sbin:/home/cpansand/bin/freebsd10.3:/home/cpansand/bin/sh:/home/cpansand/bin:/usr/games:/home/cpansand/devel:/home/eserte/src/srezic-misc/scripts
    PERL5LIB = 
    PERL5OPT = 
    PERL5_CPANPLUS_IS_RUNNING = 45486
    PERL5_CPAN_IS_RUNNING = 45486
    PERL5_CPAN_IS_RUNNING_IN_RECURSION = 1696,45486
    PERLDOC = -MPod::Perldoc::ToTextOverstrike
    PERL_BATCH = yes
    PERL_CANARY_STABILITY_NOPROMPT = 1
    PERL_CPAN_REPORTER_CONFIG = /var/tmp/cpansmoker-1023/2017051209/cpanreporter_002_config.ini
    PERL_EXTUTILS_AUTOINSTALL = --defaultdeps
    PERL_USE_UNSAFE_INC = 1
    SHELL = /usr/local/bin/zsh
    TERM = screen
    TMPDIR = /var/tmp/cpansmoker-1023/2017051209

Perl special variables (and OS-specific diagnostics, for MSWin32):

    $^X = /usr/perl5.26.0-RC1p/bin/perl
    $UID/$EUID = 1023 / 1023
    $GID = 1023 1023
    $EGID = 1023 1023

Perl module toolchain versions installed:

    Module              Have      
    ------------------- ----------
    CPAN                2.18      
    CPAN::Meta          2.150010  
    Cwd                 3.67      
    ExtUtils::CBuilder  0.280225  
    ExtUtils::Command   7.24      
    ExtUtils::Install   2.04      
    ExtUtils::MakeMaker 7.24      
    ExtUtils::Manifest  1.70      
    ExtUtils::ParseXS   3.34      
    File::Spec          3.67      
    JSON                2.90      
    JSON::PP            2.27400_02
    Module::Build       0.4222    
    Module::Signature   n/a       
    Parse::CPAN::Meta   2.150010  
    Test::Harness       3.38      
    Test::More          1.302085  
    YAML                1.23      
    YAML::Syck          1.30      
    version             0.9917    


--

Summary of my perl5 (revision 5 version 26 subversion 0) configuration:
   
  Platform:
    osname=freebsd
    osvers=10.3-release-p11
    archname=amd64-freebsd
    uname='freebsd cvrsnica-freebsd-101.herceg.de 10.3-release-p11 freebsd 10.3-release-p11 #0: mon oct 24 18:49:24 utc 2016 root@amd64-builder.daemonology.net:usrobjusrsrcsysgeneric amd64 '
    config_args='-ds -e -Dprefix=/usr/perl5.26.0-RC1p -Dcf_email=srezic@cpan.org -Doptimize=-O2 -pipe'
    hint=recommended
    useposix=true
    d_sigaction=define
    useithreads=undef
    usemultiplicity=undef
    use64bitint=define
    use64bitall=define
    uselongdouble=undef
    usemymalloc=n
    default_inc_excludes_dot=define
    bincompat5005=undef
  Compiler:
    cc='cc'
    ccflags ='-DHAS_FPSETMASK -DHAS_FLOATINGPOINT_H -fno-strict-aliasing -pipe -fstack-protector -I/usr/local/include -D_FORTIFY_SOURCE=2'
    optimize='-O2 -pipe'
    cppflags='-DHAS_FPSETMASK -DHAS_FLOATINGPOINT_H -fno-strict-aliasing -pipe -fstack-protector -I/usr/local/include'
    ccversion=''
    gccversion='4.2.1 Compatible FreeBSD Clang 3.4.1 (tags/RELEASE_34/dot1-final 208032)'
    gccosandvers=''
    intsize=4
    longsize=8
    ptrsize=8
    doublesize=8
    byteorder=12345678
    doublekind=3
    d_longlong=define
    longlongsize=8
    d_longdbl=define
    longdblsize=16
    longdblkind=3
    ivtype='long'
    ivsize=8
    nvtype='double'
    nvsize=8
    Off_t='off_t'
    lseeksize=8
    alignbytes=8
    prototype=define
  Linker and Libraries:
    ld='cc'
    ldflags ='-pthread -Wl,-E  -fstack-protector -L/usr/local/lib'
    libpth=/usr/lib /usr/local/lib /usr/include/clang/3.4.1 /usr/lib
    libs=-lpthread -lgdbm -lm -lcrypt -lutil -lc -lelf
    perllibs=-lpthread -lm -lcrypt -lutil -lc -lelf
    libc=
    so=so
    useshrplib=false
    libperl=libperl.a
    gnulibc_version=''
  Dynamic Linking:
    dlsrc=dl_dlopen.xs
    dlext=so
    d_dlsymun=undef
    ccdlflags=' '
    cccdlflags='-DPIC -fPIC'
    lddlflags='-shared  -L/usr/local/lib -fstack-protector'


Characteristics of this binary (from libperl): 
  Compile-time options:
    HAS_TIMES
    PERLIO_LAYERS
    PERL_COPY_ON_WRITE
    PERL_DONT_CREATE_GVSV
    PERL_MALLOC_WRAP
    PERL_OP_PARENT
    PERL_PRESERVE_IVUV
    USE_64_BIT_ALL
    USE_64_BIT_INT
    USE_LARGE_FILES
    USE_LOCALE
    USE_LOCALE_COLLATE
    USE_LOCALE_CTYPE
    USE_LOCALE_NUMERIC
    USE_LOCALE_TIME
    USE_PERLIO
    USE_PERL_ATOF
  Locally applied patches:
    RC1
  Built under freebsd
  Compiled at May 11 2017 23:10:24
  %ENV:
    PERL5LIB=""
    PERL5OPT=""
    PERL5_CPANPLUS_IS_RUNNING="45486"
    PERL5_CPAN_IS_RUNNING="45486"
    PERL5_CPAN_IS_RUNNING_IN_RECURSION="1696,45486"
    PERLDOC="-MPod::Perldoc::ToTextOverstrike"
    PERL_BATCH="yes"
    PERL_CANARY_STABILITY_NOPROMPT="1"
    PERL_CPAN_REPORTER_CONFIG="/var/tmp/cpansmoker-1023/2017051209/cpanreporter_002_config.ini"
    PERL_EXTUTILS_AUTOINSTALL="--defaultdeps"
    PERL_USE_UNSAFE_INC="1"
  @INC:
    /usr/perl5.26.0-RC1p/lib/site_perl/5.26.0/amd64-freebsd
    /usr/perl5.26.0-RC1p/lib/site_perl/5.26.0
    /usr/perl5.26.0-RC1p/lib/5.26.0/amd64-freebsd
    /usr/perl5.26.0-RC1p/lib/5.26.0
    .