Kubernetes-REST v0.02 Perl 5 v5.36.0 x86_64-linux
- Status
- Pass
- From
- Nedzad Hrnjica (NHRNJICA)
- Dist
-
Kubernetes-REST v0.02
- Platform
- Perl 5 v5.36.0 x86_64-linux
- Date
- 2022-07-26 17:27:37
- ID
- 3e33cfa6-0d08-11ed-815f-b4aa1cf29030
This distribution has been tested as part of the CPAN Testers
project, supporting the Perl programming language. See
http://wiki.cpantesters.org/ for more information or email
questions to cpan-testers-discuss@perl.org
--
Dear JLMARTIN,
This is a computer-generated report for Kubernetes-REST-0.02
on perl 5.36.0, created by App::cpanminus::reporter 0.17 (1.7046).
Thank you for uploading your work to CPAN. Congratulations!
All tests were successful.
Sections of this report:
* Tester comments
* Program output
* Prerequisites
* Environment and other context
------------------------------
TESTER COMMENTS
------------------------------
Additional comments from tester:
none provided
------------------------------
PROGRAM OUTPUT
------------------------------
Output from '':
Building and testing Kubernetes-REST-0.02
cp lib/Kubernetes/REST/Call/GetAutoscalingAPIGroup.pm blib/lib/Kubernetes/REST/Call/GetAutoscalingAPIGroup.pm
cp lib/Kubernetes/REST/Call/GetBatchAPIGroup.pm blib/lib/Kubernetes/REST/Call/GetBatchAPIGroup.pm
cp lib/Kubernetes/REST/Call/GetAdmissionregistrationAPIGroup.pm blib/lib/Kubernetes/REST/Call/GetAdmissionregistrationAPIGroup.pm
cp lib/Kubernetes/REST/Apiregistration.pm blib/lib/Kubernetes/REST/Apiregistration.pm
cp lib/Kubernetes/REST/Apiextensions.pm blib/lib/Kubernetes/REST/Apiextensions.pm
cp lib/Kubernetes/REST/Call/GetApiextensionsAPIGroup.pm blib/lib/Kubernetes/REST/Call/GetApiextensionsAPIGroup.pm
cp lib/Kubernetes/REST/Call/GetAppsAPIGroup.pm blib/lib/Kubernetes/REST/Call/GetAppsAPIGroup.pm
cp lib/Kubernetes/REST/AuthToken.pm blib/lib/Kubernetes/REST/AuthToken.pm
cp lib/Kubernetes/REST/Call/GetAuthenticationAPIGroup.pm blib/lib/Kubernetes/REST/Call/GetAuthenticationAPIGroup.pm
cp lib/Kubernetes/REST/Autoscaling.pm blib/lib/Kubernetes/REST/Autoscaling.pm
cp lib/Kubernetes/REST.pm blib/lib/Kubernetes/REST.pm
cp lib/Kubernetes/REST/Call/GetAuditregistrationAPIGroup.pm blib/lib/Kubernetes/REST/Call/GetAuditregistrationAPIGroup.pm
cp lib/Kubernetes/REST/Authentication.pm blib/lib/Kubernetes/REST/Authentication.pm
cp lib/Kubernetes/REST/Call/GetCodeVersion.pm blib/lib/Kubernetes/REST/Call/GetCodeVersion.pm
cp lib/Kubernetes/REST/Call/GetCoreAPIVersions.pm blib/lib/Kubernetes/REST/Call/GetCoreAPIVersions.pm
cp lib/Kubernetes/REST/Auditregistration.pm blib/lib/Kubernetes/REST/Auditregistration.pm
cp lib/Kubernetes/REST/Authorization.pm blib/lib/Kubernetes/REST/Authorization.pm
cp lib/Kubernetes/REST/Apis.pm blib/lib/Kubernetes/REST/Apis.pm
cp lib/Kubernetes/REST/Call/GetApiregistrationAPIGroup.pm blib/lib/Kubernetes/REST/Call/GetApiregistrationAPIGroup.pm
cp lib/Kubernetes/REST/Call/GetAPIVersions.pm blib/lib/Kubernetes/REST/Call/GetAPIVersions.pm
cp lib/Kubernetes/REST/Call/GetAllAPIVersions.pm blib/lib/Kubernetes/REST/Call/GetAllAPIVersions.pm
cp lib/Kubernetes/REST/Apps.pm blib/lib/Kubernetes/REST/Apps.pm
cp lib/Kubernetes/REST/Call/GetCoordinationAPIGroup.pm blib/lib/Kubernetes/REST/Call/GetCoordinationAPIGroup.pm
cp lib/Kubernetes/REST/Batch.pm blib/lib/Kubernetes/REST/Batch.pm
cp lib/Kubernetes/REST/Call/GetCertificatesAPIGroup.pm blib/lib/Kubernetes/REST/Call/GetCertificatesAPIGroup.pm
cp lib/Kubernetes/REST/Call/GetAuthorizationAPIGroup.pm blib/lib/Kubernetes/REST/Call/GetAuthorizationAPIGroup.pm
cp lib/Kubernetes/REST/Admissionregistration.pm blib/lib/Kubernetes/REST/Admissionregistration.pm
cp lib/Kubernetes/REST/Call/v1/Apiregistration/GetAPIResources.pm blib/lib/Kubernetes/REST/Call/v1/Apiregistration/GetAPIResources.pm
cp lib/Kubernetes/REST/Call/v1/Apiregistration/ReplaceAPIServiceStatus.pm blib/lib/Kubernetes/REST/Call/v1/Apiregistration/ReplaceAPIServiceStatus.pm
cp lib/Kubernetes/REST/Call/GetEventsAPIGroup.pm blib/lib/Kubernetes/REST/Call/GetEventsAPIGroup.pm
cp lib/Kubernetes/REST/Call/LogFileHandler.pm blib/lib/Kubernetes/REST/Call/LogFileHandler.pm
cp lib/Kubernetes/REST/Call/GetStorageAPIGroup.pm blib/lib/Kubernetes/REST/Call/GetStorageAPIGroup.pm
cp lib/Kubernetes/REST/Call/GetSchedulingAPIGroup.pm blib/lib/Kubernetes/REST/Call/GetSchedulingAPIGroup.pm
cp lib/Kubernetes/REST/Call/LogFileListHandler.pm blib/lib/Kubernetes/REST/Call/LogFileListHandler.pm
cp lib/Kubernetes/REST/Call/GetExtensionsAPIGroup.pm blib/lib/Kubernetes/REST/Call/GetExtensionsAPIGroup.pm
cp lib/Kubernetes/REST/Call/GetSettingsAPIGroup.pm blib/lib/Kubernetes/REST/Call/GetSettingsAPIGroup.pm
cp lib/Kubernetes/REST/Call/GetPolicyAPIGroup.pm blib/lib/Kubernetes/REST/Call/GetPolicyAPIGroup.pm
cp lib/Kubernetes/REST/Call/v1/Apiregistration/PatchAPIServiceStatus.pm blib/lib/Kubernetes/REST/Call/v1/Apiregistration/PatchAPIServiceStatus.pm
cp lib/Kubernetes/REST/Call/v1/Apiregistration/ReadAPIService.pm blib/lib/Kubernetes/REST/Call/v1/Apiregistration/ReadAPIService.pm
cp lib/Kubernetes/REST/Call/v1/Apiregistration/CreateAPIService.pm blib/lib/Kubernetes/REST/Call/v1/Apiregistration/CreateAPIService.pm
cp lib/Kubernetes/REST/Call/v1/Apiregistration/ListAPIService.pm blib/lib/Kubernetes/REST/Call/v1/Apiregistration/ListAPIService.pm
cp lib/Kubernetes/REST/Call/GetNetworkingAPIGroup.pm blib/lib/Kubernetes/REST/Call/GetNetworkingAPIGroup.pm
cp lib/Kubernetes/REST/Call/v1/Apiregistration/ReplaceAPIService.pm blib/lib/Kubernetes/REST/Call/v1/Apiregistration/ReplaceAPIService.pm
cp lib/Kubernetes/REST/Call/v1/Apiregistration/ReadAPIServiceStatus.pm blib/lib/Kubernetes/REST/Call/v1/Apiregistration/ReadAPIServiceStatus.pm
cp lib/Kubernetes/REST/Call/v1/Apiregistration/PatchAPIService.pm blib/lib/Kubernetes/REST/Call/v1/Apiregistration/PatchAPIService.pm
cp lib/Kubernetes/REST/Call/GetRbacAuthorizationAPIGroup.pm blib/lib/Kubernetes/REST/Call/GetRbacAuthorizationAPIGroup.pm
cp lib/Kubernetes/REST/Call/v1/Apiregistration/DeleteAPIService.pm blib/lib/Kubernetes/REST/Call/v1/Apiregistration/DeleteAPIService.pm
cp lib/Kubernetes/REST/Call/v1/Apiregistration/DeleteCollectionAPIService.pm blib/lib/Kubernetes/REST/Call/v1/Apiregistration/DeleteCollectionAPIService.pm
cp lib/Kubernetes/REST/Call/v1/Apps/GetAPIResources.pm blib/lib/Kubernetes/REST/Call/v1/Apps/GetAPIResources.pm
cp lib/Kubernetes/REST/Call/v1/Apps/DeleteNamespacedDeployment.pm blib/lib/Kubernetes/REST/Call/v1/Apps/DeleteNamespacedDeployment.pm
cp lib/Kubernetes/REST/Call/v1/Apps/DeleteCollectionNamespacedControllerRevision.pm blib/lib/Kubernetes/REST/Call/v1/Apps/DeleteCollectionNamespacedControllerRevision.pm
cp lib/Kubernetes/REST/Call/v1/Apps/CreateNamespacedDaemonSet.pm blib/lib/Kubernetes/REST/Call/v1/Apps/CreateNamespacedDaemonSet.pm
cp lib/Kubernetes/REST/Call/v1/Apiregistration/WatchAPIService.pm blib/lib/Kubernetes/REST/Call/v1/Apiregistration/WatchAPIService.pm
cp lib/Kubernetes/REST/Call/v1/Apps/CreateNamespacedControllerRevision.pm blib/lib/Kubernetes/REST/Call/v1/Apps/CreateNamespacedControllerRevision.pm
cp lib/Kubernetes/REST/Call/v1/Apps/CreateNamespacedDeployment.pm blib/lib/Kubernetes/REST/Call/v1/Apps/CreateNamespacedDeployment.pm
cp lib/Kubernetes/REST/Call/v1/Apps/DeleteNamespacedControllerRevision.pm blib/lib/Kubernetes/REST/Call/v1/Apps/DeleteNamespacedControllerRevision.pm
cp lib/Kubernetes/REST/Call/v1/Apps/CreateNamespacedStatefulSet.pm blib/lib/Kubernetes/REST/Call/v1/Apps/CreateNamespacedStatefulSet.pm
cp lib/Kubernetes/REST/Call/v1/Apps/DeleteNamespacedStatefulSet.pm blib/lib/Kubernetes/REST/Call/v1/Apps/DeleteNamespacedStatefulSet.pm
cp lib/Kubernetes/REST/Call/v1/Apps/DeleteCollectionNamespacedDaemonSet.pm blib/lib/Kubernetes/REST/Call/v1/Apps/DeleteCollectionNamespacedDaemonSet.pm
cp lib/Kubernetes/REST/Call/v1/Apps/DeleteNamespacedReplicaSet.pm blib/lib/Kubernetes/REST/Call/v1/Apps/DeleteNamespacedReplicaSet.pm
cp lib/Kubernetes/REST/Call/v1/Apps/DeleteCollectionNamespacedReplicaSet.pm blib/lib/Kubernetes/REST/Call/v1/Apps/DeleteCollectionNamespacedReplicaSet.pm
cp lib/Kubernetes/REST/Call/v1/Apiregistration/WatchAPIServiceList.pm blib/lib/Kubernetes/REST/Call/v1/Apiregistration/WatchAPIServiceList.pm
cp lib/Kubernetes/REST/Call/v1/Apps/DeleteNamespacedDaemonSet.pm blib/lib/Kubernetes/REST/Call/v1/Apps/DeleteNamespacedDaemonSet.pm
cp lib/Kubernetes/REST/Call/v1/Apps/DeleteCollectionNamespacedDeployment.pm blib/lib/Kubernetes/REST/Call/v1/Apps/DeleteCollectionNamespacedDeployment.pm
cp lib/Kubernetes/REST/Call/v1/Apps/DeleteCollectionNamespacedStatefulSet.pm blib/lib/Kubernetes/REST/Call/v1/Apps/DeleteCollectionNamespacedStatefulSet.pm
cp lib/Kubernetes/REST/Call/v1/Apps/CreateNamespacedReplicaSet.pm blib/lib/Kubernetes/REST/Call/v1/Apps/CreateNamespacedReplicaSet.pm
cp lib/Kubernetes/REST/Call/v1/Apps/ListControllerRevisionForAllNamespaces.pm blib/lib/Kubernetes/REST/Call/v1/Apps/ListControllerRevisionForAllNamespaces.pm
cp lib/Kubernetes/REST/Call/v1/Apps/ListNamespacedDaemonSet.pm blib/lib/Kubernetes/REST/Call/v1/Apps/ListNamespacedDaemonSet.pm
cp lib/Kubernetes/REST/Call/v1/Apps/PatchNamespacedDeploymentStatus.pm blib/lib/Kubernetes/REST/Call/v1/Apps/PatchNamespacedDeploymentStatus.pm
cp lib/Kubernetes/REST/Call/v1/Apps/ListStatefulSetForAllNamespaces.pm blib/lib/Kubernetes/REST/Call/v1/Apps/ListStatefulSetForAllNamespaces.pm
cp lib/Kubernetes/REST/Call/v1/Apps/PatchNamespacedReplicaSetStatus.pm blib/lib/Kubernetes/REST/Call/v1/Apps/PatchNamespacedReplicaSetStatus.pm
cp lib/Kubernetes/REST/Call/v1/Apps/PatchNamespacedDeployment.pm blib/lib/Kubernetes/REST/Call/v1/Apps/PatchNamespacedDeployment.pm
cp lib/Kubernetes/REST/Call/v1/Apps/PatchNamespacedDaemonSet.pm blib/lib/Kubernetes/REST/Call/v1/Apps/PatchNamespacedDaemonSet.pm
cp lib/Kubernetes/REST/Call/v1/Apps/PatchNamespacedReplicaSetScale.pm blib/lib/Kubernetes/REST/Call/v1/Apps/PatchNamespacedReplicaSetScale.pm
cp lib/Kubernetes/REST/Call/v1/Apps/ListNamespacedStatefulSet.pm blib/lib/Kubernetes/REST/Call/v1/Apps/ListNamespacedStatefulSet.pm
cp lib/Kubernetes/REST/Call/v1/Apps/ListNamespacedReplicaSet.pm blib/lib/Kubernetes/REST/Call/v1/Apps/ListNamespacedReplicaSet.pm
cp lib/Kubernetes/REST/Call/v1/Apps/ListDaemonSetForAllNamespaces.pm blib/lib/Kubernetes/REST/Call/v1/Apps/ListDaemonSetForAllNamespaces.pm
cp lib/Kubernetes/REST/Call/v1/Apps/ListNamespacedDeployment.pm blib/lib/Kubernetes/REST/Call/v1/Apps/ListNamespacedDeployment.pm
cp lib/Kubernetes/REST/Call/v1/Apps/ListDeploymentForAllNamespaces.pm blib/lib/Kubernetes/REST/Call/v1/Apps/ListDeploymentForAllNamespaces.pm
cp lib/Kubernetes/REST/Call/v1/Apps/PatchNamespacedControllerRevision.pm blib/lib/Kubernetes/REST/Call/v1/Apps/PatchNamespacedControllerRevision.pm
cp lib/Kubernetes/REST/Call/v1/Apps/PatchNamespacedReplicaSet.pm blib/lib/Kubernetes/REST/Call/v1/Apps/PatchNamespacedReplicaSet.pm
cp lib/Kubernetes/REST/Call/v1/Apps/ListNamespacedControllerRevision.pm blib/lib/Kubernetes/REST/Call/v1/Apps/ListNamespacedControllerRevision.pm
cp lib/Kubernetes/REST/Call/v1/Apps/ListReplicaSetForAllNamespaces.pm blib/lib/Kubernetes/REST/Call/v1/Apps/ListReplicaSetForAllNamespaces.pm
cp lib/Kubernetes/REST/Call/v1/Apps/PatchNamespacedDeploymentScale.pm blib/lib/Kubernetes/REST/Call/v1/Apps/PatchNamespacedDeploymentScale.pm
cp lib/Kubernetes/REST/Call/v1/Apps/PatchNamespacedDaemonSetStatus.pm blib/lib/Kubernetes/REST/Call/v1/Apps/PatchNamespacedDaemonSetStatus.pm
cp lib/Kubernetes/REST/Call/v1/Apps/ReadNamespacedDeploymentScale.pm blib/lib/Kubernetes/REST/Call/v1/Apps/ReadNamespacedDeploymentScale.pm
cp lib/Kubernetes/REST/Call/v1/Apps/ReadNamespacedReplicaSetScale.pm blib/lib/Kubernetes/REST/Call/v1/Apps/ReadNamespacedReplicaSetScale.pm
cp lib/Kubernetes/REST/Call/v1/Apps/ReplaceNamespacedDaemonSetStatus.pm blib/lib/Kubernetes/REST/Call/v1/Apps/ReplaceNamespacedDaemonSetStatus.pm
cp lib/Kubernetes/REST/Call/v1/Apps/ReplaceNamespacedDeployment.pm blib/lib/Kubernetes/REST/Call/v1/Apps/ReplaceNamespacedDeployment.pm
cp lib/Kubernetes/REST/Call/v1/Apps/ReadNamespacedReplicaSet.pm blib/lib/Kubernetes/REST/Call/v1/Apps/ReadNamespacedReplicaSet.pm
cp lib/Kubernetes/REST/Call/v1/Apps/ReadNamespacedStatefulSetStatus.pm blib/lib/Kubernetes/REST/Call/v1/Apps/ReadNamespacedStatefulSetStatus.pm
cp lib/Kubernetes/REST/Call/v1/Apps/ReadNamespacedDeployment.pm blib/lib/Kubernetes/REST/Call/v1/Apps/ReadNamespacedDeployment.pm
cp lib/Kubernetes/REST/Call/v1/Apps/ReadNamespacedDaemonSet.pm blib/lib/Kubernetes/REST/Call/v1/Apps/ReadNamespacedDaemonSet.pm
cp lib/Kubernetes/REST/Call/v1/Apps/ReadNamespacedStatefulSetScale.pm blib/lib/Kubernetes/REST/Call/v1/Apps/ReadNamespacedStatefulSetScale.pm
cp lib/Kubernetes/REST/Call/v1/Apps/ReadNamespacedDeploymentStatus.pm blib/lib/Kubernetes/REST/Call/v1/Apps/ReadNamespacedDeploymentStatus.pm
cp lib/Kubernetes/REST/Call/v1/Apps/PatchNamespacedStatefulSet.pm blib/lib/Kubernetes/REST/Call/v1/Apps/PatchNamespacedStatefulSet.pm
cp lib/Kubernetes/REST/Call/v1/Apps/ReadNamespacedStatefulSet.pm blib/lib/Kubernetes/REST/Call/v1/Apps/ReadNamespacedStatefulSet.pm
cp lib/Kubernetes/REST/Call/v1/Apps/ReplaceNamespacedDaemonSet.pm blib/lib/Kubernetes/REST/Call/v1/Apps/ReplaceNamespacedDaemonSet.pm
cp lib/Kubernetes/REST/Call/v1/Apps/ReadNamespacedDaemonSetStatus.pm blib/lib/Kubernetes/REST/Call/v1/Apps/ReadNamespacedDaemonSetStatus.pm
cp lib/Kubernetes/REST/Call/v1/Apps/ReplaceNamespacedControllerRevision.pm blib/lib/Kubernetes/REST/Call/v1/Apps/ReplaceNamespacedControllerRevision.pm
cp lib/Kubernetes/REST/Call/v1/Apps/ReadNamespacedControllerRevision.pm blib/lib/Kubernetes/REST/Call/v1/Apps/ReadNamespacedControllerRevision.pm
cp lib/Kubernetes/REST/Call/v1/Apps/PatchNamespacedStatefulSetScale.pm blib/lib/Kubernetes/REST/Call/v1/Apps/PatchNamespacedStatefulSetScale.pm
cp lib/Kubernetes/REST/Call/v1/Apps/ReadNamespacedReplicaSetStatus.pm blib/lib/Kubernetes/REST/Call/v1/Apps/ReadNamespacedReplicaSetStatus.pm
cp lib/Kubernetes/REST/Call/v1/Apps/PatchNamespacedStatefulSetStatus.pm blib/lib/Kubernetes/REST/Call/v1/Apps/PatchNamespacedStatefulSetStatus.pm
cp lib/Kubernetes/REST/Call/v1/Apps/WatchNamespacedDeployment.pm blib/lib/Kubernetes/REST/Call/v1/Apps/WatchNamespacedDeployment.pm
cp lib/Kubernetes/REST/Call/v1/Apps/WatchNamespacedReplicaSet.pm blib/lib/Kubernetes/REST/Call/v1/Apps/WatchNamespacedReplicaSet.pm
cp lib/Kubernetes/REST/Call/v1/Apps/ReplaceNamespacedReplicaSetScale.pm blib/lib/Kubernetes/REST/Call/v1/Apps/ReplaceNamespacedReplicaSetScale.pm
cp lib/Kubernetes/REST/Call/v1/Apps/WatchControllerRevisionListForAllNamespaces.pm blib/lib/Kubernetes/REST/Call/v1/Apps/WatchControllerRevisionListForAllNamespaces.pm
cp lib/Kubernetes/REST/Call/v1/Apps/ReplaceNamespacedDeploymentScale.pm blib/lib/Kubernetes/REST/Call/v1/Apps/ReplaceNamespacedDeploymentScale.pm
cp lib/Kubernetes/REST/Call/v1/Apps/WatchDaemonSetListForAllNamespaces.pm blib/lib/Kubernetes/REST/Call/v1/Apps/WatchDaemonSetListForAllNamespaces.pm
cp lib/Kubernetes/REST/Call/v1/Apps/ReplaceNamespacedStatefulSetStatus.pm blib/lib/Kubernetes/REST/Call/v1/Apps/ReplaceNamespacedStatefulSetStatus.pm
cp lib/Kubernetes/REST/Call/v1/Apps/ReplaceNamespacedStatefulSetScale.pm blib/lib/Kubernetes/REST/Call/v1/Apps/ReplaceNamespacedStatefulSetScale.pm
cp lib/Kubernetes/REST/Call/v1/Apps/ReplaceNamespacedDeploymentStatus.pm blib/lib/Kubernetes/REST/Call/v1/Apps/ReplaceNamespacedDeploymentStatus.pm
cp lib/Kubernetes/REST/Call/v1/Apps/ReplaceNamespacedStatefulSet.pm blib/lib/Kubernetes/REST/Call/v1/Apps/ReplaceNamespacedStatefulSet.pm
cp lib/Kubernetes/REST/Call/v1/Apps/WatchNamespacedControllerRevision.pm blib/lib/Kubernetes/REST/Call/v1/Apps/WatchNamespacedControllerRevision.pm
cp lib/Kubernetes/REST/Call/v1/Apps/ReplaceNamespacedReplicaSetStatus.pm blib/lib/Kubernetes/REST/Call/v1/Apps/ReplaceNamespacedReplicaSetStatus.pm
cp lib/Kubernetes/REST/Call/v1/Apps/WatchDeploymentListForAllNamespaces.pm blib/lib/Kubernetes/REST/Call/v1/Apps/WatchDeploymentListForAllNamespaces.pm
cp lib/Kubernetes/REST/Call/v1/Apps/WatchNamespacedDeploymentList.pm blib/lib/Kubernetes/REST/Call/v1/Apps/WatchNamespacedDeploymentList.pm
cp lib/Kubernetes/REST/Call/v1/Apps/WatchNamespacedControllerRevisionList.pm blib/lib/Kubernetes/REST/Call/v1/Apps/WatchNamespacedControllerRevisionList.pm
cp lib/Kubernetes/REST/Call/v1/Apps/WatchNamespacedDaemonSetList.pm blib/lib/Kubernetes/REST/Call/v1/Apps/WatchNamespacedDaemonSetList.pm
cp lib/Kubernetes/REST/Call/v1/Apps/ReplaceNamespacedReplicaSet.pm blib/lib/Kubernetes/REST/Call/v1/Apps/ReplaceNamespacedReplicaSet.pm
cp lib/Kubernetes/REST/Call/v1/Apps/WatchNamespacedDaemonSet.pm blib/lib/Kubernetes/REST/Call/v1/Apps/WatchNamespacedDaemonSet.pm
cp lib/Kubernetes/REST/Call/v1/Authentication/CreateTokenReview.pm blib/lib/Kubernetes/REST/Call/v1/Authentication/CreateTokenReview.pm
cp lib/Kubernetes/REST/Call/v1/Autoscaling/GetAPIResources.pm blib/lib/Kubernetes/REST/Call/v1/Autoscaling/GetAPIResources.pm
cp lib/Kubernetes/REST/Call/v1/Apps/WatchReplicaSetListForAllNamespaces.pm blib/lib/Kubernetes/REST/Call/v1/Apps/WatchReplicaSetListForAllNamespaces.pm
cp lib/Kubernetes/REST/Call/v1/Autoscaling/DeleteNamespacedHorizontalPodAutoscaler.pm blib/lib/Kubernetes/REST/Call/v1/Autoscaling/DeleteNamespacedHorizontalPodAutoscaler.pm
cp lib/Kubernetes/REST/Call/v1/Autoscaling/CreateNamespacedHorizontalPodAutoscaler.pm blib/lib/Kubernetes/REST/Call/v1/Autoscaling/CreateNamespacedHorizontalPodAutoscaler.pm
cp lib/Kubernetes/REST/Call/v1/Authorization/CreateSubjectAccessReview.pm blib/lib/Kubernetes/REST/Call/v1/Authorization/CreateSubjectAccessReview.pm
cp lib/Kubernetes/REST/Call/v1/Authentication/GetAPIResources.pm blib/lib/Kubernetes/REST/Call/v1/Authentication/GetAPIResources.pm
cp lib/Kubernetes/REST/Call/v1/Authorization/CreateSelfSubjectRulesReview.pm blib/lib/Kubernetes/REST/Call/v1/Authorization/CreateSelfSubjectRulesReview.pm
cp lib/Kubernetes/REST/Call/v1/Authorization/GetAPIResources.pm blib/lib/Kubernetes/REST/Call/v1/Authorization/GetAPIResources.pm
cp lib/Kubernetes/REST/Call/v1/Apps/WatchStatefulSetListForAllNamespaces.pm blib/lib/Kubernetes/REST/Call/v1/Apps/WatchStatefulSetListForAllNamespaces.pm
cp lib/Kubernetes/REST/Call/v1/Apps/WatchNamespacedReplicaSetList.pm blib/lib/Kubernetes/REST/Call/v1/Apps/WatchNamespacedReplicaSetList.pm
cp lib/Kubernetes/REST/Call/v1/Authorization/CreateNamespacedLocalSubjectAccessReview.pm blib/lib/Kubernetes/REST/Call/v1/Authorization/CreateNamespacedLocalSubjectAccessReview.pm
cp lib/Kubernetes/REST/Call/v1/Autoscaling/DeleteCollectionNamespacedHorizontalPodAutoscaler.pm blib/lib/Kubernetes/REST/Call/v1/Autoscaling/DeleteCollectionNamespacedHorizontalPodAutoscaler.pm
cp lib/Kubernetes/REST/Call/v1/Authorization/CreateSelfSubjectAccessReview.pm blib/lib/Kubernetes/REST/Call/v1/Authorization/CreateSelfSubjectAccessReview.pm
cp lib/Kubernetes/REST/Call/v1/Apps/WatchNamespacedStatefulSet.pm blib/lib/Kubernetes/REST/Call/v1/Apps/WatchNamespacedStatefulSet.pm
cp lib/Kubernetes/REST/Call/v1/Apps/WatchNamespacedStatefulSetList.pm blib/lib/Kubernetes/REST/Call/v1/Apps/WatchNamespacedStatefulSetList.pm
cp lib/Kubernetes/REST/Call/v1/Autoscaling/ListHorizontalPodAutoscalerForAllNamespaces.pm blib/lib/Kubernetes/REST/Call/v1/Autoscaling/ListHorizontalPodAutoscalerForAllNamespaces.pm
cp lib/Kubernetes/REST/Call/v1/Batch/GetAPIResources.pm blib/lib/Kubernetes/REST/Call/v1/Batch/GetAPIResources.pm
cp lib/Kubernetes/REST/Call/v1/Autoscaling/WatchNamespacedHorizontalPodAutoscalerList.pm blib/lib/Kubernetes/REST/Call/v1/Autoscaling/WatchNamespacedHorizontalPodAutoscalerList.pm
cp lib/Kubernetes/REST/Call/v1/Autoscaling/ReadNamespacedHorizontalPodAutoscalerStatus.pm blib/lib/Kubernetes/REST/Call/v1/Autoscaling/ReadNamespacedHorizontalPodAutoscalerStatus.pm
cp lib/Kubernetes/REST/Call/v1/Autoscaling/WatchHorizontalPodAutoscalerListForAllNamespaces.pm blib/lib/Kubernetes/REST/Call/v1/Autoscaling/WatchHorizontalPodAutoscalerListForAllNamespaces.pm
cp lib/Kubernetes/REST/Call/v1/Autoscaling/ReadNamespacedHorizontalPodAutoscaler.pm blib/lib/Kubernetes/REST/Call/v1/Autoscaling/ReadNamespacedHorizontalPodAutoscaler.pm
cp lib/Kubernetes/REST/Call/v1/Batch/DeleteNamespacedJob.pm blib/lib/Kubernetes/REST/Call/v1/Batch/DeleteNamespacedJob.pm
cp lib/Kubernetes/REST/Call/v1/Autoscaling/ListNamespacedHorizontalPodAutoscaler.pm blib/lib/Kubernetes/REST/Call/v1/Autoscaling/ListNamespacedHorizontalPodAutoscaler.pm
cp lib/Kubernetes/REST/Call/v1/Batch/ListNamespacedJob.pm blib/lib/Kubernetes/REST/Call/v1/Batch/ListNamespacedJob.pm
cp lib/Kubernetes/REST/Call/v1/Autoscaling/PatchNamespacedHorizontalPodAutoscaler.pm blib/lib/Kubernetes/REST/Call/v1/Autoscaling/PatchNamespacedHorizontalPodAutoscaler.pm
cp lib/Kubernetes/REST/Call/v1/Autoscaling/ReplaceNamespacedHorizontalPodAutoscalerStatus.pm blib/lib/Kubernetes/REST/Call/v1/Autoscaling/ReplaceNamespacedHorizontalPodAutoscalerStatus.pm
cp lib/Kubernetes/REST/Call/v1/Batch/ListJobForAllNamespaces.pm blib/lib/Kubernetes/REST/Call/v1/Batch/ListJobForAllNamespaces.pm
cp lib/Kubernetes/REST/Call/v1/Autoscaling/PatchNamespacedHorizontalPodAutoscalerStatus.pm blib/lib/Kubernetes/REST/Call/v1/Autoscaling/PatchNamespacedHorizontalPodAutoscalerStatus.pm
cp lib/Kubernetes/REST/Call/v1/Batch/CreateNamespacedJob.pm blib/lib/Kubernetes/REST/Call/v1/Batch/CreateNamespacedJob.pm
cp lib/Kubernetes/REST/Call/v1/Autoscaling/ReplaceNamespacedHorizontalPodAutoscaler.pm blib/lib/Kubernetes/REST/Call/v1/Autoscaling/ReplaceNamespacedHorizontalPodAutoscaler.pm
cp lib/Kubernetes/REST/Call/v1/Autoscaling/WatchNamespacedHorizontalPodAutoscaler.pm blib/lib/Kubernetes/REST/Call/v1/Autoscaling/WatchNamespacedHorizontalPodAutoscaler.pm
cp lib/Kubernetes/REST/Call/v1/Batch/PatchNamespacedJob.pm blib/lib/Kubernetes/REST/Call/v1/Batch/PatchNamespacedJob.pm
cp lib/Kubernetes/REST/Call/v1/Batch/DeleteCollectionNamespacedJob.pm blib/lib/Kubernetes/REST/Call/v1/Batch/DeleteCollectionNamespacedJob.pm
cp lib/Kubernetes/REST/Call/v1/Core/ConnectDeleteNamespacedServiceProxyWithPath.pm blib/lib/Kubernetes/REST/Call/v1/Core/ConnectDeleteNamespacedServiceProxyWithPath.pm
cp lib/Kubernetes/REST/Call/v1/Core/ConnectDeleteNodeProxyWithPath.pm blib/lib/Kubernetes/REST/Call/v1/Core/ConnectDeleteNodeProxyWithPath.pm
cp lib/Kubernetes/REST/Call/v1/Core/ConnectDeleteNamespacedPodProxyWithPath.pm blib/lib/Kubernetes/REST/Call/v1/Core/ConnectDeleteNamespacedPodProxyWithPath.pm
cp lib/Kubernetes/REST/Call/v1/Core/ConnectGetNamespacedPodAttach.pm blib/lib/Kubernetes/REST/Call/v1/Core/ConnectGetNamespacedPodAttach.pm
cp lib/Kubernetes/REST/Call/v1/Batch/ReplaceNamespacedJobStatus.pm blib/lib/Kubernetes/REST/Call/v1/Batch/ReplaceNamespacedJobStatus.pm
cp lib/Kubernetes/REST/Call/v1/Batch/ReplaceNamespacedJob.pm blib/lib/Kubernetes/REST/Call/v1/Batch/ReplaceNamespacedJob.pm
cp lib/Kubernetes/REST/Call/v1/Batch/WatchJobListForAllNamespaces.pm blib/lib/Kubernetes/REST/Call/v1/Batch/WatchJobListForAllNamespaces.pm
cp lib/Kubernetes/REST/Call/v1/Batch/ReadNamespacedJobStatus.pm blib/lib/Kubernetes/REST/Call/v1/Batch/ReadNamespacedJobStatus.pm
cp lib/Kubernetes/REST/Call/v1/Core/ConnectDeleteNamespacedServiceProxy.pm blib/lib/Kubernetes/REST/Call/v1/Core/ConnectDeleteNamespacedServiceProxy.pm
cp lib/Kubernetes/REST/Call/v1/Core/ConnectDeleteNamespacedPodProxy.pm blib/lib/Kubernetes/REST/Call/v1/Core/ConnectDeleteNamespacedPodProxy.pm
cp lib/Kubernetes/REST/Call/v1/Core/ConnectGetNamespacedPodExec.pm blib/lib/Kubernetes/REST/Call/v1/Core/ConnectGetNamespacedPodExec.pm
cp lib/Kubernetes/REST/Call/v1/Core/ConnectGetNamespacedPodPortforward.pm blib/lib/Kubernetes/REST/Call/v1/Core/ConnectGetNamespacedPodPortforward.pm
cp lib/Kubernetes/REST/Call/v1/Core/ConnectGetNamespacedPodProxyWithPath.pm blib/lib/Kubernetes/REST/Call/v1/Core/ConnectGetNamespacedPodProxyWithPath.pm
cp lib/Kubernetes/REST/Call/v1/Batch/WatchNamespacedJob.pm blib/lib/Kubernetes/REST/Call/v1/Batch/WatchNamespacedJob.pm
cp lib/Kubernetes/REST/Call/v1/Batch/WatchNamespacedJobList.pm blib/lib/Kubernetes/REST/Call/v1/Batch/WatchNamespacedJobList.pm
cp lib/Kubernetes/REST/Call/v1/Batch/PatchNamespacedJobStatus.pm blib/lib/Kubernetes/REST/Call/v1/Batch/PatchNamespacedJobStatus.pm
cp lib/Kubernetes/REST/Call/v1/Batch/ReadNamespacedJob.pm blib/lib/Kubernetes/REST/Call/v1/Batch/ReadNamespacedJob.pm
cp lib/Kubernetes/REST/Call/v1/Core/ConnectDeleteNodeProxy.pm blib/lib/Kubernetes/REST/Call/v1/Core/ConnectDeleteNodeProxy.pm
cp lib/Kubernetes/REST/Call/v1/Core/ConnectGetNamespacedPodProxy.pm blib/lib/Kubernetes/REST/Call/v1/Core/ConnectGetNamespacedPodProxy.pm
cp lib/Kubernetes/REST/Call/v1/Core/ConnectHeadNamespacedPodProxyWithPath.pm blib/lib/Kubernetes/REST/Call/v1/Core/ConnectHeadNamespacedPodProxyWithPath.pm
cp lib/Kubernetes/REST/Call/v1/Core/ConnectGetNamespacedServiceProxyWithPath.pm blib/lib/Kubernetes/REST/Call/v1/Core/ConnectGetNamespacedServiceProxyWithPath.pm
cp lib/Kubernetes/REST/Call/v1/Core/ConnectGetNodeProxyWithPath.pm blib/lib/Kubernetes/REST/Call/v1/Core/ConnectGetNodeProxyWithPath.pm
cp lib/Kubernetes/REST/Call/v1/Core/ConnectHeadNodeProxy.pm blib/lib/Kubernetes/REST/Call/v1/Core/ConnectHeadNodeProxy.pm
cp lib/Kubernetes/REST/Call/v1/Core/ConnectHeadNamespacedServiceProxy.pm blib/lib/Kubernetes/REST/Call/v1/Core/ConnectHeadNamespacedServiceProxy.pm
cp lib/Kubernetes/REST/Call/v1/Core/ConnectOptionsNodeProxy.pm blib/lib/Kubernetes/REST/Call/v1/Core/ConnectOptionsNodeProxy.pm
cp lib/Kubernetes/REST/Call/v1/Core/ConnectHeadNodeProxyWithPath.pm blib/lib/Kubernetes/REST/Call/v1/Core/ConnectHeadNodeProxyWithPath.pm
cp lib/Kubernetes/REST/Call/v1/Core/ConnectPatchNamespacedPodProxy.pm blib/lib/Kubernetes/REST/Call/v1/Core/ConnectPatchNamespacedPodProxy.pm
cp lib/Kubernetes/REST/Call/v1/Core/ConnectGetNamespacedServiceProxy.pm blib/lib/Kubernetes/REST/Call/v1/Core/ConnectGetNamespacedServiceProxy.pm
cp lib/Kubernetes/REST/Call/v1/Core/ConnectGetNodeProxy.pm blib/lib/Kubernetes/REST/Call/v1/Core/ConnectGetNodeProxy.pm
cp lib/Kubernetes/REST/Call/v1/Core/ConnectOptionsNamespacedPodProxy.pm blib/lib/Kubernetes/REST/Call/v1/Core/ConnectOptionsNamespacedPodProxy.pm
cp lib/Kubernetes/REST/Call/v1/Core/ConnectOptionsNamespacedServiceProxy.pm blib/lib/Kubernetes/REST/Call/v1/Core/ConnectOptionsNamespacedServiceProxy.pm
cp lib/Kubernetes/REST/Call/v1/Core/ConnectOptionsNamespacedPodProxyWithPath.pm blib/lib/Kubernetes/REST/Call/v1/Core/ConnectOptionsNamespacedPodProxyWithPath.pm
cp lib/Kubernetes/REST/Call/v1/Core/ConnectOptionsNodeProxyWithPath.pm blib/lib/Kubernetes/REST/Call/v1/Core/ConnectOptionsNodeProxyWithPath.pm
cp lib/Kubernetes/REST/Call/v1/Core/ConnectHeadNamespacedServiceProxyWithPath.pm blib/lib/Kubernetes/REST/Call/v1/Core/ConnectHeadNamespacedServiceProxyWithPath.pm
cp lib/Kubernetes/REST/Call/v1/Core/ConnectOptionsNamespacedServiceProxyWithPath.pm blib/lib/Kubernetes/REST/Call/v1/Core/ConnectOptionsNamespacedServiceProxyWithPath.pm
cp lib/Kubernetes/REST/Call/v1/Core/ConnectHeadNamespacedPodProxy.pm blib/lib/Kubernetes/REST/Call/v1/Core/ConnectHeadNamespacedPodProxy.pm
cp lib/Kubernetes/REST/Call/v1/Core/ConnectPatchNamespacedPodProxyWithPath.pm blib/lib/Kubernetes/REST/Call/v1/Core/ConnectPatchNamespacedPodProxyWithPath.pm
cp lib/Kubernetes/REST/Call/v1/Core/ConnectPostNamespacedPodProxyWithPath.pm blib/lib/Kubernetes/REST/Call/v1/Core/ConnectPostNamespacedPodProxyWithPath.pm
cp lib/Kubernetes/REST/Call/v1/Core/ConnectPatchNamespacedServiceProxyWithPath.pm blib/lib/Kubernetes/REST/Call/v1/Core/ConnectPatchNamespacedServiceProxyWithPath.pm
cp lib/Kubernetes/REST/Call/v1/Core/ConnectPatchNodeProxyWithPath.pm blib/lib/Kubernetes/REST/Call/v1/Core/ConnectPatchNodeProxyWithPath.pm
cp lib/Kubernetes/REST/Call/v1/Core/ConnectPutNamespacedServiceProxy.pm blib/lib/Kubernetes/REST/Call/v1/Core/ConnectPutNamespacedServiceProxy.pm
cp lib/Kubernetes/REST/Call/v1/Core/ConnectPatchNamespacedServiceProxy.pm blib/lib/Kubernetes/REST/Call/v1/Core/ConnectPatchNamespacedServiceProxy.pm
cp lib/Kubernetes/REST/Call/v1/Core/ConnectPutNamespacedPodProxyWithPath.pm blib/lib/Kubernetes/REST/Call/v1/Core/ConnectPutNamespacedPodProxyWithPath.pm
cp lib/Kubernetes/REST/Call/v1/Core/ConnectPostNamespacedPodExec.pm blib/lib/Kubernetes/REST/Call/v1/Core/ConnectPostNamespacedPodExec.pm
cp lib/Kubernetes/REST/Call/v1/Core/ConnectPostNamespacedPodProxy.pm blib/lib/Kubernetes/REST/Call/v1/Core/ConnectPostNamespacedPodProxy.pm
cp lib/Kubernetes/REST/Call/v1/Core/ConnectPostNamespacedServiceProxyWithPath.pm blib/lib/Kubernetes/REST/Call/v1/Core/ConnectPostNamespacedServiceProxyWithPath.pm
cp lib/Kubernetes/REST/Call/v1/Core/ConnectPatchNodeProxy.pm blib/lib/Kubernetes/REST/Call/v1/Core/ConnectPatchNodeProxy.pm
cp lib/Kubernetes/REST/Call/v1/Core/ConnectPutNamespacedServiceProxyWithPath.pm blib/lib/Kubernetes/REST/Call/v1/Core/ConnectPutNamespacedServiceProxyWithPath.pm
cp lib/Kubernetes/REST/Call/v1/Core/ConnectPostNamespacedPodAttach.pm blib/lib/Kubernetes/REST/Call/v1/Core/ConnectPostNamespacedPodAttach.pm
cp lib/Kubernetes/REST/Call/v1/Core/ConnectPutNamespacedPodProxy.pm blib/lib/Kubernetes/REST/Call/v1/Core/ConnectPutNamespacedPodProxy.pm
cp lib/Kubernetes/REST/Call/v1/Core/ConnectPutNodeProxy.pm blib/lib/Kubernetes/REST/Call/v1/Core/ConnectPutNodeProxy.pm
cp lib/Kubernetes/REST/Call/v1/Core/ConnectPostNodeProxy.pm blib/lib/Kubernetes/REST/Call/v1/Core/ConnectPostNodeProxy.pm
cp lib/Kubernetes/REST/Call/v1/Core/ConnectPostNamespacedServiceProxy.pm blib/lib/Kubernetes/REST/Call/v1/Core/ConnectPostNamespacedServiceProxy.pm
cp lib/Kubernetes/REST/Call/v1/Core/ConnectPostNamespacedPodPortforward.pm blib/lib/Kubernetes/REST/Call/v1/Core/ConnectPostNamespacedPodPortforward.pm
cp lib/Kubernetes/REST/Call/v1/Core/ConnectPostNodeProxyWithPath.pm blib/lib/Kubernetes/REST/Call/v1/Core/ConnectPostNodeProxyWithPath.pm
cp lib/Kubernetes/REST/Call/v1/Core/CreateNamespacedEndpoints.pm blib/lib/Kubernetes/REST/Call/v1/Core/CreateNamespacedEndpoints.pm
cp lib/Kubernetes/REST/Call/v1/Core/CreateNode.pm blib/lib/Kubernetes/REST/Call/v1/Core/CreateNode.pm
cp lib/Kubernetes/REST/Call/v1/Core/CreateNamespacedReplicationController.pm blib/lib/Kubernetes/REST/Call/v1/Core/CreateNamespacedReplicationController.pm
cp lib/Kubernetes/REST/Call/v1/Core/CreateNamespacedServiceAccount.pm blib/lib/Kubernetes/REST/Call/v1/Core/CreateNamespacedServiceAccount.pm
cp lib/Kubernetes/REST/Call/v1/Core/CreateNamespacedEvent.pm blib/lib/Kubernetes/REST/Call/v1/Core/CreateNamespacedEvent.pm
cp lib/Kubernetes/REST/Call/v1/Core/CreateNamespacedPodTemplate.pm blib/lib/Kubernetes/REST/Call/v1/Core/CreateNamespacedPodTemplate.pm
cp lib/Kubernetes/REST/Call/v1/Core/CreateNamespacedPod.pm blib/lib/Kubernetes/REST/Call/v1/Core/CreateNamespacedPod.pm
cp lib/Kubernetes/REST/Call/v1/Core/CreateNamespacedLimitRange.pm blib/lib/Kubernetes/REST/Call/v1/Core/CreateNamespacedLimitRange.pm
cp lib/Kubernetes/REST/Call/v1/Core/CreateNamespacedConfigMap.pm blib/lib/Kubernetes/REST/Call/v1/Core/CreateNamespacedConfigMap.pm
cp lib/Kubernetes/REST/Call/v1/Core/CreateNamespace.pm blib/lib/Kubernetes/REST/Call/v1/Core/CreateNamespace.pm
cp lib/Kubernetes/REST/Call/v1/Core/CreateNamespacedService.pm blib/lib/Kubernetes/REST/Call/v1/Core/CreateNamespacedService.pm
cp lib/Kubernetes/REST/Call/v1/Core/CreateNamespacedResourceQuota.pm blib/lib/Kubernetes/REST/Call/v1/Core/CreateNamespacedResourceQuota.pm
cp lib/Kubernetes/REST/Call/v1/Core/CreateNamespacedPodEviction.pm blib/lib/Kubernetes/REST/Call/v1/Core/CreateNamespacedPodEviction.pm
cp lib/Kubernetes/REST/Call/v1/Core/CreatePersistentVolume.pm blib/lib/Kubernetes/REST/Call/v1/Core/CreatePersistentVolume.pm
cp lib/Kubernetes/REST/Call/v1/Core/CreateNamespacedSecret.pm blib/lib/Kubernetes/REST/Call/v1/Core/CreateNamespacedSecret.pm
cp lib/Kubernetes/REST/Call/v1/Core/ConnectPutNodeProxyWithPath.pm blib/lib/Kubernetes/REST/Call/v1/Core/ConnectPutNodeProxyWithPath.pm
cp lib/Kubernetes/REST/Call/v1/Core/CreateNamespacedPersistentVolumeClaim.pm blib/lib/Kubernetes/REST/Call/v1/Core/CreateNamespacedPersistentVolumeClaim.pm
cp lib/Kubernetes/REST/Call/v1/Core/CreateNamespacedBinding.pm blib/lib/Kubernetes/REST/Call/v1/Core/CreateNamespacedBinding.pm
cp lib/Kubernetes/REST/Call/v1/Core/CreateNamespacedPodBinding.pm blib/lib/Kubernetes/REST/Call/v1/Core/CreateNamespacedPodBinding.pm
cp lib/Kubernetes/REST/Call/v1/Core/DeleteNamespacedEndpoints.pm blib/lib/Kubernetes/REST/Call/v1/Core/DeleteNamespacedEndpoints.pm
cp lib/Kubernetes/REST/Call/v1/Core/DeleteCollectionNamespacedEvent.pm blib/lib/Kubernetes/REST/Call/v1/Core/DeleteCollectionNamespacedEvent.pm
cp lib/Kubernetes/REST/Call/v1/Core/DeleteCollectionNamespacedPod.pm blib/lib/Kubernetes/REST/Call/v1/Core/DeleteCollectionNamespacedPod.pm
cp lib/Kubernetes/REST/Call/v1/Core/DeleteNamespacedEvent.pm blib/lib/Kubernetes/REST/Call/v1/Core/DeleteNamespacedEvent.pm
cp lib/Kubernetes/REST/Call/v1/Core/DeleteCollectionNamespacedResourceQuota.pm blib/lib/Kubernetes/REST/Call/v1/Core/DeleteCollectionNamespacedResourceQuota.pm
cp lib/Kubernetes/REST/Call/v1/Core/DeleteNamespace.pm blib/lib/Kubernetes/REST/Call/v1/Core/DeleteNamespace.pm
cp lib/Kubernetes/REST/Call/v1/Core/DeleteCollectionNamespacedEndpoints.pm blib/lib/Kubernetes/REST/Call/v1/Core/DeleteCollectionNamespacedEndpoints.pm
cp lib/Kubernetes/REST/Call/v1/Core/DeleteCollectionNamespacedSecret.pm blib/lib/Kubernetes/REST/Call/v1/Core/DeleteCollectionNamespacedSecret.pm
cp lib/Kubernetes/REST/Call/v1/Core/DeleteCollectionNamespacedReplicationController.pm blib/lib/Kubernetes/REST/Call/v1/Core/DeleteCollectionNamespacedReplicationController.pm
cp lib/Kubernetes/REST/Call/v1/Core/DeleteCollectionNamespacedPodTemplate.pm blib/lib/Kubernetes/REST/Call/v1/Core/DeleteCollectionNamespacedPodTemplate.pm
cp lib/Kubernetes/REST/Call/v1/Core/DeleteCollectionNamespacedServiceAccount.pm blib/lib/Kubernetes/REST/Call/v1/Core/DeleteCollectionNamespacedServiceAccount.pm
cp lib/Kubernetes/REST/Call/v1/Core/DeleteCollectionNamespacedConfigMap.pm blib/lib/Kubernetes/REST/Call/v1/Core/DeleteCollectionNamespacedConfigMap.pm
cp lib/Kubernetes/REST/Call/v1/Core/DeleteCollectionNode.pm blib/lib/Kubernetes/REST/Call/v1/Core/DeleteCollectionNode.pm
cp lib/Kubernetes/REST/Call/v1/Core/DeleteCollectionPersistentVolume.pm blib/lib/Kubernetes/REST/Call/v1/Core/DeleteCollectionPersistentVolume.pm
cp lib/Kubernetes/REST/Call/v1/Core/DeleteCollectionNamespacedLimitRange.pm blib/lib/Kubernetes/REST/Call/v1/Core/DeleteCollectionNamespacedLimitRange.pm
cp lib/Kubernetes/REST/Call/v1/Core/DeleteNamespacedLimitRange.pm blib/lib/Kubernetes/REST/Call/v1/Core/DeleteNamespacedLimitRange.pm
cp lib/Kubernetes/REST/Call/v1/Core/DeleteCollectionNamespacedPersistentVolumeClaim.pm blib/lib/Kubernetes/REST/Call/v1/Core/DeleteCollectionNamespacedPersistentVolumeClaim.pm
cp lib/Kubernetes/REST/Call/v1/Core/DeleteNamespacedConfigMap.pm blib/lib/Kubernetes/REST/Call/v1/Core/DeleteNamespacedConfigMap.pm
cp lib/Kubernetes/REST/Call/v1/Core/DeleteNamespacedPodTemplate.pm blib/lib/Kubernetes/REST/Call/v1/Core/DeleteNamespacedPodTemplate.pm
cp lib/Kubernetes/REST/Call/v1/Core/ListEventForAllNamespaces.pm blib/lib/Kubernetes/REST/Call/v1/Core/ListEventForAllNamespaces.pm
cp lib/Kubernetes/REST/Call/v1/Core/ListEndpointsForAllNamespaces.pm blib/lib/Kubernetes/REST/Call/v1/Core/ListEndpointsForAllNamespaces.pm
cp lib/Kubernetes/REST/Call/v1/Core/DeletePersistentVolume.pm blib/lib/Kubernetes/REST/Call/v1/Core/DeletePersistentVolume.pm
cp lib/Kubernetes/REST/Call/v1/Core/DeleteNamespacedReplicationController.pm blib/lib/Kubernetes/REST/Call/v1/Core/DeleteNamespacedReplicationController.pm
cp lib/Kubernetes/REST/Call/v1/Core/DeleteNamespacedResourceQuota.pm blib/lib/Kubernetes/REST/Call/v1/Core/DeleteNamespacedResourceQuota.pm
cp lib/Kubernetes/REST/Call/v1/Core/DeleteNamespacedPod.pm blib/lib/Kubernetes/REST/Call/v1/Core/DeleteNamespacedPod.pm
cp lib/Kubernetes/REST/Call/v1/Core/ListNamespacedEndpoints.pm blib/lib/Kubernetes/REST/Call/v1/Core/ListNamespacedEndpoints.pm
cp lib/Kubernetes/REST/Call/v1/Core/GetAPIResources.pm blib/lib/Kubernetes/REST/Call/v1/Core/GetAPIResources.pm
cp lib/Kubernetes/REST/Call/v1/Core/DeleteNode.pm blib/lib/Kubernetes/REST/Call/v1/Core/DeleteNode.pm
cp lib/Kubernetes/REST/Call/v1/Core/ListLimitRangeForAllNamespaces.pm blib/lib/Kubernetes/REST/Call/v1/Core/ListLimitRangeForAllNamespaces.pm
cp lib/Kubernetes/REST/Call/v1/Core/DeleteNamespacedService.pm blib/lib/Kubernetes/REST/Call/v1/Core/DeleteNamespacedService.pm
cp lib/Kubernetes/REST/Call/v1/Core/DeleteNamespacedPersistentVolumeClaim.pm blib/lib/Kubernetes/REST/Call/v1/Core/DeleteNamespacedPersistentVolumeClaim.pm
cp lib/Kubernetes/REST/Call/v1/Core/ListNamespace.pm blib/lib/Kubernetes/REST/Call/v1/Core/ListNamespace.pm
cp lib/Kubernetes/REST/Call/v1/Core/ListNamespacedEvent.pm blib/lib/Kubernetes/REST/Call/v1/Core/ListNamespacedEvent.pm
cp lib/Kubernetes/REST/Call/v1/Core/DeleteNamespacedSecret.pm blib/lib/Kubernetes/REST/Call/v1/Core/DeleteNamespacedSecret.pm
cp lib/Kubernetes/REST/Call/v1/Core/ListNamespacedConfigMap.pm blib/lib/Kubernetes/REST/Call/v1/Core/ListNamespacedConfigMap.pm
cp lib/Kubernetes/REST/Call/v1/Core/ListConfigMapForAllNamespaces.pm blib/lib/Kubernetes/REST/Call/v1/Core/ListConfigMapForAllNamespaces.pm
cp lib/Kubernetes/REST/Call/v1/Core/ListComponentStatus.pm blib/lib/Kubernetes/REST/Call/v1/Core/ListComponentStatus.pm
cp lib/Kubernetes/REST/Call/v1/Core/DeleteNamespacedServiceAccount.pm blib/lib/Kubernetes/REST/Call/v1/Core/DeleteNamespacedServiceAccount.pm
cp lib/Kubernetes/REST/Call/v1/Core/ListNamespacedResourceQuota.pm blib/lib/Kubernetes/REST/Call/v1/Core/ListNamespacedResourceQuota.pm
cp lib/Kubernetes/REST/Call/v1/Core/ListServiceAccountForAllNamespaces.pm blib/lib/Kubernetes/REST/Call/v1/Core/ListServiceAccountForAllNamespaces.pm
cp lib/Kubernetes/REST/Call/v1/Core/ListPodTemplateForAllNamespaces.pm blib/lib/Kubernetes/REST/Call/v1/Core/ListPodTemplateForAllNamespaces.pm
cp lib/Kubernetes/REST/Call/v1/Core/ListNamespacedPersistentVolumeClaim.pm blib/lib/Kubernetes/REST/Call/v1/Core/ListNamespacedPersistentVolumeClaim.pm
cp lib/Kubernetes/REST/Call/v1/Core/ListNamespacedLimitRange.pm blib/lib/Kubernetes/REST/Call/v1/Core/ListNamespacedLimitRange.pm
cp lib/Kubernetes/REST/Call/v1/Core/ListNamespacedPod.pm blib/lib/Kubernetes/REST/Call/v1/Core/ListNamespacedPod.pm
cp lib/Kubernetes/REST/Call/v1/Core/ListNamespacedSecret.pm blib/lib/Kubernetes/REST/Call/v1/Core/ListNamespacedSecret.pm
cp lib/Kubernetes/REST/Call/v1/Core/ListNamespacedPodTemplate.pm blib/lib/Kubernetes/REST/Call/v1/Core/ListNamespacedPodTemplate.pm
cp lib/Kubernetes/REST/Call/v1/Core/ListResourceQuotaForAllNamespaces.pm blib/lib/Kubernetes/REST/Call/v1/Core/ListResourceQuotaForAllNamespaces.pm
cp lib/Kubernetes/REST/Call/v1/Core/ListPersistentVolume.pm blib/lib/Kubernetes/REST/Call/v1/Core/ListPersistentVolume.pm
cp lib/Kubernetes/REST/Call/v1/Core/ListPodForAllNamespaces.pm blib/lib/Kubernetes/REST/Call/v1/Core/ListPodForAllNamespaces.pm
cp lib/Kubernetes/REST/Call/v1/Core/ListNode.pm blib/lib/Kubernetes/REST/Call/v1/Core/ListNode.pm
cp lib/Kubernetes/REST/Call/v1/Core/ListNamespacedReplicationController.pm blib/lib/Kubernetes/REST/Call/v1/Core/ListNamespacedReplicationController.pm
cp lib/Kubernetes/REST/Call/v1/Core/ListNamespacedServiceAccount.pm blib/lib/Kubernetes/REST/Call/v1/Core/ListNamespacedServiceAccount.pm
cp lib/Kubernetes/REST/Call/v1/Core/ListReplicationControllerForAllNamespaces.pm blib/lib/Kubernetes/REST/Call/v1/Core/ListReplicationControllerForAllNamespaces.pm
cp lib/Kubernetes/REST/Call/v1/Core/ListSecretForAllNamespaces.pm blib/lib/Kubernetes/REST/Call/v1/Core/ListSecretForAllNamespaces.pm
cp lib/Kubernetes/REST/Call/v1/Core/ListServiceForAllNamespaces.pm blib/lib/Kubernetes/REST/Call/v1/Core/ListServiceForAllNamespaces.pm
cp lib/Kubernetes/REST/Call/v1/Core/ListPersistentVolumeClaimForAllNamespaces.pm blib/lib/Kubernetes/REST/Call/v1/Core/ListPersistentVolumeClaimForAllNamespaces.pm
cp lib/Kubernetes/REST/Call/v1/Core/ListNamespacedService.pm blib/lib/Kubernetes/REST/Call/v1/Core/ListNamespacedService.pm
cp lib/Kubernetes/REST/Call/v1/Core/PatchNamespacedSecret.pm blib/lib/Kubernetes/REST/Call/v1/Core/PatchNamespacedSecret.pm
cp lib/Kubernetes/REST/Call/v1/Core/PatchNamespacedEndpoints.pm blib/lib/Kubernetes/REST/Call/v1/Core/PatchNamespacedEndpoints.pm
cp lib/Kubernetes/REST/Call/v1/Core/PatchNamespacedPersistentVolumeClaimStatus.pm blib/lib/Kubernetes/REST/Call/v1/Core/PatchNamespacedPersistentVolumeClaimStatus.pm
cp lib/Kubernetes/REST/Call/v1/Core/PatchNamespacedEvent.pm blib/lib/Kubernetes/REST/Call/v1/Core/PatchNamespacedEvent.pm
cp lib/Kubernetes/REST/Call/v1/Core/PatchNamespacedReplicationController.pm blib/lib/Kubernetes/REST/Call/v1/Core/PatchNamespacedReplicationController.pm
cp lib/Kubernetes/REST/Call/v1/Core/PatchNamespace.pm blib/lib/Kubernetes/REST/Call/v1/Core/PatchNamespace.pm
cp lib/Kubernetes/REST/Call/v1/Core/PatchNamespacedLimitRange.pm blib/lib/Kubernetes/REST/Call/v1/Core/PatchNamespacedLimitRange.pm
cp lib/Kubernetes/REST/Call/v1/Core/PatchNamespacedResourceQuota.pm blib/lib/Kubernetes/REST/Call/v1/Core/PatchNamespacedResourceQuota.pm
cp lib/Kubernetes/REST/Call/v1/Core/PatchNamespacedReplicationControllerScale.pm blib/lib/Kubernetes/REST/Call/v1/Core/PatchNamespacedReplicationControllerScale.pm
cp lib/Kubernetes/REST/Call/v1/Core/PatchNamespacedService.pm blib/lib/Kubernetes/REST/Call/v1/Core/PatchNamespacedService.pm
cp lib/Kubernetes/REST/Call/v1/Core/PatchNamespacedPodStatus.pm blib/lib/Kubernetes/REST/Call/v1/Core/PatchNamespacedPodStatus.pm
cp lib/Kubernetes/REST/Call/v1/Core/PatchNamespacedPodTemplate.pm blib/lib/Kubernetes/REST/Call/v1/Core/PatchNamespacedPodTemplate.pm
cp lib/Kubernetes/REST/Call/v1/Core/PatchNamespacedPod.pm blib/lib/Kubernetes/REST/Call/v1/Core/PatchNamespacedPod.pm
cp lib/Kubernetes/REST/Call/v1/Core/PatchNamespacedServiceAccount.pm blib/lib/Kubernetes/REST/Call/v1/Core/PatchNamespacedServiceAccount.pm
cp lib/Kubernetes/REST/Call/v1/Core/PatchNamespacedPersistentVolumeClaim.pm blib/lib/Kubernetes/REST/Call/v1/Core/PatchNamespacedPersistentVolumeClaim.pm
cp lib/Kubernetes/REST/Call/v1/Core/PatchNamespacedResourceQuotaStatus.pm blib/lib/Kubernetes/REST/Call/v1/Core/PatchNamespacedResourceQuotaStatus.pm
cp lib/Kubernetes/REST/Call/v1/Core/PatchNamespaceStatus.pm blib/lib/Kubernetes/REST/Call/v1/Core/PatchNamespaceStatus.pm
cp lib/Kubernetes/REST/Call/v1/Core/PatchNamespacedConfigMap.pm blib/lib/Kubernetes/REST/Call/v1/Core/PatchNamespacedConfigMap.pm
cp lib/Kubernetes/REST/Call/v1/Core/PatchNamespacedReplicationControllerStatus.pm blib/lib/Kubernetes/REST/Call/v1/Core/PatchNamespacedReplicationControllerStatus.pm
cp lib/Kubernetes/REST/Call/v1/Core/ReadNamespaceStatus.pm blib/lib/Kubernetes/REST/Call/v1/Core/ReadNamespaceStatus.pm
cp lib/Kubernetes/REST/Call/v1/Core/ReadNamespacedReplicationControllerScale.pm blib/lib/Kubernetes/REST/Call/v1/Core/ReadNamespacedReplicationControllerScale.pm
cp lib/Kubernetes/REST/Call/v1/Core/ReadNamespacedReplicationController.pm blib/lib/Kubernetes/REST/Call/v1/Core/ReadNamespacedReplicationController.pm
cp lib/Kubernetes/REST/Call/v1/Core/ReadComponentStatus.pm blib/lib/Kubernetes/REST/Call/v1/Core/ReadComponentStatus.pm
cp lib/Kubernetes/REST/Call/v1/Core/ReadNamespacedPersistentVolumeClaimStatus.pm blib/lib/Kubernetes/REST/Call/v1/Core/ReadNamespacedPersistentVolumeClaimStatus.pm
cp lib/Kubernetes/REST/Call/v1/Core/PatchNamespacedServiceStatus.pm blib/lib/Kubernetes/REST/Call/v1/Core/PatchNamespacedServiceStatus.pm
cp lib/Kubernetes/REST/Call/v1/Core/ReadNamespacedEvent.pm blib/lib/Kubernetes/REST/Call/v1/Core/ReadNamespacedEvent.pm
cp lib/Kubernetes/REST/Call/v1/Core/ReadNamespacedEndpoints.pm blib/lib/Kubernetes/REST/Call/v1/Core/ReadNamespacedEndpoints.pm
cp lib/Kubernetes/REST/Call/v1/Core/ReadNamespacedPod.pm blib/lib/Kubernetes/REST/Call/v1/Core/ReadNamespacedPod.pm
cp lib/Kubernetes/REST/Call/v1/Core/ReadNamespacedPodLog.pm blib/lib/Kubernetes/REST/Call/v1/Core/ReadNamespacedPodLog.pm
cp lib/Kubernetes/REST/Call/v1/Core/ReadNamespacedPodStatus.pm blib/lib/Kubernetes/REST/Call/v1/Core/ReadNamespacedPodStatus.pm
cp lib/Kubernetes/REST/Call/v1/Core/ReadNamespacedLimitRange.pm blib/lib/Kubernetes/REST/Call/v1/Core/ReadNamespacedLimitRange.pm
cp lib/Kubernetes/REST/Call/v1/Core/PatchNode.pm blib/lib/Kubernetes/REST/Call/v1/Core/PatchNode.pm
cp lib/Kubernetes/REST/Call/v1/Core/ReadNamespacedPodTemplate.pm blib/lib/Kubernetes/REST/Call/v1/Core/ReadNamespacedPodTemplate.pm
cp lib/Kubernetes/REST/Call/v1/Core/ReadNamespacedPersistentVolumeClaim.pm blib/lib/Kubernetes/REST/Call/v1/Core/ReadNamespacedPersistentVolumeClaim.pm
cp lib/Kubernetes/REST/Call/v1/Core/ReadNamespacedConfigMap.pm blib/lib/Kubernetes/REST/Call/v1/Core/ReadNamespacedConfigMap.pm
cp lib/Kubernetes/REST/Call/v1/Core/PatchNodeStatus.pm blib/lib/Kubernetes/REST/Call/v1/Core/PatchNodeStatus.pm
cp lib/Kubernetes/REST/Call/v1/Core/PatchPersistentVolumeStatus.pm blib/lib/Kubernetes/REST/Call/v1/Core/PatchPersistentVolumeStatus.pm
cp lib/Kubernetes/REST/Call/v1/Core/ReadNamespace.pm blib/lib/Kubernetes/REST/Call/v1/Core/ReadNamespace.pm
cp lib/Kubernetes/REST/Call/v1/Core/PatchPersistentVolume.pm blib/lib/Kubernetes/REST/Call/v1/Core/PatchPersistentVolume.pm
cp lib/Kubernetes/REST/Call/v1/Core/ReadNamespacedResourceQuotaStatus.pm blib/lib/Kubernetes/REST/Call/v1/Core/ReadNamespacedResourceQuotaStatus.pm
cp lib/Kubernetes/REST/Call/v1/Core/ReplaceNamespace.pm blib/lib/Kubernetes/REST/Call/v1/Core/ReplaceNamespace.pm
cp lib/Kubernetes/REST/Call/v1/Core/ReadNamespacedServiceStatus.pm blib/lib/Kubernetes/REST/Call/v1/Core/ReadNamespacedServiceStatus.pm
cp lib/Kubernetes/REST/Call/v1/Core/ReadNamespacedService.pm blib/lib/Kubernetes/REST/Call/v1/Core/ReadNamespacedService.pm
cp lib/Kubernetes/REST/Call/v1/Core/ReadNamespacedResourceQuota.pm blib/lib/Kubernetes/REST/Call/v1/Core/ReadNamespacedResourceQuota.pm
cp lib/Kubernetes/REST/Call/v1/Core/ReadPersistentVolume.pm blib/lib/Kubernetes/REST/Call/v1/Core/ReadPersistentVolume.pm
cp lib/Kubernetes/REST/Call/v1/Core/ReadNamespacedReplicationControllerStatus.pm blib/lib/Kubernetes/REST/Call/v1/Core/ReadNamespacedReplicationControllerStatus.pm
cp lib/Kubernetes/REST/Call/v1/Core/ReplaceNamespacedEvent.pm blib/lib/Kubernetes/REST/Call/v1/Core/ReplaceNamespacedEvent.pm
cp lib/Kubernetes/REST/Call/v1/Core/ReplaceNamespaceFinalize.pm blib/lib/Kubernetes/REST/Call/v1/Core/ReplaceNamespaceFinalize.pm
cp lib/Kubernetes/REST/Call/v1/Core/ReadNode.pm blib/lib/Kubernetes/REST/Call/v1/Core/ReadNode.pm
cp lib/Kubernetes/REST/Call/v1/Core/ReadNodeStatus.pm blib/lib/Kubernetes/REST/Call/v1/Core/ReadNodeStatus.pm
cp lib/Kubernetes/REST/Call/v1/Core/ReadPersistentVolumeStatus.pm blib/lib/Kubernetes/REST/Call/v1/Core/ReadPersistentVolumeStatus.pm
cp lib/Kubernetes/REST/Call/v1/Core/ReplaceNamespaceStatus.pm blib/lib/Kubernetes/REST/Call/v1/Core/ReplaceNamespaceStatus.pm
cp lib/Kubernetes/REST/Call/v1/Core/ReplaceNamespacedConfigMap.pm blib/lib/Kubernetes/REST/Call/v1/Core/ReplaceNamespacedConfigMap.pm
cp lib/Kubernetes/REST/Call/v1/Core/ReplaceNamespacedEndpoints.pm blib/lib/Kubernetes/REST/Call/v1/Core/ReplaceNamespacedEndpoints.pm
cp lib/Kubernetes/REST/Call/v1/Core/ReplaceNamespacedLimitRange.pm blib/lib/Kubernetes/REST/Call/v1/Core/ReplaceNamespacedLimitRange.pm
cp lib/Kubernetes/REST/Call/v1/Core/ReadNamespacedSecret.pm blib/lib/Kubernetes/REST/Call/v1/Core/ReadNamespacedSecret.pm
cp lib/Kubernetes/REST/Call/v1/Core/ReplaceNamespacedPersistentVolumeClaim.pm blib/lib/Kubernetes/REST/Call/v1/Core/ReplaceNamespacedPersistentVolumeClaim.pm
cp lib/Kubernetes/REST/Call/v1/Core/ReadNamespacedServiceAccount.pm blib/lib/Kubernetes/REST/Call/v1/Core/ReadNamespacedServiceAccount.pm
cp lib/Kubernetes/REST/Call/v1/Core/ReplaceNamespacedPodTemplate.pm blib/lib/Kubernetes/REST/Call/v1/Core/ReplaceNamespacedPodTemplate.pm
cp lib/Kubernetes/REST/Call/v1/Core/ReplacePersistentVolumeStatus.pm blib/lib/Kubernetes/REST/Call/v1/Core/ReplacePersistentVolumeStatus.pm
cp lib/Kubernetes/REST/Call/v1/Core/ReplaceNamespacedPod.pm blib/lib/Kubernetes/REST/Call/v1/Core/ReplaceNamespacedPod.pm
cp lib/Kubernetes/REST/Call/v1/Core/ReplacePersistentVolume.pm blib/lib/Kubernetes/REST/Call/v1/Core/ReplacePersistentVolume.pm
cp lib/Kubernetes/REST/Call/v1/Core/ReplaceNamespacedService.pm blib/lib/Kubernetes/REST/Call/v1/Core/ReplaceNamespacedService.pm
cp lib/Kubernetes/REST/Call/v1/Core/ReplaceNamespacedServiceStatus.pm blib/lib/Kubernetes/REST/Call/v1/Core/ReplaceNamespacedServiceStatus.pm
cp lib/Kubernetes/REST/Call/v1/Core/ReplaceNamespacedResourceQuotaStatus.pm blib/lib/Kubernetes/REST/Call/v1/Core/ReplaceNamespacedResourceQuotaStatus.pm
cp lib/Kubernetes/REST/Call/v1/Core/ReplaceNodeStatus.pm blib/lib/Kubernetes/REST/Call/v1/Core/ReplaceNodeStatus.pm
cp lib/Kubernetes/REST/Call/v1/Core/ReplaceNamespacedPodStatus.pm blib/lib/Kubernetes/REST/Call/v1/Core/ReplaceNamespacedPodStatus.pm
cp lib/Kubernetes/REST/Call/v1/Core/ReplaceNamespacedResourceQuota.pm blib/lib/Kubernetes/REST/Call/v1/Core/ReplaceNamespacedResourceQuota.pm
cp lib/Kubernetes/REST/Call/v1/Core/ReplaceNamespacedReplicationController.pm blib/lib/Kubernetes/REST/Call/v1/Core/ReplaceNamespacedReplicationController.pm
cp lib/Kubernetes/REST/Call/v1/Core/ReplaceNode.pm blib/lib/Kubernetes/REST/Call/v1/Core/ReplaceNode.pm
cp lib/Kubernetes/REST/Call/v1/Core/ReplaceNamespacedPersistentVolumeClaimStatus.pm blib/lib/Kubernetes/REST/Call/v1/Core/ReplaceNamespacedPersistentVolumeClaimStatus.pm
cp lib/Kubernetes/REST/Call/v1/Core/ReplaceNamespacedServiceAccount.pm blib/lib/Kubernetes/REST/Call/v1/Core/ReplaceNamespacedServiceAccount.pm
cp lib/Kubernetes/REST/Call/v1/Core/ReplaceNamespacedReplicationControllerScale.pm blib/lib/Kubernetes/REST/Call/v1/Core/ReplaceNamespacedReplicationControllerScale.pm
cp lib/Kubernetes/REST/Call/v1/Core/ReplaceNamespacedSecret.pm blib/lib/Kubernetes/REST/Call/v1/Core/ReplaceNamespacedSecret.pm
cp lib/Kubernetes/REST/Call/v1/Core/WatchConfigMapListForAllNamespaces.pm blib/lib/Kubernetes/REST/Call/v1/Core/WatchConfigMapListForAllNamespaces.pm
cp lib/Kubernetes/REST/Call/v1/Core/ReplaceNamespacedReplicationControllerStatus.pm blib/lib/Kubernetes/REST/Call/v1/Core/ReplaceNamespacedReplicationControllerStatus.pm
cp lib/Kubernetes/REST/Call/v1/Core/WatchEndpointsListForAllNamespaces.pm blib/lib/Kubernetes/REST/Call/v1/Core/WatchEndpointsListForAllNamespaces.pm
cp lib/Kubernetes/REST/Call/v1/Core/WatchNamespacedPod.pm blib/lib/Kubernetes/REST/Call/v1/Core/WatchNamespacedPod.pm
cp lib/Kubernetes/REST/Call/v1/Core/WatchNamespacedPodList.pm blib/lib/Kubernetes/REST/Call/v1/Core/WatchNamespacedPodList.pm
cp lib/Kubernetes/REST/Call/v1/Core/WatchNamespacedPersistentVolumeClaimList.pm blib/lib/Kubernetes/REST/Call/v1/Core/WatchNamespacedPersistentVolumeClaimList.pm
cp lib/Kubernetes/REST/Call/v1/Core/WatchNamespace.pm blib/lib/Kubernetes/REST/Call/v1/Core/WatchNamespace.pm
cp lib/Kubernetes/REST/Call/v1/Core/WatchNamespacedEventList.pm blib/lib/Kubernetes/REST/Call/v1/Core/WatchNamespacedEventList.pm
cp lib/Kubernetes/REST/Call/v1/Core/WatchLimitRangeListForAllNamespaces.pm blib/lib/Kubernetes/REST/Call/v1/Core/WatchLimitRangeListForAllNamespaces.pm
cp lib/Kubernetes/REST/Call/v1/Core/WatchNamespacedLimitRange.pm blib/lib/Kubernetes/REST/Call/v1/Core/WatchNamespacedLimitRange.pm
cp lib/Kubernetes/REST/Call/v1/Core/WatchNamespacedPodTemplateList.pm blib/lib/Kubernetes/REST/Call/v1/Core/WatchNamespacedPodTemplateList.pm
cp lib/Kubernetes/REST/Call/v1/Core/WatchNamespacedPersistentVolumeClaim.pm blib/lib/Kubernetes/REST/Call/v1/Core/WatchNamespacedPersistentVolumeClaim.pm
cp lib/Kubernetes/REST/Call/v1/Core/WatchNamespacedEndpointsList.pm blib/lib/Kubernetes/REST/Call/v1/Core/WatchNamespacedEndpointsList.pm
cp lib/Kubernetes/REST/Call/v1/Core/WatchNamespacedPodTemplate.pm blib/lib/Kubernetes/REST/Call/v1/Core/WatchNamespacedPodTemplate.pm
cp lib/Kubernetes/REST/Call/v1/Core/WatchNamespaceList.pm blib/lib/Kubernetes/REST/Call/v1/Core/WatchNamespaceList.pm
cp lib/Kubernetes/REST/Call/v1/Core/WatchNamespacedConfigMap.pm blib/lib/Kubernetes/REST/Call/v1/Core/WatchNamespacedConfigMap.pm
cp lib/Kubernetes/REST/Call/v1/Core/WatchEventListForAllNamespaces.pm blib/lib/Kubernetes/REST/Call/v1/Core/WatchEventListForAllNamespaces.pm
cp lib/Kubernetes/REST/Call/v1/Core/WatchNamespacedEndpoints.pm blib/lib/Kubernetes/REST/Call/v1/Core/WatchNamespacedEndpoints.pm
cp lib/Kubernetes/REST/Call/v1/Core/WatchNamespacedLimitRangeList.pm blib/lib/Kubernetes/REST/Call/v1/Core/WatchNamespacedLimitRangeList.pm
cp lib/Kubernetes/REST/Call/v1/Core/WatchNamespacedConfigMapList.pm blib/lib/Kubernetes/REST/Call/v1/Core/WatchNamespacedConfigMapList.pm
cp lib/Kubernetes/REST/Call/v1/Core/WatchNamespacedEvent.pm blib/lib/Kubernetes/REST/Call/v1/Core/WatchNamespacedEvent.pm
cp lib/Kubernetes/REST/Call/v1/Core/WatchNamespacedResourceQuotaList.pm blib/lib/Kubernetes/REST/Call/v1/Core/WatchNamespacedResourceQuotaList.pm
cp lib/Kubernetes/REST/Call/v1/Core/WatchNode.pm blib/lib/Kubernetes/REST/Call/v1/Core/WatchNode.pm
cp lib/Kubernetes/REST/Call/v1/Core/WatchNamespacedSecret.pm blib/lib/Kubernetes/REST/Call/v1/Core/WatchNamespacedSecret.pm
cp lib/Kubernetes/REST/Call/v1/Core/WatchNodeList.pm blib/lib/Kubernetes/REST/Call/v1/Core/WatchNodeList.pm
cp lib/Kubernetes/REST/Call/v1/Core/WatchNamespacedService.pm blib/lib/Kubernetes/REST/Call/v1/Core/WatchNamespacedService.pm
cp lib/Kubernetes/REST/Call/v1/Core/WatchPersistentVolume.pm blib/lib/Kubernetes/REST/Call/v1/Core/WatchPersistentVolume.pm
cp lib/Kubernetes/REST/Call/v1/Core/WatchPersistentVolumeClaimListForAllNamespaces.pm blib/lib/Kubernetes/REST/Call/v1/Core/WatchPersistentVolumeClaimListForAllNamespaces.pm
cp lib/Kubernetes/REST/Call/v1/Core/WatchPersistentVolumeList.pm blib/lib/Kubernetes/REST/Call/v1/Core/WatchPersistentVolumeList.pm
cp lib/Kubernetes/REST/Call/v1/Core/WatchNamespacedResourceQuota.pm blib/lib/Kubernetes/REST/Call/v1/Core/WatchNamespacedResourceQuota.pm
cp lib/Kubernetes/REST/Call/v1/Core/WatchNamespacedServiceAccountList.pm blib/lib/Kubernetes/REST/Call/v1/Core/WatchNamespacedServiceAccountList.pm
cp lib/Kubernetes/REST/Call/v1/Core/WatchNamespacedServiceAccount.pm blib/lib/Kubernetes/REST/Call/v1/Core/WatchNamespacedServiceAccount.pm
cp lib/Kubernetes/REST/Call/v1/Core/WatchNamespacedSecretList.pm blib/lib/Kubernetes/REST/Call/v1/Core/WatchNamespacedSecretList.pm
cp lib/Kubernetes/REST/Call/v1/Core/WatchPodTemplateListForAllNamespaces.pm blib/lib/Kubernetes/REST/Call/v1/Core/WatchPodTemplateListForAllNamespaces.pm
cp lib/Kubernetes/REST/Call/v1/Core/WatchNamespacedReplicationController.pm blib/lib/Kubernetes/REST/Call/v1/Core/WatchNamespacedReplicationController.pm
cp lib/Kubernetes/REST/Call/v1/Core/WatchReplicationControllerListForAllNamespaces.pm blib/lib/Kubernetes/REST/Call/v1/Core/WatchReplicationControllerListForAllNamespaces.pm
cp lib/Kubernetes/REST/Call/v1/Core/WatchNamespacedReplicationControllerList.pm blib/lib/Kubernetes/REST/Call/v1/Core/WatchNamespacedReplicationControllerList.pm
cp lib/Kubernetes/REST/Call/v1/Core/WatchNamespacedServiceList.pm blib/lib/Kubernetes/REST/Call/v1/Core/WatchNamespacedServiceList.pm
cp lib/Kubernetes/REST/Call/v1/Core/WatchPodListForAllNamespaces.pm blib/lib/Kubernetes/REST/Call/v1/Core/WatchPodListForAllNamespaces.pm
cp lib/Kubernetes/REST/Call/v1/Networking/ReplaceNamespacedNetworkPolicy.pm blib/lib/Kubernetes/REST/Call/v1/Networking/ReplaceNamespacedNetworkPolicy.pm
cp lib/Kubernetes/REST/Call/v1/Networking/WatchNamespacedNetworkPolicyList.pm blib/lib/Kubernetes/REST/Call/v1/Networking/WatchNamespacedNetworkPolicyList.pm
cp lib/Kubernetes/REST/Call/v1/Networking/WatchNetworkPolicyListForAllNamespaces.pm blib/lib/Kubernetes/REST/Call/v1/Networking/WatchNetworkPolicyListForAllNamespaces.pm
cp lib/Kubernetes/REST/Call/v1/Networking/DeleteCollectionNamespacedNetworkPolicy.pm blib/lib/Kubernetes/REST/Call/v1/Networking/DeleteCollectionNamespacedNetworkPolicy.pm
cp lib/Kubernetes/REST/Call/v1/Core/WatchSecretListForAllNamespaces.pm blib/lib/Kubernetes/REST/Call/v1/Core/WatchSecretListForAllNamespaces.pm
cp lib/Kubernetes/REST/Call/v1/Networking/DeleteNamespacedNetworkPolicy.pm blib/lib/Kubernetes/REST/Call/v1/Networking/DeleteNamespacedNetworkPolicy.pm
cp lib/Kubernetes/REST/Call/v1/Core/WatchResourceQuotaListForAllNamespaces.pm blib/lib/Kubernetes/REST/Call/v1/Core/WatchResourceQuotaListForAllNamespaces.pm
cp lib/Kubernetes/REST/Call/v1/Core/WatchServiceListForAllNamespaces.pm blib/lib/Kubernetes/REST/Call/v1/Core/WatchServiceListForAllNamespaces.pm
cp lib/Kubernetes/REST/Call/v1/Networking/CreateNamespacedNetworkPolicy.pm blib/lib/Kubernetes/REST/Call/v1/Networking/CreateNamespacedNetworkPolicy.pm
cp lib/Kubernetes/REST/Call/v1/Networking/ListNamespacedNetworkPolicy.pm blib/lib/Kubernetes/REST/Call/v1/Networking/ListNamespacedNetworkPolicy.pm
cp lib/Kubernetes/REST/Call/v1/Networking/GetAPIResources.pm blib/lib/Kubernetes/REST/Call/v1/Networking/GetAPIResources.pm
cp lib/Kubernetes/REST/Call/v1/Networking/ListNetworkPolicyForAllNamespaces.pm blib/lib/Kubernetes/REST/Call/v1/Networking/ListNetworkPolicyForAllNamespaces.pm
cp lib/Kubernetes/REST/Call/v1/RbacAuthorization/CreateClusterRole.pm blib/lib/Kubernetes/REST/Call/v1/RbacAuthorization/CreateClusterRole.pm
cp lib/Kubernetes/REST/Call/v1/Networking/WatchNamespacedNetworkPolicy.pm blib/lib/Kubernetes/REST/Call/v1/Networking/WatchNamespacedNetworkPolicy.pm
cp lib/Kubernetes/REST/Call/v1/Core/WatchServiceAccountListForAllNamespaces.pm blib/lib/Kubernetes/REST/Call/v1/Core/WatchServiceAccountListForAllNamespaces.pm
cp lib/Kubernetes/REST/Call/v1/Networking/PatchNamespacedNetworkPolicy.pm blib/lib/Kubernetes/REST/Call/v1/Networking/PatchNamespacedNetworkPolicy.pm
cp lib/Kubernetes/REST/Call/v1/Networking/ReadNamespacedNetworkPolicy.pm blib/lib/Kubernetes/REST/Call/v1/Networking/ReadNamespacedNetworkPolicy.pm
cp lib/Kubernetes/REST/Call/v1/RbacAuthorization/DeleteClusterRole.pm blib/lib/Kubernetes/REST/Call/v1/RbacAuthorization/DeleteClusterRole.pm
cp lib/Kubernetes/REST/Call/v1/RbacAuthorization/ListNamespacedRoleBinding.pm blib/lib/Kubernetes/REST/Call/v1/RbacAuthorization/ListNamespacedRoleBinding.pm
cp lib/Kubernetes/REST/Call/v1/RbacAuthorization/DeleteCollectionNamespacedRole.pm blib/lib/Kubernetes/REST/Call/v1/RbacAuthorization/DeleteCollectionNamespacedRole.pm
cp lib/Kubernetes/REST/Call/v1/RbacAuthorization/ListNamespacedRole.pm blib/lib/Kubernetes/REST/Call/v1/RbacAuthorization/ListNamespacedRole.pm
cp lib/Kubernetes/REST/Call/v1/RbacAuthorization/ListClusterRoleBinding.pm blib/lib/Kubernetes/REST/Call/v1/RbacAuthorization/ListClusterRoleBinding.pm
cp lib/Kubernetes/REST/Call/v1/RbacAuthorization/DeleteNamespacedRole.pm blib/lib/Kubernetes/REST/Call/v1/RbacAuthorization/DeleteNamespacedRole.pm
cp lib/Kubernetes/REST/Call/v1/RbacAuthorization/DeleteCollectionClusterRoleBinding.pm blib/lib/Kubernetes/REST/Call/v1/RbacAuthorization/DeleteCollectionClusterRoleBinding.pm
cp lib/Kubernetes/REST/Call/v1/RbacAuthorization/CreateNamespacedRoleBinding.pm blib/lib/Kubernetes/REST/Call/v1/RbacAuthorization/CreateNamespacedRoleBinding.pm
cp lib/Kubernetes/REST/Call/v1/RbacAuthorization/ListClusterRole.pm blib/lib/Kubernetes/REST/Call/v1/RbacAuthorization/ListClusterRole.pm
cp lib/Kubernetes/REST/Call/v1/RbacAuthorization/GetAPIResources.pm blib/lib/Kubernetes/REST/Call/v1/RbacAuthorization/GetAPIResources.pm
cp lib/Kubernetes/REST/Call/v1/RbacAuthorization/CreateClusterRoleBinding.pm blib/lib/Kubernetes/REST/Call/v1/RbacAuthorization/CreateClusterRoleBinding.pm
cp lib/Kubernetes/REST/Call/v1/RbacAuthorization/CreateNamespacedRole.pm blib/lib/Kubernetes/REST/Call/v1/RbacAuthorization/CreateNamespacedRole.pm
cp lib/Kubernetes/REST/Call/v1/RbacAuthorization/DeleteCollectionNamespacedRoleBinding.pm blib/lib/Kubernetes/REST/Call/v1/RbacAuthorization/DeleteCollectionNamespacedRoleBinding.pm
cp lib/Kubernetes/REST/Call/v1/RbacAuthorization/DeleteCollectionClusterRole.pm blib/lib/Kubernetes/REST/Call/v1/RbacAuthorization/DeleteCollectionClusterRole.pm
cp lib/Kubernetes/REST/Call/v1/RbacAuthorization/DeleteNamespacedRoleBinding.pm blib/lib/Kubernetes/REST/Call/v1/RbacAuthorization/DeleteNamespacedRoleBinding.pm
cp lib/Kubernetes/REST/Call/v1/RbacAuthorization/DeleteClusterRoleBinding.pm blib/lib/Kubernetes/REST/Call/v1/RbacAuthorization/DeleteClusterRoleBinding.pm
cp lib/Kubernetes/REST/Call/v1/RbacAuthorization/ReplaceNamespacedRoleBinding.pm blib/lib/Kubernetes/REST/Call/v1/RbacAuthorization/ReplaceNamespacedRoleBinding.pm
cp lib/Kubernetes/REST/Call/v1/RbacAuthorization/ListRoleBindingForAllNamespaces.pm blib/lib/Kubernetes/REST/Call/v1/RbacAuthorization/ListRoleBindingForAllNamespaces.pm
cp lib/Kubernetes/REST/Call/v1/RbacAuthorization/PatchClusterRoleBinding.pm blib/lib/Kubernetes/REST/Call/v1/RbacAuthorization/PatchClusterRoleBinding.pm
cp lib/Kubernetes/REST/Call/v1/RbacAuthorization/ListRoleForAllNamespaces.pm blib/lib/Kubernetes/REST/Call/v1/RbacAuthorization/ListRoleForAllNamespaces.pm
cp lib/Kubernetes/REST/Call/v1/RbacAuthorization/WatchClusterRole.pm blib/lib/Kubernetes/REST/Call/v1/RbacAuthorization/WatchClusterRole.pm
cp lib/Kubernetes/REST/Call/v1/RbacAuthorization/WatchClusterRoleBinding.pm blib/lib/Kubernetes/REST/Call/v1/RbacAuthorization/WatchClusterRoleBinding.pm
cp lib/Kubernetes/REST/Call/v1/RbacAuthorization/ReadNamespacedRoleBinding.pm blib/lib/Kubernetes/REST/Call/v1/RbacAuthorization/ReadNamespacedRoleBinding.pm
cp lib/Kubernetes/REST/Call/v1/RbacAuthorization/ReplaceClusterRoleBinding.pm blib/lib/Kubernetes/REST/Call/v1/RbacAuthorization/ReplaceClusterRoleBinding.pm
cp lib/Kubernetes/REST/Call/v1/RbacAuthorization/ReadNamespacedRole.pm blib/lib/Kubernetes/REST/Call/v1/RbacAuthorization/ReadNamespacedRole.pm
cp lib/Kubernetes/REST/Call/v1/RbacAuthorization/WatchClusterRoleBindingList.pm blib/lib/Kubernetes/REST/Call/v1/RbacAuthorization/WatchClusterRoleBindingList.pm
cp lib/Kubernetes/REST/Call/v1/RbacAuthorization/ReadClusterRoleBinding.pm blib/lib/Kubernetes/REST/Call/v1/RbacAuthorization/ReadClusterRoleBinding.pm
cp lib/Kubernetes/REST/Call/v1/RbacAuthorization/ReadClusterRole.pm blib/lib/Kubernetes/REST/Call/v1/RbacAuthorization/ReadClusterRole.pm
cp lib/Kubernetes/REST/Call/v1/RbacAuthorization/PatchNamespacedRole.pm blib/lib/Kubernetes/REST/Call/v1/RbacAuthorization/PatchNamespacedRole.pm
cp lib/Kubernetes/REST/Call/v1/RbacAuthorization/ReplaceNamespacedRole.pm blib/lib/Kubernetes/REST/Call/v1/RbacAuthorization/ReplaceNamespacedRole.pm
cp lib/Kubernetes/REST/Call/v1/RbacAuthorization/ReplaceClusterRole.pm blib/lib/Kubernetes/REST/Call/v1/RbacAuthorization/ReplaceClusterRole.pm
cp lib/Kubernetes/REST/Call/v1/RbacAuthorization/PatchNamespacedRoleBinding.pm blib/lib/Kubernetes/REST/Call/v1/RbacAuthorization/PatchNamespacedRoleBinding.pm
cp lib/Kubernetes/REST/Call/v1/RbacAuthorization/PatchClusterRole.pm blib/lib/Kubernetes/REST/Call/v1/RbacAuthorization/PatchClusterRole.pm
cp lib/Kubernetes/REST/Call/v1/RbacAuthorization/WatchRoleListForAllNamespaces.pm blib/lib/Kubernetes/REST/Call/v1/RbacAuthorization/WatchRoleListForAllNamespaces.pm
cp lib/Kubernetes/REST/Call/v1/Storage/GetAPIResources.pm blib/lib/Kubernetes/REST/Call/v1/Storage/GetAPIResources.pm
cp lib/Kubernetes/REST/Call/v1alpha1/Admissionregistration/CreateInitializerConfiguration.pm blib/lib/Kubernetes/REST/Call/v1alpha1/Admissionregistration/CreateInitializerConfiguration.pm
cp lib/Kubernetes/REST/Call/v1/Storage/ListStorageClass.pm blib/lib/Kubernetes/REST/Call/v1/Storage/ListStorageClass.pm
cp lib/Kubernetes/REST/Call/v1/Storage/DeleteCollectionStorageClass.pm blib/lib/Kubernetes/REST/Call/v1/Storage/DeleteCollectionStorageClass.pm
cp lib/Kubernetes/REST/Call/v1/RbacAuthorization/WatchNamespacedRole.pm blib/lib/Kubernetes/REST/Call/v1/RbacAuthorization/WatchNamespacedRole.pm
cp lib/Kubernetes/REST/Call/v1/RbacAuthorization/WatchNamespacedRoleBindingList.pm blib/lib/Kubernetes/REST/Call/v1/RbacAuthorization/WatchNamespacedRoleBindingList.pm
cp lib/Kubernetes/REST/Call/v1/Storage/ReadStorageClass.pm blib/lib/Kubernetes/REST/Call/v1/Storage/ReadStorageClass.pm
cp lib/Kubernetes/REST/Call/v1/Storage/PatchStorageClass.pm blib/lib/Kubernetes/REST/Call/v1/Storage/PatchStorageClass.pm
cp lib/Kubernetes/REST/Call/v1/RbacAuthorization/WatchClusterRoleList.pm blib/lib/Kubernetes/REST/Call/v1/RbacAuthorization/WatchClusterRoleList.pm
cp lib/Kubernetes/REST/Call/v1/Storage/WatchStorageClassList.pm blib/lib/Kubernetes/REST/Call/v1/Storage/WatchStorageClassList.pm
cp lib/Kubernetes/REST/Call/v1/RbacAuthorization/WatchNamespacedRoleList.pm blib/lib/Kubernetes/REST/Call/v1/RbacAuthorization/WatchNamespacedRoleList.pm
cp lib/Kubernetes/REST/Call/v1/Storage/CreateStorageClass.pm blib/lib/Kubernetes/REST/Call/v1/Storage/CreateStorageClass.pm
cp lib/Kubernetes/REST/Call/v1/Storage/DeleteStorageClass.pm blib/lib/Kubernetes/REST/Call/v1/Storage/DeleteStorageClass.pm
cp lib/Kubernetes/REST/Call/v1/RbacAuthorization/WatchRoleBindingListForAllNamespaces.pm blib/lib/Kubernetes/REST/Call/v1/RbacAuthorization/WatchRoleBindingListForAllNamespaces.pm
cp lib/Kubernetes/REST/Call/v1/RbacAuthorization/WatchNamespacedRoleBinding.pm blib/lib/Kubernetes/REST/Call/v1/RbacAuthorization/WatchNamespacedRoleBinding.pm
cp lib/Kubernetes/REST/Call/v1/Storage/ReplaceStorageClass.pm blib/lib/Kubernetes/REST/Call/v1/Storage/ReplaceStorageClass.pm
cp lib/Kubernetes/REST/Call/v1/Storage/WatchStorageClass.pm blib/lib/Kubernetes/REST/Call/v1/Storage/WatchStorageClass.pm
cp lib/Kubernetes/REST/Call/v1alpha1/Admissionregistration/DeleteInitializerConfiguration.pm blib/lib/Kubernetes/REST/Call/v1alpha1/Admissionregistration/DeleteInitializerConfiguration.pm
cp lib/Kubernetes/REST/Call/v1alpha1/Auditregistration/PatchAuditSink.pm blib/lib/Kubernetes/REST/Call/v1alpha1/Auditregistration/PatchAuditSink.pm
cp lib/Kubernetes/REST/Call/v1alpha1/Auditregistration/CreateAuditSink.pm blib/lib/Kubernetes/REST/Call/v1alpha1/Auditregistration/CreateAuditSink.pm
cp lib/Kubernetes/REST/Call/v1alpha1/Admissionregistration/PatchInitializerConfiguration.pm blib/lib/Kubernetes/REST/Call/v1alpha1/Admissionregistration/PatchInitializerConfiguration.pm
cp lib/Kubernetes/REST/Call/v1alpha1/Auditregistration/GetAPIResources.pm blib/lib/Kubernetes/REST/Call/v1alpha1/Auditregistration/GetAPIResources.pm
cp lib/Kubernetes/REST/Call/v1alpha1/Admissionregistration/WatchInitializerConfigurationList.pm blib/lib/Kubernetes/REST/Call/v1alpha1/Admissionregistration/WatchInitializerConfigurationList.pm
cp lib/Kubernetes/REST/Call/v1alpha1/Admissionregistration/ReadInitializerConfiguration.pm blib/lib/Kubernetes/REST/Call/v1alpha1/Admissionregistration/ReadInitializerConfiguration.pm
cp lib/Kubernetes/REST/Call/v1alpha1/Auditregistration/ListAuditSink.pm blib/lib/Kubernetes/REST/Call/v1alpha1/Auditregistration/ListAuditSink.pm
cp lib/Kubernetes/REST/Call/v1alpha1/Auditregistration/DeleteAuditSink.pm blib/lib/Kubernetes/REST/Call/v1alpha1/Auditregistration/DeleteAuditSink.pm
cp lib/Kubernetes/REST/Call/v1alpha1/Admissionregistration/GetAPIResources.pm blib/lib/Kubernetes/REST/Call/v1alpha1/Admissionregistration/GetAPIResources.pm
cp lib/Kubernetes/REST/Call/v1alpha1/Admissionregistration/DeleteCollectionInitializerConfiguration.pm blib/lib/Kubernetes/REST/Call/v1alpha1/Admissionregistration/DeleteCollectionInitializerConfiguration.pm
cp lib/Kubernetes/REST/Call/v1alpha1/Admissionregistration/ReplaceInitializerConfiguration.pm blib/lib/Kubernetes/REST/Call/v1alpha1/Admissionregistration/ReplaceInitializerConfiguration.pm
cp lib/Kubernetes/REST/Call/v1alpha1/Admissionregistration/ListInitializerConfiguration.pm blib/lib/Kubernetes/REST/Call/v1alpha1/Admissionregistration/ListInitializerConfiguration.pm
cp lib/Kubernetes/REST/Call/v1alpha1/Auditregistration/DeleteCollectionAuditSink.pm blib/lib/Kubernetes/REST/Call/v1alpha1/Auditregistration/DeleteCollectionAuditSink.pm
cp lib/Kubernetes/REST/Call/v1alpha1/Admissionregistration/WatchInitializerConfiguration.pm blib/lib/Kubernetes/REST/Call/v1alpha1/Admissionregistration/WatchInitializerConfiguration.pm
cp lib/Kubernetes/REST/Call/v1alpha1/Auditregistration/WatchAuditSinkList.pm blib/lib/Kubernetes/REST/Call/v1alpha1/Auditregistration/WatchAuditSinkList.pm
cp lib/Kubernetes/REST/Call/v1alpha1/RbacAuthorization/DeleteNamespacedRole.pm blib/lib/Kubernetes/REST/Call/v1alpha1/RbacAuthorization/DeleteNamespacedRole.pm
cp lib/Kubernetes/REST/Call/v1alpha1/Auditregistration/WatchAuditSink.pm blib/lib/Kubernetes/REST/Call/v1alpha1/Auditregistration/WatchAuditSink.pm
cp lib/Kubernetes/REST/Call/v1alpha1/RbacAuthorization/CreateNamespacedRoleBinding.pm blib/lib/Kubernetes/REST/Call/v1alpha1/RbacAuthorization/CreateNamespacedRoleBinding.pm
cp lib/Kubernetes/REST/Call/v1alpha1/Auditregistration/ReplaceAuditSink.pm blib/lib/Kubernetes/REST/Call/v1alpha1/Auditregistration/ReplaceAuditSink.pm
cp lib/Kubernetes/REST/Call/v1alpha1/RbacAuthorization/DeleteClusterRole.pm blib/lib/Kubernetes/REST/Call/v1alpha1/RbacAuthorization/DeleteClusterRole.pm
cp lib/Kubernetes/REST/Call/v1alpha1/RbacAuthorization/DeleteCollectionClusterRole.pm blib/lib/Kubernetes/REST/Call/v1alpha1/RbacAuthorization/DeleteCollectionClusterRole.pm
cp lib/Kubernetes/REST/Call/v1alpha1/RbacAuthorization/DeleteCollectionNamespacedRoleBinding.pm blib/lib/Kubernetes/REST/Call/v1alpha1/RbacAuthorization/DeleteCollectionNamespacedRoleBinding.pm
cp lib/Kubernetes/REST/Call/v1alpha1/RbacAuthorization/DeleteCollectionClusterRoleBinding.pm blib/lib/Kubernetes/REST/Call/v1alpha1/RbacAuthorization/DeleteCollectionClusterRoleBinding.pm
cp lib/Kubernetes/REST/Call/v1alpha1/RbacAuthorization/DeleteNamespacedRoleBinding.pm blib/lib/Kubernetes/REST/Call/v1alpha1/RbacAuthorization/DeleteNamespacedRoleBinding.pm
cp lib/Kubernetes/REST/Call/v1alpha1/RbacAuthorization/DeleteCollectionNamespacedRole.pm blib/lib/Kubernetes/REST/Call/v1alpha1/RbacAuthorization/DeleteCollectionNamespacedRole.pm
cp lib/Kubernetes/REST/Call/v1alpha1/Auditregistration/ReadAuditSink.pm blib/lib/Kubernetes/REST/Call/v1alpha1/Auditregistration/ReadAuditSink.pm
cp lib/Kubernetes/REST/Call/v1alpha1/RbacAuthorization/CreateNamespacedRole.pm blib/lib/Kubernetes/REST/Call/v1alpha1/RbacAuthorization/CreateNamespacedRole.pm
cp lib/Kubernetes/REST/Call/v1alpha1/RbacAuthorization/CreateClusterRoleBinding.pm blib/lib/Kubernetes/REST/Call/v1alpha1/RbacAuthorization/CreateClusterRoleBinding.pm
cp lib/Kubernetes/REST/Call/v1alpha1/RbacAuthorization/CreateClusterRole.pm blib/lib/Kubernetes/REST/Call/v1alpha1/RbacAuthorization/CreateClusterRole.pm
cp lib/Kubernetes/REST/Call/v1alpha1/RbacAuthorization/DeleteClusterRoleBinding.pm blib/lib/Kubernetes/REST/Call/v1alpha1/RbacAuthorization/DeleteClusterRoleBinding.pm
cp lib/Kubernetes/REST/Call/v1alpha1/RbacAuthorization/PatchClusterRoleBinding.pm blib/lib/Kubernetes/REST/Call/v1alpha1/RbacAuthorization/PatchClusterRoleBinding.pm
cp lib/Kubernetes/REST/Call/v1alpha1/RbacAuthorization/ListClusterRole.pm blib/lib/Kubernetes/REST/Call/v1alpha1/RbacAuthorization/ListClusterRole.pm
cp lib/Kubernetes/REST/Call/v1alpha1/RbacAuthorization/ReadClusterRoleBinding.pm blib/lib/Kubernetes/REST/Call/v1alpha1/RbacAuthorization/ReadClusterRoleBinding.pm
cp lib/Kubernetes/REST/Call/v1alpha1/RbacAuthorization/ListClusterRoleBinding.pm blib/lib/Kubernetes/REST/Call/v1alpha1/RbacAuthorization/ListClusterRoleBinding.pm
cp lib/Kubernetes/REST/Call/v1alpha1/RbacAuthorization/ReadNamespacedRoleBinding.pm blib/lib/Kubernetes/REST/Call/v1alpha1/RbacAuthorization/ReadNamespacedRoleBinding.pm
cp lib/Kubernetes/REST/Call/v1alpha1/RbacAuthorization/ListNamespacedRole.pm blib/lib/Kubernetes/REST/Call/v1alpha1/RbacAuthorization/ListNamespacedRole.pm
cp lib/Kubernetes/REST/Call/v1alpha1/RbacAuthorization/ReadNamespacedRole.pm blib/lib/Kubernetes/REST/Call/v1alpha1/RbacAuthorization/ReadNamespacedRole.pm
cp lib/Kubernetes/REST/Call/v1alpha1/RbacAuthorization/ListNamespacedRoleBinding.pm blib/lib/Kubernetes/REST/Call/v1alpha1/RbacAuthorization/ListNamespacedRoleBinding.pm
cp lib/Kubernetes/REST/Call/v1alpha1/RbacAuthorization/ReplaceClusterRole.pm blib/lib/Kubernetes/REST/Call/v1alpha1/RbacAuthorization/ReplaceClusterRole.pm
cp lib/Kubernetes/REST/Call/v1alpha1/RbacAuthorization/ListRoleBindingForAllNamespaces.pm blib/lib/Kubernetes/REST/Call/v1alpha1/RbacAuthorization/ListRoleBindingForAllNamespaces.pm
cp lib/Kubernetes/REST/Call/v1alpha1/RbacAuthorization/PatchClusterRole.pm blib/lib/Kubernetes/REST/Call/v1alpha1/RbacAuthorization/PatchClusterRole.pm
cp lib/Kubernetes/REST/Call/v1alpha1/RbacAuthorization/ReadClusterRole.pm blib/lib/Kubernetes/REST/Call/v1alpha1/RbacAuthorization/ReadClusterRole.pm
cp lib/Kubernetes/REST/Call/v1alpha1/RbacAuthorization/PatchNamespacedRoleBinding.pm blib/lib/Kubernetes/REST/Call/v1alpha1/RbacAuthorization/PatchNamespacedRoleBinding.pm
cp lib/Kubernetes/REST/Call/v1alpha1/RbacAuthorization/GetAPIResources.pm blib/lib/Kubernetes/REST/Call/v1alpha1/RbacAuthorization/GetAPIResources.pm
cp lib/Kubernetes/REST/Call/v1alpha1/RbacAuthorization/PatchNamespacedRole.pm blib/lib/Kubernetes/REST/Call/v1alpha1/RbacAuthorization/PatchNamespacedRole.pm
cp lib/Kubernetes/REST/Call/v1alpha1/RbacAuthorization/ListRoleForAllNamespaces.pm blib/lib/Kubernetes/REST/Call/v1alpha1/RbacAuthorization/ListRoleForAllNamespaces.pm
cp lib/Kubernetes/REST/Call/v1alpha1/RbacAuthorization/ReplaceNamespacedRole.pm blib/lib/Kubernetes/REST/Call/v1alpha1/RbacAuthorization/ReplaceNamespacedRole.pm
cp lib/Kubernetes/REST/Call/v1alpha1/Scheduling/DeleteCollectionPriorityClass.pm blib/lib/Kubernetes/REST/Call/v1alpha1/Scheduling/DeleteCollectionPriorityClass.pm
cp lib/Kubernetes/REST/Call/v1alpha1/RbacAuthorization/WatchRoleBindingListForAllNamespaces.pm blib/lib/Kubernetes/REST/Call/v1alpha1/RbacAuthorization/WatchRoleBindingListForAllNamespaces.pm
cp lib/Kubernetes/REST/Call/v1alpha1/Scheduling/DeletePriorityClass.pm blib/lib/Kubernetes/REST/Call/v1alpha1/Scheduling/DeletePriorityClass.pm
cp lib/Kubernetes/REST/Call/v1alpha1/RbacAuthorization/WatchClusterRoleList.pm blib/lib/Kubernetes/REST/Call/v1alpha1/RbacAuthorization/WatchClusterRoleList.pm
cp lib/Kubernetes/REST/Call/v1alpha1/Scheduling/CreatePriorityClass.pm blib/lib/Kubernetes/REST/Call/v1alpha1/Scheduling/CreatePriorityClass.pm
cp lib/Kubernetes/REST/Call/v1alpha1/RbacAuthorization/WatchNamespacedRoleBindingList.pm blib/lib/Kubernetes/REST/Call/v1alpha1/RbacAuthorization/WatchNamespacedRoleBindingList.pm
cp lib/Kubernetes/REST/Call/v1alpha1/RbacAuthorization/WatchNamespacedRoleList.pm blib/lib/Kubernetes/REST/Call/v1alpha1/RbacAuthorization/WatchNamespacedRoleList.pm
cp lib/Kubernetes/REST/Call/v1alpha1/RbacAuthorization/WatchClusterRoleBindingList.pm blib/lib/Kubernetes/REST/Call/v1alpha1/RbacAuthorization/WatchClusterRoleBindingList.pm
cp lib/Kubernetes/REST/Call/v1alpha1/RbacAuthorization/ReplaceNamespacedRoleBinding.pm blib/lib/Kubernetes/REST/Call/v1alpha1/RbacAuthorization/ReplaceNamespacedRoleBinding.pm
cp lib/Kubernetes/REST/Call/v1alpha1/RbacAuthorization/WatchClusterRole.pm blib/lib/Kubernetes/REST/Call/v1alpha1/RbacAuthorization/WatchClusterRole.pm
cp lib/Kubernetes/REST/Call/v1alpha1/RbacAuthorization/WatchNamespacedRoleBinding.pm blib/lib/Kubernetes/REST/Call/v1alpha1/RbacAuthorization/WatchNamespacedRoleBinding.pm
cp lib/Kubernetes/REST/Call/v1alpha1/RbacAuthorization/WatchRoleListForAllNamespaces.pm blib/lib/Kubernetes/REST/Call/v1alpha1/RbacAuthorization/WatchRoleListForAllNamespaces.pm
cp lib/Kubernetes/REST/Call/v1alpha1/RbacAuthorization/WatchNamespacedRole.pm blib/lib/Kubernetes/REST/Call/v1alpha1/RbacAuthorization/WatchNamespacedRole.pm
cp lib/Kubernetes/REST/Call/v1alpha1/RbacAuthorization/WatchClusterRoleBinding.pm blib/lib/Kubernetes/REST/Call/v1alpha1/RbacAuthorization/WatchClusterRoleBinding.pm
cp lib/Kubernetes/REST/Call/v1alpha1/RbacAuthorization/ReplaceClusterRoleBinding.pm blib/lib/Kubernetes/REST/Call/v1alpha1/RbacAuthorization/ReplaceClusterRoleBinding.pm
cp lib/Kubernetes/REST/Call/v1alpha1/Settings/ListPodPresetForAllNamespaces.pm blib/lib/Kubernetes/REST/Call/v1alpha1/Settings/ListPodPresetForAllNamespaces.pm
cp lib/Kubernetes/REST/Call/v1alpha1/Settings/WatchNamespacedPodPreset.pm blib/lib/Kubernetes/REST/Call/v1alpha1/Settings/WatchNamespacedPodPreset.pm
cp lib/Kubernetes/REST/Call/v1alpha1/Scheduling/WatchPriorityClass.pm blib/lib/Kubernetes/REST/Call/v1alpha1/Scheduling/WatchPriorityClass.pm
cp lib/Kubernetes/REST/Call/v1alpha1/Settings/ReplaceNamespacedPodPreset.pm blib/lib/Kubernetes/REST/Call/v1alpha1/Settings/ReplaceNamespacedPodPreset.pm
cp lib/Kubernetes/REST/Call/v1alpha1/Settings/GetAPIResources.pm blib/lib/Kubernetes/REST/Call/v1alpha1/Settings/GetAPIResources.pm
cp lib/Kubernetes/REST/Call/v1alpha1/Settings/CreateNamespacedPodPreset.pm blib/lib/Kubernetes/REST/Call/v1alpha1/Settings/CreateNamespacedPodPreset.pm
cp lib/Kubernetes/REST/Call/v1alpha1/Settings/ReadNamespacedPodPreset.pm blib/lib/Kubernetes/REST/Call/v1alpha1/Settings/ReadNamespacedPodPreset.pm
cp lib/Kubernetes/REST/Call/v1alpha1/Scheduling/GetAPIResources.pm blib/lib/Kubernetes/REST/Call/v1alpha1/Scheduling/GetAPIResources.pm
cp lib/Kubernetes/REST/Call/v1alpha1/Settings/DeleteCollectionNamespacedPodPreset.pm blib/lib/Kubernetes/REST/Call/v1alpha1/Settings/DeleteCollectionNamespacedPodPreset.pm
cp lib/Kubernetes/REST/Call/v1alpha1/Scheduling/WatchPriorityClassList.pm blib/lib/Kubernetes/REST/Call/v1alpha1/Scheduling/WatchPriorityClassList.pm
cp lib/Kubernetes/REST/Call/v1alpha1/Scheduling/ListPriorityClass.pm blib/lib/Kubernetes/REST/Call/v1alpha1/Scheduling/ListPriorityClass.pm
cp lib/Kubernetes/REST/Call/v1alpha1/Settings/DeleteNamespacedPodPreset.pm blib/lib/Kubernetes/REST/Call/v1alpha1/Settings/DeleteNamespacedPodPreset.pm
cp lib/Kubernetes/REST/Call/v1alpha1/Settings/ListNamespacedPodPreset.pm blib/lib/Kubernetes/REST/Call/v1alpha1/Settings/ListNamespacedPodPreset.pm
cp lib/Kubernetes/REST/Call/v1alpha1/Scheduling/PatchPriorityClass.pm blib/lib/Kubernetes/REST/Call/v1alpha1/Scheduling/PatchPriorityClass.pm
cp lib/Kubernetes/REST/Call/v1alpha1/Scheduling/ReadPriorityClass.pm blib/lib/Kubernetes/REST/Call/v1alpha1/Scheduling/ReadPriorityClass.pm
cp lib/Kubernetes/REST/Call/v1alpha1/Scheduling/ReplacePriorityClass.pm blib/lib/Kubernetes/REST/Call/v1alpha1/Scheduling/ReplacePriorityClass.pm
cp lib/Kubernetes/REST/Call/v1alpha1/Settings/PatchNamespacedPodPreset.pm blib/lib/Kubernetes/REST/Call/v1alpha1/Settings/PatchNamespacedPodPreset.pm
cp lib/Kubernetes/REST/Call/v1alpha1/Storage/CreateVolumeAttachment.pm blib/lib/Kubernetes/REST/Call/v1alpha1/Storage/CreateVolumeAttachment.pm
cp lib/Kubernetes/REST/Call/v1alpha1/Settings/WatchPodPresetListForAllNamespaces.pm blib/lib/Kubernetes/REST/Call/v1alpha1/Settings/WatchPodPresetListForAllNamespaces.pm
cp lib/Kubernetes/REST/Call/v1alpha1/Storage/WatchVolumeAttachment.pm blib/lib/Kubernetes/REST/Call/v1alpha1/Storage/WatchVolumeAttachment.pm
cp lib/Kubernetes/REST/Call/v1beta1/Admissionregistration/CreateValidatingWebhookConfiguration.pm blib/lib/Kubernetes/REST/Call/v1beta1/Admissionregistration/CreateValidatingWebhookConfiguration.pm
cp lib/Kubernetes/REST/Call/v1alpha1/Storage/ListVolumeAttachment.pm blib/lib/Kubernetes/REST/Call/v1alpha1/Storage/ListVolumeAttachment.pm
cp lib/Kubernetes/REST/Call/v1beta1/Admissionregistration/DeleteCollectionMutatingWebhookConfiguration.pm blib/lib/Kubernetes/REST/Call/v1beta1/Admissionregistration/DeleteCollectionMutatingWebhookConfiguration.pm
cp lib/Kubernetes/REST/Call/v1alpha1/Storage/ReplaceVolumeAttachment.pm blib/lib/Kubernetes/REST/Call/v1alpha1/Storage/ReplaceVolumeAttachment.pm
cp lib/Kubernetes/REST/Call/v1alpha1/Storage/WatchVolumeAttachmentList.pm blib/lib/Kubernetes/REST/Call/v1alpha1/Storage/WatchVolumeAttachmentList.pm
cp lib/Kubernetes/REST/Call/v1alpha1/Storage/DeleteVolumeAttachment.pm blib/lib/Kubernetes/REST/Call/v1alpha1/Storage/DeleteVolumeAttachment.pm
cp lib/Kubernetes/REST/Call/v1alpha1/Storage/ReadVolumeAttachment.pm blib/lib/Kubernetes/REST/Call/v1alpha1/Storage/ReadVolumeAttachment.pm
cp lib/Kubernetes/REST/Call/v1alpha1/Storage/PatchVolumeAttachment.pm blib/lib/Kubernetes/REST/Call/v1alpha1/Storage/PatchVolumeAttachment.pm
cp lib/Kubernetes/REST/Call/v1alpha1/Storage/DeleteCollectionVolumeAttachment.pm blib/lib/Kubernetes/REST/Call/v1alpha1/Storage/DeleteCollectionVolumeAttachment.pm
cp lib/Kubernetes/REST/Call/v1beta1/Admissionregistration/CreateMutatingWebhookConfiguration.pm blib/lib/Kubernetes/REST/Call/v1beta1/Admissionregistration/CreateMutatingWebhookConfiguration.pm
cp lib/Kubernetes/REST/Call/v1alpha1/Settings/WatchNamespacedPodPresetList.pm blib/lib/Kubernetes/REST/Call/v1alpha1/Settings/WatchNamespacedPodPresetList.pm
cp lib/Kubernetes/REST/Call/v1beta1/Admissionregistration/DeleteCollectionValidatingWebhookConfiguration.pm blib/lib/Kubernetes/REST/Call/v1beta1/Admissionregistration/DeleteCollectionValidatingWebhookConfiguration.pm
cp lib/Kubernetes/REST/Call/v1alpha1/Storage/GetAPIResources.pm blib/lib/Kubernetes/REST/Call/v1alpha1/Storage/GetAPIResources.pm
cp lib/Kubernetes/REST/Call/v1beta1/Admissionregistration/ReadValidatingWebhookConfiguration.pm blib/lib/Kubernetes/REST/Call/v1beta1/Admissionregistration/ReadValidatingWebhookConfiguration.pm
cp lib/Kubernetes/REST/Call/v1beta1/Admissionregistration/ReplaceValidatingWebhookConfiguration.pm blib/lib/Kubernetes/REST/Call/v1beta1/Admissionregistration/ReplaceValidatingWebhookConfiguration.pm
cp lib/Kubernetes/REST/Call/v1beta1/Admissionregistration/ReadMutatingWebhookConfiguration.pm blib/lib/Kubernetes/REST/Call/v1beta1/Admissionregistration/ReadMutatingWebhookConfiguration.pm
cp lib/Kubernetes/REST/Call/v1beta1/Admissionregistration/WatchMutatingWebhookConfiguration.pm blib/lib/Kubernetes/REST/Call/v1beta1/Admissionregistration/WatchMutatingWebhookConfiguration.pm
cp lib/Kubernetes/REST/Call/v1beta1/Admissionregistration/PatchValidatingWebhookConfiguration.pm blib/lib/Kubernetes/REST/Call/v1beta1/Admissionregistration/PatchValidatingWebhookConfiguration.pm
cp lib/Kubernetes/REST/Call/v1beta1/Admissionregistration/DeleteValidatingWebhookConfiguration.pm blib/lib/Kubernetes/REST/Call/v1beta1/Admissionregistration/DeleteValidatingWebhookConfiguration.pm
cp lib/Kubernetes/REST/Call/v1beta1/Admissionregistration/PatchMutatingWebhookConfiguration.pm blib/lib/Kubernetes/REST/Call/v1beta1/Admissionregistration/PatchMutatingWebhookConfiguration.pm
cp lib/Kubernetes/REST/Call/v1beta1/Admissionregistration/DeleteMutatingWebhookConfiguration.pm blib/lib/Kubernetes/REST/Call/v1beta1/Admissionregistration/DeleteMutatingWebhookConfiguration.pm
cp lib/Kubernetes/REST/Call/v1beta1/Admissionregistration/ListValidatingWebhookConfiguration.pm blib/lib/Kubernetes/REST/Call/v1beta1/Admissionregistration/ListValidatingWebhookConfiguration.pm
cp lib/Kubernetes/REST/Call/v1beta1/Admissionregistration/ReplaceMutatingWebhookConfiguration.pm blib/lib/Kubernetes/REST/Call/v1beta1/Admissionregistration/ReplaceMutatingWebhookConfiguration.pm
cp lib/Kubernetes/REST/Call/v1beta1/Admissionregistration/GetAPIResources.pm blib/lib/Kubernetes/REST/Call/v1beta1/Admissionregistration/GetAPIResources.pm
cp lib/Kubernetes/REST/Call/v1beta1/Admissionregistration/WatchMutatingWebhookConfigurationList.pm blib/lib/Kubernetes/REST/Call/v1beta1/Admissionregistration/WatchMutatingWebhookConfigurationList.pm
cp lib/Kubernetes/REST/Call/v1beta1/Admissionregistration/ListMutatingWebhookConfiguration.pm blib/lib/Kubernetes/REST/Call/v1beta1/Admissionregistration/ListMutatingWebhookConfiguration.pm
cp lib/Kubernetes/REST/Call/v1beta1/Apiextensions/ReplaceCustomResourceDefinitionStatus.pm blib/lib/Kubernetes/REST/Call/v1beta1/Apiextensions/ReplaceCustomResourceDefinitionStatus.pm
cp lib/Kubernetes/REST/Call/v1beta1/Apiextensions/WatchCustomResourceDefinition.pm blib/lib/Kubernetes/REST/Call/v1beta1/Apiextensions/WatchCustomResourceDefinition.pm
cp lib/Kubernetes/REST/Call/v1beta1/Apiextensions/ReadCustomResourceDefinition.pm blib/lib/Kubernetes/REST/Call/v1beta1/Apiextensions/ReadCustomResourceDefinition.pm
cp lib/Kubernetes/REST/Call/v1beta1/Apiextensions/CreateCustomResourceDefinition.pm blib/lib/Kubernetes/REST/Call/v1beta1/Apiextensions/CreateCustomResourceDefinition.pm
cp lib/Kubernetes/REST/Call/v1beta1/Admissionregistration/WatchValidatingWebhookConfigurationList.pm blib/lib/Kubernetes/REST/Call/v1beta1/Admissionregistration/WatchValidatingWebhookConfigurationList.pm
cp lib/Kubernetes/REST/Call/v1beta1/Apiextensions/GetAPIResources.pm blib/lib/Kubernetes/REST/Call/v1beta1/Apiextensions/GetAPIResources.pm
cp lib/Kubernetes/REST/Call/v1beta1/Apiextensions/ReplaceCustomResourceDefinition.pm blib/lib/Kubernetes/REST/Call/v1beta1/Apiextensions/ReplaceCustomResourceDefinition.pm
cp lib/Kubernetes/REST/Call/v1beta1/Apiextensions/ListCustomResourceDefinition.pm blib/lib/Kubernetes/REST/Call/v1beta1/Apiextensions/ListCustomResourceDefinition.pm
cp lib/Kubernetes/REST/Call/v1beta1/Apiextensions/DeleteCustomResourceDefinition.pm blib/lib/Kubernetes/REST/Call/v1beta1/Apiextensions/DeleteCustomResourceDefinition.pm
cp lib/Kubernetes/REST/Call/v1beta1/Apiextensions/ReadCustomResourceDefinitionStatus.pm blib/lib/Kubernetes/REST/Call/v1beta1/Apiextensions/ReadCustomResourceDefinitionStatus.pm
cp lib/Kubernetes/REST/Call/v1beta1/Apiextensions/DeleteCollectionCustomResourceDefinition.pm blib/lib/Kubernetes/REST/Call/v1beta1/Apiextensions/DeleteCollectionCustomResourceDefinition.pm
cp lib/Kubernetes/REST/Call/v1beta1/Apiextensions/WatchCustomResourceDefinitionList.pm blib/lib/Kubernetes/REST/Call/v1beta1/Apiextensions/WatchCustomResourceDefinitionList.pm
cp lib/Kubernetes/REST/Call/v1beta1/Admissionregistration/WatchValidatingWebhookConfiguration.pm blib/lib/Kubernetes/REST/Call/v1beta1/Admissionregistration/WatchValidatingWebhookConfiguration.pm
cp lib/Kubernetes/REST/Call/v1beta1/Apiextensions/PatchCustomResourceDefinitionStatus.pm blib/lib/Kubernetes/REST/Call/v1beta1/Apiextensions/PatchCustomResourceDefinitionStatus.pm
cp lib/Kubernetes/REST/Call/v1beta1/Apiextensions/PatchCustomResourceDefinition.pm blib/lib/Kubernetes/REST/Call/v1beta1/Apiextensions/PatchCustomResourceDefinition.pm
cp lib/Kubernetes/REST/Call/v1beta1/Apiregistration/ReadAPIService.pm blib/lib/Kubernetes/REST/Call/v1beta1/Apiregistration/ReadAPIService.pm
cp lib/Kubernetes/REST/Call/v1beta1/Apiregistration/CreateAPIService.pm blib/lib/Kubernetes/REST/Call/v1beta1/Apiregistration/CreateAPIService.pm
cp lib/Kubernetes/REST/Call/v1beta1/Apps/CreateNamespacedControllerRevision.pm blib/lib/Kubernetes/REST/Call/v1beta1/Apps/CreateNamespacedControllerRevision.pm
cp lib/Kubernetes/REST/Call/v1beta1/Apiregistration/WatchAPIService.pm blib/lib/Kubernetes/REST/Call/v1beta1/Apiregistration/WatchAPIService.pm
cp lib/Kubernetes/REST/Call/v1beta1/Apiregistration/ListAPIService.pm blib/lib/Kubernetes/REST/Call/v1beta1/Apiregistration/ListAPIService.pm
cp lib/Kubernetes/REST/Call/v1beta1/Apps/CreateNamespacedStatefulSet.pm blib/lib/Kubernetes/REST/Call/v1beta1/Apps/CreateNamespacedStatefulSet.pm
cp lib/Kubernetes/REST/Call/v1beta1/Apiregistration/PatchAPIService.pm blib/lib/Kubernetes/REST/Call/v1beta1/Apiregistration/PatchAPIService.pm
cp lib/Kubernetes/REST/Call/v1beta1/Apiregistration/PatchAPIServiceStatus.pm blib/lib/Kubernetes/REST/Call/v1beta1/Apiregistration/PatchAPIServiceStatus.pm
cp lib/Kubernetes/REST/Call/v1beta1/Apiregistration/ReplaceAPIServiceStatus.pm blib/lib/Kubernetes/REST/Call/v1beta1/Apiregistration/ReplaceAPIServiceStatus.pm
cp lib/Kubernetes/REST/Call/v1beta1/Apiregistration/ReadAPIServiceStatus.pm blib/lib/Kubernetes/REST/Call/v1beta1/Apiregistration/ReadAPIServiceStatus.pm
cp lib/Kubernetes/REST/Call/v1beta1/Apps/CreateNamespacedDeployment.pm blib/lib/Kubernetes/REST/Call/v1beta1/Apps/CreateNamespacedDeployment.pm
cp lib/Kubernetes/REST/Call/v1beta1/Apiregistration/DeleteCollectionAPIService.pm blib/lib/Kubernetes/REST/Call/v1beta1/Apiregistration/DeleteCollectionAPIService.pm
cp lib/Kubernetes/REST/Call/v1beta1/Apiregistration/GetAPIResources.pm blib/lib/Kubernetes/REST/Call/v1beta1/Apiregistration/GetAPIResources.pm
cp lib/Kubernetes/REST/Call/v1beta1/Apiregistration/ReplaceAPIService.pm blib/lib/Kubernetes/REST/Call/v1beta1/Apiregistration/ReplaceAPIService.pm
cp lib/Kubernetes/REST/Call/v1beta1/Apiregistration/WatchAPIServiceList.pm blib/lib/Kubernetes/REST/Call/v1beta1/Apiregistration/WatchAPIServiceList.pm
cp lib/Kubernetes/REST/Call/v1beta1/Apps/CreateNamespacedDeploymentRollback.pm blib/lib/Kubernetes/REST/Call/v1beta1/Apps/CreateNamespacedDeploymentRollback.pm
cp lib/Kubernetes/REST/Call/v1beta1/Apiregistration/DeleteAPIService.pm blib/lib/Kubernetes/REST/Call/v1beta1/Apiregistration/DeleteAPIService.pm
cp lib/Kubernetes/REST/Call/v1beta1/Apps/DeleteNamespacedDeployment.pm blib/lib/Kubernetes/REST/Call/v1beta1/Apps/DeleteNamespacedDeployment.pm
cp lib/Kubernetes/REST/Call/v1beta1/Apps/DeleteNamespacedStatefulSet.pm blib/lib/Kubernetes/REST/Call/v1beta1/Apps/DeleteNamespacedStatefulSet.pm
cp lib/Kubernetes/REST/Call/v1beta1/Apps/ListNamespacedControllerRevision.pm blib/lib/Kubernetes/REST/Call/v1beta1/Apps/ListNamespacedControllerRevision.pm
cp lib/Kubernetes/REST/Call/v1beta1/Apps/PatchNamespacedDeployment.pm blib/lib/Kubernetes/REST/Call/v1beta1/Apps/PatchNamespacedDeployment.pm
cp lib/Kubernetes/REST/Call/v1beta1/Apps/GetAPIResources.pm blib/lib/Kubernetes/REST/Call/v1beta1/Apps/GetAPIResources.pm
cp lib/Kubernetes/REST/Call/v1beta1/Apps/PatchNamespacedControllerRevision.pm blib/lib/Kubernetes/REST/Call/v1beta1/Apps/PatchNamespacedControllerRevision.pm
cp lib/Kubernetes/REST/Call/v1beta1/Apps/ListStatefulSetForAllNamespaces.pm blib/lib/Kubernetes/REST/Call/v1beta1/Apps/ListStatefulSetForAllNamespaces.pm
cp lib/Kubernetes/REST/Call/v1beta1/Apps/DeleteNamespacedControllerRevision.pm blib/lib/Kubernetes/REST/Call/v1beta1/Apps/DeleteNamespacedControllerRevision.pm
cp lib/Kubernetes/REST/Call/v1beta1/Apps/DeleteCollectionNamespacedStatefulSet.pm blib/lib/Kubernetes/REST/Call/v1beta1/Apps/DeleteCollectionNamespacedStatefulSet.pm
cp lib/Kubernetes/REST/Call/v1beta1/Apps/PatchNamespacedDeploymentStatus.pm blib/lib/Kubernetes/REST/Call/v1beta1/Apps/PatchNamespacedDeploymentStatus.pm
cp lib/Kubernetes/REST/Call/v1beta1/Apps/DeleteCollectionNamespacedControllerRevision.pm blib/lib/Kubernetes/REST/Call/v1beta1/Apps/DeleteCollectionNamespacedControllerRevision.pm
cp lib/Kubernetes/REST/Call/v1beta1/Apps/ListNamespacedDeployment.pm blib/lib/Kubernetes/REST/Call/v1beta1/Apps/ListNamespacedDeployment.pm
cp lib/Kubernetes/REST/Call/v1beta1/Apps/DeleteCollectionNamespacedDeployment.pm blib/lib/Kubernetes/REST/Call/v1beta1/Apps/DeleteCollectionNamespacedDeployment.pm
cp lib/Kubernetes/REST/Call/v1beta1/Apps/ListDeploymentForAllNamespaces.pm blib/lib/Kubernetes/REST/Call/v1beta1/Apps/ListDeploymentForAllNamespaces.pm
cp lib/Kubernetes/REST/Call/v1beta1/Apps/ListControllerRevisionForAllNamespaces.pm blib/lib/Kubernetes/REST/Call/v1beta1/Apps/ListControllerRevisionForAllNamespaces.pm
cp lib/Kubernetes/REST/Call/v1beta1/Apps/ListNamespacedStatefulSet.pm blib/lib/Kubernetes/REST/Call/v1beta1/Apps/ListNamespacedStatefulSet.pm
cp lib/Kubernetes/REST/Call/v1beta1/Apps/PatchNamespacedDeploymentScale.pm blib/lib/Kubernetes/REST/Call/v1beta1/Apps/PatchNamespacedDeploymentScale.pm
cp lib/Kubernetes/REST/Call/v1beta1/Apps/ReplaceNamespacedDeploymentScale.pm blib/lib/Kubernetes/REST/Call/v1beta1/Apps/ReplaceNamespacedDeploymentScale.pm
cp lib/Kubernetes/REST/Call/v1beta1/Apps/ReadNamespacedDeployment.pm blib/lib/Kubernetes/REST/Call/v1beta1/Apps/ReadNamespacedDeployment.pm
cp lib/Kubernetes/REST/Call/v1beta1/Apps/ReadNamespacedStatefulSetStatus.pm blib/lib/Kubernetes/REST/Call/v1beta1/Apps/ReadNamespacedStatefulSetStatus.pm
cp lib/Kubernetes/REST/Call/v1beta1/Apps/ReadNamespacedControllerRevision.pm blib/lib/Kubernetes/REST/Call/v1beta1/Apps/ReadNamespacedControllerRevision.pm
cp lib/Kubernetes/REST/Call/v1beta1/Apps/ReadNamespacedStatefulSetScale.pm blib/lib/Kubernetes/REST/Call/v1beta1/Apps/ReadNamespacedStatefulSetScale.pm
cp lib/Kubernetes/REST/Call/v1beta1/Apps/ReplaceNamespacedStatefulSetStatus.pm blib/lib/Kubernetes/REST/Call/v1beta1/Apps/ReplaceNamespacedStatefulSetStatus.pm
cp lib/Kubernetes/REST/Call/v1beta1/Apps/PatchNamespacedStatefulSetScale.pm blib/lib/Kubernetes/REST/Call/v1beta1/Apps/PatchNamespacedStatefulSetScale.pm
cp lib/Kubernetes/REST/Call/v1beta1/Apps/ReadNamespacedDeploymentScale.pm blib/lib/Kubernetes/REST/Call/v1beta1/Apps/ReadNamespacedDeploymentScale.pm
cp lib/Kubernetes/REST/Call/v1beta1/Apps/ReplaceNamespacedStatefulSet.pm blib/lib/Kubernetes/REST/Call/v1beta1/Apps/ReplaceNamespacedStatefulSet.pm
cp lib/Kubernetes/REST/Call/v1beta1/Apps/ReplaceNamespacedDeploymentStatus.pm blib/lib/Kubernetes/REST/Call/v1beta1/Apps/ReplaceNamespacedDeploymentStatus.pm
cp lib/Kubernetes/REST/Call/v1beta1/Apps/ReplaceNamespacedControllerRevision.pm blib/lib/Kubernetes/REST/Call/v1beta1/Apps/ReplaceNamespacedControllerRevision.pm
cp lib/Kubernetes/REST/Call/v1beta1/Apps/ReplaceNamespacedDeployment.pm blib/lib/Kubernetes/REST/Call/v1beta1/Apps/ReplaceNamespacedDeployment.pm
cp lib/Kubernetes/REST/Call/v1beta1/Apps/PatchNamespacedStatefulSet.pm blib/lib/Kubernetes/REST/Call/v1beta1/Apps/PatchNamespacedStatefulSet.pm
cp lib/Kubernetes/REST/Call/v1beta1/Apps/PatchNamespacedStatefulSetStatus.pm blib/lib/Kubernetes/REST/Call/v1beta1/Apps/PatchNamespacedStatefulSetStatus.pm
cp lib/Kubernetes/REST/Call/v1beta1/Apps/ReadNamespacedStatefulSet.pm blib/lib/Kubernetes/REST/Call/v1beta1/Apps/ReadNamespacedStatefulSet.pm
cp lib/Kubernetes/REST/Call/v1beta1/Apps/ReadNamespacedDeploymentStatus.pm blib/lib/Kubernetes/REST/Call/v1beta1/Apps/ReadNamespacedDeploymentStatus.pm
cp lib/Kubernetes/REST/Call/v1beta1/Apps/ReplaceNamespacedStatefulSetScale.pm blib/lib/Kubernetes/REST/Call/v1beta1/Apps/ReplaceNamespacedStatefulSetScale.pm
cp lib/Kubernetes/REST/Call/v1beta1/Apps/WatchNamespacedStatefulSet.pm blib/lib/Kubernetes/REST/Call/v1beta1/Apps/WatchNamespacedStatefulSet.pm
cp lib/Kubernetes/REST/Call/v1beta1/Apps/WatchNamespacedControllerRevision.pm blib/lib/Kubernetes/REST/Call/v1beta1/Apps/WatchNamespacedControllerRevision.pm
cp lib/Kubernetes/REST/Call/v1beta1/Apps/WatchNamespacedDeployment.pm blib/lib/Kubernetes/REST/Call/v1beta1/Apps/WatchNamespacedDeployment.pm
cp lib/Kubernetes/REST/Call/v1beta1/Apps/WatchStatefulSetListForAllNamespaces.pm blib/lib/Kubernetes/REST/Call/v1beta1/Apps/WatchStatefulSetListForAllNamespaces.pm
cp lib/Kubernetes/REST/Call/v1beta1/Apps/WatchNamespacedDeploymentList.pm blib/lib/Kubernetes/REST/Call/v1beta1/Apps/WatchNamespacedDeploymentList.pm
cp lib/Kubernetes/REST/Call/v1beta1/Authorization/CreateNamespacedLocalSubjectAccessReview.pm blib/lib/Kubernetes/REST/Call/v1beta1/Authorization/CreateNamespacedLocalSubjectAccessReview.pm
cp lib/Kubernetes/REST/Call/v1beta1/Authorization/CreateSelfSubjectAccessReview.pm blib/lib/Kubernetes/REST/Call/v1beta1/Authorization/CreateSelfSubjectAccessReview.pm
cp lib/Kubernetes/REST/Call/v1beta1/Authorization/GetAPIResources.pm blib/lib/Kubernetes/REST/Call/v1beta1/Authorization/GetAPIResources.pm
cp lib/Kubernetes/REST/Call/v1beta1/Apps/WatchNamespacedControllerRevisionList.pm blib/lib/Kubernetes/REST/Call/v1beta1/Apps/WatchNamespacedControllerRevisionList.pm
cp lib/Kubernetes/REST/Call/v1beta1/Apps/WatchDeploymentListForAllNamespaces.pm blib/lib/Kubernetes/REST/Call/v1beta1/Apps/WatchDeploymentListForAllNamespaces.pm
cp lib/Kubernetes/REST/Call/v1beta1/Apps/WatchControllerRevisionListForAllNamespaces.pm blib/lib/Kubernetes/REST/Call/v1beta1/Apps/WatchControllerRevisionListForAllNamespaces.pm
cp lib/Kubernetes/REST/Call/v1beta1/Authentication/GetAPIResources.pm blib/lib/Kubernetes/REST/Call/v1beta1/Authentication/GetAPIResources.pm
cp lib/Kubernetes/REST/Call/v1beta1/Apps/WatchNamespacedStatefulSetList.pm blib/lib/Kubernetes/REST/Call/v1beta1/Apps/WatchNamespacedStatefulSetList.pm
cp lib/Kubernetes/REST/Call/v1beta1/Authorization/CreateSubjectAccessReview.pm blib/lib/Kubernetes/REST/Call/v1beta1/Authorization/CreateSubjectAccessReview.pm
cp lib/Kubernetes/REST/Call/v1beta1/Authentication/CreateTokenReview.pm blib/lib/Kubernetes/REST/Call/v1beta1/Authentication/CreateTokenReview.pm
cp lib/Kubernetes/REST/Call/v1beta1/Authorization/CreateSelfSubjectRulesReview.pm blib/lib/Kubernetes/REST/Call/v1beta1/Authorization/CreateSelfSubjectRulesReview.pm
cp lib/Kubernetes/REST/Call/v1beta1/Batch/ReplaceNamespacedCronJob.pm blib/lib/Kubernetes/REST/Call/v1beta1/Batch/ReplaceNamespacedCronJob.pm
cp lib/Kubernetes/REST/Call/v1beta1/Batch/CreateNamespacedCronJob.pm blib/lib/Kubernetes/REST/Call/v1beta1/Batch/CreateNamespacedCronJob.pm
cp lib/Kubernetes/REST/Call/v1beta1/Batch/ReadNamespacedCronJobStatus.pm blib/lib/Kubernetes/REST/Call/v1beta1/Batch/ReadNamespacedCronJobStatus.pm
cp lib/Kubernetes/REST/Call/v1beta1/Batch/GetAPIResources.pm blib/lib/Kubernetes/REST/Call/v1beta1/Batch/GetAPIResources.pm
cp lib/Kubernetes/REST/Call/v1beta1/Certificates/DeleteCertificateSigningRequest.pm blib/lib/Kubernetes/REST/Call/v1beta1/Certificates/DeleteCertificateSigningRequest.pm
cp lib/Kubernetes/REST/Call/v1beta1/Batch/WatchNamespacedCronJob.pm blib/lib/Kubernetes/REST/Call/v1beta1/Batch/WatchNamespacedCronJob.pm
cp lib/Kubernetes/REST/Call/v1beta1/Batch/WatchCronJobListForAllNamespaces.pm blib/lib/Kubernetes/REST/Call/v1beta1/Batch/WatchCronJobListForAllNamespaces.pm
cp lib/Kubernetes/REST/Call/v1beta1/Batch/ListNamespacedCronJob.pm blib/lib/Kubernetes/REST/Call/v1beta1/Batch/ListNamespacedCronJob.pm
cp lib/Kubernetes/REST/Call/v1beta1/Batch/ReplaceNamespacedCronJobStatus.pm blib/lib/Kubernetes/REST/Call/v1beta1/Batch/ReplaceNamespacedCronJobStatus.pm
cp lib/Kubernetes/REST/Call/v1beta1/Certificates/CreateCertificateSigningRequest.pm blib/lib/Kubernetes/REST/Call/v1beta1/Certificates/CreateCertificateSigningRequest.pm
cp lib/Kubernetes/REST/Call/v1beta1/Batch/PatchNamespacedCronJob.pm blib/lib/Kubernetes/REST/Call/v1beta1/Batch/PatchNamespacedCronJob.pm
cp lib/Kubernetes/REST/Call/v1beta1/Batch/PatchNamespacedCronJobStatus.pm blib/lib/Kubernetes/REST/Call/v1beta1/Batch/PatchNamespacedCronJobStatus.pm
cp lib/Kubernetes/REST/Call/v1beta1/Batch/WatchNamespacedCronJobList.pm blib/lib/Kubernetes/REST/Call/v1beta1/Batch/WatchNamespacedCronJobList.pm
cp lib/Kubernetes/REST/Call/v1beta1/Batch/DeleteNamespacedCronJob.pm blib/lib/Kubernetes/REST/Call/v1beta1/Batch/DeleteNamespacedCronJob.pm
cp lib/Kubernetes/REST/Call/v1beta1/Batch/ReadNamespacedCronJob.pm blib/lib/Kubernetes/REST/Call/v1beta1/Batch/ReadNamespacedCronJob.pm
cp lib/Kubernetes/REST/Call/v1beta1/Batch/DeleteCollectionNamespacedCronJob.pm blib/lib/Kubernetes/REST/Call/v1beta1/Batch/DeleteCollectionNamespacedCronJob.pm
cp lib/Kubernetes/REST/Call/v1beta1/Batch/ListCronJobForAllNamespaces.pm blib/lib/Kubernetes/REST/Call/v1beta1/Batch/ListCronJobForAllNamespaces.pm
cp lib/Kubernetes/REST/Call/v1beta1/Coordination/DeleteNamespacedLease.pm blib/lib/Kubernetes/REST/Call/v1beta1/Coordination/DeleteNamespacedLease.pm
cp lib/Kubernetes/REST/Call/v1beta1/Certificates/PatchCertificateSigningRequestStatus.pm blib/lib/Kubernetes/REST/Call/v1beta1/Certificates/PatchCertificateSigningRequestStatus.pm
cp lib/Kubernetes/REST/Call/v1beta1/Certificates/GetAPIResources.pm blib/lib/Kubernetes/REST/Call/v1beta1/Certificates/GetAPIResources.pm
cp lib/Kubernetes/REST/Call/v1beta1/Certificates/ReplaceCertificateSigningRequestApproval.pm blib/lib/Kubernetes/REST/Call/v1beta1/Certificates/ReplaceCertificateSigningRequestApproval.pm
cp lib/Kubernetes/REST/Call/v1beta1/Coordination/CreateNamespacedLease.pm blib/lib/Kubernetes/REST/Call/v1beta1/Coordination/CreateNamespacedLease.pm
cp lib/Kubernetes/REST/Call/v1beta1/Certificates/ReplaceCertificateSigningRequestStatus.pm blib/lib/Kubernetes/REST/Call/v1beta1/Certificates/ReplaceCertificateSigningRequestStatus.pm
cp lib/Kubernetes/REST/Call/v1beta1/Certificates/ListCertificateSigningRequest.pm blib/lib/Kubernetes/REST/Call/v1beta1/Certificates/ListCertificateSigningRequest.pm
cp lib/Kubernetes/REST/Call/v1beta1/Certificates/WatchCertificateSigningRequest.pm blib/lib/Kubernetes/REST/Call/v1beta1/Certificates/WatchCertificateSigningRequest.pm
cp lib/Kubernetes/REST/Call/v1beta1/Certificates/ReplaceCertificateSigningRequest.pm blib/lib/Kubernetes/REST/Call/v1beta1/Certificates/ReplaceCertificateSigningRequest.pm
cp lib/Kubernetes/REST/Call/v1beta1/Coordination/DeleteCollectionNamespacedLease.pm blib/lib/Kubernetes/REST/Call/v1beta1/Coordination/DeleteCollectionNamespacedLease.pm
cp lib/Kubernetes/REST/Call/v1beta1/Certificates/DeleteCollectionCertificateSigningRequest.pm blib/lib/Kubernetes/REST/Call/v1beta1/Certificates/DeleteCollectionCertificateSigningRequest.pm
cp lib/Kubernetes/REST/Call/v1beta1/Certificates/ReadCertificateSigningRequest.pm blib/lib/Kubernetes/REST/Call/v1beta1/Certificates/ReadCertificateSigningRequest.pm
cp lib/Kubernetes/REST/Call/v1beta1/Certificates/ReadCertificateSigningRequestStatus.pm blib/lib/Kubernetes/REST/Call/v1beta1/Certificates/ReadCertificateSigningRequestStatus.pm
cp lib/Kubernetes/REST/Call/v1beta1/Certificates/PatchCertificateSigningRequest.pm blib/lib/Kubernetes/REST/Call/v1beta1/Certificates/PatchCertificateSigningRequest.pm
cp lib/Kubernetes/REST/Call/v1beta1/Certificates/WatchCertificateSigningRequestList.pm blib/lib/Kubernetes/REST/Call/v1beta1/Certificates/WatchCertificateSigningRequestList.pm
cp lib/Kubernetes/REST/Call/v1beta1/Events/ReadNamespacedEvent.pm blib/lib/Kubernetes/REST/Call/v1beta1/Events/ReadNamespacedEvent.pm
cp lib/Kubernetes/REST/Call/v1beta1/Coordination/GetAPIResources.pm blib/lib/Kubernetes/REST/Call/v1beta1/Coordination/GetAPIResources.pm
cp lib/Kubernetes/REST/Call/v1beta1/Coordination/WatchNamespacedLease.pm blib/lib/Kubernetes/REST/Call/v1beta1/Coordination/WatchNamespacedLease.pm
cp lib/Kubernetes/REST/Call/v1beta1/Events/ReplaceNamespacedEvent.pm blib/lib/Kubernetes/REST/Call/v1beta1/Events/ReplaceNamespacedEvent.pm
cp lib/Kubernetes/REST/Call/v1beta1/Events/ListNamespacedEvent.pm blib/lib/Kubernetes/REST/Call/v1beta1/Events/ListNamespacedEvent.pm
cp lib/Kubernetes/REST/Call/v1beta1/Events/DeleteNamespacedEvent.pm blib/lib/Kubernetes/REST/Call/v1beta1/Events/DeleteNamespacedEvent.pm
cp lib/Kubernetes/REST/Call/v1beta1/Coordination/PatchNamespacedLease.pm blib/lib/Kubernetes/REST/Call/v1beta1/Coordination/PatchNamespacedLease.pm
cp lib/Kubernetes/REST/Call/v1beta1/Events/PatchNamespacedEvent.pm blib/lib/Kubernetes/REST/Call/v1beta1/Events/PatchNamespacedEvent.pm
cp lib/Kubernetes/REST/Call/v1beta1/Events/ListEventForAllNamespaces.pm blib/lib/Kubernetes/REST/Call/v1beta1/Events/ListEventForAllNamespaces.pm
cp lib/Kubernetes/REST/Call/v1beta1/Events/GetAPIResources.pm blib/lib/Kubernetes/REST/Call/v1beta1/Events/GetAPIResources.pm
cp lib/Kubernetes/REST/Call/v1beta1/Events/DeleteCollectionNamespacedEvent.pm blib/lib/Kubernetes/REST/Call/v1beta1/Events/DeleteCollectionNamespacedEvent.pm
cp lib/Kubernetes/REST/Call/v1beta1/Coordination/ListLeaseForAllNamespaces.pm blib/lib/Kubernetes/REST/Call/v1beta1/Coordination/ListLeaseForAllNamespaces.pm
cp lib/Kubernetes/REST/Call/v1beta1/Coordination/ReadNamespacedLease.pm blib/lib/Kubernetes/REST/Call/v1beta1/Coordination/ReadNamespacedLease.pm
cp lib/Kubernetes/REST/Call/v1beta1/Coordination/WatchLeaseListForAllNamespaces.pm blib/lib/Kubernetes/REST/Call/v1beta1/Coordination/WatchLeaseListForAllNamespaces.pm
cp lib/Kubernetes/REST/Call/v1beta1/Coordination/ListNamespacedLease.pm blib/lib/Kubernetes/REST/Call/v1beta1/Coordination/ListNamespacedLease.pm
cp lib/Kubernetes/REST/Call/v1beta1/Events/CreateNamespacedEvent.pm blib/lib/Kubernetes/REST/Call/v1beta1/Events/CreateNamespacedEvent.pm
cp lib/Kubernetes/REST/Call/v1beta1/Coordination/ReplaceNamespacedLease.pm blib/lib/Kubernetes/REST/Call/v1beta1/Coordination/ReplaceNamespacedLease.pm
cp lib/Kubernetes/REST/Call/v1beta1/Coordination/WatchNamespacedLeaseList.pm blib/lib/Kubernetes/REST/Call/v1beta1/Coordination/WatchNamespacedLeaseList.pm
cp lib/Kubernetes/REST/Call/v1beta1/Extensions/CreateNamespacedDeployment.pm blib/lib/Kubernetes/REST/Call/v1beta1/Extensions/CreateNamespacedDeployment.pm
cp lib/Kubernetes/REST/Call/v1beta1/Extensions/CreateNamespacedDeploymentRollback.pm blib/lib/Kubernetes/REST/Call/v1beta1/Extensions/CreateNamespacedDeploymentRollback.pm
cp lib/Kubernetes/REST/Call/v1beta1/Extensions/DeleteCollectionNamespacedDaemonSet.pm blib/lib/Kubernetes/REST/Call/v1beta1/Extensions/DeleteCollectionNamespacedDaemonSet.pm
cp lib/Kubernetes/REST/Call/v1beta1/Extensions/CreateNamespacedDaemonSet.pm blib/lib/Kubernetes/REST/Call/v1beta1/Extensions/CreateNamespacedDaemonSet.pm
cp lib/Kubernetes/REST/Call/v1beta1/Extensions/DeleteCollectionPodSecurityPolicy.pm blib/lib/Kubernetes/REST/Call/v1beta1/Extensions/DeleteCollectionPodSecurityPolicy.pm
cp lib/Kubernetes/REST/Call/v1beta1/Extensions/CreatePodSecurityPolicy.pm blib/lib/Kubernetes/REST/Call/v1beta1/Extensions/CreatePodSecurityPolicy.pm
cp lib/Kubernetes/REST/Call/v1beta1/Extensions/DeleteCollectionNamespacedIngress.pm blib/lib/Kubernetes/REST/Call/v1beta1/Extensions/DeleteCollectionNamespacedIngress.pm
cp lib/Kubernetes/REST/Call/v1beta1/Events/WatchNamespacedEvent.pm blib/lib/Kubernetes/REST/Call/v1beta1/Events/WatchNamespacedEvent.pm
cp lib/Kubernetes/REST/Call/v1beta1/Extensions/CreateNamespacedNetworkPolicy.pm blib/lib/Kubernetes/REST/Call/v1beta1/Extensions/CreateNamespacedNetworkPolicy.pm
cp lib/Kubernetes/REST/Call/v1beta1/Extensions/DeleteCollectionNamespacedNetworkPolicy.pm blib/lib/Kubernetes/REST/Call/v1beta1/Extensions/DeleteCollectionNamespacedNetworkPolicy.pm
cp lib/Kubernetes/REST/Call/v1beta1/Extensions/CreateNamespacedIngress.pm blib/lib/Kubernetes/REST/Call/v1beta1/Extensions/CreateNamespacedIngress.pm
cp lib/Kubernetes/REST/Call/v1beta1/Extensions/CreateNamespacedReplicaSet.pm blib/lib/Kubernetes/REST/Call/v1beta1/Extensions/CreateNamespacedReplicaSet.pm
cp lib/Kubernetes/REST/Call/v1beta1/Extensions/DeleteCollectionNamespacedReplicaSet.pm blib/lib/Kubernetes/REST/Call/v1beta1/Extensions/DeleteCollectionNamespacedReplicaSet.pm
cp lib/Kubernetes/REST/Call/v1beta1/Extensions/DeleteCollectionNamespacedDeployment.pm blib/lib/Kubernetes/REST/Call/v1beta1/Extensions/DeleteCollectionNamespacedDeployment.pm
cp lib/Kubernetes/REST/Call/v1beta1/Events/WatchNamespacedEventList.pm blib/lib/Kubernetes/REST/Call/v1beta1/Events/WatchNamespacedEventList.pm
cp lib/Kubernetes/REST/Call/v1beta1/Events/WatchEventListForAllNamespaces.pm blib/lib/Kubernetes/REST/Call/v1beta1/Events/WatchEventListForAllNamespaces.pm
cp lib/Kubernetes/REST/Call/v1beta1/Extensions/DeletePodSecurityPolicy.pm blib/lib/Kubernetes/REST/Call/v1beta1/Extensions/DeletePodSecurityPolicy.pm
cp lib/Kubernetes/REST/Call/v1beta1/Extensions/DeleteNamespacedDeployment.pm blib/lib/Kubernetes/REST/Call/v1beta1/Extensions/DeleteNamespacedDeployment.pm
cp lib/Kubernetes/REST/Call/v1beta1/Extensions/ListDaemonSetForAllNamespaces.pm blib/lib/Kubernetes/REST/Call/v1beta1/Extensions/ListDaemonSetForAllNamespaces.pm
cp lib/Kubernetes/REST/Call/v1beta1/Extensions/DeleteNamespacedIngress.pm blib/lib/Kubernetes/REST/Call/v1beta1/Extensions/DeleteNamespacedIngress.pm
cp lib/Kubernetes/REST/Call/v1beta1/Extensions/DeleteNamespacedNetworkPolicy.pm blib/lib/Kubernetes/REST/Call/v1beta1/Extensions/DeleteNamespacedNetworkPolicy.pm
cp lib/Kubernetes/REST/Call/v1beta1/Extensions/DeleteNamespacedReplicaSet.pm blib/lib/Kubernetes/REST/Call/v1beta1/Extensions/DeleteNamespacedReplicaSet.pm
cp lib/Kubernetes/REST/Call/v1beta1/Extensions/ListPodSecurityPolicy.pm blib/lib/Kubernetes/REST/Call/v1beta1/Extensions/ListPodSecurityPolicy.pm
cp lib/Kubernetes/REST/Call/v1beta1/Extensions/ListIngressForAllNamespaces.pm blib/lib/Kubernetes/REST/Call/v1beta1/Extensions/ListIngressForAllNamespaces.pm
cp lib/Kubernetes/REST/Call/v1beta1/Extensions/ListNamespacedIngress.pm blib/lib/Kubernetes/REST/Call/v1beta1/Extensions/ListNamespacedIngress.pm
cp lib/Kubernetes/REST/Call/v1beta1/Extensions/GetAPIResources.pm blib/lib/Kubernetes/REST/Call/v1beta1/Extensions/GetAPIResources.pm
cp lib/Kubernetes/REST/Call/v1beta1/Extensions/DeleteNamespacedDaemonSet.pm blib/lib/Kubernetes/REST/Call/v1beta1/Extensions/DeleteNamespacedDaemonSet.pm
cp lib/Kubernetes/REST/Call/v1beta1/Extensions/ListNamespacedNetworkPolicy.pm blib/lib/Kubernetes/REST/Call/v1beta1/Extensions/ListNamespacedNetworkPolicy.pm
cp lib/Kubernetes/REST/Call/v1beta1/Extensions/ListNamespacedDaemonSet.pm blib/lib/Kubernetes/REST/Call/v1beta1/Extensions/ListNamespacedDaemonSet.pm
cp lib/Kubernetes/REST/Call/v1beta1/Extensions/ListNamespacedReplicaSet.pm blib/lib/Kubernetes/REST/Call/v1beta1/Extensions/ListNamespacedReplicaSet.pm
cp lib/Kubernetes/REST/Call/v1beta1/Extensions/ListNamespacedDeployment.pm blib/lib/Kubernetes/REST/Call/v1beta1/Extensions/ListNamespacedDeployment.pm
cp lib/Kubernetes/REST/Call/v1beta1/Extensions/ListNetworkPolicyForAllNamespaces.pm blib/lib/Kubernetes/REST/Call/v1beta1/Extensions/ListNetworkPolicyForAllNamespaces.pm
cp lib/Kubernetes/REST/Call/v1beta1/Extensions/ListDeploymentForAllNamespaces.pm blib/lib/Kubernetes/REST/Call/v1beta1/Extensions/ListDeploymentForAllNamespaces.pm
cp lib/Kubernetes/REST/Call/v1beta1/Extensions/PatchNamespacedDeploymentStatus.pm blib/lib/Kubernetes/REST/Call/v1beta1/Extensions/PatchNamespacedDeploymentStatus.pm
cp lib/Kubernetes/REST/Call/v1beta1/Extensions/PatchNamespacedReplicaSetScale.pm blib/lib/Kubernetes/REST/Call/v1beta1/Extensions/PatchNamespacedReplicaSetScale.pm
cp lib/Kubernetes/REST/Call/v1beta1/Extensions/ReadNamespacedDaemonSet.pm blib/lib/Kubernetes/REST/Call/v1beta1/Extensions/ReadNamespacedDaemonSet.pm
cp lib/Kubernetes/REST/Call/v1beta1/Extensions/PatchNamespacedNetworkPolicy.pm blib/lib/Kubernetes/REST/Call/v1beta1/Extensions/PatchNamespacedNetworkPolicy.pm
cp lib/Kubernetes/REST/Call/v1beta1/Extensions/PatchNamespacedDeployment.pm blib/lib/Kubernetes/REST/Call/v1beta1/Extensions/PatchNamespacedDeployment.pm
cp lib/Kubernetes/REST/Call/v1beta1/Extensions/PatchNamespacedDaemonSet.pm blib/lib/Kubernetes/REST/Call/v1beta1/Extensions/PatchNamespacedDaemonSet.pm
cp lib/Kubernetes/REST/Call/v1beta1/Extensions/PatchNamespacedDeploymentScale.pm blib/lib/Kubernetes/REST/Call/v1beta1/Extensions/PatchNamespacedDeploymentScale.pm
cp lib/Kubernetes/REST/Call/v1beta1/Extensions/ReadNamespacedDaemonSetStatus.pm blib/lib/Kubernetes/REST/Call/v1beta1/Extensions/ReadNamespacedDaemonSetStatus.pm
cp lib/Kubernetes/REST/Call/v1beta1/Extensions/ListReplicaSetForAllNamespaces.pm blib/lib/Kubernetes/REST/Call/v1beta1/Extensions/ListReplicaSetForAllNamespaces.pm
cp lib/Kubernetes/REST/Call/v1beta1/Extensions/PatchNamespacedReplicaSetStatus.pm blib/lib/Kubernetes/REST/Call/v1beta1/Extensions/PatchNamespacedReplicaSetStatus.pm
cp lib/Kubernetes/REST/Call/v1beta1/Extensions/PatchNamespacedIngress.pm blib/lib/Kubernetes/REST/Call/v1beta1/Extensions/PatchNamespacedIngress.pm
cp lib/Kubernetes/REST/Call/v1beta1/Extensions/PatchNamespacedDaemonSetStatus.pm blib/lib/Kubernetes/REST/Call/v1beta1/Extensions/PatchNamespacedDaemonSetStatus.pm
cp lib/Kubernetes/REST/Call/v1beta1/Extensions/PatchNamespacedReplicaSet.pm blib/lib/Kubernetes/REST/Call/v1beta1/Extensions/PatchNamespacedReplicaSet.pm
cp lib/Kubernetes/REST/Call/v1beta1/Extensions/PatchPodSecurityPolicy.pm blib/lib/Kubernetes/REST/Call/v1beta1/Extensions/PatchPodSecurityPolicy.pm
cp lib/Kubernetes/REST/Call/v1beta1/Extensions/PatchNamespacedIngressStatus.pm blib/lib/Kubernetes/REST/Call/v1beta1/Extensions/PatchNamespacedIngressStatus.pm
cp lib/Kubernetes/REST/Call/v1beta1/Extensions/PatchNamespacedReplicationControllerDummyScale.pm blib/lib/Kubernetes/REST/Call/v1beta1/Extensions/PatchNamespacedReplicationControllerDummyScale.pm
cp lib/Kubernetes/REST/Call/v1beta1/Extensions/ReplaceNamespacedDeployment.pm blib/lib/Kubernetes/REST/Call/v1beta1/Extensions/ReplaceNamespacedDeployment.pm
cp lib/Kubernetes/REST/Call/v1beta1/Extensions/ReadNamespacedDeployment.pm blib/lib/Kubernetes/REST/Call/v1beta1/Extensions/ReadNamespacedDeployment.pm
cp lib/Kubernetes/REST/Call/v1beta1/Extensions/ReplaceNamespacedDeploymentStatus.pm blib/lib/Kubernetes/REST/Call/v1beta1/Extensions/ReplaceNamespacedDeploymentStatus.pm
cp lib/Kubernetes/REST/Call/v1beta1/Extensions/ReplaceNamespacedDaemonSetStatus.pm blib/lib/Kubernetes/REST/Call/v1beta1/Extensions/ReplaceNamespacedDaemonSetStatus.pm
cp lib/Kubernetes/REST/Call/v1beta1/Extensions/ReplaceNamespacedDeploymentScale.pm blib/lib/Kubernetes/REST/Call/v1beta1/Extensions/ReplaceNamespacedDeploymentScale.pm
cp lib/Kubernetes/REST/Call/v1beta1/Extensions/ReadNamespacedReplicaSetStatus.pm blib/lib/Kubernetes/REST/Call/v1beta1/Extensions/ReadNamespacedReplicaSetStatus.pm
cp lib/Kubernetes/REST/Call/v1beta1/Extensions/ReadNamespacedIngress.pm blib/lib/Kubernetes/REST/Call/v1beta1/Extensions/ReadNamespacedIngress.pm
cp lib/Kubernetes/REST/Call/v1beta1/Extensions/ReplaceNamespacedDaemonSet.pm blib/lib/Kubernetes/REST/Call/v1beta1/Extensions/ReplaceNamespacedDaemonSet.pm
cp lib/Kubernetes/REST/Call/v1beta1/Extensions/ReadNamespacedReplicaSetScale.pm blib/lib/Kubernetes/REST/Call/v1beta1/Extensions/ReadNamespacedReplicaSetScale.pm
cp lib/Kubernetes/REST/Call/v1beta1/Extensions/ReadNamespacedIngressStatus.pm blib/lib/Kubernetes/REST/Call/v1beta1/Extensions/ReadNamespacedIngressStatus.pm
cp lib/Kubernetes/REST/Call/v1beta1/Extensions/ReadNamespacedReplicaSet.pm blib/lib/Kubernetes/REST/Call/v1beta1/Extensions/ReadNamespacedReplicaSet.pm
cp lib/Kubernetes/REST/Call/v1beta1/Extensions/ReadPodSecurityPolicy.pm blib/lib/Kubernetes/REST/Call/v1beta1/Extensions/ReadPodSecurityPolicy.pm
cp lib/Kubernetes/REST/Call/v1beta1/Extensions/ReadNamespacedReplicationControllerDummyScale.pm blib/lib/Kubernetes/REST/Call/v1beta1/Extensions/ReadNamespacedReplicationControllerDummyScale.pm
cp lib/Kubernetes/REST/Call/v1beta1/Extensions/ReadNamespacedDeploymentStatus.pm blib/lib/Kubernetes/REST/Call/v1beta1/Extensions/ReadNamespacedDeploymentStatus.pm
cp lib/Kubernetes/REST/Call/v1beta1/Extensions/ReadNamespacedNetworkPolicy.pm blib/lib/Kubernetes/REST/Call/v1beta1/Extensions/ReadNamespacedNetworkPolicy.pm
cp lib/Kubernetes/REST/Call/v1beta1/Extensions/ReadNamespacedDeploymentScale.pm blib/lib/Kubernetes/REST/Call/v1beta1/Extensions/ReadNamespacedDeploymentScale.pm
cp lib/Kubernetes/REST/Call/v1beta1/Extensions/WatchNamespacedDeploymentList.pm blib/lib/Kubernetes/REST/Call/v1beta1/Extensions/WatchNamespacedDeploymentList.pm
cp lib/Kubernetes/REST/Call/v1beta1/Extensions/ReplaceNamespacedIngress.pm blib/lib/Kubernetes/REST/Call/v1beta1/Extensions/ReplaceNamespacedIngress.pm
cp lib/Kubernetes/REST/Call/v1beta1/Extensions/ReplaceNamespacedReplicationControllerDummyScale.pm blib/lib/Kubernetes/REST/Call/v1beta1/Extensions/ReplaceNamespacedReplicationControllerDummyScale.pm
cp lib/Kubernetes/REST/Call/v1beta1/Extensions/WatchDaemonSetListForAllNamespaces.pm blib/lib/Kubernetes/REST/Call/v1beta1/Extensions/WatchDaemonSetListForAllNamespaces.pm
cp lib/Kubernetes/REST/Call/v1beta1/Extensions/ReplaceNamespacedNetworkPolicy.pm blib/lib/Kubernetes/REST/Call/v1beta1/Extensions/ReplaceNamespacedNetworkPolicy.pm
cp lib/Kubernetes/REST/Call/v1beta1/Extensions/WatchNamespacedIngress.pm blib/lib/Kubernetes/REST/Call/v1beta1/Extensions/WatchNamespacedIngress.pm
cp lib/Kubernetes/REST/Call/v1beta1/Extensions/ReplaceNamespacedReplicaSetScale.pm blib/lib/Kubernetes/REST/Call/v1beta1/Extensions/ReplaceNamespacedReplicaSetScale.pm
cp lib/Kubernetes/REST/Call/v1beta1/Extensions/WatchIngressListForAllNamespaces.pm blib/lib/Kubernetes/REST/Call/v1beta1/Extensions/WatchIngressListForAllNamespaces.pm
cp lib/Kubernetes/REST/Call/v1beta1/Extensions/WatchDeploymentListForAllNamespaces.pm blib/lib/Kubernetes/REST/Call/v1beta1/Extensions/WatchDeploymentListForAllNamespaces.pm
cp lib/Kubernetes/REST/Call/v1beta1/Extensions/ReplacePodSecurityPolicy.pm blib/lib/Kubernetes/REST/Call/v1beta1/Extensions/ReplacePodSecurityPolicy.pm
cp lib/Kubernetes/REST/Call/v1beta1/Extensions/WatchNamespacedDaemonSetList.pm blib/lib/Kubernetes/REST/Call/v1beta1/Extensions/WatchNamespacedDaemonSetList.pm
cp lib/Kubernetes/REST/Call/v1beta1/Extensions/ReplaceNamespacedReplicaSetStatus.pm blib/lib/Kubernetes/REST/Call/v1beta1/Extensions/ReplaceNamespacedReplicaSetStatus.pm
cp lib/Kubernetes/REST/Call/v1beta1/Extensions/WatchNamespacedDaemonSet.pm blib/lib/Kubernetes/REST/Call/v1beta1/Extensions/WatchNamespacedDaemonSet.pm
cp lib/Kubernetes/REST/Call/v1beta1/Extensions/ReplaceNamespacedIngressStatus.pm blib/lib/Kubernetes/REST/Call/v1beta1/Extensions/ReplaceNamespacedIngressStatus.pm
cp lib/Kubernetes/REST/Call/v1beta1/Extensions/WatchNamespacedDeployment.pm blib/lib/Kubernetes/REST/Call/v1beta1/Extensions/WatchNamespacedDeployment.pm
cp lib/Kubernetes/REST/Call/v1beta1/Extensions/ReplaceNamespacedReplicaSet.pm blib/lib/Kubernetes/REST/Call/v1beta1/Extensions/ReplaceNamespacedReplicaSet.pm
cp lib/Kubernetes/REST/Call/v1beta1/Extensions/WatchPodSecurityPolicyList.pm blib/lib/Kubernetes/REST/Call/v1beta1/Extensions/WatchPodSecurityPolicyList.pm
cp lib/Kubernetes/REST/Call/v1beta1/Policy/DeleteNamespacedPodDisruptionBudget.pm blib/lib/Kubernetes/REST/Call/v1beta1/Policy/DeleteNamespacedPodDisruptionBudget.pm
cp lib/Kubernetes/REST/Call/v1beta1/Extensions/WatchNamespacedNetworkPolicy.pm blib/lib/Kubernetes/REST/Call/v1beta1/Extensions/WatchNamespacedNetworkPolicy.pm
cp lib/Kubernetes/REST/Call/v1beta1/Extensions/WatchPodSecurityPolicy.pm blib/lib/Kubernetes/REST/Call/v1beta1/Extensions/WatchPodSecurityPolicy.pm
cp lib/Kubernetes/REST/Call/v1beta1/Policy/CreateNamespacedPodDisruptionBudget.pm blib/lib/Kubernetes/REST/Call/v1beta1/Policy/CreateNamespacedPodDisruptionBudget.pm
cp lib/Kubernetes/REST/Call/v1beta1/Extensions/WatchNamespacedNetworkPolicyList.pm blib/lib/Kubernetes/REST/Call/v1beta1/Extensions/WatchNamespacedNetworkPolicyList.pm
cp lib/Kubernetes/REST/Call/v1beta1/Policy/CreatePodSecurityPolicy.pm blib/lib/Kubernetes/REST/Call/v1beta1/Policy/CreatePodSecurityPolicy.pm
cp lib/Kubernetes/REST/Call/v1beta1/Extensions/WatchNetworkPolicyListForAllNamespaces.pm blib/lib/Kubernetes/REST/Call/v1beta1/Extensions/WatchNetworkPolicyListForAllNamespaces.pm
cp lib/Kubernetes/REST/Call/v1beta1/Extensions/WatchNamespacedReplicaSet.pm blib/lib/Kubernetes/REST/Call/v1beta1/Extensions/WatchNamespacedReplicaSet.pm
cp lib/Kubernetes/REST/Call/v1beta1/Extensions/WatchNamespacedReplicaSetList.pm blib/lib/Kubernetes/REST/Call/v1beta1/Extensions/WatchNamespacedReplicaSetList.pm
cp lib/Kubernetes/REST/Call/v1beta1/Policy/DeleteCollectionNamespacedPodDisruptionBudget.pm blib/lib/Kubernetes/REST/Call/v1beta1/Policy/DeleteCollectionNamespacedPodDisruptionBudget.pm
cp lib/Kubernetes/REST/Call/v1beta1/Policy/GetAPIResources.pm blib/lib/Kubernetes/REST/Call/v1beta1/Policy/GetAPIResources.pm
cp lib/Kubernetes/REST/Call/v1beta1/Policy/DeleteCollectionPodSecurityPolicy.pm blib/lib/Kubernetes/REST/Call/v1beta1/Policy/DeleteCollectionPodSecurityPolicy.pm
cp lib/Kubernetes/REST/Call/v1beta1/Extensions/WatchReplicaSetListForAllNamespaces.pm blib/lib/Kubernetes/REST/Call/v1beta1/Extensions/WatchReplicaSetListForAllNamespaces.pm
cp lib/Kubernetes/REST/Call/v1beta1/Policy/DeletePodSecurityPolicy.pm blib/lib/Kubernetes/REST/Call/v1beta1/Policy/DeletePodSecurityPolicy.pm
cp lib/Kubernetes/REST/Call/v1beta1/Extensions/WatchNamespacedIngressList.pm blib/lib/Kubernetes/REST/Call/v1beta1/Extensions/WatchNamespacedIngressList.pm
cp lib/Kubernetes/REST/Call/v1beta1/Policy/PatchNamespacedPodDisruptionBudget.pm blib/lib/Kubernetes/REST/Call/v1beta1/Policy/PatchNamespacedPodDisruptionBudget.pm
cp lib/Kubernetes/REST/Call/v1beta1/Policy/ReadPodSecurityPolicy.pm blib/lib/Kubernetes/REST/Call/v1beta1/Policy/ReadPodSecurityPolicy.pm
cp lib/Kubernetes/REST/Call/v1beta1/Policy/ReplaceNamespacedPodDisruptionBudget.pm blib/lib/Kubernetes/REST/Call/v1beta1/Policy/ReplaceNamespacedPodDisruptionBudget.pm
cp lib/Kubernetes/REST/Call/v1beta1/Policy/PatchNamespacedPodDisruptionBudgetStatus.pm blib/lib/Kubernetes/REST/Call/v1beta1/Policy/PatchNamespacedPodDisruptionBudgetStatus.pm
cp lib/Kubernetes/REST/Call/v1beta1/Policy/PatchPodSecurityPolicy.pm blib/lib/Kubernetes/REST/Call/v1beta1/Policy/PatchPodSecurityPolicy.pm
cp lib/Kubernetes/REST/Call/v1beta1/Policy/ReplaceNamespacedPodDisruptionBudgetStatus.pm blib/lib/Kubernetes/REST/Call/v1beta1/Policy/ReplaceNamespacedPodDisruptionBudgetStatus.pm
cp lib/Kubernetes/REST/Call/v1beta1/Policy/ReadNamespacedPodDisruptionBudgetStatus.pm blib/lib/Kubernetes/REST/Call/v1beta1/Policy/ReadNamespacedPodDisruptionBudgetStatus.pm
cp lib/Kubernetes/REST/Call/v1beta1/Policy/ListPodSecurityPolicy.pm blib/lib/Kubernetes/REST/Call/v1beta1/Policy/ListPodSecurityPolicy.pm
cp lib/Kubernetes/REST/Call/v1beta1/Policy/WatchPodDisruptionBudgetListForAllNamespaces.pm blib/lib/Kubernetes/REST/Call/v1beta1/Policy/WatchPodDisruptionBudgetListForAllNamespaces.pm
cp lib/Kubernetes/REST/Call/v1beta1/Policy/WatchNamespacedPodDisruptionBudget.pm blib/lib/Kubernetes/REST/Call/v1beta1/Policy/WatchNamespacedPodDisruptionBudget.pm
cp lib/Kubernetes/REST/Call/v1beta1/Policy/ReadNamespacedPodDisruptionBudget.pm blib/lib/Kubernetes/REST/Call/v1beta1/Policy/ReadNamespacedPodDisruptionBudget.pm
cp lib/Kubernetes/REST/Call/v1beta1/Policy/ListPodDisruptionBudgetForAllNamespaces.pm blib/lib/Kubernetes/REST/Call/v1beta1/Policy/ListPodDisruptionBudgetForAllNamespaces.pm
cp lib/Kubernetes/REST/Call/v1beta1/Policy/ReplacePodSecurityPolicy.pm blib/lib/Kubernetes/REST/Call/v1beta1/Policy/ReplacePodSecurityPolicy.pm
cp lib/Kubernetes/REST/Call/v1beta1/Policy/WatchNamespacedPodDisruptionBudgetList.pm blib/lib/Kubernetes/REST/Call/v1beta1/Policy/WatchNamespacedPodDisruptionBudgetList.pm
cp lib/Kubernetes/REST/Call/v1beta1/Policy/WatchPodSecurityPolicy.pm blib/lib/Kubernetes/REST/Call/v1beta1/Policy/WatchPodSecurityPolicy.pm
cp lib/Kubernetes/REST/Call/v1beta1/Policy/ListNamespacedPodDisruptionBudget.pm blib/lib/Kubernetes/REST/Call/v1beta1/Policy/ListNamespacedPodDisruptionBudget.pm
cp lib/Kubernetes/REST/Call/v1beta1/RbacAuthorization/DeleteCollectionClusterRole.pm blib/lib/Kubernetes/REST/Call/v1beta1/RbacAuthorization/DeleteCollectionClusterRole.pm
cp lib/Kubernetes/REST/Call/v1beta1/RbacAuthorization/ListClusterRole.pm blib/lib/Kubernetes/REST/Call/v1beta1/RbacAuthorization/ListClusterRole.pm
cp lib/Kubernetes/REST/Call/v1beta1/RbacAuthorization/GetAPIResources.pm blib/lib/Kubernetes/REST/Call/v1beta1/RbacAuthorization/GetAPIResources.pm
cp lib/Kubernetes/REST/Call/v1beta1/RbacAuthorization/CreateNamespacedRoleBinding.pm blib/lib/Kubernetes/REST/Call/v1beta1/RbacAuthorization/CreateNamespacedRoleBinding.pm
cp lib/Kubernetes/REST/Call/v1beta1/RbacAuthorization/DeleteClusterRole.pm blib/lib/Kubernetes/REST/Call/v1beta1/RbacAuthorization/DeleteClusterRole.pm
cp lib/Kubernetes/REST/Call/v1beta1/RbacAuthorization/DeleteNamespacedRoleBinding.pm blib/lib/Kubernetes/REST/Call/v1beta1/RbacAuthorization/DeleteNamespacedRoleBinding.pm
cp lib/Kubernetes/REST/Call/v1beta1/RbacAuthorization/ListClusterRoleBinding.pm blib/lib/Kubernetes/REST/Call/v1beta1/RbacAuthorization/ListClusterRoleBinding.pm
cp lib/Kubernetes/REST/Call/v1beta1/RbacAuthorization/DeleteCollectionNamespacedRoleBinding.pm blib/lib/Kubernetes/REST/Call/v1beta1/RbacAuthorization/DeleteCollectionNamespacedRoleBinding.pm
cp lib/Kubernetes/REST/Call/v1beta1/RbacAuthorization/DeleteClusterRoleBinding.pm blib/lib/Kubernetes/REST/Call/v1beta1/RbacAuthorization/DeleteClusterRoleBinding.pm
cp lib/Kubernetes/REST/Call/v1beta1/RbacAuthorization/CreateClusterRole.pm blib/lib/Kubernetes/REST/Call/v1beta1/RbacAuthorization/CreateClusterRole.pm
cp lib/Kubernetes/REST/Call/v1beta1/RbacAuthorization/DeleteCollectionNamespacedRole.pm blib/lib/Kubernetes/REST/Call/v1beta1/RbacAuthorization/DeleteCollectionNamespacedRole.pm
cp lib/Kubernetes/REST/Call/v1beta1/RbacAuthorization/DeleteCollectionClusterRoleBinding.pm blib/lib/Kubernetes/REST/Call/v1beta1/RbacAuthorization/DeleteCollectionClusterRoleBinding.pm
cp lib/Kubernetes/REST/Call/v1beta1/RbacAuthorization/CreateClusterRoleBinding.pm blib/lib/Kubernetes/REST/Call/v1beta1/RbacAuthorization/CreateClusterRoleBinding.pm
cp lib/Kubernetes/REST/Call/v1beta1/RbacAuthorization/CreateNamespacedRole.pm blib/lib/Kubernetes/REST/Call/v1beta1/RbacAuthorization/CreateNamespacedRole.pm
cp lib/Kubernetes/REST/Call/v1beta1/Policy/WatchPodSecurityPolicyList.pm blib/lib/Kubernetes/REST/Call/v1beta1/Policy/WatchPodSecurityPolicyList.pm
cp lib/Kubernetes/REST/Call/v1beta1/RbacAuthorization/DeleteNamespacedRole.pm blib/lib/Kubernetes/REST/Call/v1beta1/RbacAuthorization/DeleteNamespacedRole.pm
cp lib/Kubernetes/REST/Call/v1beta1/RbacAuthorization/ReadNamespacedRoleBinding.pm blib/lib/Kubernetes/REST/Call/v1beta1/RbacAuthorization/ReadNamespacedRoleBinding.pm
cp lib/Kubernetes/REST/Call/v1beta1/RbacAuthorization/ListRoleForAllNamespaces.pm blib/lib/Kubernetes/REST/Call/v1beta1/RbacAuthorization/ListRoleForAllNamespaces.pm
cp lib/Kubernetes/REST/Call/v1beta1/RbacAuthorization/ReadClusterRole.pm blib/lib/Kubernetes/REST/Call/v1beta1/RbacAuthorization/ReadClusterRole.pm
cp lib/Kubernetes/REST/Call/v1beta1/RbacAuthorization/ReplaceNamespacedRoleBinding.pm blib/lib/Kubernetes/REST/Call/v1beta1/RbacAuthorization/ReplaceNamespacedRoleBinding.pm
cp lib/Kubernetes/REST/Call/v1beta1/RbacAuthorization/ReadClusterRoleBinding.pm blib/lib/Kubernetes/REST/Call/v1beta1/RbacAuthorization/ReadClusterRoleBinding.pm
cp lib/Kubernetes/REST/Call/v1beta1/RbacAuthorization/ReadNamespacedRole.pm blib/lib/Kubernetes/REST/Call/v1beta1/RbacAuthorization/ReadNamespacedRole.pm
cp lib/Kubernetes/REST/Call/v1beta1/RbacAuthorization/PatchNamespacedRoleBinding.pm blib/lib/Kubernetes/REST/Call/v1beta1/RbacAuthorization/PatchNamespacedRoleBinding.pm
cp lib/Kubernetes/REST/Call/v1beta1/RbacAuthorization/PatchClusterRole.pm blib/lib/Kubernetes/REST/Call/v1beta1/RbacAuthorization/PatchClusterRole.pm
cp lib/Kubernetes/REST/Call/v1beta1/RbacAuthorization/ListRoleBindingForAllNamespaces.pm blib/lib/Kubernetes/REST/Call/v1beta1/RbacAuthorization/ListRoleBindingForAllNamespaces.pm
cp lib/Kubernetes/REST/Call/v1beta1/RbacAuthorization/PatchNamespacedRole.pm blib/lib/Kubernetes/REST/Call/v1beta1/RbacAuthorization/PatchNamespacedRole.pm
cp lib/Kubernetes/REST/Call/v1beta1/RbacAuthorization/ReplaceClusterRole.pm blib/lib/Kubernetes/REST/Call/v1beta1/RbacAuthorization/ReplaceClusterRole.pm
cp lib/Kubernetes/REST/Call/v1beta1/RbacAuthorization/ReplaceNamespacedRole.pm blib/lib/Kubernetes/REST/Call/v1beta1/RbacAuthorization/ReplaceNamespacedRole.pm
cp lib/Kubernetes/REST/Call/v1beta1/RbacAuthorization/PatchClusterRoleBinding.pm blib/lib/Kubernetes/REST/Call/v1beta1/RbacAuthorization/PatchClusterRoleBinding.pm
cp lib/Kubernetes/REST/Call/v1beta1/RbacAuthorization/ReplaceClusterRoleBinding.pm blib/lib/Kubernetes/REST/Call/v1beta1/RbacAuthorization/ReplaceClusterRoleBinding.pm
cp lib/Kubernetes/REST/Call/v1beta1/RbacAuthorization/ListNamespacedRole.pm blib/lib/Kubernetes/REST/Call/v1beta1/RbacAuthorization/ListNamespacedRole.pm
cp lib/Kubernetes/REST/Call/v1beta1/RbacAuthorization/ListNamespacedRoleBinding.pm blib/lib/Kubernetes/REST/Call/v1beta1/RbacAuthorization/ListNamespacedRoleBinding.pm
cp lib/Kubernetes/REST/Call/v1beta1/Scheduling/GetAPIResources.pm blib/lib/Kubernetes/REST/Call/v1beta1/Scheduling/GetAPIResources.pm
cp lib/Kubernetes/REST/Call/v1beta1/RbacAuthorization/WatchRoleBindingListForAllNamespaces.pm blib/lib/Kubernetes/REST/Call/v1beta1/RbacAuthorization/WatchRoleBindingListForAllNamespaces.pm
cp lib/Kubernetes/REST/Call/v1beta1/RbacAuthorization/WatchClusterRoleBindingList.pm blib/lib/Kubernetes/REST/Call/v1beta1/RbacAuthorization/WatchClusterRoleBindingList.pm
cp lib/Kubernetes/REST/Call/v1beta1/Scheduling/DeletePriorityClass.pm blib/lib/Kubernetes/REST/Call/v1beta1/Scheduling/DeletePriorityClass.pm
cp lib/Kubernetes/REST/Call/v1beta1/RbacAuthorization/WatchClusterRoleList.pm blib/lib/Kubernetes/REST/Call/v1beta1/RbacAuthorization/WatchClusterRoleList.pm
cp lib/Kubernetes/REST/Call/v1beta1/Scheduling/ListPriorityClass.pm blib/lib/Kubernetes/REST/Call/v1beta1/Scheduling/ListPriorityClass.pm
cp lib/Kubernetes/REST/Call/v1beta1/RbacAuthorization/WatchNamespacedRoleBindingList.pm blib/lib/Kubernetes/REST/Call/v1beta1/RbacAuthorization/WatchNamespacedRoleBindingList.pm
cp lib/Kubernetes/REST/Call/v1beta1/RbacAuthorization/WatchNamespacedRole.pm blib/lib/Kubernetes/REST/Call/v1beta1/RbacAuthorization/WatchNamespacedRole.pm
cp lib/Kubernetes/REST/Call/v1beta1/RbacAuthorization/WatchClusterRole.pm blib/lib/Kubernetes/REST/Call/v1beta1/RbacAuthorization/WatchClusterRole.pm
cp lib/Kubernetes/REST/Call/v1beta1/Scheduling/CreatePriorityClass.pm blib/lib/Kubernetes/REST/Call/v1beta1/Scheduling/CreatePriorityClass.pm
cp lib/Kubernetes/REST/Call/v1beta1/Scheduling/PatchPriorityClass.pm blib/lib/Kubernetes/REST/Call/v1beta1/Scheduling/PatchPriorityClass.pm
cp lib/Kubernetes/REST/Call/v1beta1/RbacAuthorization/WatchNamespacedRoleList.pm blib/lib/Kubernetes/REST/Call/v1beta1/RbacAuthorization/WatchNamespacedRoleList.pm
cp lib/Kubernetes/REST/Call/v1beta1/RbacAuthorization/WatchNamespacedRoleBinding.pm blib/lib/Kubernetes/REST/Call/v1beta1/RbacAuthorization/WatchNamespacedRoleBinding.pm
cp lib/Kubernetes/REST/Call/v1beta1/RbacAuthorization/WatchClusterRoleBinding.pm blib/lib/Kubernetes/REST/Call/v1beta1/RbacAuthorization/WatchClusterRoleBinding.pm
cp lib/Kubernetes/REST/Call/v1beta1/RbacAuthorization/WatchRoleListForAllNamespaces.pm blib/lib/Kubernetes/REST/Call/v1beta1/RbacAuthorization/WatchRoleListForAllNamespaces.pm
cp lib/Kubernetes/REST/Call/v1beta1/Scheduling/DeleteCollectionPriorityClass.pm blib/lib/Kubernetes/REST/Call/v1beta1/Scheduling/DeleteCollectionPriorityClass.pm
cp lib/Kubernetes/REST/Call/v1beta1/Storage/ReadVolumeAttachment.pm blib/lib/Kubernetes/REST/Call/v1beta1/Storage/ReadVolumeAttachment.pm
cp lib/Kubernetes/REST/Call/v1beta1/Storage/CreateVolumeAttachment.pm blib/lib/Kubernetes/REST/Call/v1beta1/Storage/CreateVolumeAttachment.pm
cp lib/Kubernetes/REST/Call/v1beta1/Scheduling/ReplacePriorityClass.pm blib/lib/Kubernetes/REST/Call/v1beta1/Scheduling/ReplacePriorityClass.pm
cp lib/Kubernetes/REST/Call/v1beta1/Storage/DeleteCollectionStorageClass.pm blib/lib/Kubernetes/REST/Call/v1beta1/Storage/DeleteCollectionStorageClass.pm
cp lib/Kubernetes/REST/Call/v1beta1/Storage/GetAPIResources.pm blib/lib/Kubernetes/REST/Call/v1beta1/Storage/GetAPIResources.pm
cp lib/Kubernetes/REST/Call/v1beta1/Storage/CreateStorageClass.pm blib/lib/Kubernetes/REST/Call/v1beta1/Storage/CreateStorageClass.pm
cp lib/Kubernetes/REST/Call/v1beta1/Storage/DeleteVolumeAttachment.pm blib/lib/Kubernetes/REST/Call/v1beta1/Storage/DeleteVolumeAttachment.pm
cp lib/Kubernetes/REST/Call/v1beta1/Storage/PatchStorageClass.pm blib/lib/Kubernetes/REST/Call/v1beta1/Storage/PatchStorageClass.pm
cp lib/Kubernetes/REST/Call/v1beta1/Storage/DeleteStorageClass.pm blib/lib/Kubernetes/REST/Call/v1beta1/Storage/DeleteStorageClass.pm
cp lib/Kubernetes/REST/Call/v1beta1/Scheduling/ReadPriorityClass.pm blib/lib/Kubernetes/REST/Call/v1beta1/Scheduling/ReadPriorityClass.pm
cp lib/Kubernetes/REST/Call/v1beta1/Storage/ListVolumeAttachment.pm blib/lib/Kubernetes/REST/Call/v1beta1/Storage/ListVolumeAttachment.pm
cp lib/Kubernetes/REST/Call/v1beta1/Storage/PatchVolumeAttachment.pm blib/lib/Kubernetes/REST/Call/v1beta1/Storage/PatchVolumeAttachment.pm
cp lib/Kubernetes/REST/Call/v1beta1/Storage/ListStorageClass.pm blib/lib/Kubernetes/REST/Call/v1beta1/Storage/ListStorageClass.pm
cp lib/Kubernetes/REST/Call/v1beta1/Storage/DeleteCollectionVolumeAttachment.pm blib/lib/Kubernetes/REST/Call/v1beta1/Storage/DeleteCollectionVolumeAttachment.pm
cp lib/Kubernetes/REST/Call/v1beta1/Scheduling/WatchPriorityClassList.pm blib/lib/Kubernetes/REST/Call/v1beta1/Scheduling/WatchPriorityClassList.pm
cp lib/Kubernetes/REST/Call/v1beta1/Storage/ReadStorageClass.pm blib/lib/Kubernetes/REST/Call/v1beta1/Storage/ReadStorageClass.pm
cp lib/Kubernetes/REST/Call/v1beta1/Storage/ReplaceStorageClass.pm blib/lib/Kubernetes/REST/Call/v1beta1/Storage/ReplaceStorageClass.pm
cp lib/Kubernetes/REST/Call/v1beta1/Scheduling/WatchPriorityClass.pm blib/lib/Kubernetes/REST/Call/v1beta1/Scheduling/WatchPriorityClass.pm
cp lib/Kubernetes/REST/Call/v1beta2/Apps/CreateNamespacedReplicaSet.pm blib/lib/Kubernetes/REST/Call/v1beta2/Apps/CreateNamespacedReplicaSet.pm
cp lib/Kubernetes/REST/Call/v1beta2/Apps/DeleteCollectionNamespacedStatefulSet.pm blib/lib/Kubernetes/REST/Call/v1beta2/Apps/DeleteCollectionNamespacedStatefulSet.pm
cp lib/Kubernetes/REST/Call/v1beta1/Storage/WatchStorageClassList.pm blib/lib/Kubernetes/REST/Call/v1beta1/Storage/WatchStorageClassList.pm
cp lib/Kubernetes/REST/Call/v1beta2/Apps/DeleteNamespacedControllerRevision.pm blib/lib/Kubernetes/REST/Call/v1beta2/Apps/DeleteNamespacedControllerRevision.pm
cp lib/Kubernetes/REST/Call/v1beta2/Apps/DeleteCollectionNamespacedDeployment.pm blib/lib/Kubernetes/REST/Call/v1beta2/Apps/DeleteCollectionNamespacedDeployment.pm
cp lib/Kubernetes/REST/Call/v1beta1/Storage/WatchVolumeAttachment.pm blib/lib/Kubernetes/REST/Call/v1beta1/Storage/WatchVolumeAttachment.pm
cp lib/Kubernetes/REST/Call/v1beta2/Apps/CreateNamespacedDaemonSet.pm blib/lib/Kubernetes/REST/Call/v1beta2/Apps/CreateNamespacedDaemonSet.pm
cp lib/Kubernetes/REST/Call/v1beta2/Apps/CreateNamespacedDeployment.pm blib/lib/Kubernetes/REST/Call/v1beta2/Apps/CreateNamespacedDeployment.pm
cp lib/Kubernetes/REST/Call/v1beta1/Storage/WatchVolumeAttachmentList.pm blib/lib/Kubernetes/REST/Call/v1beta1/Storage/WatchVolumeAttachmentList.pm
cp lib/Kubernetes/REST/Call/v1beta1/Storage/ReplaceVolumeAttachment.pm blib/lib/Kubernetes/REST/Call/v1beta1/Storage/ReplaceVolumeAttachment.pm
cp lib/Kubernetes/REST/Call/v1beta2/Apps/CreateNamespacedStatefulSet.pm blib/lib/Kubernetes/REST/Call/v1beta2/Apps/CreateNamespacedStatefulSet.pm
cp lib/Kubernetes/REST/Call/v1beta2/Apps/CreateNamespacedControllerRevision.pm blib/lib/Kubernetes/REST/Call/v1beta2/Apps/CreateNamespacedControllerRevision.pm
cp lib/Kubernetes/REST/Call/v1beta2/Apps/DeleteCollectionNamespacedControllerRevision.pm blib/lib/Kubernetes/REST/Call/v1beta2/Apps/DeleteCollectionNamespacedControllerRevision.pm
cp lib/Kubernetes/REST/Call/v1beta2/Apps/DeleteNamespacedDaemonSet.pm blib/lib/Kubernetes/REST/Call/v1beta2/Apps/DeleteNamespacedDaemonSet.pm
cp lib/Kubernetes/REST/Call/v1beta1/Storage/WatchStorageClass.pm blib/lib/Kubernetes/REST/Call/v1beta1/Storage/WatchStorageClass.pm
cp lib/Kubernetes/REST/Call/v1beta2/Apps/DeleteCollectionNamespacedDaemonSet.pm blib/lib/Kubernetes/REST/Call/v1beta2/Apps/DeleteCollectionNamespacedDaemonSet.pm
cp lib/Kubernetes/REST/Call/v1beta2/Apps/DeleteCollectionNamespacedReplicaSet.pm blib/lib/Kubernetes/REST/Call/v1beta2/Apps/DeleteCollectionNamespacedReplicaSet.pm
cp lib/Kubernetes/REST/Call/v1beta2/Apps/ListControllerRevisionForAllNamespaces.pm blib/lib/Kubernetes/REST/Call/v1beta2/Apps/ListControllerRevisionForAllNamespaces.pm
cp lib/Kubernetes/REST/Call/v1beta2/Apps/ListDeploymentForAllNamespaces.pm blib/lib/Kubernetes/REST/Call/v1beta2/Apps/ListDeploymentForAllNamespaces.pm
cp lib/Kubernetes/REST/Call/v1beta2/Apps/GetAPIResources.pm blib/lib/Kubernetes/REST/Call/v1beta2/Apps/GetAPIResources.pm
cp lib/Kubernetes/REST/Call/v1beta2/Apps/DeleteNamespacedReplicaSet.pm blib/lib/Kubernetes/REST/Call/v1beta2/Apps/DeleteNamespacedReplicaSet.pm
cp lib/Kubernetes/REST/Call/v1beta2/Apps/PatchNamespacedDeployment.pm blib/lib/Kubernetes/REST/Call/v1beta2/Apps/PatchNamespacedDeployment.pm
cp lib/Kubernetes/REST/Call/v1beta2/Apps/PatchNamespacedControllerRevision.pm blib/lib/Kubernetes/REST/Call/v1beta2/Apps/PatchNamespacedControllerRevision.pm
cp lib/Kubernetes/REST/Call/v1beta2/Apps/DeleteNamespacedDeployment.pm blib/lib/Kubernetes/REST/Call/v1beta2/Apps/DeleteNamespacedDeployment.pm
cp lib/Kubernetes/REST/Call/v1beta2/Apps/ListNamespacedDaemonSet.pm blib/lib/Kubernetes/REST/Call/v1beta2/Apps/ListNamespacedDaemonSet.pm
cp lib/Kubernetes/REST/Call/v1beta2/Apps/ListNamespacedStatefulSet.pm blib/lib/Kubernetes/REST/Call/v1beta2/Apps/ListNamespacedStatefulSet.pm
cp lib/Kubernetes/REST/Call/v1beta2/Apps/ListNamespacedDeployment.pm blib/lib/Kubernetes/REST/Call/v1beta2/Apps/ListNamespacedDeployment.pm
cp lib/Kubernetes/REST/Call/v1beta2/Apps/ListNamespacedReplicaSet.pm blib/lib/Kubernetes/REST/Call/v1beta2/Apps/ListNamespacedReplicaSet.pm
cp lib/Kubernetes/REST/Call/v1beta2/Apps/ListReplicaSetForAllNamespaces.pm blib/lib/Kubernetes/REST/Call/v1beta2/Apps/ListReplicaSetForAllNamespaces.pm
cp lib/Kubernetes/REST/Call/v1beta2/Apps/PatchNamespacedDaemonSetStatus.pm blib/lib/Kubernetes/REST/Call/v1beta2/Apps/PatchNamespacedDaemonSetStatus.pm
cp lib/Kubernetes/REST/Call/v1beta2/Apps/ListDaemonSetForAllNamespaces.pm blib/lib/Kubernetes/REST/Call/v1beta2/Apps/ListDaemonSetForAllNamespaces.pm
cp lib/Kubernetes/REST/Call/v1beta2/Apps/DeleteNamespacedStatefulSet.pm blib/lib/Kubernetes/REST/Call/v1beta2/Apps/DeleteNamespacedStatefulSet.pm
cp lib/Kubernetes/REST/Call/v1beta2/Apps/PatchNamespacedDaemonSet.pm blib/lib/Kubernetes/REST/Call/v1beta2/Apps/PatchNamespacedDaemonSet.pm
cp lib/Kubernetes/REST/Call/v1beta2/Apps/ListNamespacedControllerRevision.pm blib/lib/Kubernetes/REST/Call/v1beta2/Apps/ListNamespacedControllerRevision.pm
cp lib/Kubernetes/REST/Call/v1beta2/Apps/ListStatefulSetForAllNamespaces.pm blib/lib/Kubernetes/REST/Call/v1beta2/Apps/ListStatefulSetForAllNamespaces.pm
cp lib/Kubernetes/REST/Call/v1beta2/Apps/ReadNamespacedReplicaSetScale.pm blib/lib/Kubernetes/REST/Call/v1beta2/Apps/ReadNamespacedReplicaSetScale.pm
cp lib/Kubernetes/REST/Call/v1beta2/Apps/ReadNamespacedDeploymentStatus.pm blib/lib/Kubernetes/REST/Call/v1beta2/Apps/ReadNamespacedDeploymentStatus.pm
cp lib/Kubernetes/REST/Call/v1beta2/Apps/PatchNamespacedStatefulSetScale.pm blib/lib/Kubernetes/REST/Call/v1beta2/Apps/PatchNamespacedStatefulSetScale.pm
cp lib/Kubernetes/REST/Call/v1beta2/Apps/ReadNamespacedControllerRevision.pm blib/lib/Kubernetes/REST/Call/v1beta2/Apps/ReadNamespacedControllerRevision.pm
cp lib/Kubernetes/REST/Call/v1beta2/Apps/PatchNamespacedDeploymentStatus.pm blib/lib/Kubernetes/REST/Call/v1beta2/Apps/PatchNamespacedDeploymentStatus.pm
cp lib/Kubernetes/REST/Call/v1beta2/Apps/ReadNamespacedDeployment.pm blib/lib/Kubernetes/REST/Call/v1beta2/Apps/ReadNamespacedDeployment.pm
cp lib/Kubernetes/REST/Call/v1beta2/Apps/ReadNamespacedDeploymentScale.pm blib/lib/Kubernetes/REST/Call/v1beta2/Apps/ReadNamespacedDeploymentScale.pm
cp lib/Kubernetes/REST/Call/v1beta2/Apps/PatchNamespacedStatefulSet.pm blib/lib/Kubernetes/REST/Call/v1beta2/Apps/PatchNamespacedStatefulSet.pm
cp lib/Kubernetes/REST/Call/v1beta2/Apps/PatchNamespacedReplicaSet.pm blib/lib/Kubernetes/REST/Call/v1beta2/Apps/PatchNamespacedReplicaSet.pm
cp lib/Kubernetes/REST/Call/v1beta2/Apps/PatchNamespacedReplicaSetScale.pm blib/lib/Kubernetes/REST/Call/v1beta2/Apps/PatchNamespacedReplicaSetScale.pm
cp lib/Kubernetes/REST/Call/v1beta2/Apps/ReadNamespacedDaemonSetStatus.pm blib/lib/Kubernetes/REST/Call/v1beta2/Apps/ReadNamespacedDaemonSetStatus.pm
cp lib/Kubernetes/REST/Call/v1beta2/Apps/ReadNamespacedReplicaSet.pm blib/lib/Kubernetes/REST/Call/v1beta2/Apps/ReadNamespacedReplicaSet.pm
cp lib/Kubernetes/REST/Call/v1beta2/Apps/PatchNamespacedStatefulSetStatus.pm blib/lib/Kubernetes/REST/Call/v1beta2/Apps/PatchNamespacedStatefulSetStatus.pm
cp lib/Kubernetes/REST/Call/v1beta2/Apps/PatchNamespacedReplicaSetStatus.pm blib/lib/Kubernetes/REST/Call/v1beta2/Apps/PatchNamespacedReplicaSetStatus.pm
cp lib/Kubernetes/REST/Call/v1beta2/Apps/ReadNamespacedDaemonSet.pm blib/lib/Kubernetes/REST/Call/v1beta2/Apps/ReadNamespacedDaemonSet.pm
cp lib/Kubernetes/REST/Call/v1beta2/Apps/PatchNamespacedDeploymentScale.pm blib/lib/Kubernetes/REST/Call/v1beta2/Apps/PatchNamespacedDeploymentScale.pm
cp lib/Kubernetes/REST/Call/v1beta2/Apps/ReadNamespacedReplicaSetStatus.pm blib/lib/Kubernetes/REST/Call/v1beta2/Apps/ReadNamespacedReplicaSetStatus.pm
cp lib/Kubernetes/REST/Call/v1beta2/Apps/WatchControllerRevisionListForAllNamespaces.pm blib/lib/Kubernetes/REST/Call/v1beta2/Apps/WatchControllerRevisionListForAllNamespaces.pm
cp lib/Kubernetes/REST/Call/v1beta2/Apps/ReplaceNamespacedReplicaSetStatus.pm blib/lib/Kubernetes/REST/Call/v1beta2/Apps/ReplaceNamespacedReplicaSetStatus.pm
cp lib/Kubernetes/REST/Call/v1beta2/Apps/ReplaceNamespacedStatefulSet.pm blib/lib/Kubernetes/REST/Call/v1beta2/Apps/ReplaceNamespacedStatefulSet.pm
cp lib/Kubernetes/REST/Call/v1beta2/Apps/ReplaceNamespacedDeploymentStatus.pm blib/lib/Kubernetes/REST/Call/v1beta2/Apps/ReplaceNamespacedDeploymentStatus.pm
cp lib/Kubernetes/REST/Call/v1beta2/Apps/ReplaceNamespacedControllerRevision.pm blib/lib/Kubernetes/REST/Call/v1beta2/Apps/ReplaceNamespacedControllerRevision.pm
cp lib/Kubernetes/REST/Call/v1beta2/Apps/ReadNamespacedStatefulSetStatus.pm blib/lib/Kubernetes/REST/Call/v1beta2/Apps/ReadNamespacedStatefulSetStatus.pm
cp lib/Kubernetes/REST/Call/v1beta2/Apps/WatchDaemonSetListForAllNamespaces.pm blib/lib/Kubernetes/REST/Call/v1beta2/Apps/WatchDaemonSetListForAllNamespaces.pm
cp lib/Kubernetes/REST/Call/v1beta2/Apps/ReplaceNamespacedStatefulSetStatus.pm blib/lib/Kubernetes/REST/Call/v1beta2/Apps/ReplaceNamespacedStatefulSetStatus.pm
cp lib/Kubernetes/REST/Call/v1beta2/Apps/ReplaceNamespacedReplicaSetScale.pm blib/lib/Kubernetes/REST/Call/v1beta2/Apps/ReplaceNamespacedReplicaSetScale.pm
cp lib/Kubernetes/REST/Call/v1beta2/Apps/ReplaceNamespacedDeploymentScale.pm blib/lib/Kubernetes/REST/Call/v1beta2/Apps/ReplaceNamespacedDeploymentScale.pm
cp lib/Kubernetes/REST/Call/v1beta2/Apps/ReadNamespacedStatefulSet.pm blib/lib/Kubernetes/REST/Call/v1beta2/Apps/ReadNamespacedStatefulSet.pm
cp lib/Kubernetes/REST/Call/v1beta2/Apps/ReplaceNamespacedDeployment.pm blib/lib/Kubernetes/REST/Call/v1beta2/Apps/ReplaceNamespacedDeployment.pm
cp lib/Kubernetes/REST/Call/v1beta2/Apps/ReplaceNamespacedDaemonSetStatus.pm blib/lib/Kubernetes/REST/Call/v1beta2/Apps/ReplaceNamespacedDaemonSetStatus.pm
cp lib/Kubernetes/REST/Call/v1beta2/Apps/ReplaceNamespacedDaemonSet.pm blib/lib/Kubernetes/REST/Call/v1beta2/Apps/ReplaceNamespacedDaemonSet.pm
cp lib/Kubernetes/REST/Call/v1beta2/Apps/ReadNamespacedStatefulSetScale.pm blib/lib/Kubernetes/REST/Call/v1beta2/Apps/ReadNamespacedStatefulSetScale.pm
cp lib/Kubernetes/REST/Call/v1beta2/Apps/ReplaceNamespacedStatefulSetScale.pm blib/lib/Kubernetes/REST/Call/v1beta2/Apps/ReplaceNamespacedStatefulSetScale.pm
cp lib/Kubernetes/REST/Call/v1beta2/Apps/ReplaceNamespacedReplicaSet.pm blib/lib/Kubernetes/REST/Call/v1beta2/Apps/ReplaceNamespacedReplicaSet.pm
cp lib/Kubernetes/REST/Call/v1beta2/Apps/WatchNamespacedDaemonSet.pm blib/lib/Kubernetes/REST/Call/v1beta2/Apps/WatchNamespacedDaemonSet.pm
cp lib/Kubernetes/REST/Call/v1beta2/Apps/WatchDeploymentListForAllNamespaces.pm blib/lib/Kubernetes/REST/Call/v1beta2/Apps/WatchDeploymentListForAllNamespaces.pm
cp lib/Kubernetes/REST/Call/v1beta2/Apps/WatchNamespacedDeploymentList.pm blib/lib/Kubernetes/REST/Call/v1beta2/Apps/WatchNamespacedDeploymentList.pm
cp lib/Kubernetes/REST/Call/v2alpha1/Batch/DeleteNamespacedCronJob.pm blib/lib/Kubernetes/REST/Call/v2alpha1/Batch/DeleteNamespacedCronJob.pm
cp lib/Kubernetes/REST/Call/v2alpha1/Batch/GetAPIResources.pm blib/lib/Kubernetes/REST/Call/v2alpha1/Batch/GetAPIResources.pm
cp lib/Kubernetes/REST/Call/v2alpha1/Batch/CreateNamespacedCronJob.pm blib/lib/Kubernetes/REST/Call/v2alpha1/Batch/CreateNamespacedCronJob.pm
cp lib/Kubernetes/REST/Call/v1beta2/Apps/WatchNamespacedStatefulSet.pm blib/lib/Kubernetes/REST/Call/v1beta2/Apps/WatchNamespacedStatefulSet.pm
cp lib/Kubernetes/REST/Call/v1beta2/Apps/WatchNamespacedDaemonSetList.pm blib/lib/Kubernetes/REST/Call/v1beta2/Apps/WatchNamespacedDaemonSetList.pm
cp lib/Kubernetes/REST/Call/v1beta2/Apps/WatchNamespacedControllerRevision.pm blib/lib/Kubernetes/REST/Call/v1beta2/Apps/WatchNamespacedControllerRevision.pm
cp lib/Kubernetes/REST/Call/v1beta2/Apps/WatchNamespacedReplicaSet.pm blib/lib/Kubernetes/REST/Call/v1beta2/Apps/WatchNamespacedReplicaSet.pm
cp lib/Kubernetes/REST/Call/v1beta2/Apps/WatchNamespacedDeployment.pm blib/lib/Kubernetes/REST/Call/v1beta2/Apps/WatchNamespacedDeployment.pm
cp lib/Kubernetes/REST/Call/v1beta2/Apps/WatchNamespacedReplicaSetList.pm blib/lib/Kubernetes/REST/Call/v1beta2/Apps/WatchNamespacedReplicaSetList.pm
cp lib/Kubernetes/REST/Call/v2alpha1/Batch/DeleteCollectionNamespacedCronJob.pm blib/lib/Kubernetes/REST/Call/v2alpha1/Batch/DeleteCollectionNamespacedCronJob.pm
cp lib/Kubernetes/REST/Call/v1beta2/Apps/WatchReplicaSetListForAllNamespaces.pm blib/lib/Kubernetes/REST/Call/v1beta2/Apps/WatchReplicaSetListForAllNamespaces.pm
cp lib/Kubernetes/REST/Call/v1beta2/Apps/WatchStatefulSetListForAllNamespaces.pm blib/lib/Kubernetes/REST/Call/v1beta2/Apps/WatchStatefulSetListForAllNamespaces.pm
cp lib/Kubernetes/REST/Call/v1beta2/Apps/WatchNamespacedControllerRevisionList.pm blib/lib/Kubernetes/REST/Call/v1beta2/Apps/WatchNamespacedControllerRevisionList.pm
cp lib/Kubernetes/REST/Call/v1beta2/Apps/WatchNamespacedStatefulSetList.pm blib/lib/Kubernetes/REST/Call/v1beta2/Apps/WatchNamespacedStatefulSetList.pm
cp lib/Kubernetes/REST/Call/v2beta1/Autoscaling/CreateNamespacedHorizontalPodAutoscaler.pm blib/lib/Kubernetes/REST/Call/v2beta1/Autoscaling/CreateNamespacedHorizontalPodAutoscaler.pm
cp lib/Kubernetes/REST/Call/v2alpha1/Batch/PatchNamespacedCronJob.pm blib/lib/Kubernetes/REST/Call/v2alpha1/Batch/PatchNamespacedCronJob.pm
cp lib/Kubernetes/REST/Call/v2beta1/Autoscaling/DeleteCollectionNamespacedHorizontalPodAutoscaler.pm blib/lib/Kubernetes/REST/Call/v2beta1/Autoscaling/DeleteCollectionNamespacedHorizontalPodAutoscaler.pm
cp lib/Kubernetes/REST/Call/v2beta1/Autoscaling/ListHorizontalPodAutoscalerForAllNamespaces.pm blib/lib/Kubernetes/REST/Call/v2beta1/Autoscaling/ListHorizontalPodAutoscalerForAllNamespaces.pm
cp lib/Kubernetes/REST/Call/v2alpha1/Batch/ListNamespacedCronJob.pm blib/lib/Kubernetes/REST/Call/v2alpha1/Batch/ListNamespacedCronJob.pm
cp lib/Kubernetes/REST/Call/v2alpha1/Batch/ReadNamespacedCronJob.pm blib/lib/Kubernetes/REST/Call/v2alpha1/Batch/ReadNamespacedCronJob.pm
cp lib/Kubernetes/REST/Call/v2alpha1/Batch/ReplaceNamespacedCronJobStatus.pm blib/lib/Kubernetes/REST/Call/v2alpha1/Batch/ReplaceNamespacedCronJobStatus.pm
cp lib/Kubernetes/REST/Call/v2alpha1/Batch/ReadNamespacedCronJobStatus.pm blib/lib/Kubernetes/REST/Call/v2alpha1/Batch/ReadNamespacedCronJobStatus.pm
cp lib/Kubernetes/REST/Call/v2beta1/Autoscaling/DeleteNamespacedHorizontalPodAutoscaler.pm blib/lib/Kubernetes/REST/Call/v2beta1/Autoscaling/DeleteNamespacedHorizontalPodAutoscaler.pm
cp lib/Kubernetes/REST/Call/v2alpha1/Batch/ReplaceNamespacedCronJob.pm blib/lib/Kubernetes/REST/Call/v2alpha1/Batch/ReplaceNamespacedCronJob.pm
cp lib/Kubernetes/REST/Call/v2alpha1/Batch/WatchNamespacedCronJobList.pm blib/lib/Kubernetes/REST/Call/v2alpha1/Batch/WatchNamespacedCronJobList.pm
cp lib/Kubernetes/REST/Call/v2alpha1/Batch/WatchNamespacedCronJob.pm blib/lib/Kubernetes/REST/Call/v2alpha1/Batch/WatchNamespacedCronJob.pm
cp lib/Kubernetes/REST/Call/v2alpha1/Batch/WatchCronJobListForAllNamespaces.pm blib/lib/Kubernetes/REST/Call/v2alpha1/Batch/WatchCronJobListForAllNamespaces.pm
cp lib/Kubernetes/REST/Call/v2alpha1/Batch/PatchNamespacedCronJobStatus.pm blib/lib/Kubernetes/REST/Call/v2alpha1/Batch/PatchNamespacedCronJobStatus.pm
cp lib/Kubernetes/REST/Call/v2beta1/Autoscaling/GetAPIResources.pm blib/lib/Kubernetes/REST/Call/v2beta1/Autoscaling/GetAPIResources.pm
cp lib/Kubernetes/REST/Call/v2alpha1/Batch/ListCronJobForAllNamespaces.pm blib/lib/Kubernetes/REST/Call/v2alpha1/Batch/ListCronJobForAllNamespaces.pm
cp lib/Kubernetes/REST/Call/v2beta1/Autoscaling/PatchNamespacedHorizontalPodAutoscalerStatus.pm blib/lib/Kubernetes/REST/Call/v2beta1/Autoscaling/PatchNamespacedHorizontalPodAutoscalerStatus.pm
cp lib/Kubernetes/REST/Call/v2beta1/Autoscaling/ReadNamespacedHorizontalPodAutoscaler.pm blib/lib/Kubernetes/REST/Call/v2beta1/Autoscaling/ReadNamespacedHorizontalPodAutoscaler.pm
cp lib/Kubernetes/REST/Call/v2beta1/Autoscaling/ListNamespacedHorizontalPodAutoscaler.pm blib/lib/Kubernetes/REST/Call/v2beta1/Autoscaling/ListNamespacedHorizontalPodAutoscaler.pm
cp lib/Kubernetes/REST/Call/v2beta1/Autoscaling/WatchHorizontalPodAutoscalerListForAllNamespaces.pm blib/lib/Kubernetes/REST/Call/v2beta1/Autoscaling/WatchHorizontalPodAutoscalerListForAllNamespaces.pm
cp lib/Kubernetes/REST/Call/v2beta2/Autoscaling/DeleteCollectionNamespacedHorizontalPodAutoscaler.pm blib/lib/Kubernetes/REST/Call/v2beta2/Autoscaling/DeleteCollectionNamespacedHorizontalPodAutoscaler.pm
cp lib/Kubernetes/REST/Call/v2beta2/Autoscaling/GetAPIResources.pm blib/lib/Kubernetes/REST/Call/v2beta2/Autoscaling/GetAPIResources.pm
cp lib/Kubernetes/REST/Call/v2beta2/Autoscaling/CreateNamespacedHorizontalPodAutoscaler.pm blib/lib/Kubernetes/REST/Call/v2beta2/Autoscaling/CreateNamespacedHorizontalPodAutoscaler.pm
cp lib/Kubernetes/REST/Call/v2beta1/Autoscaling/PatchNamespacedHorizontalPodAutoscaler.pm blib/lib/Kubernetes/REST/Call/v2beta1/Autoscaling/PatchNamespacedHorizontalPodAutoscaler.pm
cp lib/Kubernetes/REST/Call/v2beta1/Autoscaling/WatchNamespacedHorizontalPodAutoscaler.pm blib/lib/Kubernetes/REST/Call/v2beta1/Autoscaling/WatchNamespacedHorizontalPodAutoscaler.pm
cp lib/Kubernetes/REST/Call/v2beta1/Autoscaling/WatchNamespacedHorizontalPodAutoscalerList.pm blib/lib/Kubernetes/REST/Call/v2beta1/Autoscaling/WatchNamespacedHorizontalPodAutoscalerList.pm
cp lib/Kubernetes/REST/Call/v2beta1/Autoscaling/ReplaceNamespacedHorizontalPodAutoscalerStatus.pm blib/lib/Kubernetes/REST/Call/v2beta1/Autoscaling/ReplaceNamespacedHorizontalPodAutoscalerStatus.pm
cp lib/Kubernetes/REST/Call/v2beta2/Autoscaling/DeleteNamespacedHorizontalPodAutoscaler.pm blib/lib/Kubernetes/REST/Call/v2beta2/Autoscaling/DeleteNamespacedHorizontalPodAutoscaler.pm
cp lib/Kubernetes/REST/Call/v2beta1/Autoscaling/ReadNamespacedHorizontalPodAutoscalerStatus.pm blib/lib/Kubernetes/REST/Call/v2beta1/Autoscaling/ReadNamespacedHorizontalPodAutoscalerStatus.pm
cp lib/Kubernetes/REST/Call/v2beta1/Autoscaling/ReplaceNamespacedHorizontalPodAutoscaler.pm blib/lib/Kubernetes/REST/Call/v2beta1/Autoscaling/ReplaceNamespacedHorizontalPodAutoscaler.pm
cp lib/Kubernetes/REST/Call/v2beta2/Autoscaling/ListNamespacedHorizontalPodAutoscaler.pm blib/lib/Kubernetes/REST/Call/v2beta2/Autoscaling/ListNamespacedHorizontalPodAutoscaler.pm
cp lib/Kubernetes/REST/Coordination.pm blib/lib/Kubernetes/REST/Coordination.pm
cp lib/Kubernetes/REST/Call/v2beta2/Autoscaling/PatchNamespacedHorizontalPodAutoscalerStatus.pm blib/lib/Kubernetes/REST/Call/v2beta2/Autoscaling/PatchNamespacedHorizontalPodAutoscalerStatus.pm
cp lib/Kubernetes/REST/Call/v2beta2/Autoscaling/WatchNamespacedHorizontalPodAutoscaler.pm blib/lib/Kubernetes/REST/Call/v2beta2/Autoscaling/WatchNamespacedHorizontalPodAutoscaler.pm
cp lib/Kubernetes/REST/Call/v2beta2/Autoscaling/ReadNamespacedHorizontalPodAutoscaler.pm blib/lib/Kubernetes/REST/Call/v2beta2/Autoscaling/ReadNamespacedHorizontalPodAutoscaler.pm
cp lib/Kubernetes/REST/Events.pm blib/lib/Kubernetes/REST/Events.pm
cp lib/Kubernetes/REST/Call/v2beta2/Autoscaling/ListHorizontalPodAutoscalerForAllNamespaces.pm blib/lib/Kubernetes/REST/Call/v2beta2/Autoscaling/ListHorizontalPodAutoscalerForAllNamespaces.pm
cp lib/Kubernetes/REST/Error.pm blib/lib/Kubernetes/REST/Error.pm
cp lib/Kubernetes/REST/Core.pm blib/lib/Kubernetes/REST/Core.pm
cp lib/Kubernetes/REST/Call/v2beta2/Autoscaling/ReplaceNamespacedHorizontalPodAutoscalerStatus.pm blib/lib/Kubernetes/REST/Call/v2beta2/Autoscaling/ReplaceNamespacedHorizontalPodAutoscalerStatus.pm
cp lib/Kubernetes/REST/Call/v2beta2/Autoscaling/WatchHorizontalPodAutoscalerListForAllNamespaces.pm blib/lib/Kubernetes/REST/Call/v2beta2/Autoscaling/WatchHorizontalPodAutoscalerListForAllNamespaces.pm
cp lib/Kubernetes/REST/Extensions.pm blib/lib/Kubernetes/REST/Extensions.pm
cp lib/Kubernetes/REST/Call/v2beta2/Autoscaling/WatchNamespacedHorizontalPodAutoscalerList.pm blib/lib/Kubernetes/REST/Call/v2beta2/Autoscaling/WatchNamespacedHorizontalPodAutoscalerList.pm
cp lib/Kubernetes/REST/CallContext.pm blib/lib/Kubernetes/REST/CallContext.pm
cp lib/Kubernetes/REST/Call/v2beta2/Autoscaling/PatchNamespacedHorizontalPodAutoscaler.pm blib/lib/Kubernetes/REST/Call/v2beta2/Autoscaling/PatchNamespacedHorizontalPodAutoscaler.pm
cp lib/Kubernetes/REST/Call/v2beta2/Autoscaling/ReplaceNamespacedHorizontalPodAutoscaler.pm blib/lib/Kubernetes/REST/Call/v2beta2/Autoscaling/ReplaceNamespacedHorizontalPodAutoscaler.pm
cp lib/Kubernetes/REST/Certificates.pm blib/lib/Kubernetes/REST/Certificates.pm
cp lib/Kubernetes/REST/Call/v2beta2/Autoscaling/ReadNamespacedHorizontalPodAutoscalerStatus.pm blib/lib/Kubernetes/REST/Call/v2beta2/Autoscaling/ReadNamespacedHorizontalPodAutoscalerStatus.pm
cp lib/Kubernetes/REST/Server.pm blib/lib/Kubernetes/REST/Server.pm
cp lib/Kubernetes/REST/HTTPTinyIO.pm blib/lib/Kubernetes/REST/HTTPTinyIO.pm
cp lib/Kubernetes/REST/Result2Object.pm blib/lib/Kubernetes/REST/Result2Object.pm
cp lib/Kubernetes/REST/Policy.pm blib/lib/Kubernetes/REST/Policy.pm
cp lib/Kubernetes/REST/RbacAuthorization.pm blib/lib/Kubernetes/REST/RbacAuthorization.pm
cp lib/Kubernetes/REST/Logs.pm blib/lib/Kubernetes/REST/Logs.pm
cp lib/Kubernetes/REST/Result2Hash.pm blib/lib/Kubernetes/REST/Result2Hash.pm
cp lib/Kubernetes/REST/Networking.pm blib/lib/Kubernetes/REST/Networking.pm
cp lib/Kubernetes/REST/HTTPRequest.pm blib/lib/Kubernetes/REST/HTTPRequest.pm
cp lib/Kubernetes/REST/Storage.pm blib/lib/Kubernetes/REST/Storage.pm
cp lib/Kubernetes/REST/Settings.pm blib/lib/Kubernetes/REST/Settings.pm
cp lib/Kubernetes/REST/Scheduling.pm blib/lib/Kubernetes/REST/Scheduling.pm
cp lib/Kubernetes/REST/HTTPResponse.pm blib/lib/Kubernetes/REST/HTTPResponse.pm
cp lib/Kubernetes/REST/Version.pm blib/lib/Kubernetes/REST/Version.pm
cp lib/Kubernetes/REST/ListToRequest.pm blib/lib/Kubernetes/REST/ListToRequest.pm
Manifying 1 pod document
PERL_DL_NONLAZY=1 "/home/liveapp/.plenv/versions/5.36.0/bin/perl5.36.0" "-MExtUtils::Command::MM" "-MTest::Harness" "-e" "undef *Test::Harness::Switches; test_harness(0, 'blib/lib', 'blib/arch')" t/*.t
t/01_load.t ............. ok
t/02_exceptions.t ....... ok
t/03_params2request.t ... ok
t/04_response2result.t .. ok
All tests successful.
Files=4, Tests=25, 1 wallclock secs ( 0.03 usr 0.00 sys + 0.51 cusr 0.06 csys = 0.60 CPU)
Result: PASS
------------------------------
PREREQUISITES
------------------------------
Prerequisite modules loaded:
No requirements found
------------------------------
ENVIRONMENT AND OTHER CONTEXT
------------------------------
Environment variables:
LANG = C.UTF-8
PATH = /home/liveapp/.plenv/versions/5.36.0/bin:/home/liveapp/.plenv/libexec:/home/liveapp/.plenv/plugins/perl-build/bin:/home/liveapp/cpantesters.new/5.36.0/local/bin:/home/liveapp/.plenv/shims:/home/liveapp/.plenv/bin:/usr/local/sbin:/usr/local/bin:/usr/sbin:/usr/bin:/sbin:/bin:/usr/games:/usr/local/games:/snap/bin
PERL5LIB = /home/liveapp/cpantesters.new/5.36.0/local/lib/perl5
SHELL = /bin/bash
TERM = xterm-256color
Perl special variables (and OS-specific diagnostics, for MSWin32):
EGID = 1001 27 1001
EUID = 1001
EXECUTABLE_NAME = /home/liveapp/.plenv/versions/5.36.0/bin/perl5.36.0
GID = 1001 27 1001
UID = 1001
Perl module toolchain versions installed:
Module Have
------------------- --------
CPAN 2.33
CPAN::Meta 2.150010
Cwd 3.84
ExtUtils::CBuilder 0.280236
ExtUtils::Command 7.64
ExtUtils::Install 2.20
ExtUtils::MakeMaker 7.64
ExtUtils::Manifest 1.73
ExtUtils::ParseXS 3.45
File::Spec 3.84
JSON 4.07
JSON::PP 4.10
Module::Build 0.4231
Module::Signature n/a
Parse::CPAN::Meta 2.150010
Test::Harness 3.44
Test::More 1.302191
YAML 1.30
YAML::Syck 1.34
version 0.9929
--
Summary of my perl5 (revision 5 version 36 subversion 0) configuration:
Platform:
osname=linux
osvers=5.4.0-91-generic
archname=x86_64-linux
uname='linux supremeadmin 5.4.0-91-generic #102-ubuntu smp fri nov 5 16:31:28 utc 2021 x86_64 x86_64 x86_64 gnulinux '
config_args='-Dprefix=/home/liveapp/.plenv/versions/5.36.0 -de -Dversiononly -A'eval:scriptdir=/home/liveapp/.plenv/versions/5.36.0/bin''
hint=recommended
useposix=true
d_sigaction=define
useithreads=undef
usemultiplicity=undef
use64bitint=define
use64bitall=define
uselongdouble=undef
usemymalloc=n
default_inc_excludes_dot=define
Compiler:
cc='cc'
ccflags ='-fwrapv -fno-strict-aliasing -pipe -fstack-protector-strong -I/usr/local/include -D_LARGEFILE_SOURCE -D_FILE_OFFSET_BITS=64'
optimize='-O2'
cppflags='-fwrapv -fno-strict-aliasing -pipe -fstack-protector-strong -I/usr/local/include'
ccversion=''
gccversion='9.4.0'
gccosandvers=''
intsize=4
longsize=8
ptrsize=8
doublesize=8
byteorder=12345678
doublekind=3
d_longlong=define
longlongsize=8
d_longdbl=define
longdblsize=16
longdblkind=3
ivtype='long'
ivsize=8
nvtype='double'
nvsize=8
Off_t='off_t'
lseeksize=8
alignbytes=8
prototype=define
Linker and Libraries:
ld='cc'
ldflags =' -fstack-protector-strong -L/usr/local/lib'
libpth=/usr/local/lib /usr/lib/x86_64-linux-gnu /usr/lib /lib/x86_64-linux-gnu /lib
libs=-lpthread -lnsl -ldl -lm -lcrypt -lutil -lc
perllibs=-lpthread -lnsl -ldl -lm -lcrypt -lutil -lc
libc=libc-2.31.so
so=so
useshrplib=false
libperl=libperl.a
gnulibc_version='2.31'
Dynamic Linking:
dlsrc=dl_dlopen.xs
dlext=so
d_dlsymun=undef
ccdlflags='-Wl,-E'
cccdlflags='-fPIC'
lddlflags='-shared -O2 -L/usr/local/lib -fstack-protector-strong'
Characteristics of this binary (from libperl):
Compile-time options:
HAS_TIMES
PERLIO_LAYERS
PERL_COPY_ON_WRITE
PERL_DONT_CREATE_GVSV
PERL_MALLOC_WRAP
PERL_OP_PARENT
PERL_PRESERVE_IVUV
USE_64_BIT_ALL
USE_64_BIT_INT
USE_LARGE_FILES
USE_LOCALE
USE_LOCALE_COLLATE
USE_LOCALE_CTYPE
USE_LOCALE_NUMERIC
USE_LOCALE_TIME
USE_PERLIO
USE_PERL_ATOF
Built under linux
Compiled at Jul 20 2022 21:52:50
%ENV:
PERL5LIB="/home/liveapp/cpantesters.new/5.36.0/local/lib/perl5"
@INC:
/home/liveapp/cpantesters.new/5.36.0/local/lib/perl5
/home/liveapp/.plenv/versions/5.36.0/lib/perl5/site_perl/5.36.0/x86_64-linux
/home/liveapp/.plenv/versions/5.36.0/lib/perl5/site_perl/5.36.0
/home/liveapp/.plenv/versions/5.36.0/lib/perl5/5.36.0/x86_64-linux
/home/liveapp/.plenv/versions/5.36.0/lib/perl5/5.36.0