PDF-API2 v2.045 Perl 5 v5.34.0 amd64-freebsd

Status
Pass
From
Slaven Rezić
Dist
PDF-API2 v2.045
Platform
Perl 5 v5.34.0 amd64-freebsd
Date
2023-09-25 17:52:06
ID
3e1acc68-5bcc-11ee-aec4-ecde6d8775ea
This distribution has been tested as part of the CPAN Testers
project, supporting the Perl programming language.  See
http://wiki.cpantesters.org/ for more information or email
questions to cpan-testers-discuss@perl.org


--
Dear Steve Simms,

This is a computer-generated report for PDF-API2-2.045
on perl 5.34.0, created by CPAN-Reporter-1.2018.

Thank you for uploading your work to CPAN.  Congratulations!
All tests were successful.

Sections of this report:

    * Tester comments
    * Program output
    * Prerequisites
    * Environment and other context

------------------------------
TESTER COMMENTS
------------------------------

Additional comments from tester:

none provided

------------------------------
PROGRAM OUTPUT
------------------------------

Output from '/usr/bin/make test':

PERL_DL_NONLAZY=1 "/usr/perl5.34.0p/bin/perl5.34.0" "-MExtUtils::Command::MM" "-MTest::Harness" "-e" "undef *Test::Harness::Switches; test_harness(0, 'blib/lib', 'blib/arch')" t/*.t
t/00-all-usable.t ........... ok
t/01-basic.t ................ ok
t/02-xrefstm.t .............. ok
t/03-xrefstm-index.t ........ ok
t/annotate.t ................ ok
t/author-critic.t ........... skipped: these tests are for testing by the author
t/author-pod-syntax.t ....... skipped: these tests are for testing by the author
t/barcode.t ................. ok
t/bbox.t .................... ok
t/circular-references.t ..... ok
t/cmap.t .................... ok
t/content-deprecated.t ...... ok
t/content.t ................. ok
t/cs-webcolor.t ............. ok
t/date.t .................... ok
t/deprecations.t ............ ok
t/extgstate.t ............... ok
t/filter-ascii85decode.t .... ok
t/filter-asciihexdecode.t ... ok
t/filter-runlengthdecode.t .. ok
t/font-corefont.t ........... ok
t/font-synfont.t ............ ok
t/font-ttf.t ................ ok
t/font-type1.t .............. ok
t/gd.t ...................... ok
t/gif.t ..................... ok
t/info.t .................... ok
t/jpg.t ..................... ok
t/lite.t .................... ok
t/named-destinations.t ...... ok
t/outline.t ................. ok
t/page.t .................... ok
t/papersizes.t .............. ok
t/pdf.t ..................... ok
t/png.t ..................... ok
t/pnm.t ..................... ok
t/rt120397.t ................ ok
t/rt120450.t ................ ok
t/rt126274.t ................ ok
t/rt67767.t ................. ok
t/rt69503.t ................. ok
t/string.t .................. ok
t/text.t .................... ok
t/tiff.t .................... ok
t/version.t ................. ok
t/viewer-preferences.t ...... ok
All tests successful.
Files=46, Tests=742, 12 wallclock secs ( 0.27 usr  0.10 sys +  9.50 cusr  1.69 csys = 11.56 CPU)
Result: PASS

------------------------------
PREREQUISITES
------------------------------

Prerequisite modules loaded:

requires:

    Module              Need     Have    
    ------------------- -------- --------
    Compress::Zlib      1.0      2.206   
    Font::TTF           0        1.06    
    perl                5.010000 5.034000

build_requires:

    Module              Need     Have    
    ------------------- -------- --------
    ExtUtils::MakeMaker 0        7.70    
    Test::Exception     0        0.43    
    Test::Memory::Cycle 0        1.06    

configure_requires:

    Module              Need     Have    
    ------------------- -------- --------
    ExtUtils::MakeMaker 0        7.70    


------------------------------
ENVIRONMENT AND OTHER CONTEXT
------------------------------

Environment variables:

    PATH = /usr/local/bin:/usr/bin:/bin:/usr/local/sbin:/usr/sbin:/sbin:/home/cpansand/bin/sh:/home/cpansand/bin:/usr/games:/home/cpansand/devel:/usr/home/eserte/src/srezic-misc/scripts
    PERL5LIB = 
    PERL5OPT = 
    PERL5_CPANPLUS_IS_RUNNING = 72749
    PERL5_CPAN_IS_RUNNING = 72749
    PERL5_CPAN_IS_RUNNING_IN_RECURSION = 70836,72749
    PERL_BATCH = yes
    PERL_CANARY_STABILITY_NOPROMPT = 1
    PERL_CPAN_REPORTER_CONFIG = /var/tmp/cpansmoker-1023/2023092517/cpanreporter_000_config.ini
    PERL_EXTUTILS_AUTOINSTALL = --defaultdeps
    PERL_USE_UNSAFE_INC = 1
    SHELL = /bin/sh
    TMPDIR = /var/tmp/cpansmoker-1023/2023092517

Perl special variables (and OS-specific diagnostics, for MSWin32):

    $^X = /usr/perl5.34.0p/bin/perl5.34.0
    $UID/$EUID = 1023 / 1023
    $GID = 1023 1023
    $EGID = 1023 1023

Perl module toolchain versions installed:

    Module              Have    
    ------------------- --------
    CPAN                2.36    
    CPAN::Meta          2.150010
    Cwd                 3.80    
    ExtUtils::CBuilder  0.280236
    ExtUtils::Command   7.70    
    ExtUtils::Install   2.20    
    ExtUtils::MakeMaker 7.70    
    ExtUtils::Manifest  1.75    
    ExtUtils::ParseXS   3.51    
    File::Spec          3.80    
    JSON                4.10    
    JSON::PP            4.15    
    Module::Build       0.4234  
    Module::Signature   0.88    
    Parse::CPAN::Meta   2.150010
    Test::Harness       3.47    
    Test::More          1.302195
    YAML                1.30    
    YAML::Syck          1.34    
    version             0.9929  


--

Summary of my perl5 (revision 5 version 34 subversion 0) configuration:
   
  Platform:
    osname=freebsd
    osvers=12.2-stable
    archname=amd64-freebsd
    uname='freebsd cloud1.bbbike.org 12.2-stable freebsd 12.2-stable stable12-n233163-8ab4e1b9512 generic amd64 '
    config_args='-ds -e -Dprefix=/usr/perl5.34.0p -Dcf_email=srezic@cpan.org -Doptimize=-O2 -pipe'
    hint=recommended
    useposix=true
    d_sigaction=define
    useithreads=undef
    usemultiplicity=undef
    use64bitint=define
    use64bitall=define
    uselongdouble=undef
    usemymalloc=n
    default_inc_excludes_dot=define
  Compiler:
    cc='cc'
    ccflags ='-DHAS_FPSETMASK -DHAS_FLOATINGPOINT_H -fno-strict-aliasing -pipe -fstack-protector-strong -I/usr/local/include'
    optimize='-O2 -pipe'
    cppflags='-DHAS_FPSETMASK -DHAS_FLOATINGPOINT_H -fno-strict-aliasing -pipe -fstack-protector-strong -I/usr/local/include'
    ccversion=''
    gccversion='FreeBSD Clang 10.0.1 (git@github.com:llvm/llvm-project.git llvmorg-10.0.1-0-gef32c611aa2)'
    gccosandvers=''
    intsize=4
    longsize=8
    ptrsize=8
    doublesize=8
    byteorder=12345678
    doublekind=3
    d_longlong=define
    longlongsize=8
    d_longdbl=define
    longdblsize=16
    longdblkind=3
    ivtype='long'
    ivsize=8
    nvtype='double'
    nvsize=8
    Off_t='off_t'
    lseeksize=8
    alignbytes=8
    prototype=define
  Linker and Libraries:
    ld='cc'
    ldflags ='-pthread -Wl,-E  -fstack-protector-strong -L/usr/local/lib'
    libpth=/usr/lib /usr/local/lib /usr/lib/clang/10.0.1/lib
    libs=-lpthread -lgdbm -ldl -lm -lcrypt -lutil -lc
    perllibs=-lpthread -ldl -lm -lcrypt -lutil -lc
    libc=
    so=so
    useshrplib=false
    libperl=libperl.a
    gnulibc_version=''
  Dynamic Linking:
    dlsrc=dl_dlopen.xs
    dlext=so
    d_dlsymun=undef
    ccdlflags=' '
    cccdlflags='-DPIC -fPIC'
    lddlflags='-shared  -L/usr/local/lib -fstack-protector-strong'


Characteristics of this binary (from libperl): 
  Compile-time options:
    HAS_TIMES
    PERLIO_LAYERS
    PERL_COPY_ON_WRITE
    PERL_DONT_CREATE_GVSV
    PERL_MALLOC_WRAP
    PERL_OP_PARENT
    PERL_PRESERVE_IVUV
    USE_64_BIT_ALL
    USE_64_BIT_INT
    USE_LARGE_FILES
    USE_LOCALE
    USE_LOCALE_COLLATE
    USE_LOCALE_CTYPE
    USE_LOCALE_NUMERIC
    USE_LOCALE_TIME
    USE_PERLIO
    USE_PERL_ATOF
  Built under freebsd
  Compiled at May 25 2021 16:34:52
  %ENV:
    PERL5LIB=""
    PERL5OPT=""
    PERL5_CPANPLUS_IS_RUNNING="72749"
    PERL5_CPAN_IS_RUNNING="72749"
    PERL5_CPAN_IS_RUNNING_IN_RECURSION="70836,72749"
    PERL_BATCH="yes"
    PERL_CANARY_STABILITY_NOPROMPT="1"
    PERL_CPAN_REPORTER_CONFIG="/var/tmp/cpansmoker-1023/2023092517/cpanreporter_000_config.ini"
    PERL_EXTUTILS_AUTOINSTALL="--defaultdeps"
    PERL_USE_UNSAFE_INC="1"
  @INC:
    /usr/perl5.34.0p/lib/site_perl/5.34.0/amd64-freebsd
    /usr/perl5.34.0p/lib/site_perl/5.34.0
    /usr/perl5.34.0p/lib/5.34.0/amd64-freebsd
    /usr/perl5.34.0p/lib/5.34.0
    .