Report for MooseX-WithCache-0.01002

Back
From: metabase:user:64c3708a-bcc1-11df-9f47-270c9e8d23bf
Subject: PASS MooseX-WithCache-0.01002 v5.15.0 GNU/Linux
Date: 2011-07-05T07:13:11Z

This distribution has been tested as part of the CPAN Testers
project, supporting the Perl programming language.  See
http://wiki.cpantesters.org/ for more information or email
questions to cpan-testers-discuss@perl.org


--
Dear Daisuke Maki,

This is a computer-generated report for MooseX-WithCache-0.01002
on perl 5.15.0, created by CPAN-Reporter-1.1902.

Thank you for uploading your work to CPAN.  Congratulations!
All tests were successful.

Sections of this report:

    * Tester comments
    * Program output
    * Prerequisites
    * Environment and other context

------------------------------
TESTER COMMENTS
------------------------------

Additional comments from tester:

none provided

------------------------------
PROGRAM OUTPUT
------------------------------

Output from '/usr/bin/make test':

PERL_DL_NONLAZY=1 /opt/perl5_15/bin/perl5.15.0 "-MExtUtils::Command::MM" "-e" "test_harness(0, 'inc', 'blib/lib', 'blib/arch')" t/*.t t/*/*.t
t/00_compile.t ............... ok
Use of qw(...) as parentheses is deprecated at t/02_memcached.t line 25.
t/02_memcached.t ............. skipped: no memcached server found
must specify either 'datastore' hashref or 'global' flag at /opt/perl5_15/lib/site_perl/5.15.0/CHI/Driver/Memory.pm line 37
	CHI::Driver::Memory::BUILD('Moose::Meta::Class::__ANON__::SERIAL::4=HASH(0x8bfed98)', 'HASH(0x8ead138)') called at /opt/perl5_15/lib/site_perl/5.15.0/i686-linux-thread-multi/Class/MOP/Method.pm line 125
	Class::MOP::Method::execute('Moose::Meta::Method=HASH(0x8eacdc8)', 'Moose::Meta::Class::__ANON__::SERIAL::4=HASH(0x8bfed98)', 'HASH(0x8ead138)') called at /opt/perl5_15/lib/site_perl/5.15.0/i686-linux-thread-multi/Moose/Object.pm line 59
	Moose::Object::BUILDALL('Moose::Meta::Class::__ANON__::SERIAL::4=HASH(0x8bfed98)', 'HASH(0x8ead138)') called at /opt/perl5_15/lib/site_perl/5.15.0/i686-linux-thread-multi/Moose/Meta/Class.pm line 273
	Moose::Meta::Class::new_object('Moose::Meta::Class=HASH(0x8bf9880)', 'HASH(0x8ead138)') called at /opt/perl5_15/lib/site_perl/5.15.0/i686-linux-thread-multi/Moose/Object.pm line 28
	Moose::Object::new('Moose::Meta::Class::__ANON__::SERIAL::4', 'chi_root_class', 'CHI', 'driver_class', 'CHI::Driver::Memory') called at constructor CHI::Driver::Memory::new (defined at /opt/perl5_15/lib/site_perl/5.15.0/CHI/Driver/Memory.pm line 18) line 4
	CHI::Driver::Memory::new('Moose::Meta::Class::__ANON__::SERIAL::4', 'chi_root_class', 'CHI', 'driver_class', 'CHI::Driver::Memory') called at /opt/perl5_15/lib/site_perl/5.15.0/CHI.pm line 77
	CHI::new('CHI', 'driver', 'Memory') called at t/03_chi.t line 29
t/03_chi.t ................... ok
t/04_fastmmap.t .............. ok
t/deprecated/00_compile.t .... ok
Use of qw(...) as parentheses is deprecated at t/deprecated/02_memcached.t line 20.
t/deprecated/02_memcached.t .. skipped: no memcached server found
must specify either 'datastore' hashref or 'global' flag at /opt/perl5_15/lib/site_perl/5.15.0/CHI/Driver/Memory.pm line 37
	CHI::Driver::Memory::BUILD('Moose::Meta::Class::__ANON__::SERIAL::4=HASH(0x9e76070)', 'HASH(0xa0ac8b0)') called at /opt/perl5_15/lib/site_perl/5.15.0/i686-linux-thread-multi/Class/MOP/Method.pm line 125
	Class::MOP::Method::execute('Moose::Meta::Method=HASH(0xa0ac540)', 'Moose::Meta::Class::__ANON__::SERIAL::4=HASH(0x9e76070)', 'HASH(0xa0ac8b0)') called at /opt/perl5_15/lib/site_perl/5.15.0/i686-linux-thread-multi/Moose/Object.pm line 59
	Moose::Object::BUILDALL('Moose::Meta::Class::__ANON__::SERIAL::4=HASH(0x9e76070)', 'HASH(0xa0ac8b0)') called at /opt/perl5_15/lib/site_perl/5.15.0/i686-linux-thread-multi/Moose/Meta/Class.pm line 273
	Moose::Meta::Class::new_object('Moose::Meta::Class=HASH(0x9e702e8)', 'HASH(0xa0ac8b0)') called at /opt/perl5_15/lib/site_perl/5.15.0/i686-linux-thread-multi/Moose/Object.pm line 28
	Moose::Object::new('Moose::Meta::Class::__ANON__::SERIAL::4', 'chi_root_class', 'CHI', 'driver_class', 'CHI::Driver::Memory') called at constructor CHI::Driver::Memory::new (defined at /opt/perl5_15/lib/site_perl/5.15.0/CHI/Driver/Memory.pm line 18) line 4
	CHI::Driver::Memory::new('Moose::Meta::Class::__ANON__::SERIAL::4', 'chi_root_class', 'CHI', 'driver_class', 'CHI::Driver::Memory') called at /opt/perl5_15/lib/site_perl/5.15.0/CHI.pm line 77
	CHI::new('CHI', 'driver', 'Memory') called at t/deprecated/03_chi.t line 30
t/deprecated/03_chi.t ........ ok
t/deprecated/04_fastmmap.t ... ok
All tests successful.
Files=8, Tests=62,  6 wallclock secs ( 0.01 usr  0.11 sys +  1.82 cusr  1.86 csys =  3.80 CPU)
Result: PASS

------------------------------
PREREQUISITES
------------------------------

Prerequisite modules loaded:

requires:

    Module                      Need  Have    
    --------------------------- ----- --------
    Cache::Memcached            0     1.29    
    Data::Dumper                0     2.131   
    Digest::MD5                 0     2.51    
    Moose                       0.59  2.0010  
    MooseX::Role::Parameterized 0     0.26    
    perl                        5.008 5.015000

build_requires:

    Module                      Need  Have    
    --------------------------- ----- --------
    ExtUtils::MakeMaker         6.42  6.57_05 
    IO::Socket::INET            0     1.31    
    Test::Exception             0     0.31    
    Test::More                  0     0.98    

configure_requires:

    Module                      Need  Have    
    --------------------------- ----- --------
    ExtUtils::MakeMaker         6.42  6.57_05 


------------------------------
ENVIRONMENT AND OTHER CONTEXT
------------------------------

Environment variables:

    LANG = de_DE.utf8
    PATH = /usr/local/sbin:/usr/local/bin:/usr/sbin:/usr/bin:/sbin:/bin:/usr/X11R6/bin
    PERL5LIB = 
    PERL5OPT = 
    PERL5_CPANPLUS_IS_RUNNING = 14693
    PERL5_CPAN_IS_RUNNING = 14693
    SHELL = /bin/bash
    TERM = xterm

Perl special variables (and OS-specific diagnostics, for MSWin32):

    $^X = /opt/perl5_15/bin/perl5.15.0
    $UID/$EUID = 0 / 0
    $GID = 0 0
    $EGID = 0 0

Perl module toolchain versions installed:

    Module              Have    
    ------------------- --------
    CPAN                1.9600  
    Cwd                 3.36    
    ExtUtils::CBuilder  0.280204
    ExtUtils::Command   1.17    
    ExtUtils::Install   1.56    
    ExtUtils::MakeMaker 6.57_05 
    ExtUtils::Manifest  1.58    
    ExtUtils::ParseXS   2.2210  
    File::Spec          3.33    
    Module::Build       0.3800  
    Module::Signature   0.68    
    Test::Harness       3.23    
    Test::More          0.98    
    YAML                0.73    
    YAML::Syck          n/a     
    version             0.88    


--

Summary of my perl5 (revision 5 version 15 subversion 0) configuration:
   
  Platform:
    osname=linux, osvers=2.6.35-28-generic, archname=i686-linux-thread-multi
    uname='linux ubuntu 2.6.35-28-generic #50-ubuntu smp fri mar 18 19:00:26 utc 2011 i686 gnulinux '
    config_args='-des -Dprefix=/opt/perl5_15 -Dusethreads -Dusedevel'
    hint=recommended, useposix=true, d_sigaction=define
    useithreads=define, usemultiplicity=define
    useperlio=define, d_sfio=undef, uselargefiles=define, usesocks=undef
    use64bitint=undef, use64bitall=undef, uselongdouble=undef
    usemymalloc=n, bincompat5005=undef
  Compiler:
    cc='cc', ccflags ='-D_REENTRANT -D_GNU_SOURCE -fno-strict-aliasing -pipe -fstack-protector -I/usr/local/include -D_LARGEFILE_SOURCE -D_FILE_OFFSET_BITS=64',
    optimize='-O2',
    cppflags='-D_REENTRANT -D_GNU_SOURCE -fno-strict-aliasing -pipe -fstack-protector -I/usr/local/include'
    ccversion='', gccversion='4.4.5', gccosandvers=''
    intsize=4, longsize=4, ptrsize=4, doublesize=8, byteorder=1234
    d_longlong=define, longlongsize=8, d_longdbl=define, longdblsize=12
    ivtype='long', ivsize=4, nvtype='double', nvsize=8, Off_t='off_t', lseeksize=8
    alignbytes=4, prototype=define
  Linker and Libraries:
    ld='cc', ldflags =' -fstack-protector -L/usr/local/lib'
    libpth=/usr/local/lib /lib/../lib /usr/lib/../lib /lib /usr/lib /usr/lib/i686-linux-gnu /usr/lib64
    libs=-lnsl -ldl -lm -lcrypt -lutil -lpthread -lc
    perllibs=-lnsl -ldl -lm -lcrypt -lutil -lpthread -lc
    libc=/lib/libc-2.12.1.so, so=so, useshrplib=false, libperl=libperl.a
    gnulibc_version='2.12.1'
  Dynamic Linking:
    dlsrc=dl_dlopen.xs, dlext=so, d_dlsymun=undef, ccdlflags='-Wl,-E'
    cccdlflags='-fPIC', lddlflags='-shared -O2 -L/usr/local/lib -fstack-protector'


Characteristics of this binary (from libperl): 
  Compile-time options: MULTIPLICITY PERL_DONT_CREATE_GVSV
                        PERL_IMPLICIT_CONTEXT PERL_MALLOC_WRAP
                        PERL_PRESERVE_IVUV PERL_USE_DEVEL USE_ITHREADS
                        USE_LARGE_FILES USE_LOCALE USE_LOCALE_COLLATE
                        USE_LOCALE_CTYPE USE_LOCALE_NUMERIC USE_PERLIO
                        USE_PERL_ATOF USE_REENTRANT_API
  Built under linux
  Compiled at Jun 21 2011 10:04:59
  %ENV:
    PERL5LIB=""
    PERL5OPT=""
    PERL5_CPANPLUS_IS_RUNNING="14693"
    PERL5_CPAN_IS_RUNNING="14693"
  @INC:
    /opt/perl5_15/lib/site_perl/5.15.0/i686-linux-thread-multi
    /opt/perl5_15/lib/site_perl/5.15.0
    /opt/perl5_15/lib/5.15.0/i686-linux-thread-multi
    /opt/perl5_15/lib/5.15.0
    .