Back
From: metabase:user:320bfe00-2aae-11df-837a-5e0a49663a4f
Subject: PASS Data-Conveyor-1.103130 v5.20.3 RC2 GNU/Linux
Date: 2015-09-02T20:07:30Z
This distribution has been tested as part of the CPAN Testers
project, supporting the Perl programming language. See
http://wiki.cpantesters.org/ for more information or email
questions to cpan-testers-discuss@perl.org
--
Dear Marcel Gruenauer,
This is a computer-generated report for Data-Conveyor-1.103130
on perl 5.20.3, created by CPAN-Reporter-1.2015.
Thank you for uploading your work to CPAN. Congratulations!
All tests were successful.
Sections of this report:
* Tester comments
* Program output
* Prerequisites
* Environment and other context
------------------------------
TESTER COMMENTS
------------------------------
Additional comments from tester:
this report is from an automated smoke testing program
and was not reviewed by a human for accuracy
------------------------------
PROGRAM OUTPUT
------------------------------
Output from '/usr/bin/make test':
PERL_DL_NONLAZY=1 "/tmp/basesmoker-reloperl-dV1M/bin/perl" "-MExtUtils::Command::MM" "-MTest::Harness" "-e" "undef *Test::Harness::Switches; test_harness(0, 'blib/lib', 'blib/arch')" t/*.t
t/00-compile.t ............... ok
# Testing with Perl 5.020003, /tmp/basesmoker-reloperl-dV1M/bin/perl
# Carp version is 1.36
# Class::Accessor::Complex version is 1.100880
# Class::Scaffold::Accessor version is 1.102280
# Class::Scaffold::App::CommandLine version is 1.102280
# Class::Scaffold::App::Test::Classes version is 1.102280
# Class::Scaffold::App::Test::YAMLDriven version is 1.102280
# Class::Scaffold::Base version is 1.102280
# Class::Scaffold::ConstantImporter version is 1.102280
# Class::Scaffold::Delegate::Mixin version is 1.102280
# Class::Scaffold::Environment version is 1.102280
# Class::Scaffold::Exception version is 1.102280
# Class::Scaffold::Exception::Business version is 1.102280
# Class::Scaffold::Exception::Container version is 1.102280
# Class::Scaffold::Exception::Util version is 1.102280
# Class::Scaffold::Factory version is 1.102280
# Class::Scaffold::Factory::Type version is 1.102280
# Class::Scaffold::HierarchicalDirty version is 1.102280
# Class::Scaffold::Log version is 1.102280
# Class::Scaffold::Storable version is 1.102280
# Class::Scaffold::Test version is 1.102280
# Class::Scaffold::Test::Inherited version is 1.102280
# Class::Scaffold::Test::UtilLoader version is 1.102280
# Class::Scaffold::Util version is 1.102280
# Class::Scaffold::YAML::Active version is 1.102280
# Class::Scaffold::YAML::Active::Hash version is 1.102280
# Class::Scaffold::YAML::Marshall version is 1.102280
# Class::Value version is 1.100840
# Class::Value::Enum version is 1.100840
# Class::Value::Exception::Base version is 1.100840
# Class::Value::Exception::NotWellFormedValue version is 1.100840
# Class::Value::String version is 1.100840
# Compress::Zlib version is 2.068
# DBI version is 1.634
# Data::Container version is 1.100840
# Data::Dumper version is 2.154
# Data::Inherited version is 1.100860
# Data::Miscellany version is 1.100850
# Data::Storage::DBI::Mock version is 1.102720
# Data::Storage::DBI::Oracle version is 1.102720
# Data::Storage::DBI::Pg version is 1.102720
# Data::Storage::DBI::SQLite version is 1.102720
# Data::Storage::Memory version is 1.102720
# Data::Storage::Null version is 1.102720
# Date::Calc version is 6.4
# English version is 1.09
# Error version is 0.17024
# Error::Hierarchy version is 1.103530
# Error::Hierarchy::Internal version is 1.103530
# Error::Hierarchy::Internal::CustomMessage version is 1.103530
# Error::Hierarchy::Internal::DBI::STH version is 1.103530
# Error::Hierarchy::Test version is 1.103530
# Error::Hierarchy::Util version is 1.103530
# Exporter version is 5.71
# ExtUtils::MakeMaker version is 7.06
# Fcntl version is 1.11
# File::Find version is 1.27
# File::Temp version is 0.2304
# FindBin version is 1.51
# Getopt::Long version is 2.47
# Hash::Flatten version is 1.19
# Hook::Modular version is 1.101050
# IO::Handle version is 1.35
# IO::Pager version is 0.34
# Pod::Text version is 3.18
# Scalar::Util version is 1.42
# Storable version is 2.49_01
# String::FlexMatch::Test version is 1.100820
# Sys::Hostname version is 1.18
# Term::Shell::Enhanced version is 1.101420
# Test::Builder version is 1.001014
# Test::Class version is 0.50
# Test::More version is 1.001014
# Text::Table version is 1.130
# Time::HiRes version is 1.9726
# YAML version is 1.15
# YAML::Active version is 1.100810
# YAML::Marshall version is undefined
# charnames version is 1.40
# constant version is 1.31
# once version is 1.101420
# overload version is 1.22
# parent version is 0.228
t/000-report-versions.t ...... ok
Possible precedence issue with control flow operator at /home/sand/src/perl/repoperls/installed-perls/perl/v5.20.3-RC2/7e7a/lib/site_perl/5.20.3/Class/Scaffold/Log.pm line 44.
t/01_companion_classes.t ..... ok
t/author-critic.t ............ skipped: these tests are for testing by the author
t/release-check-changes.t .... skipped: these tests are for release candidate testing
t/release-dist-manifest.t .... skipped: these tests are for release candidate testing
t/release-distmeta.t ......... skipped: these tests are for release candidate testing
t/release-eol.t .............. skipped: these tests are for release candidate testing
t/release-has-version.t ...... skipped: these tests are for release candidate testing
t/release-kwalitee.t ......... skipped: these tests are for release candidate testing
t/release-minimum-version.t .. skipped: these tests are for release candidate testing
t/release-no-tabs.t .......... skipped: these tests are for release candidate testing
t/release-pod-coverage.t ..... skipped: these tests are for release candidate testing
t/release-pod-spell.t ........ skipped: these tests are for release candidate testing
t/release-pod-syntax.t ....... skipped: these tests are for release candidate testing
t/release-portability.t ...... skipped: these tests are for release candidate testing
t/release-synopsis.t ......... skipped: these tests are for release candidate testing
t/release-unused-vars.t ...... skipped: these tests are for release candidate testing
All tests successful.
Files=18, Tests=223, 17 wallclock secs ( 0.12 usr 0.09 sys + 11.31 cusr 3.26 csys = 14.78 CPU)
Result: PASS
------------------------------
PREREQUISITES
------------------------------
Prerequisite modules loaded:
requires:
Module Need Have
------------------------------------------- ---- --------
charnames 0 1.40
Class::Accessor::Complex 0 1.100880
Class::Scaffold::Accessor 0 1.102280
Class::Scaffold::App::CommandLine 0 1.102280
Class::Scaffold::App::Test::YAMLDriven 0 1.102280
Class::Scaffold::Base 0 1.102280
Class::Scaffold::ConstantImporter 0 1.102280
Class::Scaffold::Delegate::Mixin 0 1.102280
Class::Scaffold::Environment 0 1.102280
Class::Scaffold::Exception 0 1.102280
Class::Scaffold::Exception::Business 0 1.102280
Class::Scaffold::Exception::Container 0 1.102280
Class::Scaffold::Exception::Util 0 1.102280
Class::Scaffold::Factory 0 1.102280
Class::Scaffold::Factory::Type 0 1.102280
Class::Scaffold::HierarchicalDirty 0 1.102280
Class::Scaffold::Log 0 1.102280
Class::Scaffold::Storable 0 1.102280
Class::Scaffold::Test 0 1.102280
Class::Scaffold::Test::Inherited 0 1.102280
Class::Scaffold::Test::UtilLoader 0 1.102280
Class::Scaffold::Util 0 1.102280
Class::Scaffold::YAML::Active 0 1.102280
Class::Scaffold::YAML::Active::Hash 0 1.102280
Class::Scaffold::YAML::Marshall 0 1.102280
Class::Value 0 1.100840
Class::Value::Enum 0 1.100840
Class::Value::Exception::Base 0 1.100840
Class::Value::Exception::NotWellFormedValue 0 1.100840
Class::Value::String 0 1.100840
Compress::Zlib 0 2.068
constant 0 1.31
Data::Container 0 1.100840
Data::Dumper 0 2.154
Data::Inherited 0 1.100860
Data::Miscellany 0 1.100850
Data::Storage::DBI::Mock 0 1.102720
Data::Storage::DBI::Oracle 0 1.102720
Data::Storage::DBI::Pg 0 1.102720
Data::Storage::DBI::SQLite 0 1.102720
Data::Storage::Memory 0 1.102720
Data::Storage::Null 0 1.102720
Date::Calc 0 6.4
DBI 0 1.634
Error 0 0.17024
Error::Hierarchy 0 1.103530
Error::Hierarchy::Internal 0 1.103530
Error::Hierarchy::Internal::CustomMessage 0 1.103530
Error::Hierarchy::Internal::DBI::STH 0 1.103530
Error::Hierarchy::Test 0 1.103530
Error::Hierarchy::Util 0 1.103530
Exporter 0 5.71
Fcntl 0 1.11
FindBin 0 1.51
Getopt::Long 0 2.47
Hash::Flatten 0 1.19
Hook::Modular 0 1.101050
IO::Handle 0 1.35
IO::Pager 0 0.34
once 0 1.101420
overload 0 1.22
parent 0 0.228
Pod::Text 0 3.18
Storable 0 2.49_01
String::FlexMatch::Test 0 1.100820
Sys::Hostname 0 1.18
Term::Shell::Enhanced 0 1.101420
Test::Builder 0 1.001014
Test::Class 0 0.50
Test::More 0 1.001014
Text::Table 0 1.130
Time::HiRes 0 1.9726
YAML 0 1.15
YAML::Active 0 1.100810
YAML::Marshall 0 0
build_requires:
Module Need Have
------------------------------------------- ---- --------
Carp 0 1.36
Class::Scaffold::App::Test::Classes 0 1.102280
English 0 1.09
File::Find 0 1.27
File::Temp 0 0.2304
Scalar::Util 0 1.42
Test::More 0.94 1.001014
configure_requires:
Module Need Have
------------------------------------------- ---- --------
ExtUtils::MakeMaker 6.31 7.06
------------------------------
ENVIRONMENT AND OTHER CONTEXT
------------------------------
Environment variables:
AUTOMATED_TESTING = 1
LANG = en_US.UTF-8
LANGUAGE = en_US:en
PATH = /home/sand/bin:/usr/local/bin:/usr/bin:/bin:/usr/games:/usr/local/perl/bin:/usr/X11/bin:/sbin:/usr/sbin
PERL5LIB = /tmp/loop_over_bdir-26731-9Zwr4i/Alien-ActiveMQ-0.00005-lFYfDU/blib/arch:/tmp/loop_over_bdir-26731-9Zwr4i/Alien-ActiveMQ-0.00005-lFYfDU/blib/lib
PERL5OPT =
PERL5_CPANPLUS_IS_RUNNING = 662
PERL5_CPAN_IS_RUNNING = 662
PERL_MM_USE_DEFAULT = 1
SHELL = /usr/bin/zsh
TERM = screen
Perl special variables (and OS-specific diagnostics, for MSWin32):
$^X = /tmp/basesmoker-reloperl-dV1M/bin/perl
$UID/$EUID = 1005 / 1005
$GID = 1005 1005
$EGID = 1005 1005
Perl module toolchain versions installed:
Module Have
------------------- --------
CPAN 2.10
CPAN::Meta 2.150005
Cwd 3.48_01
ExtUtils::CBuilder 0.280223
ExtUtils::Command 7.06
ExtUtils::Install 1.67
ExtUtils::MakeMaker 7.06
ExtUtils::Manifest 1.70
ExtUtils::ParseXS 3.24
File::Spec 3.48_01
JSON 2.90
JSON::PP 2.27203
Module::Build 0.4214
Module::Signature 0.79
Parse::CPAN::Meta 1.4417
Test::Harness 3.35
Test::More 1.001014
YAML 1.15
YAML::Syck 1.29
version 0.9909
--
Summary of my perl5 (revision 5 version 20 subversion 3) configuration:
Commit id: ca79643f7bc5602bc885b785f9ab477db8f6bc05
Platform:
osname=linux, osvers=4.0.0-2-amd64, archname=x86_64-linux-thread-multi-ld
uname='linux k83 4.0.0-2-amd64 #1 smp debian 4.0.5-1 (2015-06-16) x86_64 gnulinux '
config_args='-Dprefix=/home/sand/src/perl/repoperls/installed-perls/perl/v5.20.3-RC2/7e7a -Dmyhostname=k83 -Dinstallusrbinperl=n -Uversiononly -Dusedevel -des -Ui_db -Duseithreads -Duselongdouble'
hint=recommended, useposix=true, d_sigaction=define
useithreads=define, usemultiplicity=define
use64bitint=define, use64bitall=define, uselongdouble=define
usemymalloc=n, bincompat5005=undef
Compiler:
cc='cc', ccflags ='-D_REENTRANT -D_GNU_SOURCE -fwrapv -fno-strict-aliasing -pipe -fstack-protector -I/usr/local/include -D_LARGEFILE_SOURCE -D_FILE_OFFSET_BITS=64',
optimize='-O2',
cppflags='-D_REENTRANT -D_GNU_SOURCE -fwrapv -fno-strict-aliasing -pipe -fstack-protector -I/usr/local/include'
ccversion='', gccversion='5.2.1 20150808', gccosandvers=''
intsize=4, longsize=8, ptrsize=8, doublesize=8, byteorder=12345678
d_longlong=define, longlongsize=8, d_longdbl=define, longdblsize=16
ivtype='long', ivsize=8, nvtype='long double', nvsize=16, Off_t='off_t', lseeksize=8
alignbytes=16, prototype=define
Linker and Libraries:
ld='cc', ldflags =' -fstack-protector -L/usr/local/lib'
libpth=/usr/local/lib /usr/lib/gcc/x86_64-linux-gnu/5/include-fixed /usr/include/x86_64-linux-gnu /usr/lib /lib/x86_64-linux-gnu /lib/../lib /usr/lib/x86_64-linux-gnu /usr/lib/../lib /lib
libs=-lpthread -lnsl -lgdbm -ldb -ldl -lm -lcrypt -lutil -lc -lgdbm_compat
perllibs=-lpthread -lnsl -ldl -lm -lcrypt -lutil -lc
libc=libc-2.19.so, so=so, useshrplib=false, libperl=libperl.a
gnulibc_version='2.19'
Dynamic Linking:
dlsrc=dl_dlopen.xs, dlext=so, d_dlsymun=undef, ccdlflags='-Wl,-E'
cccdlflags='-fPIC', lddlflags='-shared -O2 -L/usr/local/lib -fstack-protector'
Characteristics of this binary (from libperl):
Compile-time options: HAS_TIMES MULTIPLICITY PERLIO_LAYERS
PERL_DONT_CREATE_GVSV
PERL_HASH_FUNC_ONE_AT_A_TIME_HARD
PERL_IMPLICIT_CONTEXT PERL_MALLOC_WRAP
PERL_NEW_COPY_ON_WRITE PERL_PRESERVE_IVUV
PERL_USE_DEVEL USE_64_BIT_ALL USE_64_BIT_INT
USE_ITHREADS USE_LARGE_FILES USE_LOCALE
USE_LOCALE_COLLATE USE_LOCALE_CTYPE
USE_LOCALE_NUMERIC USE_LONG_DOUBLE USE_PERLIO
USE_PERL_ATOF USE_REENTRANT_API
Locally applied patches:
RC2
Built under linux
Compiled at Sep 2 2015 05:58:36
%ENV:
PERL5LIB="/tmp/loop_over_bdir-26731-9Zwr4i/Alien-ActiveMQ-0.00005-lFYfDU/blib/arch:/tmp/loop_over_bdir-26731-9Zwr4i/Alien-ActiveMQ-0.00005-lFYfDU/blib/lib"
PERL5OPT=""
PERL5_CPANPLUS_IS_RUNNING="662"
PERL5_CPAN_IS_RUNNING="662"
PERL_MM_USE_DEFAULT="1"
@INC:
/tmp/loop_over_bdir-26731-9Zwr4i/Alien-ActiveMQ-0.00005-lFYfDU/blib/arch
/tmp/loop_over_bdir-26731-9Zwr4i/Alien-ActiveMQ-0.00005-lFYfDU/blib/lib
/home/sand/src/perl/repoperls/installed-perls/perl/v5.20.3-RC2/7e7a/lib/site_perl/5.20.3/x86_64-linux-thread-multi-ld
/home/sand/src/perl/repoperls/installed-perls/perl/v5.20.3-RC2/7e7a/lib/site_perl/5.20.3
/home/sand/src/perl/repoperls/installed-perls/perl/v5.20.3-RC2/7e7a/lib/5.20.3/x86_64-linux-thread-multi-ld
/home/sand/src/perl/repoperls/installed-perls/perl/v5.20.3-RC2/7e7a/lib/5.20.3
.