Back
From: metabase:user:314402c4-2aae-11df-837a-5e0a49663a4f
Subject: PASS HTML-Shakan-2.10 v5.10.1 GNU/Linux
Date: 2017-04-25T08:07:35Z
This distribution has been tested as part of the CPAN Testers
project, supporting the Perl programming language. See
http://wiki.cpantesters.org/ for more information or email
questions to cpan-testers-discuss@perl.org
--
Dear Masayuki Matsuki,
This is a computer-generated report for HTML-Shakan-2.10
on perl 5.10.1, created by CPAN-Reporter-1.2018.
Thank you for uploading your work to CPAN. Congratulations!
All tests were successful.
Sections of this report:
* Tester comments
* Program output
* Prerequisites
* Environment and other context
------------------------------
TESTER COMMENTS
------------------------------
Additional comments from tester:
none provided
------------------------------
PROGRAM OUTPUT
------------------------------
Output from './Build test':
t/00_compile.t ............................. ok
t/010_core/001_render.t .................... ok
# FVL: 0.39
t/010_core/002_validator.t ................. ok
t/010_core/003_widgets.t ................... ok
t/010_core/004_filter.t .................... ok
t/010_core/005_bind_filter.t ............... ok
t/010_core/006_fillin_form.t ............... ok
t/010_core/007_fillin_date.t ............... ok
t/010_core/008_declare.t ................... ok
t/010_core/009_validator_message.t ......... ok
t/010_core/010_submitted.t ................. ok
t/010_core/011_custom_validation_form.t .... ok
t/010_core/012_custom_validation_field.t ... ok
t/010_core/013_render_field.t .............. ok
t/010_core/014_multi_value.t ............... ok
t/020_inflator/001_datetime.t .............. ok
t/020_inflator/002_dt_join.t ............... ok
# FVL: 0.39
t/030_field/001_file.t ..................... ok
# FVL: 0.39
t/030_field/002_image.t .................... ok
t/030_field/003_duplication.t .............. ok
t/040_model/001_datamodel.t ................ skipped: Test requires module 'Data::Model' but it's not found
t/040_model/002_skinny.t ................... skipped: Test requires module 'DBIx::Skinny' but it's not found
t/040_model/003_teng.t ..................... ok
t/999_regression/001_destructive_widget.t .. ok
t/upload_submitted.t ....................... ok
All tests successful.
Files=25, Tests=101, 4 wallclock secs ( 0.05 usr 0.12 sys + 2.07 cusr 0.41 csys = 2.65 CPU)
Result: PASS
------------------------------
PREREQUISITES
------------------------------
Prerequisite modules loaded:
requires:
Module Need Have
------------------- -------- --------
Email::Valid::Loose 0.05 0.05
FormValidator::Lite 0.24 0.39
Hash::MultiValue 0 0.16
HTML::Escape 0 1.10
List::MoreUtils 0.22 0.416
List::Util 1.32 1.47
Mouse 0.9 v2.4.9
parent 0 0.234
perl 5.008001 5.010001
Scalar::Util 0 1.47
build_requires:
Module Need Have
------------------- -------- --------
CGI 0 4.33
Test::More 0.98 1.302083
Test::Requires 0.06 0.10
configure_requires:
Module Need Have
------------------- -------- --------
Module::Build 0 0.4220
Module::Build::Tiny 0.035 0.039
------------------------------
ENVIRONMENT AND OTHER CONTEXT
------------------------------
Environment variables:
LANG = C
LC_ALL = de_DE.UTF-8
PATH = /usr/local/bin:/usr/bin:/bin:/usr/local/sbin:/usr/sbin:/sbin:/home/cpansand/bin/linux-gnu:/home/cpansand/bin/sh:/home/cpansand/bin:/usr/games:/home/cpansand/devel:/home/eserte/src/srezic-misc/scripts
PERL5LIB =
PERL5OPT =
PERL5_CPANPLUS_IS_RUNNING = 5967
PERL5_CPAN_IS_RUNNING = 5967
PERL5_CPAN_IS_RUNNING_IN_RECURSION = 5906,5967
PERLDOC = -MPod::Perldoc::ToTextOverstrike
PERL_BATCH = yes
PERL_CANARY_STABILITY_NOPROMPT = 1
PERL_CPAN_REPORTER_CONFIG = /var/tmp/cpansmoker-1023/2017042506/cpanreporter_000_config.ini
PERL_EXTUTILS_AUTOINSTALL = --defaultdeps
PERL_PARALLEL_SMOKER = yes
PERL_USE_UNSAFE_INC = 1
SHELL = /bin/zsh
TERM = screen
TMPDIR = /var/tmp/cpansmoker-1023/2017042506
Perl special variables (and OS-specific diagnostics, for MSWin32):
$^X = /bbbike/perl-5.10.1/bin/perl5.10.1
$UID/$EUID = 1023 / 1023
$GID = 1023 1023
$EGID = 1023 1023
Perl module toolchain versions installed:
Module Have
------------------- --------
CPAN 2.16
CPAN::Meta 2.150010
Cwd 3.62
ExtUtils::CBuilder 0.280224
ExtUtils::Command 7.24
ExtUtils::Install 2.04
ExtUtils::MakeMaker 7.24
ExtUtils::Manifest 1.70
ExtUtils::ParseXS 3.30
File::Spec 3.62
JSON 2.90
JSON::PP 2.27400
Module::Build 0.4220
Module::Signature 0.80
Parse::CPAN::Meta 2.150010
Test::Harness 3.38
Test::More 1.302083
YAML 1.20
YAML::Syck 1.29
version 0.9916
--
Summary of my perl5 (revision 5 version 10 subversion 1) configuration:
Platform:
osname=linux, osvers=3.16.0-4-amd64, archname=x86_64-linux
uname='linux eserte 3.16.0-4-amd64 #1 smp debian 3.16.7-ckt25-2 (2016-04-08) x86_64 gnulinux '
config_args='-ds -e -Dprefix=/opt/perl-5.10.1 -Dcf_email=srezic@cpan.org'
hint=recommended, useposix=true, d_sigaction=define
useithreads=undef, usemultiplicity=undef
useperlio=define, d_sfio=undef, uselargefiles=define, usesocks=undef
use64bitint=define, use64bitall=define, uselongdouble=undef
usemymalloc=n, bincompat5005=undef
Compiler:
cc='cc', ccflags ='-fno-strict-aliasing -pipe -fstack-protector -I/usr/local/include -D_LARGEFILE_SOURCE -D_FILE_OFFSET_BITS=64',
optimize='-O2',
cppflags='-fno-strict-aliasing -pipe -fstack-protector -I/usr/local/include'
ccversion='', gccversion='4.9.2', gccosandvers=''
intsize=4, longsize=8, ptrsize=8, doublesize=8, byteorder=12345678
d_longlong=define, longlongsize=8, d_longdbl=define, longdblsize=16
ivtype='long', ivsize=8, nvtype='double', nvsize=8, Off_t='off_t', lseeksize=8
alignbytes=8, prototype=define
Linker and Libraries:
ld='cc', ldflags =' -fstack-protector -L/usr/local/lib'
libpth=/usr/local/lib /lib/x86_64-linux-gnu /lib/../lib /usr/lib/x86_64-linux-gnu /usr/lib/../lib /lib /usr/lib
libs=-lnsl -ldl -lm -lcrypt -lutil -lc
perllibs=-lnsl -ldl -lm -lcrypt -lutil -lc
libc=libc-2.19.so, so=so, useshrplib=false, libperl=libperl.a
gnulibc_version='2.19'
Dynamic Linking:
dlsrc=dl_dlopen.xs, dlext=so, d_dlsymun=undef, ccdlflags='-Wl,-E'
cccdlflags='-fPIC', lddlflags='-shared -O2 -L/usr/local/lib -fstack-protector'
Characteristics of this binary (from libperl):
Compile-time options: PERL_DONT_CREATE_GVSV PERL_MALLOC_WRAP USE_64_BIT_ALL
USE_64_BIT_INT USE_LARGE_FILES USE_PERLIO
Locally applied patches:
Devel::PatchPerl 1.42
Built under linux
Compiled at May 7 2016 09:04:56
%ENV:
PERL5LIB=""
PERL5OPT=""
PERL5_CPANPLUS_IS_RUNNING="5967"
PERL5_CPAN_IS_RUNNING="5967"
PERL5_CPAN_IS_RUNNING_IN_RECURSION="5906,5967"
PERLDOC="-MPod::Perldoc::ToTextOverstrike"
PERL_BATCH="yes"
PERL_CANARY_STABILITY_NOPROMPT="1"
PERL_CPAN_REPORTER_CONFIG="/var/tmp/cpansmoker-1023/2017042506/cpanreporter_000_config.ini"
PERL_EXTUTILS_AUTOINSTALL="--defaultdeps"
PERL_PARALLEL_SMOKER="yes"
PERL_USE_UNSAFE_INC="1"
@INC:
/opt/perl-5.10.1/lib/5.10.1/x86_64-linux
/opt/perl-5.10.1/lib/5.10.1
/opt/perl-5.10.1/lib/site_perl/5.10.1/x86_64-linux
/opt/perl-5.10.1/lib/site_perl/5.10.1
.