App-CamelPKI v0.07 Perl 5 v5.22.4 x86_64-linux-gnu

Status
Pass
From
Dist
App-CamelPKI v0.07
Platform
Perl 5 v5.22.4 x86_64-linux-gnu
Date
2019-06-25T01:04:52
ID
3c9e4672-96e5-11e9-8c9d-afff0f6f4aec
This distribution has been tested as part of the CPAN Testers
project, supporting the Perl programming language.  See
http://wiki.cpantesters.org/ for more information or email
questions to cpan-testers-discuss@perl.org


--
Dear GRM,

This is a computer-generated report for App-CamelPKI-0.07
on perl 5.22.4, created by App::cpanminus::reporter 0.17 (1.7044).

Thank you for uploading your work to CPAN.  Congratulations!
All tests were successful.

Sections of this report:

    * Tester comments
    * Program output
    * Prerequisites
    * Environment and other context

------------------------------
TESTER COMMENTS
------------------------------

Additional comments from tester:

none provided

------------------------------
PROGRAM OUTPUT
------------------------------

Output from '':

Running Build.PL
Checking prerequisites...
  requires:
    !  App::Info::HTTPD::Apache is not installed
    !  Catalyst::Engine::Apache is not installed
    !  Crypt::OpenSSL::CA is not installed
    !  Crypt::X509 is not installed
    !  Test::Group is not installed
  build_requires:
    !  HTTP::Request::Form is not installed
    !  Test::Group is not installed

ERRORS/WARNINGS FOUND IN PREREQUISITES.  You may wish to install the versions
of the modules indicated above before proceeding with this installation

Created MYMETA.yml and MYMETA.json
Creating new 'Build' script for 'App-CamelPKI' version '0.07'
-> OK
Checking dependencies from MYMETA.json ...
Checking if you have Test::NoBreakpoints 0 ... Yes (0.15)
Checking if you have Module::ScanDeps 0 ... Yes (1.27)
Checking if you have File::Spec::Unix 0 ... Yes (3.56_02)
Checking if you have DBIx::Class 0.07 ... Yes (0.082841)
Checking if you have HTTP::Request 0 ... Yes (6.18)
Checking if you have Test::Builder 0 ... Yes (1.302164)
Checking if you have Catalyst 5.7006 ... Yes (5.90124)
Checking if you have Catalyst::View::JSON 0 ... Yes (0.37)
Checking if you have NEXT 0 ... Yes (0.65)
Checking if you have HTML::TreeBuilder 0 ... Yes (5.07)
Checking if you have App::Info::HTTPD::Apache 0 ... No
Checking if you have Class::Inspector 0 ... Yes (1.34)
Checking if you have File::Find 0 ... Yes (1.29)
Checking if you have SQL::Translator 0.07 ... Yes (1.60)
Checking if you have File::Slurp 0 ... Yes (9999.27)
Checking if you have HTTP::Request::Form 0 ... No
Checking if you have Crypt::OpenSSL::CA 0.09 ... No
Checking if you have Test::More 0 ... Yes (1.302164)
Checking if you have URI::URL 0 ... Yes (5.04)
Checking if you have JSON 1.07 ... Yes (4.02)
Checking if you have Catalyst::Plugin::ConfigLoader 0 ... Yes (0.34)
Checking if you have DBD::SQLite 0 ... Yes (1.62)
Checking if you have FindBin 0 ... Yes (1.51)
Checking if you have IO::Socket::SSL 0 ... Yes (2.066)
Checking if you have MIME::Base64 0 ... Yes (3.15)
Checking if you have Convert::ASN1 0.2 ... Yes (0.27)
Checking if you have LWP::UserAgent 0 ... Yes (6.39)
Checking if you have Catalyst::Engine::Apache 0 ... No
Checking if you have File::Spec::Functions 0 ... Yes (3.56_02)
Checking if you have HTTP::Request::Common 0 ... Yes (6.18)
Checking if you have LWP::Simple 0 ... Yes (6.39)
Checking if you have Error 0 ... Yes (0.17027)
Checking if you have File::Path 0 ... Yes (2.09)
Checking if you have Catalyst::View::TT 0 ... Yes (0.44)
Checking if you have Crypt::X509 0.32 ... No
Checking if you have Fatal 0 ... Yes (2.26)
Checking if you have IPC::Run 0 ... Yes (20180523.0)
Checking if you have Cwd 0 ... Yes (3.56_02)
Checking if you have File::Which 0 ... Yes (1.23)
Checking if you have Test::Pod::Coverage 1.04 ... Yes (1.10)
Checking if you have Module::Build::Compat 0 ... Yes (0.4229)
Checking if you have DateTime 0 ... Yes (1.51)
Checking if you have IO::Socket::INET 0 ... Yes (1.35)
Checking if you have Module::Build 0 ... Yes (0.4229)
Checking if you have Test::Group 0 ... No
Checking if you have Catalyst::Action::RenderView 0 ... Yes (0.16)
Checking if you have Sys::Hostname 0 ... Yes (1.20)
Checking if you have IO::File 0 ... Yes (1.16)
Checking if you have Catalyst::Plugin::Static::Simple 0 ... Yes (0.36)
Checking if you have File::Temp 0 ... Yes (0.2304)
Checking if you have B 0 ... Yes (1.58)
Checking if you have Errno 0 ... Yes (1.23)
Checking if you have File::Spec 0 ... Yes (3.56_02)
==> Found dependencies: App::Info::HTTPD::Apache, HTTP::Request::Form, Crypt::OpenSSL::CA, Catalyst::Engine::Apache, Crypt::X509, Test::Group
Searching App::Info::HTTPD::Apache (0) on cpanmetadb ...
--> Working on App::Info::HTTPD::Apache
Fetching http://www.cpan.org/authors/id/D/DW/DWHEELER/App-Info-0.57.tar.gz
-> OK
Unpacking App-Info-0.57.tar.gz
Building App-Info
Installing /usr/local/lib/perl5/site_perl/5.22.4/App/Info.pm
Installing /usr/local/lib/perl5/site_perl/5.22.4/App/Info/Request.pm
Installing /usr/local/lib/perl5/site_perl/5.22.4/App/Info/HTTPD.pm
Installing /usr/local/lib/perl5/site_perl/5.22.4/App/Info/RDBMS.pm
Installing /usr/local/lib/perl5/site_perl/5.22.4/App/Info/Handler.pm
Installing /usr/local/lib/perl5/site_perl/5.22.4/App/Info/Lib.pm
Installing /usr/local/lib/perl5/site_perl/5.22.4/App/Info/Util.pm
Installing /usr/local/lib/perl5/site_perl/5.22.4/App/Info/HTTPD/Apache.pm
Installing /usr/local/lib/perl5/site_perl/5.22.4/App/Info/RDBMS/SQLite.pm
Installing /usr/local/lib/perl5/site_perl/5.22.4/App/Info/RDBMS/PostgreSQL.pm
Installing /usr/local/lib/perl5/site_perl/5.22.4/App/Info/Handler/Prompt.pm
Installing /usr/local/lib/perl5/site_perl/5.22.4/App/Info/Handler/Carp.pm
Installing /usr/local/lib/perl5/site_perl/5.22.4/App/Info/Handler/Print.pm
Installing /usr/local/lib/perl5/site_perl/5.22.4/App/Info/Lib/Iconv.pm
Installing /usr/local/lib/perl5/site_perl/5.22.4/App/Info/Lib/Expat.pm
Installing /usr/local/lib/perl5/site_perl/5.22.4/App/Info/Lib/OSSPUUID.pm
-> OK
Successfully installed App-Info-0.57
Installing /usr/local/lib/perl5/site_perl/5.22.4/x86_64-linux-gnu/.meta/App-Info-0.57/install.json
Installing /usr/local/lib/perl5/site_perl/5.22.4/x86_64-linux-gnu/.meta/App-Info-0.57/MYMETA.json
Searching HTTP::Request::Form (0) on cpanmetadb ...
--> Working on HTTP::Request::Form
Fetching http://www.cpan.org/authors/id/G/GB/GBAUER/HTTP-Request-Form-0.952.tar.gz
-> OK
Unpacking HTTP-Request-Form-0.952.tar.gz
Successfully installed HTTP-Request-Form-0.952
Installing /usr/local/lib/perl5/site_perl/5.22.4/x86_64-linux-gnu/.meta/HTTP-Request-Form-0.952/install.json
Installing /usr/local/lib/perl5/site_perl/5.22.4/x86_64-linux-gnu/.meta/HTTP-Request-Form-0.952/MYMETA.json
Searching Crypt::OpenSSL::CA (0.09) on cpanmetadb ...
--> Working on Crypt::OpenSSL::CA
Fetching http://www.cpan.org/authors/id/D/DO/DOMQ/Crypt-OpenSSL-CA-0.24.tar.gz
-> OK
Unpacking Crypt-OpenSSL-CA-0.24.tar.gz
make[1]: Leaving directory '/root/.cpanm/work/1561404665.6/Imager-1.011/DynTest'
make[1]: Entering directory '/root/.cpanm/work/1561404665.6/Imager-1.011/FT2'
PERL_DL_NONLAZY=1 "/usr/local/bin/perl" "-MExtUtils::Command::MM" "-MTest::Harness" "-e" "undef *Test::Harness::Switches; test_harness(0, '../blib/lib', '../blib/arch')" t/*.t
FreeType2 runtime 2.6.3 compile-time 2.6.3
t/t10ft2.t ..... ok
t/t20thread.t .. skipped: can't test Imager's lack of threads support with no threads
t/t90std.t ..... ok
All tests successful.
Files=3, Tests=226,  2 wallclock secs ( 0.09 usr  0.06 sys +  1.01 cusr  0.36 csys =  1.52 CPU)
Result: PASS

------------------------------
PREREQUISITES
------------------------------

Prerequisite modules loaded:

    No requirements found

------------------------------
ENVIRONMENT AND OTHER CONTEXT
------------------------------

Environment variables:

    PATH = /usr/local/sbin:/usr/local/bin:/usr/sbin:/usr/bin:/sbin:/bin
    PERL_CPAN_REPORTER_DIR = /etc/cpanm-reporter
    TERM = xterm

Perl special variables (and OS-specific diagnostics, for MSWin32):

    EGID = 0
    EUID = 0
    EXECUTABLE_NAME = /usr/local/bin/perl
    GID = 0
    UID = 0

Perl module toolchain versions installed:

    Module              Have      
    ------------------- ----------
    CPAN                2.11_01   
    CPAN::Meta          2.150010  
    Cwd                 3.56_02   
    ExtUtils::CBuilder  0.280221  
    ExtUtils::Command   1.20_01   
    ExtUtils::Install   2.04      
    ExtUtils::MakeMaker 7.04_02   
    ExtUtils::Manifest  1.70      
    ExtUtils::ParseXS   3.35      
    File::Spec          3.56_02   
    JSON                4.02      
    JSON::PP            2.27300_01
    Module::Build       0.4229    
    Module::Signature   n/a       
    Parse::CPAN::Meta   2.150010  
    Test::Harness       3.35_01   
    Test::More          1.302164  
    YAML                1.29      
    YAML::Syck          1.31      
    version             0.9924    


--

Summary of my perl5 (revision 5 version 22 subversion 4) configuration:
   
  Platform:
    osname=linux, osvers=4.4.0-127-generic, archname=x86_64-linux-gnu
    uname='linux 0c5eeb810b90 4.4.0-127-generic #153-ubuntu smp sat may 19 10:58:46 utc 2018 x86_64 gnulinux '
    config_args='-Darchname=x86_64-linux-gnu -Duse64bitall -Duseshrplib -Dvendorprefix=/usr/local -des'
    hint=recommended, useposix=true, d_sigaction=define
    useithreads=undef, usemultiplicity=undef
    use64bitint=define, use64bitall=define, uselongdouble=undef
    usemymalloc=n, bincompat5005=undef
  Compiler:
    cc='cc', ccflags ='-fwrapv -fno-strict-aliasing -pipe -fstack-protector-strong -I/usr/local/include -D_LARGEFILE_SOURCE -D_FILE_OFFSET_BITS=64',
    optimize='-O2',
    cppflags='-fwrapv -fno-strict-aliasing -pipe -fstack-protector-strong -I/usr/local/include'
    ccversion='', gccversion='6.3.0 20170516', gccosandvers=''
    intsize=4, longsize=8, ptrsize=8, doublesize=8, byteorder=12345678, doublekind=3
    d_longlong=define, longlongsize=8, d_longdbl=define, longdblsize=16, longdblkind=3
    ivtype='long', ivsize=8, nvtype='double', nvsize=8, Off_t='off_t', lseeksize=8
    alignbytes=8, prototype=define
  Linker and Libraries:
    ld='cc', ldflags =' -fstack-protector-strong -L/usr/local/lib'
    libpth=/usr/local/lib /usr/lib/gcc/x86_64-linux-gnu/6/include-fixed /usr/include/x86_64-linux-gnu /usr/lib /lib/x86_64-linux-gnu /lib/../lib /usr/lib/x86_64-linux-gnu /usr/lib/../lib /lib
    libs=-lpthread -lnsl -lgdbm -ldb -ldl -lm -lcrypt -lutil -lc -lgdbm_compat
    perllibs=-lpthread -lnsl -ldl -lm -lcrypt -lutil -lc
    libc=libc-2.24.so, so=so, useshrplib=true, libperl=libperl.so
    gnulibc_version='2.24'
  Dynamic Linking:
    dlsrc=dl_dlopen.xs, dlext=so, d_dlsymun=undef, ccdlflags='-Wl,-E -Wl,-rpath,/usr/local/lib/perl5/5.22.4/x86_64-linux-gnu/CORE'
    cccdlflags='-fPIC', lddlflags='-shared -O2 -L/usr/local/lib -fstack-protector-strong'


Characteristics of this binary (from libperl): 
  Compile-time options: HAS_TIMES PERLIO_LAYERS PERL_DONT_CREATE_GVSV
                        PERL_HASH_FUNC_ONE_AT_A_TIME_HARD PERL_MALLOC_WRAP
                        PERL_NEW_COPY_ON_WRITE PERL_PRESERVE_IVUV
                        USE_64_BIT_ALL USE_64_BIT_INT USE_LARGE_FILES
                        USE_LOCALE USE_LOCALE_COLLATE USE_LOCALE_CTYPE
                        USE_LOCALE_NUMERIC USE_LOCALE_TIME USE_PERLIO
                        USE_PERL_ATOF
  Built under linux
  Compiled at Jun  6 2018 02:52:14
  %ENV:
    PERL_CPAN_REPORTER_DIR="/etc/cpanm-reporter"
  @INC:
    /usr/local/lib/perl5/site_perl/5.22.4/x86_64-linux-gnu
    /usr/local/lib/perl5/site_perl/5.22.4
    /usr/local/lib/perl5/vendor_perl/5.22.4/x86_64-linux-gnu
    /usr/local/lib/perl5/vendor_perl/5.22.4
    /usr/local/lib/perl5/5.22.4/x86_64-linux-gnu
    /usr/local/lib/perl5/5.22.4
    .