PathTools v3.75 Perl 5 v5.28.2 x86_64-linux-debug
- Status
- Pass
- From
- Reini Urban (RURBAN)
- Dist
-
PathTools v3.75
- Platform
- Perl 5 v5.28.2 x86_64-linux-debug
- Date
- 2019-05-04 18:41:31
- ID
- 3c50f7a8-6e9c-11e9-8639-6afe14594232
This distribution has been tested as part of the CPAN Testers
project, supporting the Perl programming language. See
http://wiki.cpantesters.org/ for more information or email
questions to cpan-testers-discuss@perl.org
--
Dear Sawyer X,
This is a computer-generated report for PathTools-3.75
on perl 5.28.2, created by CPAN-Reporter-1.2018.
Thank you for uploading your work to CPAN. Congratulations!
All tests were successful.
Sections of this report:
* Tester comments
* Program output
* Prerequisites
* Environment and other context
------------------------------
TESTER COMMENTS
------------------------------
Additional comments from tester:
this report is from an automated smoke testing program
and was not reviewed by a human for accuracy
------------------------------
PROGRAM OUTPUT
------------------------------
Output from '/usr/bin/make test':
"/usr/local/bin/perl5.28.2d-nt" -MExtUtils::Command::MM -e 'cp_nonempty' -- Cwd.bs blib/arch/auto/Cwd/Cwd.bs 644
PERL_DL_NONLAZY=1 "/usr/local/bin/perl5.28.2d-nt" "-MExtUtils::Command::MM" "-MTest::Harness" "-e" "undef *Test::Harness::Switches; test_harness(0, 'blib/lib', 'blib/arch')" t/*.t
t/abs2rel.t ........ ok
t/crossplatform.t .. ok
t/cwd.t ............ ok
t/cwd_enoent.t ..... ok
t/Functions.t ...... ok
t/rel2abs2rel.t .... ok
t/Spec-taint.t ..... ok
t/Spec.t ........... ok
t/taint.t .......... ok
t/tmpdir.t ......... ok
t/win32.t .......... skipped: this is not win32
All tests successful.
Files=11, Tests=847, 3 wallclock secs ( 0.23 usr 0.01 sys + 2.10 cusr 0.18 csys = 2.52 CPU)
Result: PASS
------------------------------
PREREQUISITES
------------------------------
Prerequisite modules loaded:
requires:
Module Need Have
------------------- ---- --------
Carp 0 1.50
File::Basename 0 2.85
Scalar::Util 0 1.50
Test::More 0.88 1.302164
build_requires:
Module Need Have
------------------- ---- --------
ExtUtils::MakeMaker 0 7.36
configure_requires:
Module Need Have
------------------- ---- --------
ExtUtils::MakeMaker 0 7.36
------------------------------
ENVIRONMENT AND OTHER CONTEXT
------------------------------
Environment variables:
AUTOMATED_TESTING = 1
LANG = en_US.UTF-8
LC_CTYPE = en_US.UTF-8
NONINTERACTIVE_TESTING = 1
PATH = /home/rurban/bin:/usr/local/bin:/usr/bin:/bin:/usr/local/games:/usr/games:/home/rurban/go/bin:/home/rurban/.cargo/bin
PERL5LIB =
PERL5OPT =
PERL5_CPANPLUS_IS_RUNNING = 31339
PERL5_CPAN_IS_RUNNING = 31339
PERL_MM_USE_DEFAULT = 1
PERL_USE_UNSAFE_INC = 1
SHELL = /bin/bash
TERM = xterm-256color
Perl special variables (and OS-specific diagnostics, for MSWin32):
$^X = /usr/local/bin/perl5.28.2d-nt
$UID/$EUID = 1000 / 1000
$GID = 1000 27 124 157 1000
$EGID = 1000 27 124 157 1000
Perl module toolchain versions installed:
Module Have
------------------- --------
CPAN 2.26
CPAN::Meta 2.150010
Cwd 3.74
ExtUtils::CBuilder 0.280230
ExtUtils::Command 7.36
ExtUtils::Install 2.14
ExtUtils::MakeMaker 7.36
ExtUtils::Manifest 1.72
ExtUtils::ParseXS 3.39
File::Spec 3.74
JSON 4.02
JSON::PP 2.97001
Module::Build 0.4229
Module::Signature 0.83
Parse::CPAN::Meta 2.150010
Test::Harness 3.42
Test::More 1.302164
YAML 1.28
YAML::Syck n/a
version 0.9923
--
Summary of my perl5 (revision 5 version 28 subversion 2) configuration:
Platform:
osname=linux
osvers=4.19.0-4-amd64
archname=x86_64-linux-debug
uname='linux reini 4.19.0-4-amd64 #1 smp debian 4.19.28-2 (2019-03-15) x86_64 gnulinux '
config_args='-de -Dusedevel -Uversiononly -Dinstallman1dir=none -Dinstallman3dir=none -Dinstallsiteman1dir=none -Dinstallsiteman3dir=none -DEBUGGING -Doptimize='-g3' -Uuseithreads'
hint=recommended
useposix=true
d_sigaction=define
useithreads=undef
usemultiplicity=undef
use64bitint=define
use64bitall=define
uselongdouble=undef
usemymalloc=n
default_inc_excludes_dot=define
bincompat5005=undef
Compiler:
cc='cc'
ccflags ='-fwrapv -DDEBUGGING -fno-strict-aliasing -pipe -fstack-protector-strong -I/usr/local/include -D_LARGEFILE_SOURCE -D_FILE_OFFSET_BITS=64'
optimize='-g3'
cppflags='-fwrapv -DDEBUGGING -fno-strict-aliasing -pipe -fstack-protector-strong -I/usr/local/include'
ccversion=''
gccversion='8.3.0'
gccosandvers=''
intsize=4
longsize=8
ptrsize=8
doublesize=8
byteorder=12345678
doublekind=3
d_longlong=define
longlongsize=8
d_longdbl=define
longdblsize=16
longdblkind=3
ivtype='long'
ivsize=8
nvtype='double'
nvsize=8
Off_t='off_t'
lseeksize=8
alignbytes=8
prototype=define
Linker and Libraries:
ld='cc'
ldflags =' -fstack-protector-strong -L/usr/local/lib -L/opt/local/lib'
libpth=/usr/local/lib /usr/lib/gcc/x86_64-linux-gnu/8/include-fixed /usr/include/x86_64-linux-gnu /usr/lib /opt/local/lib /lib/x86_64-linux-gnu /lib/../lib /usr/lib/x86_64-linux-gnu /usr/lib/../lib /lib /lib64 /usr/lib64 /usr/local/lib64
libs=-lpthread -lnsl -lgdbm -ldb -ldl -lm -lcrypt -lutil -lc -lgdbm_compat
perllibs=-lpthread -lnsl -ldl -lm -lcrypt -lutil -lc
libc=libc-2.28.so
so=so
useshrplib=false
libperl=libperl.a
gnulibc_version='2.28'
Dynamic Linking:
dlsrc=dl_dlopen.xs
dlext=so
d_dlsymun=undef
ccdlflags='-Wl,-E'
cccdlflags='-fPIC'
lddlflags='-shared -g3 -L/usr/local/lib -L/opt/local/lib -fstack-protector-strong'
Characteristics of this binary (from libperl):
Compile-time options:
DEBUGGING
HAS_TIMES
PERLIO_LAYERS
PERL_COPY_ON_WRITE
PERL_DONT_CREATE_GVSV
PERL_MALLOC_WRAP
PERL_OP_PARENT
PERL_PRESERVE_IVUV
PERL_USE_DEVEL
USE_64_BIT_ALL
USE_64_BIT_INT
USE_LARGE_FILES
USE_LOCALE
USE_LOCALE_COLLATE
USE_LOCALE_CTYPE
USE_LOCALE_NUMERIC
USE_LOCALE_TIME
USE_PERLIO
USE_PERL_ATOF
Built under linux
Compiled at May 4 2019 19:37:23
%ENV:
PERL5LIB=""
PERL5OPT=""
PERL5_CPANPLUS_IS_RUNNING="31339"
PERL5_CPAN_IS_RUNNING="31339"
PERL_MM_USE_DEFAULT="1"
PERL_USE_UNSAFE_INC="1"
@INC:
/usr/local/lib/perl5/site_perl/5.28.2/x86_64-linux-debug
/usr/local/lib/perl5/site_perl/5.28.2
/usr/local/lib/perl5/5.28.2/x86_64-linux-debug
/usr/local/lib/perl5/5.28.2
/usr/local/lib/perl5/site_perl/5.28.1
/usr/local/lib/perl5/site_perl/5.28.0/x86_64-linux
/usr/local/lib/perl5/site_perl/5.28.0
/usr/local/lib/perl5/site_perl/5.27.5
/usr/local/lib/perl5/site_perl/5.27.4
/usr/local/lib/perl5/site_perl/5.27.3
/usr/local/lib/perl5/site_perl/5.27.2
/usr/local/lib/perl5/site_perl/5.27.1
/usr/local/lib/perl5/site_perl/5.27.0
/usr/local/lib/perl5/site_perl/5.26.2
/usr/local/lib/perl5/site_perl/5.26.1
/usr/local/lib/perl5/site_perl/5.26.0
/usr/local/lib/perl5/site_perl/5.25.3
/usr/local/lib/perl5/site_perl/5.24.3
/usr/local/lib/perl5/site_perl/5.24.2
/usr/local/lib/perl5/site_perl/5.24.1
/usr/local/lib/perl5/site_perl/5.24.0
/usr/local/lib/perl5/site_perl/5.23.8
/usr/local/lib/perl5/site_perl/5.23.0
/usr/local/lib/perl5/site_perl/5.22.3
/usr/local/lib/perl5/site_perl/5.22.2
/usr/local/lib/perl5/site_perl/5.22.1
/usr/local/lib/perl5/site_perl/5.22.0
/usr/local/lib/perl5/site_perl/5.21.11
/usr/local/lib/perl5/site_perl/5.21.10
/usr/local/lib/perl5/site_perl/5.21.9
/usr/local/lib/perl5/site_perl/5.21.8
/usr/local/lib/perl5/site_perl/5.21.7
/usr/local/lib/perl5/site_perl/5.21.4
/usr/local/lib/perl5/site_perl/5.20.3
/usr/local/lib/perl5/site_perl/5.20.2
/usr/local/lib/perl5/site_perl/5.20.1
/usr/local/lib/perl5/site_perl/5.18.4
/usr/local/lib/perl5/site_perl/5.16.3
/usr/local/lib/perl5/site_perl/5.14.4
/usr/local/lib/perl5/site_perl/5.14.3
/usr/local/lib/perl5/site_perl/5.12.5
/usr/local/lib/perl5/site_perl/5.10.1
/usr/local/lib/perl5/site_perl/5.10.0
/usr/local/lib/perl5/site_perl/5.8.9
/usr/local/lib/perl5/site_perl/5.8.5
/usr/local/lib/perl5/site_perl/5.6.2
/usr/local/lib/perl5/site_perl
.