Back
From: metabase:user:fb19509c-17e3-11e3-a14d-fdb79081a995
Subject: PASS Dist-Zilla-Plugin-OptionalFeature-0.021 v5.20.3 Mac OS X
Date: 2015-09-16T17:20:30Z
This distribution has been tested as part of the CPAN Testers
project, supporting the Perl programming language. See
http://wiki.cpantesters.org/ for more information or email
questions to cpan-testers-discuss@perl.org
--
Dear ETHER,
This is a computer-generated report for Dist-Zilla-Plugin-OptionalFeature-0.021
on perl 5.20.3, created by App::cpanminus::reporter 0.12 (1.7039).
Thank you for uploading your work to CPAN. Congratulations!
All tests were successful.
Sections of this report:
* Tester comments
* Program output
* Prerequisites
* Environment and other context
------------------------------
TESTER COMMENTS
------------------------------
Additional comments from tester:
none provided
------------------------------
PROGRAM OUTPUT
------------------------------
Output from '':
Building and testing Dist-Zilla-Plugin-OptionalFeature-0.021
cp lib/Dist/Zilla/Plugin/OptionalFeature.pm blib/lib/Dist/Zilla/Plugin/OptionalFeature.pm
#
# Versions for all modules listed in MYMETA.json (including optional ones):
#
# === Configure Requires ===
#
# Module Want Have
# ------------------- ----- -----
# Module::Build::Tiny 0.039 0.039
#
# === Test Requires ===
#
# Module Want Have
# ------------------------------- -------- --------
# Config::MVP::Reader::INI 2.101461 2.101463
# Exporter any 5.71
# ExtUtils::MakeMaker any 7.10
# File::Spec any 3.48_01
# JSON::MaybeXS any 1.003005
# Path::Tiny any 0.072
# Test::CPAN::Meta::JSON::Version any 0.16
# Test::CPAN::Meta::YAML::Version any 0.25
# Test::DZil any 5.039
# Test::Deep any 0.117
# Test::Fatal any 0.014
# Test::More 0.88 1.001014
# Test::Warnings 0.009 0.021
# YAML::Tiny any 1.69
# if any 0.0603
# lib any 0.63
# utf8 any 1.13_01
#
# === Test Recommends ===
#
# Module Want Have
# ---------- -------- --------
# CPAN::Meta 2.120900 2.150005
#
# === Runtime Requires ===
#
# Module Want Have
# ----------------------------------- -------- --------
# Carp any 1.3301
# Dist::Zilla::Plugin::DynamicPrereqs any 0.016
# Dist::Zilla::Plugin::MetaResources 4.300039 5.039
# Dist::Zilla::Role::BeforeBuild any 5.039
# Dist::Zilla::Role::MetaProvider any 5.039
# Dist::Zilla::Role::PrereqSource any 5.039
# Module::Runtime any 0.014
# Moose any 2.1603
# MooseX::Types::Common::String any 0.001013
# MooseX::Types::Moose any 0.46
# namespace::autoclean any 0.27
# strict any 1.08
# warnings any 1.23
#
# === Other Modules ===
#
# Module Have
# --------------------- --------
# CPAN::Meta::Validator 2.150005
# Cpanel::JSON::XS 3.0115
# JSON 2.90
# JSON::DWIW missing
# JSON::PP 2.27203
# JSON::XS missing
#
t/00-report-prereqs.t .......... ok
t/02-no-configure.t ............ ok
t/03-name-syntax.t ............. ok
t/04-default.t ................. ok
t/05-require-develop.t ......... ok
t/01-basic.t ................... ok
t/zzz-check-breaks.t ........... ok
t/07-multiple-features.t ....... ok
t/06-prompt.t .................. ok
t/08-prompt-no-load-prereqs.t .. ok
All tests successful.
Files=10, Tests=58, 4 wallclock secs ( 0.07 usr 0.02 sys + 13.18 cusr 0.59 csys = 13.86 CPU)
Result: PASS
------------------------------
PREREQUISITES
------------------------------
Prerequisite modules loaded:
No requirements found
------------------------------
ENVIRONMENT AND OTHER CONTEXT
------------------------------
Environment variables:
LANG = en_CA.UTF-8
PATH = /Users/ether/.perlbrew/libs/20.3@std/bin:/Users/ether/perl5/perlbrew/bin:/Users/ether/perl5/perlbrew/perls/20.3/bin:/Users/ether/bin:/Users/ether/git/misc/install/bourbon/bin:/Users/ether/git/misc/install/generic/bin:/opt/local/bin:/opt/local/sbin:/Users/ether/git/git-hub/lib:/Users/ether/src/CE/devtools:/Users/ether/git/CE/devtools:/Users/ether/src/CE/bin:/Users/ether/git/CE/bin:/usr/bin:/bin:/usr/sbin:/sbin:/usr/local/bin:/opt/local/share/git-core/contrib/workdir
PERL5LIB = /Users/ether/.perlbrew/libs/20.3@std/lib/perl5
PERLBREW_BASHRC_VERSION = 0.73
PERLBREW_HOME = /Users/ether/.perlbrew
PERLBREW_LIB = std
PERLBREW_MANPATH = /Users/ether/.perlbrew/libs/20.3@std/man:/Users/ether/perl5/perlbrew/perls/20.3/man
PERLBREW_PATH = /Users/ether/.perlbrew/libs/20.3@std/bin:/Users/ether/perl5/perlbrew/bin:/Users/ether/perl5/perlbrew/perls/20.3/bin
PERLBREW_PERL = 20.3
PERLBREW_ROOT = /Users/ether/perl5/perlbrew
PERLBREW_VERSION = 0.73
PERLDOC_PAGER = less -sicMr
PERL_AUTOINSTALL_PREFER_CPAN = 1
PERL_INSTALL_QUIET = 1
PERL_LOCAL_LIB_ROOT = /Users/ether/.perlbrew/libs/20.3@std
PERL_MB_OPT = --install_base /Users/ether/.perlbrew/libs/20.3@std
PERL_MM_OPT = INSTALL_BASE=/Users/ether/.perlbrew/libs/20.3@std
SHELL = /bin/bash
TERM = xterm-color
TMPDIR = /var/folders/kx/9dgyhhpn2yb7v2mggnr385fr0000gn/T/
Perl special variables (and OS-specific diagnostics, for MSWin32):
EGID = 20 20 402 401 12 33 61 79 80 81 98 100 204
EUID = 501
EXECUTABLE_NAME = /Users/ether/perl5/perlbrew/perls/20.3/bin/perl
GID = 20 20 402 401 12 33 61 79 80 81 98 100 204
UID = 501
Perl module toolchain versions installed:
Module Have
------------------- --------
CPAN 2.05
CPAN::Meta 2.150005
Cwd 3.48_01
ExtUtils::CBuilder 0.280217
ExtUtils::Command 7.10
ExtUtils::Install 1.67
ExtUtils::MakeMaker 7.10
ExtUtils::Manifest 1.70
ExtUtils::ParseXS 3.24
File::Spec 3.48_01
JSON 2.90
JSON::PP 2.27203
Module::Build 0.4214
Module::Signature n/a
Parse::CPAN::Meta 1.4414
Test::Harness 3.30
Test::More 1.001014
YAML 1.15
YAML::Syck 1.29
version 0.9909
--
Summary of my perl5 (revision 5 version 20 subversion 3) configuration:
Platform:
osname=darwin, osvers=12.6.0, archname=darwin-2level
uname='darwin bourbon 12.6.0 darwin kernel version 12.6.0: wed mar 18 16:23:48 pdt 2015; root:xnu-2050.48.19~1release_x86_64 x86_64 '
config_args='-de -Dprefix=/Users/ether/perl5/perlbrew/perls/20.3 -Dman1dir=none -Dman3dir=none -Aeval:scriptdir=/Users/ether/perl5/perlbrew/perls/20.3/bin'
hint=recommended, useposix=true, d_sigaction=define
useithreads=undef, usemultiplicity=undef
use64bitint=define, use64bitall=define, uselongdouble=undef
usemymalloc=n, bincompat5005=undef
Compiler:
cc='cc', ccflags ='-fno-common -DPERL_DARWIN -fno-strict-aliasing -pipe -fstack-protector -I/opt/local/include',
optimize='-O3',
cppflags='-fno-common -DPERL_DARWIN -fno-strict-aliasing -pipe -fstack-protector -I/opt/local/include'
ccversion='', gccversion='4.2.1 Compatible Apple LLVM 4.2 (clang-425.0.28)', gccosandvers=''
intsize=4, longsize=8, ptrsize=8, doublesize=8, byteorder=12345678
d_longlong=define, longlongsize=8, d_longdbl=define, longdblsize=16
ivtype='long', ivsize=8, nvtype='double', nvsize=8, Off_t='off_t', lseeksize=8
alignbytes=8, prototype=define
Linker and Libraries:
ld='env MACOSX_DEPLOYMENT_TARGET=10.3 cc', ldflags =' -fstack-protector -L/opt/local/lib'
libpth=/usr/bin/../lib/clang/4.2/lib /usr/lib /opt/local/lib
libs=-lpthread -lgdbm -ldbm -ldl -lm -lutil -lc
perllibs=-lpthread -ldl -lm -lutil -lc
libc=, so=dylib, useshrplib=false, libperl=libperl.a
gnulibc_version=''
Dynamic Linking:
dlsrc=dl_dlopen.xs, dlext=bundle, d_dlsymun=undef, ccdlflags=' '
cccdlflags=' ', lddlflags=' -bundle -undefined dynamic_lookup -L/opt/local/lib -fstack-protector'
Characteristics of this binary (from libperl):
Compile-time options: HAS_TIMES PERLIO_LAYERS PERL_DONT_CREATE_GVSV
PERL_HASH_FUNC_ONE_AT_A_TIME_HARD PERL_MALLOC_WRAP
PERL_NEW_COPY_ON_WRITE PERL_PRESERVE_IVUV
USE_64_BIT_ALL USE_64_BIT_INT USE_LARGE_FILES
USE_LOCALE USE_LOCALE_COLLATE USE_LOCALE_CTYPE
USE_LOCALE_NUMERIC USE_PERLIO USE_PERL_ATOF
Locally applied patches:
Devel::PatchPerl 1.34
Built under darwin
Compiled at Sep 16 2015 09:40:56
%ENV:
PERL5LIB="/Users/ether/.perlbrew/libs/20.3@std/lib/perl5"
PERLBREW_BASHRC_VERSION="0.73"
PERLBREW_HOME="/Users/ether/.perlbrew"
PERLBREW_LIB="std"
PERLBREW_MANPATH="/Users/ether/.perlbrew/libs/20.3@std/man:/Users/ether/perl5/perlbrew/perls/20.3/man"
PERLBREW_PATH="/Users/ether/.perlbrew/libs/20.3@std/bin:/Users/ether/perl5/perlbrew/bin:/Users/ether/perl5/perlbrew/perls/20.3/bin"
PERLBREW_PERL="20.3"
PERLBREW_ROOT="/Users/ether/perl5/perlbrew"
PERLBREW_VERSION="0.73"
PERLDOC_PAGER="less -sicMr"
PERL_AUTOINSTALL_PREFER_CPAN="1"
PERL_INSTALL_QUIET="1"
PERL_LOCAL_LIB_ROOT="/Users/ether/.perlbrew/libs/20.3@std"
PERL_MB_OPT="--install_base /Users/ether/.perlbrew/libs/20.3@std"
PERL_MM_OPT="INSTALL_BASE=/Users/ether/.perlbrew/libs/20.3@std"
@INC:
/Users/ether/.perlbrew/libs/20.3@std/lib/perl5/darwin-2level
/Users/ether/.perlbrew/libs/20.3@std/lib/perl5
/Users/ether/perl5/perlbrew/perls/20.3/lib/site_perl/5.20.3/darwin-2level
/Users/ether/perl5/perlbrew/perls/20.3/lib/site_perl/5.20.3
/Users/ether/perl5/perlbrew/perls/20.3/lib/5.20.3/darwin-2level
/Users/ether/perl5/perlbrew/perls/20.3/lib/5.20.3
.