Module-Provision v0.42.1 Perl 5 v5.37.5 x86_64-linux-thread-multi-ld

Status
Pass
From
Andreas J. König (ANDK)
Dist
Module-Provision v0.42.1
Platform
Perl 5 v5.37.5 x86_64-linux-thread-multi-ld
Date
2022-11-18 07:40:10
ID
3acbb26e-6714-11ed-b701-653f9cf5f90f
This distribution has been tested as part of the CPAN Testers
project, supporting the Perl programming language.  See
http://wiki.cpantesters.org/ for more information or email
questions to cpan-testers-discuss@perl.org


--
Dear Peter Flanigan,

This is a computer-generated report for Module-Provision-0.42.1
on perl 5.37.5, created by CPAN-Reporter-1.2018.

Thank you for uploading your work to CPAN.  Congratulations!
All tests were successful.

Sections of this report:

    * Tester comments
    * Program output
    * Prerequisites
    * Environment and other context

------------------------------
TESTER COMMENTS
------------------------------

Additional comments from tester:

this report is from an automated smoke testing program
and was not reviewed by a human for accuracy

------------------------------
PROGRAM OUTPUT
------------------------------

Output from './Build test':


OS: linux, Host: k93focal

=== Environment variables ===

    $AUTHOR_TESTING                   undef
    $AUTOMATED_TESTING                1
    $EXTENDED_TESTING                 undef
    $NONINTERACTIVE_TESTING           undef
    $PERL_CPAN_REPORTER_CONFIG        undef
    $PERL_CR_SMOKER_CURRENT           undef
    $PERL5_CPAN_IS_RUNNING            2011
    $PERL5_CPANPLUS_IS_VERSION        undef
    $TEST_CRITIC                      undef
    $TEST_SPELLING                    undef

Versions for all modules listed in MYMETA.json (including optional ones):

=== Configure Requires ===

    Module          Want   Have
    ------------- ------ ------
    Module::Build 0.4004 0.4231
    version         0.88 0.9929

=== Build Requires ===

    Module          Want   Have
    ------------- ------ ------
    Module::Build 0.4004 0.4231
    version         0.88 0.9929

=== Test Requires ===

    Module               Want     Have
    ---------------- -------- --------
    File::Spec            any     3.87
    Module::Build      0.4004   0.4231
    Module::Metadata 1.000011 1.000037
    Sys::Hostname         any     1.25
    Test::Requires       0.08     0.11
    version              0.88   0.9929

=== Test Recommends ===

    Module         Want     Have
    ---------- -------- --------
    CPAN::Meta 2.120900 2.150010

=== Runtime Requires ===

    Module                                         Want     Have
    ------------------------------------------ -------- --------
    CPAN::Meta                                 2.150005 2.150010
    CPAN::Uploader                             0.103004 0.103016
    Class::Null                                2.110730 2.110730
    Class::Usul                                 v0.73.0   0.84.1
    Config::Tiny                                   2.22     2.28
    Date::Format                                   2.24     2.24
    Dist::Zilla                                   5.037    6.028
    Dist::Zilla::Plugin::AbstractFromPOD         v0.3.0    0.3.1
    Dist::Zilla::Plugin::LicenseFromModule         0.05     0.07
    Dist::Zilla::Plugin::ManifestInRoot         v0.13.0   0.16.1
    Dist::Zilla::Plugin::Meta::Dynamic::Config     0.04     0.04
    Dist::Zilla::Plugin::ModuleBuild::Custom       4.26     4.26
    Dist::Zilla::Plugin::ReadmeAnyFromPod      0.150250 0.163250
    Dist::Zilla::Plugin::Signature             1.100930 1.100930
    Dist::Zilla::Plugin::Test::ReportMetadata    v0.4.0    0.5.1
    Dist::Zilla::Plugin::VersionFromModule         0.08     0.08
    File::DataClass                             v0.68.0   0.73.1
    File::ShareDir                                1.102    1.118
    HTTP::Message                                  6.06     6.44
    LWP                                            6.13     6.67
    LWP::Protocol::https                            any     6.10
    Module::Metadata                           1.000011 1.000037
    Moo                                        2.000001 2.005004
    Perl::Version                                 1.013    1.013
    Pod::Eventual                              0.094001 0.094002
    Software::License                          0.103010 0.104002
    Template                                       2.26    3.101
    Test::Requires                                 0.08     0.11
    Try::Tiny                                      0.22     0.31
    Type::Tiny                                 1.000004 2.000001
    Unexpected                                  v0.43.0    1.0.1
    local::lib                                 2.000014 2.000029
    namespace::autoclean                           0.26     0.29

t/00report-metadata.t .. ok
t/02pod.t .............. skipped: POD test only for developers
t/03podcoverage.t ...... skipped: POD coverage test only for developers
t/05kwalitee.t ......... skipped: Kwalitee test only for developers
t/06yaml.t ............. skipped: YAML test only for developers
t/07podspelling.t ...... skipped: POD spelling test only for developers
t/10test_script.t ...... ok
All tests successful.
Files=7, Tests=4,  2 wallclock secs ( 0.03 usr  0.01 sys +  1.39 cusr  0.18 csys =  1.61 CPU)
Result: PASS

------------------------------
PREREQUISITES
------------------------------

Prerequisite modules loaded:

requires:

    Module                                     Need     Have    
    ------------------------------------------ -------- --------
    Class::Null                                2.110730 2.110730
    Class::Usul                                v0.73.0  0.84.1  
    Config::Tiny                               2.22     2.28    
    CPAN::Meta                                 2.150005 2.150010
    CPAN::Uploader                             0.103004 0.103016
    Date::Format                               2.24     2.24    
    Dist::Zilla                                5.037    6.028   
    Dist::Zilla::Plugin::AbstractFromPOD       v0.3.0   0.3.1   
    Dist::Zilla::Plugin::LicenseFromModule     0.05     0.07    
    Dist::Zilla::Plugin::ManifestInRoot        v0.13.0  0.16.1  
    Dist::Zilla::Plugin::Meta::Dynamic::Config 0.04     0.04    
    Dist::Zilla::Plugin::ModuleBuild::Custom   4.26     4.26    
    Dist::Zilla::Plugin::ReadmeAnyFromPod      0.150250 0.163250
    Dist::Zilla::Plugin::Signature             1.100930 1.100930
    Dist::Zilla::Plugin::Test::ReportMetadata  v0.4.0   0.5.1   
    Dist::Zilla::Plugin::VersionFromModule     0.08     0.08    
    File::DataClass                            v0.68.0  0.73.1  
    File::ShareDir                             1.102    1.118   
    HTTP::Message                              6.06     6.44    
    local::lib                                 2.000014 2.000029
    LWP                                        6.13     6.67    
    LWP::Protocol::https                       0        6.10    
    Module::Metadata                           1.000011 1.000037
    Moo                                        2.000001 2.005004
    namespace::autoclean                       0.26     0.29    
    perl                                       5.010001 5.037005
    Perl::Version                              1.013    1.013   
    Pod::Eventual                              0.094001 0.094002
    Software::License                          0.103010 0.104002
    Template                                   2.26     3.101   
    Test::Requires                             0.08     0.11    
    Try::Tiny                                  0.22     0.31    
    Type::Tiny                                 1.000004 2.000001
    Unexpected                                 v0.43.0  1.0.1   

build_requires:

    Module                                     Need     Have    
    ------------------------------------------ -------- --------
    File::Spec                                 0        3.87    
    Module::Build                              0.4004   0.4231  
    Module::Metadata                           1.000011 1.000037
    Sys::Hostname                              0        1.25    
    Test::Requires                             0.08     0.11    
    version                                    0.88     0.9929  

configure_requires:

    Module                                     Need     Have    
    ------------------------------------------ -------- --------
    Module::Build                              0.4004   0.4231  
    version                                    0.88     0.9929  


------------------------------
ENVIRONMENT AND OTHER CONTEXT
------------------------------

Environment variables:

    AUTOMATED_TESTING = 1
    LANG = en_US.UTF-8
    PATH = /home/sand/bin:/usr/local/bin:/usr/local/sbin:/usr/sbin:/usr/bin:/sbin:/bin:/usr/games:/usr/local/games:/snap/bin:/usr/local/perl/bin:/usr/X11/bin
    PERL = /tmp/basesmoker-reloperl-TQnN/bin/perl
    PERL5LIB = /tmp/loop_over_bdir-2003-oz1mXk/Devel-Required-0.16-0/blib/arch:/tmp/loop_over_bdir-2003-oz1mXk/Devel-Required-0.16-0/blib/lib:/tmp/loop_over_bdir-2003-oz1mXk/perl-Hardware-UPS-Perl-0.43-0/blib/arch:/tmp/loop_over_bdir-2003-oz1mXk/perl-Hardware-UPS-Perl-0.43-0/blib/lib
    PERL5OPT = 
    PERL5_CPANPLUS_IS_RUNNING = 2011
    PERL5_CPAN_IS_RUNNING = 2011
    PERL_CANARY_STABILITY_NOPROMPT = 1
    PERL_MM_USE_DEFAULT = 1
    PERL_USE_UNSAFE_INC = 1
    SHELL = /usr/bin/zsh
    TERM = screen

Perl special variables (and OS-specific diagnostics, for MSWin32):

    $^X = /tmp/basesmoker-reloperl-TQnN/bin/perl
    $UID/$EUID = 1005 / 1005
    $GID = 1005 1005
    $EGID = 1005 1005

Perl module toolchain versions installed:

    Module              Have    
    ------------------- --------
    CPAN                2.34    
    CPAN::Meta          2.150010
    Cwd                 3.86    
    ExtUtils::CBuilder  0.280237
    ExtUtils::Command   7.64    
    ExtUtils::Install   2.20    
    ExtUtils::MakeMaker 7.64    
    ExtUtils::Manifest  1.73    
    ExtUtils::ParseXS   3.46    
    File::Spec          3.87    
    JSON                4.10    
    JSON::PP            4.12    
    Module::Build       0.4231  
    Module::Signature   0.88    
    Parse::CPAN::Meta   2.150010
    Test::Harness       3.44    
    Test::More          1.302191
    YAML                1.30    
    YAML::Syck          1.34    
    version             0.9929  


--

Summary of my perl5 (revision 5 version 37 subversion 5) configuration:
  Commit id: 064941484781d9099db0bbe7d6ea22a826df1e15
  Platform:
    osname=linux
    osvers=5.4.0-131-generic
    archname=x86_64-linux-thread-multi-ld
    uname='linux k93focal 5.4.0-131-generic #147-ubuntu smp fri oct 14 17:07:22 utc 2022 x86_64 x86_64 x86_64 gnulinux '
    config_args='-Dprefix=/home/sand/src/perl/repoperls/installed-perls/host/k93focal/v5.37.4-160-g0649414847/e463 -Dmyhostname=k93focal -Dinstallusrbinperl=n -Uversiononly -Dusedevel -des -Ui_db -Dlibswanted=cl pthread socket inet nsl gdbm dbm malloc dl ld sun m crypt sec util c cposix posix ucb BSD gdbm_compat -Duseithreads -Duselongdouble -DEBUGGING=both'
    hint=recommended
    useposix=true
    d_sigaction=define
    useithreads=define
    usemultiplicity=define
    use64bitint=define
    use64bitall=define
    uselongdouble=define
    usemymalloc=n
    default_inc_excludes_dot=define
  Compiler:
    cc='cc'
    ccflags ='-D_REENTRANT -D_GNU_SOURCE -fwrapv -DDEBUGGING -fno-strict-aliasing -pipe -fstack-protector-strong -I/usr/local/include -D_LARGEFILE_SOURCE -D_FILE_OFFSET_BITS=64'
    optimize='-O2 -g'
    cppflags='-D_REENTRANT -D_GNU_SOURCE -fwrapv -DDEBUGGING -fno-strict-aliasing -pipe -fstack-protector-strong -I/usr/local/include'
    ccversion=''
    gccversion='9.4.0'
    gccosandvers=''
    intsize=4
    longsize=8
    ptrsize=8
    doublesize=8
    byteorder=12345678
    doublekind=3
    d_longlong=define
    longlongsize=8
    d_longdbl=define
    longdblsize=16
    longdblkind=3
    ivtype='long'
    ivsize=8
    nvtype='long double'
    nvsize=16
    Off_t='off_t'
    lseeksize=8
    alignbytes=16
    prototype=define
  Linker and Libraries:
    ld='cc'
    ldflags =' -fstack-protector-strong -L/usr/local/lib'
    libpth=/usr/local/lib /usr/lib/x86_64-linux-gnu /usr/lib /usr/lib64
    libs=-lpthread -lnsl -ldl -lm -lcrypt -lutil -lc
    perllibs=-lpthread -lnsl -ldl -lm -lcrypt -lutil -lc
    libc=libc-2.31.so
    so=so
    useshrplib=false
    libperl=libperl.a
    gnulibc_version='2.31'
  Dynamic Linking:
    dlsrc=dl_dlopen.xs
    dlext=so
    d_dlsymun=undef
    ccdlflags='-Wl,-E'
    cccdlflags='-fPIC'
    lddlflags='-shared -O2 -g -L/usr/local/lib -fstack-protector-strong'


Characteristics of this binary (from libperl): 
  Compile-time options:
    DEBUGGING
    HAS_TIMES
    MULTIPLICITY
    PERLIO_LAYERS
    PERL_COPY_ON_WRITE
    PERL_DONT_CREATE_GVSV
    PERL_HASH_FUNC_SIPHASH13
    PERL_HASH_USE_SBOX32
    PERL_MALLOC_WRAP
    PERL_OP_PARENT
    PERL_PRESERVE_IVUV
    PERL_TRACK_MEMPOOL
    PERL_USE_DEVEL
    PERL_USE_SAFE_PUTENV
    USE_64_BIT_ALL
    USE_64_BIT_INT
    USE_ITHREADS
    USE_LARGE_FILES
    USE_LOCALE
    USE_LOCALE_COLLATE
    USE_LOCALE_CTYPE
    USE_LOCALE_NUMERIC
    USE_LOCALE_TIME
    USE_LONG_DOUBLE
    USE_PERLIO
    USE_PERL_ATOF
    USE_REENTRANT_API
    USE_THREAD_SAFE_LOCALE
  Built under linux
  Compiled at Nov 17 2022 12:26:08
  %ENV:
    PERL="/tmp/basesmoker-reloperl-TQnN/bin/perl"
    PERL5LIB="/tmp/loop_over_bdir-2003-oz1mXk/Devel-Required-0.16-0/blib/arch:/tmp/loop_over_bdir-2003-oz1mXk/Devel-Required-0.16-0/blib/lib:/tmp/loop_over_bdir-2003-oz1mXk/perl-Hardware-UPS-Perl-0.43-0/blib/arch:/tmp/loop_over_bdir-2003-oz1mXk/perl-Hardware-UPS-Perl-0.43-0/blib/lib"
    PERL5OPT=""
    PERL5_CPANPLUS_IS_RUNNING="2011"
    PERL5_CPAN_IS_RUNNING="2011"
    PERL_CANARY_STABILITY_NOPROMPT="1"
    PERL_MM_USE_DEFAULT="1"
    PERL_USE_UNSAFE_INC="1"
  @INC:
    /tmp/loop_over_bdir-2003-oz1mXk/Devel-Required-0.16-0/blib/arch
    /tmp/loop_over_bdir-2003-oz1mXk/Devel-Required-0.16-0/blib/lib
    /tmp/loop_over_bdir-2003-oz1mXk/perl-Hardware-UPS-Perl-0.43-0/blib/arch
    /tmp/loop_over_bdir-2003-oz1mXk/perl-Hardware-UPS-Perl-0.43-0/blib/lib
    /home/sand/src/perl/repoperls/installed-perls/host/k93focal/v5.37.4-160-g0649414847/e463/lib/site_perl/5.37.5/x86_64-linux-thread-multi-ld
    /home/sand/src/perl/repoperls/installed-perls/host/k93focal/v5.37.4-160-g0649414847/e463/lib/site_perl/5.37.5
    /home/sand/src/perl/repoperls/installed-perls/host/k93focal/v5.37.4-160-g0649414847/e463/lib/5.37.5/x86_64-linux-thread-multi-ld
    /home/sand/src/perl/repoperls/installed-perls/host/k93focal/v5.37.4-160-g0649414847/e463/lib/5.37.5
    .