Back
From: metabase:user:313c3972-2aae-11df-837a-5e0a49663a4f
Subject: PASS Fey-ORM-0.43 v5.8.8
Date: 2011-02-27T06:05:28Z
This distribution has been tested as part of the CPAN Testers
project, supporting the Perl programming language. See
http://wiki.cpantesters.org/ for more information or email
questions to cpan-testers-discuss@perl.org
--
Dear Dave Rolsky,
This is a computer-generated report for Fey-ORM-0.43
on perl 5.8.8, created by CPAN-Reporter-1.1902.
Thank you for uploading your work to CPAN. Congratulations!
All tests were successful.
Sections of this report:
* Tester comments
* Program output
* Prerequisites
* Environment and other context
------------------------------
TESTER COMMENTS
------------------------------
Additional comments from tester:
none provided
------------------------------
PROGRAM OUTPUT
------------------------------
Output from 'nmake test':
Microsoft(R) Program Maintenance Utility Version 7.00.9955
Copyright (C) Microsoft Corporation. All rights reserved.
C:\Perl\bin\perl.exe "-MExtUtils::Command::MM" "-e" "test_harness(0, 'blib\lib', 'blib\arch')" t/*.t t/Class/*.t t/Object/*.t t/Object/Iterator/*.t t/Object/Iterator/FromSelect/*.t
t/Class/Policy.t ........................ ok
t/Class/Schema.t ........................ ok
t/Class/Table-has_many.t ................ ok
t/Class/Table-has_one.t ................. ok
t/Class/Table.t ......................... ok
cannot unlink file for C:\DOCUME~1\TARO-N~1\LOCALS~1\Temp\5Fc7dM3XLx\test_fey.sqlite: Permission denied at C:/Perl/lib/File/Temp.pm line 902
cannot remove directory for C:\DOCUME~1\TARO-N~1\LOCALS~1\Temp\5Fc7dM3XLx: Directory not empty at C:/Perl/lib/File/Temp.pm line 902
t/Object/Iterator/FromArray.t ........... ok
cannot unlink file for C:\DOCUME~1\TARO-N~1\LOCALS~1\Temp\aRrG1TF8N5\test_fey.sqlite: Permission denied at C:/Perl/lib/File/Temp.pm line 902
cannot remove directory for C:\DOCUME~1\TARO-N~1\LOCALS~1\Temp\aRrG1TF8N5: Directory not empty at C:/Perl/lib/File/Temp.pm line 902
t/Object/Iterator/FromSelect.t .......... ok
cannot unlink file for C:\DOCUME~1\TARO-N~1\LOCALS~1\Temp\YVarC510ki\test_fey.sqlite: Permission denied at C:/Perl/lib/File/Temp.pm line 902
cannot remove directory for C:\DOCUME~1\TARO-N~1\LOCALS~1\Temp\YVarC510ki: Directory not empty at C:/Perl/lib/File/Temp.pm line 902
t/Object/Iterator/FromSelect/Caching.t .. ok
cannot unlink file for C:\DOCUME~1\TARO-N~1\LOCALS~1\Temp\bbHoMBF3J7\test_fey.sqlite: Permission denied at C:/Perl/lib/File/Temp.pm line 902
cannot remove directory for C:\DOCUME~1\TARO-N~1\LOCALS~1\Temp\bbHoMBF3J7: Directory not empty at C:/Perl/lib/File/Temp.pm line 902
t/Object/Schema.t ....................... ok
cannot unlink file for C:\DOCUME~1\TARO-N~1\LOCALS~1\Temp\uflsFry0pp\test_fey.sqlite: Permission denied at C:/Perl/lib/File/Temp.pm line 902
cannot remove directory for C:\DOCUME~1\TARO-N~1\LOCALS~1\Temp\uflsFry0pp: Directory not empty at C:/Perl/lib/File/Temp.pm line 902
t/Object/Table-cache.t .................. ok
cannot unlink file for C:\DOCUME~1\TARO-N~1\LOCALS~1\Temp\KpuqBw_AVL\test_fey.sqlite: Permission denied at C:/Perl/lib/File/Temp.pm line 902
cannot remove directory for C:\DOCUME~1\TARO-N~1\LOCALS~1\Temp\KpuqBw_AVL: Directory not empty at C:/Perl/lib/File/Temp.pm line 902
t/Object/Table-has_many.t ............... ok
cannot unlink file for C:\DOCUME~1\TARO-N~1\LOCALS~1\Temp\IjJ74tpdRn\test_fey.sqlite: Permission denied at C:/Perl/lib/File/Temp.pm line 902
cannot remove directory for C:\DOCUME~1\TARO-N~1\LOCALS~1\Temp\IjJ74tpdRn: Directory not empty at C:/Perl/lib/File/Temp.pm line 902
t/Object/Table-has_one.t ................ ok
cannot unlink file for C:\DOCUME~1\TARO-N~1\LOCALS~1\Temp\WhyGCXSWsd\test_fey.sqlite: Permission denied at C:/Perl/lib/File/Temp.pm line 902
cannot remove directory for C:\DOCUME~1\TARO-N~1\LOCALS~1\Temp\WhyGCXSWsd: Directory not empty at C:/Perl/lib/File/Temp.pm line 902
t/Object/Table-query-method.t ........... ok
cannot unlink file for C:\DOCUME~1\TARO-N~1\LOCALS~1\Temp\if_crE9vns\test_fey.sqlite: Permission denied at C:/Perl/lib/File/Temp.pm line 902
cannot remove directory for C:\DOCUME~1\TARO-N~1\LOCALS~1\Temp\if_crE9vns: Directory not empty at C:/Perl/lib/File/Temp.pm line 902
t/Object/Table-select-attr.t ............ ok
cannot unlink file for C:\DOCUME~1\TARO-N~1\LOCALS~1\Temp\GVPSdgePjY\test_fey.sqlite: Permission denied at C:/Perl/lib/File/Temp.pm line 902
cannot remove directory for C:\DOCUME~1\TARO-N~1\LOCALS~1\Temp\GVPSdgePjY: Directory not empty at C:/Perl/lib/File/Temp.pm line 902
t/Object/Table.t ........................ ok
t/release-eol.t ......................... skipped: these tests are for release candidate testing
t/release-kwalitee.t .................... skipped: these tests are for release candidate testing
t/release-no-tabs.t ..................... skipped: these tests are for release candidate testing
All tests successful.
Files=18, Tests=450, 353 wallclock secs ( 0.20 usr + 0.09 sys = 0.30 CPU)
Result: PASS
------------------------------
PREREQUISITES
------------------------------
Prerequisite modules loaded:
requires:
Module Need Have
------------------------------ ---- -------
Devel::GlobalDestruction 0 0.03
Exception::Class 0 1.32
Fey 0.39 0.40
Fey::DBIManager 0.07 0.10
List::AllUtils 0 0.02
Moose 1.15 1.24
MooseX::ClassAttribute 0.24 0.24
MooseX::SemiAffordanceAccessor 0 0.08
MooseX::StrictConstructor 0.13 0.13
MooseX::Types 0 0.25
namespace::autoclean 0 0.12
Object::ID 0 v0.1.1
Scalar::Util 0 1.23_03
Sub::Exporter 0 0.982
build_requires:
Module Need Have
------------------------------ ---- -------
Fey::Test 0.05 0.08
Test::Fatal 0 0.003
Test::More 0.88 0.98
configure_requires:
Module Need Have
------------------------------ ---- -------
ExtUtils::MakeMaker 6.31 6.57_06
------------------------------
ENVIRONMENT AND OTHER CONTEXT
------------------------------
Environment variables:
COMSPEC = C:\WINDOWS\system32\cmd.exe
INCLUDE = C:\Program Files\Microsoft Visual Studio .NET\VC7\ATLMFC\INCLUDE;C:\Program Files\Microsoft Visual Studio .NET\VC7\INCLUDE;C:\boost;C:\Program Files\Microsoft Visual Studio .NET\VC7\PlatformSDK\include\prerelease;C:\Program Files\Microsoft Visual Studio .NET\VC7\PlatformSDK\include;C:\Program Files\Microsoft Visual Studio .NET\FrameworkSDK\include;C:\Program Files\Microsoft Visual Studio .NET\FrameworkSDK\include\;
LIB = C:\Program Files\Microsoft Visual Studio .NET\VC7\ATLMFC\LIB;C:\Program Files\Microsoft Visual Studio .NET\VC7\LIB;C:\Program Files\Microsoft Visual Studio .NET\VC7\PlatformSDK\lib\prerelease;C:\Program Files\Microsoft Visual Studio .NET\VC7\PlatformSDK\lib;C:\Program Files\Microsoft Visual Studio .NET\FrameworkSDK\lib;C:\Program Files\Microsoft Visual Studio .NET\FrameworkSDK\Lib\;
NUMBER_OF_PROCESSORS = 1
PATH = C:\Program Files\Microsoft Visual Studio .NET\Common7\IDE;C:\Program Files\Microsoft Visual Studio .NET\VC7\BIN;C:\Program Files\Microsoft Visual Studio .NET\Common7\Tools;C:\Program Files\Microsoft Visual Studio .NET\Common7\Tools\bin\prerelease;C:\Program Files\Microsoft Visual Studio .NET\Common7\Tools\bin;C:\Program Files\Microsoft Visual Studio .NET\FrameworkSDK\bin;C:\WINDOWS\Microsoft.NET\Framework\v1.0.3705;C:\ImageMagick;C:\Perl\bin;C:\mdd;C:\MeCab\bin;C:\PostgreSQL\bin;C:\PDCurses\win32;C:\qdbm;C:\icu4c\bin;C:\openssl\bin;C:\iconv\.;C:\nkf\.;C:\PsTools\.;C:\tcc;C:\SWIG\;C:\patch;C:\diff;C:\NAnt\bin;C:\Python\;C:\WINDOWS\system32;C:\WINDOWS;C:\WINDOWS\System32\Wbem;C:\Program Files\Microsoft SQL Server\90\Tools\binn\;C:\WINDOWS\system32\WindowsPowerShell\v1.0;C:\perl2exe;C:\perl6\bin;C:\Program Files\Microsoft Network Monitor 3\;C:\Program Files\ASE;C:\Program Files\Network Associates\PGPNT;C:\WINDOWS\system32\kktools;C:\Program Files\Common Files\DivX Shared\;C:\Program Files\EmEditor;C:\Program Files\TortoiseGit\bin;C:\PROGRA~1\WIDEST~1\ws\bin;C:\PROGRA~1\WIDEST~1\ruby\bin;C:\PROGRA~1\WIDEST~1\Perl\bin;C:\PROGRA~1\WIDEST~1\Python;C:\PROGRA~1\WIDEST~1\gcc\bin;C:\PROGRA~1\WIDEST~1\gcc\libexec\gcc\mingw32\3.4.5;C:\WINDOWS\system32\WindowsPowerShell\v1.0;C:\Program Files\QuickTime\QTSystem\;C:\D\dmd\windows\bin;C:\D\dmd2\windows\bin;C:\D\dm\bin;C:\Program Files\Oracle\Berkeley DB 4.6.21\bin;C:\Program Files\Oracle\Berkeley DB 4.6.21\bin\debug;C:\Program Files\OpenCV\bin;C:\CMake\bin;C:\Program Files\Nmap;;
PERL5LIB =
PERL5OPT =
PERL5_CPANPLUS_IS_RUNNING = 4024
PERL5_CPAN_IS_RUNNING = 4024
PERL5_INCLUDE = C:\Perl\lib\CORE
PERL5_LIB = C:\Perl\lib\CORE\perl58.lib
PERL_CPANM_HOME = C:\Perl\cpanminus
PROCESSOR_IDENTIFIER = x86 Family 15 Model 2 Stepping 9, GenuineIntel
TEMP = C:\DOCUME~1\TARO-N~1\LOCALS~1\Temp
Perl special variables (and OS-specific diagnostics, for MSWin32):
$^X = C:\Perl\bin\perl.exe
$UID/$EUID = 0 / 0
$GID = 0
$EGID = 0
Win32::GetOSName = WinXP/.Net
Win32::GetOSVersion = Service Pack 3, 5, 1, 2600, 2, 3, 0, 256, 1
Win32::FsType = NTFS
Win32::IsAdminUser = 1
Perl module toolchain versions installed:
Module Have
------------------- --------
CPAN 1.94_65
Cwd 3.33
ExtUtils::CBuilder 0.280202
ExtUtils::Command 1.16
ExtUtils::Install 1.54
ExtUtils::MakeMaker 6.57_06
ExtUtils::Manifest 1.58
ExtUtils::ParseXS 2.2206
File::Spec 3.33
Module::Build 0.3607
Module::Signature 0.66
Test::Harness 3.23
Test::More 0.98
YAML 0.72
YAML::Syck 1.17
version 0.88
--
Summary of my perl5 (revision 5 version 8 subversion 8) configuration:
Platform:
osname=MSWin32, osvers=5.0, archname=MSWin32-x86-multi-thread
uname=''
config_args='undef'
hint=recommended, useposix=true, d_sigaction=undef
usethreads=define use5005threads=undef useithreads=define usemultiplicity=define
useperlio=define d_sfio=undef uselargefiles=define usesocks=undef
use64bitint=undef use64bitall=undef uselongdouble=undef
usemymalloc=n, bincompat5005=undef
Compiler:
cc='cl', ccflags ='-nologo -GF -W3 -MD -Zi -DNDEBUG -O1 -DWIN32 -D_CONSOLE -DNO_STRICT -DHAVE_DES_FCRYPT -DNO_HASH_SEED -DUSE_SITECUSTOMIZE -DPERL_IMPLICIT_CONTEXT -DPERL_IMPLICIT_SYS -DUSE_PERLIO -DPERL_MSVCRT_READFIX',
optimize='-MD -Zi -DNDEBUG -O1',
cppflags='-DWIN32'
ccversion='12.00.8804', gccversion='', gccosandvers=''
intsize=4, longsize=4, ptrsize=4, doublesize=8, byteorder=1234
d_longlong=undef, longlongsize=8, d_longdbl=define, longdblsize=10
ivtype='long', ivsize=4, nvtype='double', nvsize=8, Off_t='__int64', lseeksize=8
alignbytes=8, prototype=define
Linker and Libraries:
ld='link', ldflags ='-nologo -nodefaultlib -debug -opt:ref,icf -libpath:"C:\Perl\lib\CORE" -machine:x86'
libpth=\lib
libs= oldnames.lib kernel32.lib user32.lib gdi32.lib winspool.lib comdlg32.lib advapi32.lib shell32.lib ole32.lib oleaut32.lib netapi32.lib uuid.lib ws2_32.lib mpr.lib winmm.lib version.lib odbc32.lib odbccp32.lib msvcrt.lib
perllibs= oldnames.lib kernel32.lib user32.lib gdi32.lib winspool.lib comdlg32.lib advapi32.lib shell32.lib ole32.lib oleaut32.lib netapi32.lib uuid.lib ws2_32.lib mpr.lib winmm.lib version.lib odbc32.lib odbccp32.lib msvcrt.lib
libc=msvcrt.lib, so=dll, useshrplib=yes, libperl=perl58.lib
gnulibc_version=''
Dynamic Linking:
dlsrc=dl_win32.xs, dlext=dll, d_dlsymun=undef, ccdlflags=' '
cccdlflags=' ', lddlflags='-dll -nologo -nodefaultlib -debug -opt:ref,icf -libpath:"C:\Perl\lib\CORE" -machine:x86'
Characteristics of this binary (from libperl):
Compile-time options: MULTIPLICITY PERL_IMPLICIT_CONTEXT
PERL_IMPLICIT_SYS PERL_MALLOC_WRAP
PL_OP_SLAB_ALLOC USE_ITHREADS USE_LARGE_FILES
USE_PERLIO USE_SITECUSTOMIZE
Locally applied patches:
ActivePerl Build 817 [257965]
Iin_load_module moved for compatibility with build 806
PerlEx support in CGI::Carp
Less verbose ExtUtils::Install and Pod::Find
Patch for CAN-2005-0448 from Debian with modifications
Partly reverted 24733 to preserve binary compatibilty
27528 win32_pclose() error exit doesn't unlock mutex
27527 win32_async_check() can loop indefinitely
27515 ignore directories when searching @INC
27359 Fix -d:Foo=bar syntax
27210 Fix quote typo in c2ph
27203 Allow compiling swigged C++ code
27200 Make stat() on Windows handle trailing slashes correctly
27194 Get perl_fini() running on HP-UX again
27133 Initialise lastparen in the regexp structure
27034 Avoid "Prototype mismatch" warnings with autouse
26970 Make Passive mode the default for Net::FTP
26921 Avoid getprotobyname/number calls in IO::Socket::INET
26897,26903 Make common IPPROTO_* constants always available
26670 Make '-s' on the shebang line parse -foo=bar switches
26379 Fix alarm() for Windows 2003
26087 Storable 0.1 compatibility
25861 IO::File performace issue
25084 long groups entry could cause memory exhaustion
24699 ICMP_UNREACHABLE handling in Net::Ping
Built under MSWin32
Compiled at Mar 20 2006 17:54:25
%ENV:
PERL5_CPANPLUS_IS_RUNNING="4024"
PERL5_CPAN_IS_RUNNING="4024"
PERL5_INCLUDE="C:\Perl\lib\CORE"
PERL5_LIB="C:\Perl\lib\CORE\perl58.lib"
PERL_CPANM_HOME="C:\Perl\cpanminus"
@INC:
C:/Perl/lib
C:/Perl/site/lib
.