Report for Net-Jabber-2.0

Back
From: metabase:user:313dc9fe-2aae-11df-837a-5e0a49663a4f
Subject: PASS Net-Jabber-2.0 v5.10.0 GNU/Linux
Date: 2010-11-07T14:42:21Z

This distribution has been tested as part of the CPAN Testers
project, supporting the Perl programming language.  See
http://wiki.cpantesters.org/ for more information or email
questions to cpan-testers-discuss@perl.org


--
Dear Ryan Eatmon,

This is a computer-generated report for Net-Jabber-2.0
on perl 5.10.0, created by CPAN-Reporter-1.1805.

Thank you for uploading your work to CPAN.  Congratulations!
All tests were successful.

Sections of this report:

    * Tester comments
    * Program output
    * Prerequisites
    * Environment and other context

------------------------------
TESTER COMMENTS
------------------------------

Additional comments from tester:

this report is from an automated smoke testing program
and was not reviewed by a human for accuracy

------------------------------
PROGRAM OUTPUT
------------------------------

Output from '/usr/bin/make test':

PERL_DL_NONLAZY=1 /home/perl5100/perl/bin/perl "-MExtUtils::Command::MM" "-e" "test_harness(0, 'blib/lib', 'blib/arch')" t/*.t
t/1_load.t .................... ok
t/2_client.t .................. ok
t/iq.t ........................ ok
t/jid.t ....................... ok
t/message.t ................... ok
t/oldadd.t .................... ok
t/parse_x_data.t .............. ok
t/parse_x_delay.t ............. ok
t/presence.t .................. ok
t/protocol_definenamespace.t .. ok
t/protocol_muc.t .............. ok
t/protocol_rpc.t .............. ok
t/query_agent.t ............... ok
t/query_agents.t .............. ok
t/query_autoupdate.t .......... ok
t/query_browse.t .............. ok
t/query_bytestreams.t ......... ok
t/query_commands.t ............ ok
t/query_conference.t .......... ok
t/query_disco_info.t .......... ok
t/query_disco_items.t ......... ok
t/query_featureneg.t .......... ok
t/query_filter.t .............. ok
t/query_gateway.t ............. ok
t/query_last.t ................ ok
t/query_muc_admin.t ........... ok
t/query_oob.t ................. ok
t/query_pass.t ................ ok
t/query_pubsub.t .............. ok
t/query_pubsub_event.t ........ ok
t/query_pubsub_owner.t ........ ok
t/query_rpc.t ................. ok
t/query_search.t .............. ok
t/query_si.t .................. ok
t/query_si_filetrans.t ........ ok
t/query_time.t ................ ok
t/query_version.t ............. ok
t/rawxml.t .................... ok
t/x_autoupdate.t .............. ok
t/x_conference.t .............. ok
t/x_data.t .................... ok
t/x_delay.t ................... ok
t/x_encrypted.t ............... ok
t/x_expire.t .................. ok
t/x_muc.t ..................... ok
t/x_muc_user.t ................ ok
t/x_oob.t ..................... ok
t/x_roster.t .................. ok
t/x_signed.t .................. ok
All tests successful.
Files=49, Tests=3376, 22 wallclock secs ( 0.88 usr  0.17 sys + 15.26 cusr  1.41 csys = 17.72 CPU)
Result: PASS

------------------------------
PREREQUISITES
------------------------------

Prerequisite modules loaded:

requires:

    Module    Need Have
    --------- ---- ----
    Net::XMPP 1    1.02


------------------------------
ENVIRONMENT AND OTHER CONTEXT
------------------------------

Environment variables:

    AUTOMATED_TESTING = 1
    LANG = en_US.UTF-8
    PATH = /usr/local/sbin:/usr/local/bin:/usr/sbin:/usr/bin:/sbin:/bin:/usr/games
    PERL5LIB = /home/perl5100/.cpan/build/Net-XMPP-1.02-rpI7Jr/blib/arch:/home/perl5100/.cpan/build/Net-XMPP-1.02-rpI7Jr/blib/lib:/home/perl5100/.cpan/build/XML-Stream-1.23-qlR73e/blib/arch:/home/perl5100/.cpan/build/XML-Stream-1.23-qlR73e/blib/lib:/home/perl5100/.cpan/build/Authen-SASL-2.15-sFAG4w/blib/arch:/home/perl5100/.cpan/build/Authen-SASL-2.15-sFAG4w/blib/lib:/home/perl5100/.cpan/build/Digest-HMAC-1.02-Fdw9Wb/blib/arch:/home/perl5100/.cpan/build/Digest-HMAC-1.02-Fdw9Wb/blib/lib:/home/perl5100/.cpan/build/SOAP-Lite-0.712-iR__9A/blib/arch:/home/perl5100/.cpan/build/SOAP-Lite-0.712-iR__9A/blib/lib
    PERL5OPT = 
    PERL5_CPANPLUS_IS_RUNNING = 7620
    PERL5_CPAN_IS_RUNNING = 7620
    PERL5_CPAN_IS_RUNNING_IN_RECURSION = 22813,7620
    PERL_CR_SMOKER_CURRENT = SOAP-Transport-JABBER-0.713
    PERL_EXTUTILS_AUTOINSTALL = --defaultdeps
    PERL_MM_USE_DEFAULT = 1
    SHELL = /bin/bash
    TERM = xterm

Perl special variables (and OS-specific diagnostics, for MSWin32):

    $^X = /home/perl5100/perl/bin/perl
    $UID/$EUID = 1002 / 1002
    $GID = 1002 1002
    $EGID = 1002 1002

Perl module toolchain versions installed:

    Module              Have  
    ------------------- ------
    CPAN                1.9402
    Cwd                 3.31  
    ExtUtils::CBuilder  0.2703
    ExtUtils::Command   1.16  
    ExtUtils::Install   1.54  
    ExtUtils::MakeMaker 6.56  
    ExtUtils::Manifest  1.58  
    ExtUtils::ParseXS   2.2205
    File::Spec          3.31  
    Module::Build       0.3607
    Module::Signature   n/a   
    Test::Harness       3.21  
    Test::More          0.94  
    YAML                0.71  
    YAML::Syck          1.09  
    version             0.82  


--

Summary of my perl5 (revision 5 version 10 subversion 0) configuration:
  Platform:
    osname=linux, osvers=2.6.31-20-generic, archname=i686-linux-thread-multi
    uname='linux st47-laptop 2.6.31-20-generic #57-ubuntu smp mon feb 8 09:05:19 utc 2010 i686 gnulinux '
    config_args=''
    hint=recommended, useposix=true, d_sigaction=define
    useithreads=define, usemultiplicity=define
    useperlio=define, d_sfio=undef, uselargefiles=define, usesocks=undef
    use64bitint=undef, use64bitall=undef, uselongdouble=undef
    usemymalloc=n, bincompat5005=undef
  Compiler:
    cc='cc', ccflags ='-D_REENTRANT -D_GNU_SOURCE -fno-strict-aliasing -pipe -I/usr/local/include -D_LARGEFILE_SOURCE -D_FILE_OFFSET_BITS=64',
    optimize='-O2',
    cppflags='-D_REENTRANT -D_GNU_SOURCE -fno-strict-aliasing -pipe -I/usr/local/include'
    ccversion='', gccversion='4.4.1', gccosandvers=''
    intsize=4, longsize=4, ptrsize=4, doublesize=8, byteorder=1234
    d_longlong=define, longlongsize=8, d_longdbl=define, longdblsize=12
    ivtype='long', ivsize=4, nvtype='double', nvsize=8, Off_t='off_t', lseeksize=8
    alignbytes=4, prototype=define
  Linker and Libraries:
    ld='cc', ldflags =' -L/usr/local/lib'
    libpth=/usr/local/lib /lib /usr/lib
    libs=-lnsl -ldl -lm -lcrypt -lutil -lpthread -lc
    perllibs=-lnsl -ldl -lm -lcrypt -lutil -lpthread -lc
    libc=/lib/libc-2.10.1.so, so=so, useshrplib=false, libperl=libperl.a
    gnulibc_version='2.10.1'
  Dynamic Linking:
    dlsrc=dl_dlopen.xs, dlext=so, d_dlsymun=undef, ccdlflags='-Wl,-E'
    cccdlflags='-fPIC', lddlflags='-shared -O2 -L/usr/local/lib'


Characteristics of this binary (from libperl): 
  Compile-time options: MULTIPLICITY PERL_DONT_CREATE_GVSV
                        PERL_IMPLICIT_CONTEXT PERL_MALLOC_WRAP USE_ITHREADS
                        USE_LARGE_FILES USE_PERLIO USE_REENTRANT_API
  Built under linux
  Compiled at Mar 12 2010 10:42:50
  %ENV:
    PERL5LIB="/home/perl5100/.cpan/build/Net-XMPP-1.02-rpI7Jr/blib/arch:/home/perl5100/.cpan/build/Net-XMPP-1.02-rpI7Jr/blib/lib:/home/perl5100/.cpan/build/XML-Stream-1.23-qlR73e/blib/arch:/home/perl5100/.cpan/build/XML-Stream-1.23-qlR73e/blib/lib:/home/perl5100/.cpan/build/Authen-SASL-2.15-sFAG4w/blib/arch:/home/perl5100/.cpan/build/Authen-SASL-2.15-sFAG4w/blib/lib:/home/perl5100/.cpan/build/Digest-HMAC-1.02-Fdw9Wb/blib/arch:/home/perl5100/.cpan/build/Digest-HMAC-1.02-Fdw9Wb/blib/lib:/home/perl5100/.cpan/build/SOAP-Lite-0.712-iR__9A/blib/arch:/home/perl5100/.cpan/build/SOAP-Lite-0.712-iR__9A/blib/lib"
    PERL5OPT=""
    PERL5_CPANPLUS_IS_RUNNING="7620"
    PERL5_CPAN_IS_RUNNING="7620"
    PERL5_CPAN_IS_RUNNING_IN_RECURSION="22813,7620"
    PERL_CR_SMOKER_CURRENT="SOAP-Transport-JABBER-0.713"
    PERL_EXTUTILS_AUTOINSTALL="--defaultdeps"
    PERL_MM_USE_DEFAULT="1"
  @INC:
    /home/perl5100/.cpan/build/Net-XMPP-1.02-rpI7Jr/blib/arch
    /home/perl5100/.cpan/build/Net-XMPP-1.02-rpI7Jr/blib/lib
    /home/perl5100/.cpan/build/XML-Stream-1.23-qlR73e/blib/arch
    /home/perl5100/.cpan/build/XML-Stream-1.23-qlR73e/blib/lib
    /home/perl5100/.cpan/build/Authen-SASL-2.15-sFAG4w/blib/arch
    /home/perl5100/.cpan/build/Authen-SASL-2.15-sFAG4w/blib/lib
    /home/perl5100/.cpan/build/Digest-HMAC-1.02-Fdw9Wb/blib/arch
    /home/perl5100/.cpan/build/Digest-HMAC-1.02-Fdw9Wb/blib/lib
    /home/perl5100/.cpan/build/SOAP-Lite-0.712-iR__9A/blib/arch
    /home/perl5100/.cpan/build/SOAP-Lite-0.712-iR__9A/blib/lib
    /home/perl5100/perl/lib/5.10.0
    /home/perl5100/perl/lib/5.10.0
    .