Bot-IRC v1.40 Perl 5 v5.34.3 x86_64-linux-ld

Status
Pass
From
Andreas J. K├Ânig (ANDK)
Dist
Bot-IRC v1.40
Platform
Perl 5 v5.34.3 x86_64-linux-ld
Date
2023-12-24T01:53:25
ID
39eacdea-a1ff-11ee-940f-ccfe68b38d11
This distribution has been tested as part of the CPAN Testers
project, supporting the Perl programming language.  See
http://wiki.cpantesters.org/ for more information or email
questions to cpan-testers-discuss@perl.org


--
Dear Gryphon Shafer,

This is a computer-generated report for Bot-IRC-1.40
on perl 5.34.3, created by CPAN-Reporter-1.2019.

Thank you for uploading your work to CPAN.  Congratulations!
All tests were successful.

Sections of this report:

    * Tester comments
    * Program output
    * Prerequisites
    * Environment and other context

------------------------------
TESTER COMMENTS
------------------------------

Additional comments from tester:

this report is from an automated smoke testing program
and was not reviewed by a human for accuracy

------------------------------
PROGRAM OUTPUT
------------------------------

Output from '/usr/bin/make test':

PERL_DL_NONLAZY=1 "/tmp/basesmoker-reloperl-rGUl/bin/perl" "-MExtUtils::Command::MM" "-MTest::Harness" "-e" "undef *Test::Harness::Switches; test_harness(0, 'blib/lib', 'blib/arch')" t/*.t
t/00-compile.t ........... ok
t/author-eol.t ........... skipped: these tests are for testing by the author
t/author-no-tabs.t ....... skipped: these tests are for testing by the author
t/author-pod-coverage.t .. skipped: these tests are for testing by the author
t/author-pod-syntax.t .... skipped: these tests are for testing by the author
t/author-portability.t ... skipped: these tests are for testing by the author
t/author-synopsis.t ...... skipped: these tests are for testing by the author
t/bot-irc-api.t .......... ok
t/bot-irc-run.t .......... ok
t/convert.t .............. ok
t/functions.t ............ ok
t/greeting.t ............. ok
t/history.t .............. ok
t/infobot.t .............. ok
t/join.t ................. ok
t/karma.t ................ ok
t/math.t ................. ok
t/ping.t ................. ok
t/release-kwalitee.t ..... skipped: these tests are for release candidate testing
t/seen.t ................. ok
t/store-sqlite.t ......... ok
t/store.t ................ ok
All tests successful.
Files=22, Tests=70,  7 wallclock secs ( 0.06 usr  0.02 sys +  5.91 cusr  0.99 csys =  6.98 CPU)
Result: PASS

------------------------------
PREREQUISITES
------------------------------

Prerequisite modules loaded:

requires:

    Module                            Need  Have    
    --------------------------------- ----- --------
    Daemon::Device                    0     1.10    
    Date::Format                      0     2.24    
    Date::Parse                       0     2.33    
    DateTime                          0     1.65    
    DateTime::Format::Human::Duration 0     0.64    
    DBD::SQLite                       0     1.74    
    DBI                               0     1.643   
    Email::Mailer                     0     1.19    
    Email::Valid                      0     1.203   
    Encode                            0     3.20    
    Encode::Detect::Detector          0     1.01    
    exact                             1.14  1.25    
    exact::class                      1.10  1.19    
    File::Grep                        0     0.02    
    IO::Socket::IP                    0     0.41    
    IO::Socket::SSL                   0     2.084   
    JSON::XS                          0     4.03    
    Math::Expression                  0     1.48    
    Math::Units                       0     1.3     
    perl                              5.014 5.034003
    strict                            0     1.12    
    Time::Crontab                     0     0.04    
    warnings                          0     1.51    
    YAML::XS                          0     0.88    

build_requires:

    Module                            Need  Have    
    --------------------------------- ----- --------
    exact::class                      1.10  1.19    
    ExtUtils::MakeMaker               0     7.70    
    File::Spec                        0     3.80    
    IO::Handle                        0     1.46    
    IPC::Open3                        0     1.21    
    Test2::Mock                       0     0.000159
    Test2::V0                         0     0.000159
    Test::Lib                         0     0.003   
    Test::More                        0     1.302198
    Test::Output                      0     1.034   

configure_requires:

    Module                            Need  Have    
    --------------------------------- ----- --------
    ExtUtils::MakeMaker               0     7.70    
    perl                              5.014 5.034003


------------------------------
ENVIRONMENT AND OTHER CONTEXT
------------------------------

Environment variables:

    AUTOMATED_TESTING = 1
    LANG = en_US.UTF-8
    PATH = /home/sand/bin:/usr/local/bin:/usr/local/sbin:/usr/sbin:/usr/bin:/sbin:/bin:/usr/games:/usr/local/games:/snap/bin:/usr/local/perl/bin:/usr/X11/bin
    PERL = /tmp/basesmoker-reloperl-rGUl/bin/perl
    PERL5LIB = /tmp/loop_over_bdir-2070-HtePjb/Dpkg-1.22.2-0/blib/arch:/tmp/loop_over_bdir-2070-HtePjb/Dpkg-1.22.2-0/blib/lib:/tmp/loop_over_bdir-2070-HtePjb/App-rmcd-0.280-0/blib/arch:/tmp/loop_over_bdir-2070-HtePjb/App-rmcd-0.280-0/blib/lib:/tmp/loop_over_bdir-2070-HtePjb/triceps-2.1.0-0/blib/arch:/tmp/loop_over_bdir-2070-HtePjb/triceps-2.1.0-0/blib/lib:/tmp/loop_over_bdir-2070-HtePjb/dta-tokwrap-0.98-0/blib/arch:/tmp/loop_over_bdir-2070-HtePjb/dta-tokwrap-0.98-0/blib/lib:/tmp/loop_over_bdir-2070-HtePjb/EJBCA-CrlPublish-0.60-0/blib/arch:/tmp/loop_over_bdir-2070-HtePjb/EJBCA-CrlPublish-0.60-0/blib/lib:/tmp/loop_over_bdir-2070-HtePjb/shishi-0.0.1-0/blib/arch:/tmp/loop_over_bdir-2070-HtePjb/shishi-0.0.1-0/blib/lib:/tmp/loop_over_bdir-2070-HtePjb/HTML-Menu-TreeView-1.22-0/blib/arch:/tmp/loop_over_bdir-2070-HtePjb/HTML-Menu-TreeView-1.22-0/blib/lib
    PERL5OPT = 
    PERL5_CPANPLUS_IS_RUNNING = 2078
    PERL5_CPAN_IS_RUNNING = 2078
    PERL_CANARY_STABILITY_NOPROMPT = 1
    PERL_MM_USE_DEFAULT = 1
    PERL_USE_UNSAFE_INC = 1
    SHELL = /usr/bin/zsh
    TERM = screen

Perl special variables (and OS-specific diagnostics, for MSWin32):

    $^X = /tmp/basesmoker-reloperl-rGUl/bin/perl
    $UID/$EUID = 1005 / 1005
    $GID = 1005 1005
    $EGID = 1005 1005

Perl module toolchain versions installed:

    Module              Have    
    ------------------- --------
    CPAN                2.36    
    CPAN::Meta          2.150010
    Cwd                 3.80    
    ExtUtils::CBuilder  0.280236
    ExtUtils::Command   7.70    
    ExtUtils::Install   2.20    
    ExtUtils::MakeMaker 7.70    
    ExtUtils::Manifest  1.73    
    ExtUtils::ParseXS   3.43    
    File::Spec          3.80    
    JSON                4.10    
    JSON::PP            4.16    
    Module::Build       0.4234  
    Module::Signature   0.88    
    Parse::CPAN::Meta   2.150010
    Test2               1.302198
    Test::Harness       3.48    
    Test::More          1.302198
    YAML                1.30    
    YAML::Syck          1.34    
    version             0.9930  


--

Summary of my perl5 (revision 5 version 34 subversion 3) configuration:
  Commit id: 81db88e83a981f603c5207a1fc4cc41da8dd5d79
  Platform:
    osname=linux
    osvers=5.4.0-167-generic
    archname=x86_64-linux-ld
    uname='linux k93focal 5.4.0-167-generic #184-ubuntu smp tue oct 31 09:21:49 utc 2023 x86_64 x86_64 x86_64 gnulinux '
    config_args='-Dprefix=/home/sand/src/perl/repoperls/installed-perls/host/k93focal/v5.34.3/d3e4 -Dmyhostname=k93focal -Dinstallusrbinperl=n -Uversiononly -Dusedevel -des -Ui_db -Dlibswanted=cl pthread socket inet nsl gdbm dbm malloc dl ld sun m crypt sec util c cposix posix ucb BSD gdbm_compat -Uuseithreads -Duselongdouble -DEBUGGING=both'
    hint=recommended
    useposix=true
    d_sigaction=define
    useithreads=undef
    usemultiplicity=undef
    use64bitint=define
    use64bitall=define
    uselongdouble=define
    usemymalloc=n
    default_inc_excludes_dot=define
  Compiler:
    cc='cc'
    ccflags ='-fwrapv -DDEBUGGING -fno-strict-aliasing -pipe -fstack-protector-strong -I/usr/local/include -D_LARGEFILE_SOURCE -D_FILE_OFFSET_BITS=64'
    optimize='-O2 -g'
    cppflags='-fwrapv -DDEBUGGING -fno-strict-aliasing -pipe -fstack-protector-strong -I/usr/local/include'
    ccversion=''
    gccversion='9.4.0'
    gccosandvers=''
    intsize=4
    longsize=8
    ptrsize=8
    doublesize=8
    byteorder=12345678
    doublekind=3
    d_longlong=define
    longlongsize=8
    d_longdbl=define
    longdblsize=16
    longdblkind=3
    ivtype='long'
    ivsize=8
    nvtype='long double'
    nvsize=16
    Off_t='off_t'
    lseeksize=8
    alignbytes=16
    prototype=define
  Linker and Libraries:
    ld='cc'
    ldflags =' -fstack-protector-strong -L/usr/local/lib'
    libpth=/usr/local/lib /usr/lib/x86_64-linux-gnu /usr/lib /usr/lib64
    libs=-lpthread -lnsl -ldl -lm -lcrypt -lutil -lc
    perllibs=-lpthread -lnsl -ldl -lm -lcrypt -lutil -lc
    libc=libc-2.31.so
    so=so
    useshrplib=false
    libperl=libperl.a
    gnulibc_version='2.31'
  Dynamic Linking:
    dlsrc=dl_dlopen.xs
    dlext=so
    d_dlsymun=undef
    ccdlflags='-Wl,-E'
    cccdlflags='-fPIC'
    lddlflags='-shared -O2 -g -L/usr/local/lib -fstack-protector-strong'


Characteristics of this binary (from libperl): 
  Compile-time options:
    DEBUGGING
    HAS_TIMES
    PERLIO_LAYERS
    PERL_COPY_ON_WRITE
    PERL_DONT_CREATE_GVSV
    PERL_MALLOC_WRAP
    PERL_OP_PARENT
    PERL_PRESERVE_IVUV
    PERL_USE_DEVEL
    USE_64_BIT_ALL
    USE_64_BIT_INT
    USE_LARGE_FILES
    USE_LOCALE
    USE_LOCALE_COLLATE
    USE_LOCALE_CTYPE
    USE_LOCALE_NUMERIC
    USE_LOCALE_TIME
    USE_LONG_DOUBLE
    USE_PERLIO
    USE_PERL_ATOF
  Built under linux
  Compiled at Dec  7 2023 08:39:36
  %ENV:
    PERL="/tmp/basesmoker-reloperl-rGUl/bin/perl"
    PERL5LIB="/tmp/loop_over_bdir-2070-HtePjb/Dpkg-1.22.2-0/blib/arch:/tmp/loop_over_bdir-2070-HtePjb/Dpkg-1.22.2-0/blib/lib:/tmp/loop_over_bdir-2070-HtePjb/App-rmcd-0.280-0/blib/arch:/tmp/loop_over_bdir-2070-HtePjb/App-rmcd-0.280-0/blib/lib:/tmp/loop_over_bdir-2070-HtePjb/triceps-2.1.0-0/blib/arch:/tmp/loop_over_bdir-2070-HtePjb/triceps-2.1.0-0/blib/lib:/tmp/loop_over_bdir-2070-HtePjb/dta-tokwrap-0.98-0/blib/arch:/tmp/loop_over_bdir-2070-HtePjb/dta-tokwrap-0.98-0/blib/lib:/tmp/loop_over_bdir-2070-HtePjb/EJBCA-CrlPublish-0.60-0/blib/arch:/tmp/loop_over_bdir-2070-HtePjb/EJBCA-CrlPublish-0.60-0/blib/lib:/tmp/loop_over_bdir-2070-HtePjb/shishi-0.0.1-0/blib/arch:/tmp/loop_over_bdir-2070-HtePjb/shishi-0.0.1-0/blib/lib:/tmp/loop_over_bdir-2070-HtePjb/HTML-Menu-TreeView-1.22-0/blib/arch:/tmp/loop_over_bdir-2070-HtePjb/HTML-Menu-TreeView-1.22-0/blib/lib"
    PERL5OPT=""
    PERL5_CPANPLUS_IS_RUNNING="2078"
    PERL5_CPAN_IS_RUNNING="2078"
    PERL_CANARY_STABILITY_NOPROMPT="1"
    PERL_MM_USE_DEFAULT="1"
    PERL_USE_UNSAFE_INC="1"
  @INC:
    /tmp/loop_over_bdir-2070-HtePjb/Dpkg-1.22.2-0/blib/arch
    /tmp/loop_over_bdir-2070-HtePjb/Dpkg-1.22.2-0/blib/lib
    /tmp/loop_over_bdir-2070-HtePjb/App-rmcd-0.280-0/blib/arch
    /tmp/loop_over_bdir-2070-HtePjb/App-rmcd-0.280-0/blib/lib
    /tmp/loop_over_bdir-2070-HtePjb/triceps-2.1.0-0/blib/arch
    /tmp/loop_over_bdir-2070-HtePjb/triceps-2.1.0-0/blib/lib
    /tmp/loop_over_bdir-2070-HtePjb/dta-tokwrap-0.98-0/blib/arch
    /tmp/loop_over_bdir-2070-HtePjb/dta-tokwrap-0.98-0/blib/lib
    /tmp/loop_over_bdir-2070-HtePjb/EJBCA-CrlPublish-0.60-0/blib/arch
    /tmp/loop_over_bdir-2070-HtePjb/EJBCA-CrlPublish-0.60-0/blib/lib
    /tmp/loop_over_bdir-2070-HtePjb/shishi-0.0.1-0/blib/arch
    /tmp/loop_over_bdir-2070-HtePjb/shishi-0.0.1-0/blib/lib
    /tmp/loop_over_bdir-2070-HtePjb/HTML-Menu-TreeView-1.22-0/blib/arch
    /tmp/loop_over_bdir-2070-HtePjb/HTML-Menu-TreeView-1.22-0/blib/lib
    /home/sand/src/perl/repoperls/installed-perls/host/k93focal/v5.34.3/d3e4/lib/site_perl/5.34.3/x86_64-linux-ld
    /home/sand/src/perl/repoperls/installed-perls/host/k93focal/v5.34.3/d3e4/lib/site_perl/5.34.3
    /home/sand/src/perl/repoperls/installed-perls/host/k93focal/v5.34.3/d3e4/lib/5.34.3/x86_64-linux-ld
    /home/sand/src/perl/repoperls/installed-perls/host/k93focal/v5.34.3/d3e4/lib/5.34.3
    .