Geo-Coder-CA v0.06 Perl 5 v5.24.1 MSWin32-x64-multi-thread

Status
Pass
From
Nigel Horne
Dist
Geo-Coder-CA v0.06
Platform
Perl 5 v5.24.1 MSWin32-x64-multi-thread
Date
2017-12-03 13:45:29
ID
397be654-d830-11e7-b8bd-809199b835e7
This distribution has been tested as part of the CPAN Testers
project, supporting the Perl programming language.  See
http://wiki.cpantesters.org/ for more information or email
questions to cpan-testers-discuss@perl.org


--
Dear Nigel Horne,

This is a computer-generated report for Geo-Coder-CA-0.06
on perl 5.24.1, created by CPAN-Reporter-1.2018.

Thank you for uploading your work to CPAN.  Congratulations!
All tests were successful.

Sections of this report:

    * Tester comments
    * Program output
    * Prerequisites
    * Environment and other context

------------------------------
TESTER COMMENTS
------------------------------

Additional comments from tester:

none provided

------------------------------
PROGRAM OUTPUT
------------------------------

Output from 'C:\PERL64~1.1\site\bin\dmake.exe test':

"C:\Perl64\bin\perl.exe" "-MExtUtils::Command::MM" "-MTest::Harness" "-e" "undef *Test::Harness::Switches; test_harness(0, 'blib\lib', 'blib\arch')" t/*.t
# Testing Geo::Coder::CA 0.06, Perl 5.024001, C:\Perl64\bin\perl.exe
t/00-load.t ..... ok
t/10-new.t ...... ok
t/boiler.t ...... ok
t/ca.t .......... ok
t/carp.t ........ ok
t/changes.t ..... skipped: Author tests not required for installation
t/coverage.t .... ok
t/critic.t ...... skipped: Author tests not required for installation
t/cv.t .......... skipped: Author tests not required for installation
t/dist.t ........ skipped: Author tests not required for installation
t/gv.t .......... skipped: Author tests not required for installation
t/kwalitee.t .... skipped: Author tests not required for installation
t/manifest.t .... skipped: Author tests not required for installation
t/metrics.t ..... skipped: Author tests not required for installation
t/namespaces.t .. skipped: Author tests not required for installation
t/noplan.t ...... skipped: Author tests not required for installation
t/pod-cm.t ...... skipped: Test::Pod::Spelling::CommonMistakes required for testing POD spelling
t/pod.t ......... skipped: Author tests not required for installation
t/port.t ........ skipped: Test::Portability::Files required for testing filenames portability
t/prereq.t ...... skipped: Author tests not required for installation
t/snippets.t .... skipped: Author tests not required for installation
t/spelling.t .... skipped: Author tests not required for installation
t/strict.t ...... skipped: Author tests not required for installation
t/unused.t ...... skipped: Author tests not required for installation
t/us.t .......... ok
t/used.t ........ skipped: Author tests not required for installation
t/vars.t ........ skipped: Author tests not required for installation
All tests successful.

Test Summary Report
-------------------
t/boiler.t    (Wstat: 0 Tests: 3 Failed: 0)
  TODO passed:   1-3
Files=27, Tests=28, 18 wallclock secs ( 0.09 usr +  0.06 sys =  0.16 CPU)
Result: PASS

------------------------------
PREREQUISITES
------------------------------

Prerequisite modules loaded:

requires:

    Module               Need     Have    
    -------------------- -------- --------
    Encode               0        2.89    
    HTTP::Request        0        6.11    
    JSON                 0        2.90    
    LWP::Protocol::https 0        6.06    
    LWP::UserAgent       0        6.15    
    perl                 5.006002 5.024001
    URI                  0        1.71    

build_requires:

    Module               Need     Have    
    -------------------- -------- --------
    ExtUtils::MakeMaker  0        7.24    
    Test::Carp           0        0.2     
    Test::LWP::UserAgent 0        0.033   
    Test::Most           0        0.35    
    Test::NoWarnings     0        1.04    
    Test::Number::Delta  0        1.06    

configure_requires:

    Module               Need     Have    
    -------------------- -------- --------
    ExtUtils::MakeMaker  0        7.24    


------------------------------
ENVIRONMENT AND OTHER CONTEXT
------------------------------

Environment variables:

    COMSPEC = C:\WINDOWS\system32\cmd.exe
    NUMBER_OF_PROCESSORS = 12
    PATH = C:\ProgramData\Oracle\Java\javapath;C:\Perl64-5.22.1\site\bin;C:\Perl64-5.22.1\bin;C:\Perl64\site\bin;C:\Perl64\bin;C:\Program Files (x86)\Intel\iCLS Client\;C:\Program Files\Intel\iCLS Client\;C:\Windows\system32;C:\Windows;C:\Windows\System32\Wbem;C:\Windows\System32\WindowsPowerShell\v1.0\;C:\Program Files\Intel\Intel(R) Management Engine Components\DAL;C:\Program Files\Intel\Intel(R) Management Engine Components\IPT;C:\Program Files (x86)\Intel\Intel(R) Management Engine Components\DAL;C:\Program Files (x86)\Intel\Intel(R) Management Engine Components\IPT;C:\Program Files (x86)\Windows Kits\8.1\Windows Performance Toolkit\;C:\Program Files (x86)\Windows Live\Shared;C:\Program Files (x86)\Windows Kits\8.0\Windows Performance Toolkit\;C:\Program Files (x86)\NVIDIA Corporation\PhysX\Common;C:\WINDOWS\system32;C:\WINDOWS;C:\WINDOWS\System32\Wbem;C:\WINDOWS\System32\WindowsPowerShell\v1.0\;C:\Program Files (x86)\Skype\Phone\;C:\WINDOWS\system32\config\systemprofile\.dnx\bin;C:\Program Files\Microsoft DNX\Dnvm\;C:\Program Files\Microsoft SQL Server\120\Tools\Binn\;C:\Program Files\Microsoft SQL Server\130\Tools\Binn\;C:\Program Files (x86)\Windows Kits\10\Windows Performance Toolkit\;C:\Program Files (x86)\nodejs\;C:\Program Files\Git\cmd;C:\Users\Nigel\AppData\Local\Microsoft\WindowsApps;C:\Users\Nigel\AppData\Roaming\npm;
    PERL5LIB = 
    PERL5OPT = 
    PERL5_CPANPLUS_IS_RUNNING = 15900
    PERL5_CPAN_IS_RUNNING = 15900
    PROCESSOR_IDENTIFIER = Intel64 Family 6 Model 62 Stepping 4, GenuineIntel
    TEMP = J:\TEMP

Perl special variables (and OS-specific diagnostics, for MSWin32):

    $^X = C:\Perl64\bin\perl.exe
    $UID/$EUID = 0 / 0
    $GID = 0
    $EGID = 0
    Win32::GetOSName = Win10
    Win32::GetOSVersion = , 10, 0, 16299, 2, 0, 0, 768, 1
    Win32::FsType = NTFS
    Win32::IsAdminUser = 0

Perl module toolchain versions installed:

    Module              Have    
    ------------------- --------
    CPAN                2.16    
    CPAN::Meta          2.150010
    Cwd                 3.63_01 
    ExtUtils::CBuilder  0.280225
    ExtUtils::Command   7.24    
    ExtUtils::Install   2.12    
    ExtUtils::MakeMaker 7.24    
    ExtUtils::Manifest  1.70    
    ExtUtils::ParseXS   3.31    
    File::Spec          3.63_01 
    JSON                2.90    
    JSON::PP            2.27400 
    Module::Build       0.4220  
    Module::Signature   n/a     
    Parse::CPAN::Meta   2.150010
    Test::Harness       3.39    
    Test::More          1.302106
    YAML                1.21    
    YAML::Syck          n/a     
    version             0.9917  


--

Summary of my perl5 (revision 5 version 24 subversion 1) configuration:
   
  Platform:
    osname=MSWin32, osvers=6.1, archname=MSWin32-x64-multi-thread
    uname=''
    config_args='undef'
    hint=recommended, useposix=true, d_sigaction=undef
    useithreads=define, usemultiplicity=define
    use64bitint=define, use64bitall=undef, uselongdouble=undef
    usemymalloc=n, bincompat5005=undef
  Compiler:
    cc='C:\PERL64~1.1\site\bin\gcc.exe', ccflags =' -s -O2 -DWIN32 -DWIN64 -DCONSERVATIVE -DPERL_TEXTMODE_SCRIPTS -DUSE_SITECUSTOMIZE -DPERL_IMPLICIT_CONTEXT -DPERL_IMPLICIT_SYS -fwrapv -fno-strict-aliasing -mms-bitfields',
    optimize='-s -O2',
    cppflags='-DWIN32'
    ccversion='', gccversion='4.6.3', gccosandvers=''
    intsize=4, longsize=4, ptrsize=8, doublesize=8, byteorder=12345678, doublekind=3
    d_longlong=define, longlongsize=8, d_longdbl=define, longdblsize=16, longdblkind=3
    ivtype='long long', ivsize=8, nvtype='double', nvsize=8, Off_t='long long', lseeksize=8
    alignbytes=8, prototype=define
  Linker and Libraries:
    ld='C:\PERL64~1.1\site\bin\g++.exe', ldflags ='-s -static-libgcc -static-libstdc++ -L"C:\Perl64\lib\CORE" -L"C:\MinGW\x86_64-w64-mingw32\lib"'
    libpth=C:\MinGW\x86_64-w64-mingw32\lib
    libs=-lmoldname -lkernel32 -luser32 -lgdi32 -lwinspool -lcomdlg32 -ladvapi32 -lshell32 -lole32 -loleaut32 -lnetapi32 -luuid -lws2_32 -lmpr -lwinmm -lversion -lodbc32 -lodbccp32 -lcomctl32
    perllibs=-lmoldname -lkernel32 -luser32 -lgdi32 -lwinspool -lcomdlg32 -ladvapi32 -lshell32 -lole32 -loleaut32 -lnetapi32 -luuid -lws2_32 -lmpr -lwinmm -lversion -lodbc32 -lodbccp32 -lcomctl32
    libc=, so=dll, useshrplib=true, libperl=libperl524.a
    gnulibc_version=''
  Dynamic Linking:
    dlsrc=dl_win32.xs, dlext=dll, d_dlsymun=undef, ccdlflags=' '
    cccdlflags=' ', lddlflags='-mdll -s -static-libgcc -static-libstdc++ -L"C:\Perl64\lib\CORE" -L"C:\MinGW\x86_64-w64-mingw32\lib"'


Characteristics of this binary (from libperl): 
  Compile-time options: HAS_TIMES HAVE_INTERP_INTERN MULTIPLICITY
                        PERLIO_LAYERS PERL_COPY_ON_WRITE
                        PERL_DONT_CREATE_GVSV
                        PERL_HASH_FUNC_ONE_AT_A_TIME_HARD
                        PERL_IMPLICIT_CONTEXT PERL_IMPLICIT_SYS
                        PERL_MALLOC_WRAP PERL_PRESERVE_IVUV USE_64_BIT_INT
                        USE_ITHREADS USE_LARGE_FILES USE_LOCALE
                        USE_LOCALE_COLLATE USE_LOCALE_CTYPE
                        USE_LOCALE_NUMERIC USE_LOCALE_TIME USE_PERLIO
                        USE_PERL_ATOF USE_SITECUSTOMIZE
  Locally applied patches:
	ActivePerl Build 2402 [401627]
  Built under MSWin32
  Compiled at Jan  5 2017 02:08:02
  %ENV:
    PERL5_CPANPLUS_IS_RUNNING="15900"
    PERL5_CPAN_IS_RUNNING="15900"
  @INC:
    C:/Perl64/site/lib
    C:/Perl64/lib
    .