Back
From: metabase:user:320bfe00-2aae-11df-837a-5e0a49663a4f
Subject: PASS SQL-Maker-1.19 v5.14.4 GNU/Linux
Date: 2014-07-30T09:38:11Z
This distribution has been tested as part of the CPAN Testers
project, supporting the Perl programming language.  See
http://wiki.cpantesters.org/ for more information or email
questions to cpan-testers-discuss@perl.org
--
Dear Tokuhiro Matsuno,
This is a computer-generated report for SQL-Maker-1.19
on perl 5.14.4, created by CPAN-Reporter-1.2011.
Thank you for uploading your work to CPAN.  Congratulations!
All tests were successful.
Sections of this report:
    * Tester comments
    * Program output
    * Prerequisites
    * Environment and other context
------------------------------
TESTER COMMENTS
------------------------------
Additional comments from tester:
this report is from an automated smoke testing program
and was not reviewed by a human for accuracy
------------------------------
PROGRAM OUTPUT
------------------------------
Output from './Build test':
t/00_compile.t .......................................... ok
t/01_delete.t ........................................... ok
t/01_insert.t ........................................... ok
t/01_select.t ........................................... ok
t/01_simple.t ........................................... ok
t/01_update.t ........................................... ok
t/01_util.t ............................................. ok
t/02_where.t ............................................ ok
t/09_new_line.t ......................................... ok
t/10_subquery.t ......................................... ok
t/11_set.t .............................................. ok
t/12_insert_empty.t ..................................... ok
t/13_strict.t ........................................... ok
t/condition/01_where.t .................................. ok
t/condition/02_make_term.t .............................. ok
t/condition/03_add_raw.t ................................ ok
t/condition/04_compose_empty.t .......................... ok
t/condition/05_empty_values.t ........................... ok
t/plugins/insert_multi/01_insert_multi.t ................ ok
t/plugins/insert_on_duplicate/01_insert_on_duplicate.t .. ok
t/select/01_statement.t ................................. ok
t/select/02_pod_select.t ................................ ok
t/select/oracle/01_oracle.t ............................. ok
t/sql_type/01_sql_type.t ................................ ok
t/sql_type/02_synopsis.t ................................ ok
All tests successful.
Files=25, Tests=124, 55 wallclock secs ( 0.30 usr  0.02 sys +  9.40 cusr  0.27 csys =  9.99 CPU)
Result: PASS
------------------------------
PREREQUISITES
------------------------------
Prerequisite modules loaded:
requires:
    Module                Need     Have        
    --------------------- -------- ------------
    Class::Accessor::Lite 0.05     0.06        
    DBI                   0        1.631       
    Module::Load          0        0.32        
    parent                0        0.225       
    perl                  5.008001 5.014004    
    Scalar::Util          0        1.39        
    SQL::QueryMaker       0        0.02        
build_requires:
    Module                Need     Have        
    --------------------- -------- ------------
    DateTime              0        1.10        
    Test::More            0.98     1.301001_017
    Test::Requires        0        0.07        
    Tie::IxHash           0        1.23        
configure_requires:
    Module                Need     Have        
    --------------------- -------- ------------
    Module::Build::Tiny   0.035    0.037       
------------------------------
ENVIRONMENT AND OTHER CONTEXT
------------------------------
Environment variables:
    AUTOMATED_TESTING = 1
    LANG = en_US.UTF-8
    LANGUAGE = en_US:en
    PATH = /usr/lib/ccache:/home/sand/bin:/usr/local/bin:/usr/bin:/bin:/usr/games:/usr/local/perl/bin:/usr/X11/bin:/sbin:/usr/sbin
    PERL5LIB = 
    PERL5OPT = 
    PERL5_CPANPLUS_IS_RUNNING = 31572
    PERL5_CPAN_IS_RUNNING = 31572
    PERL_MM_USE_DEFAULT = 1
    SHELL = /usr/bin/zsh
    TERM = screen
Perl special variables (and OS-specific diagnostics, for MSWin32):
    $^X = /home/sand/src/perl/repoperls/installed-perls/perl/v5.14.4/9980/bin/perl
    $UID/$EUID = 1005 / 1005
    $GID = 1005 1005
    $EGID = 1005 1005
Perl module toolchain versions installed:
    Module              Have        
    ------------------- ------------
    CPAN                2.05        
    CPAN::Meta          2.142060    
    Cwd                 3.47        
    ExtUtils::CBuilder  0.280216    
    ExtUtils::Command   1.17        
    ExtUtils::Install   1.56        
    ExtUtils::MakeMaker 6.99_06     
    ExtUtils::Manifest  1.64        
    ExtUtils::ParseXS   3.24        
    File::Spec          3.47        
    JSON                2.90        
    JSON::PP            2.27203     
    Module::Build       0.4206      
    Module::Signature   0.73        
    Parse::CPAN::Meta   1.4414      
    Test::Harness       3.32        
    Test::More          1.301001_017
    YAML                0.97        
    YAML::Syck          1.28_01     
    version             0.9908      
--
Summary of my perl5 (revision 5 version 14 subversion 4) configuration:
  Commit id: 26c5c13a4ece9084f310610bb17fb2f24c72a73e
  Platform:
    osname=linux, osvers=3.14-1-amd64, archname=x86_64-linux-thread-multi
    uname='linux k83 3.14-1-amd64 #1 smp debian 3.14.5-1 (2014-06-05) x86_64 gnulinux '
    config_args='-Dprefix=/home/sand/src/perl/repoperls/installed-perls/perl/v5.14.4/9980 -Dmyhostname=k83 -Dinstallusrbinperl=n -Uversiononly -Dusedevel -des -Ui_db -Duseithreads -Uuselongdouble -DDEBUGGING=-g'
    hint=recommended, useposix=true, d_sigaction=define
    useithreads=define, usemultiplicity=define
    useperlio=define, d_sfio=undef, uselargefiles=define, usesocks=undef
    use64bitint=define, use64bitall=define, uselongdouble=undef
    usemymalloc=n, bincompat5005=undef
  Compiler:
    cc='cc', ccflags ='-D_REENTRANT -D_GNU_SOURCE -fno-strict-aliasing -pipe -fstack-protector -I/usr/local/include -D_LARGEFILE_SOURCE -D_FILE_OFFSET_BITS=64',
    optimize='-O2 -g',
    cppflags='-D_REENTRANT -D_GNU_SOURCE -fno-strict-aliasing -pipe -fstack-protector -I/usr/local/include'
    ccversion='', gccversion='4.8.3', gccosandvers=''
    intsize=4, longsize=8, ptrsize=8, doublesize=8, byteorder=12345678
    d_longlong=define, longlongsize=8, d_longdbl=define, longdblsize=16
    ivtype='long', ivsize=8, nvtype='double', nvsize=8, Off_t='off_t', lseeksize=8
    alignbytes=8, prototype=define
  Linker and Libraries:
    ld='cc', ldflags =' -fstack-protector -L/usr/local/lib'
    libpth=/usr/local/lib /lib/x86_64-linux-gnu /lib/../lib /usr/lib/x86_64-linux-gnu /usr/lib/../lib /lib /usr/lib
    libs=-lnsl -lgdbm -ldb -ldl -lm -lcrypt -lutil -lpthread -lc -lgdbm_compat
    perllibs=-lnsl -ldl -lm -lcrypt -lutil -lpthread -lc
    libc=, so=so, useshrplib=false, libperl=libperl.a
    gnulibc_version='2.19'
  Dynamic Linking:
    dlsrc=dl_dlopen.xs, dlext=so, d_dlsymun=undef, ccdlflags='-Wl,-E'
    cccdlflags='-fPIC', lddlflags='-shared -O2 -g -L/usr/local/lib -fstack-protector'
Characteristics of this binary (from libperl): 
  Compile-time options: MULTIPLICITY PERL_DONT_CREATE_GVSV
                        PERL_IMPLICIT_CONTEXT PERL_MALLOC_WRAP
                        PERL_PRESERVE_IVUV PERL_USE_DEVEL USE_64_BIT_ALL
                        USE_64_BIT_INT USE_ITHREADS USE_LARGE_FILES
                        USE_PERLIO USE_PERL_ATOF USE_REENTRANT_API
  Built under linux
  Compiled at Jun 10 2014 12:43:50
  %ENV:
    PERL5LIB=""
    PERL5OPT=""
    PERL5_CPANPLUS_IS_RUNNING="31572"
    PERL5_CPAN_IS_RUNNING="31572"
    PERL_MM_USE_DEFAULT="1"
  @INC:
    /home/sand/src/perl/repoperls/installed-perls/perl/v5.14.4/9980/lib/site_perl/5.14.4/x86_64-linux-thread-multi
    /home/sand/src/perl/repoperls/installed-perls/perl/v5.14.4/9980/lib/site_perl/5.14.4
    /home/sand/src/perl/repoperls/installed-perls/perl/v5.14.4/9980/lib/5.14.4/x86_64-linux-thread-multi
    /home/sand/src/perl/repoperls/installed-perls/perl/v5.14.4/9980/lib/5.14.4
    .