Algorithm-AM v3.12 Perl 5 v5.32.1 amd64-openbsd

Status
Pass
From
Alceu Rodrigues de Freitas Junior
Dist
Algorithm-AM v3.12
Platform
Perl 5 v5.32.1 amd64-openbsd
Date
2022-04-14 15:11:54
ID
3860cb1e-bc05-11ec-a20d-ac465fb94fb8
This distribution has been tested as part of the CPAN Testers
project, supporting the Perl programming language.  See
http://wiki.cpantesters.org/ for more information or email
questions to cpan-testers-discuss@perl.org


--
Dear Nathan Gary Glenn,

This is a computer-generated report for Algorithm-AM-3.12
on perl 5.32.1, created by CPAN-Reporter-1.2018.

Thank you for uploading your work to CPAN.  Congratulations!
All tests were successful.

Sections of this report:

    * Tester comments
    * Program output
    * Prerequisites
    * Environment and other context

------------------------------
TESTER COMMENTS
------------------------------

Additional comments from tester:

this report is from an automated smoke testing program
and was not reviewed by a human for accuracy

------------------------------
PROGRAM OUTPUT
------------------------------

Output from '/usr/bin/make test':

"/usr/bin/perl" -MExtUtils::Command::MM -e 'cp_nonempty' -- AM.bs blib/arch/auto/Algorithm/AM/AM.bs 644
PERL_DL_NONLAZY=1 "/usr/bin/perl" "-MExtUtils::Command::MM" "-MTest::Harness" "-e" "undef *Test::Harness::Switches; test_harness(0, 'blib/lib', 'blib/arch')" t/*.t
t/0-use_AM.t ........... ok
t/0-use_Batch.t ........ ok
# 
# Versions for all modules listed in MYMETA.json (including optional ones):
# 
# === Configure Requires ===
# 
#     Module              Want Have
#     ------------------- ---- ----
#     ExtUtils::MakeMaker 6.17 7.64
# 
# === Build Requires ===
# 
#     Module              Want Have
#     ------------------- ---- ----
#     ExtUtils::MakeMaker  any 7.64
# 
# === Test Requires ===
# 
#     Module              Want     Have
#     ------------------- ---- --------
#     ExtUtils::MakeMaker  any     7.64
#     File::Spec           any     3.78
#     FindBin              any     1.51
#     Test::Deep           any    1.130
#     Test::Exception      any     0.43
#     Test::LongString     any     0.17
#     Test::More          0.88 1.302190
#     Test::NoWarnings     any     1.06
# 
# === Test Recommends ===
# 
#     Module         Want     Have
#     ---------- -------- --------
#     CPAN::Meta 2.120900 2.150010
# 
# === Runtime Requires ===
# 
#     Module            Want     Have
#     ----------------- ---- --------
#     Carp               any     1.50
#     Class::Tiny        any    1.008
#     Exporter::Easy     any     0.18
#     Getopt::Long      2.13     2.52
#     Import::Into       any 1.002005
#     Log::Any           any    1.710
#     Log::Any::Adapter  any    1.710
#     Path::Tiny         any    0.122
#     Pod::Usage         any     2.01
#     Text::Table        any    1.134
#     XSLoader           any     0.30
#     feature            any     1.58
#     integer            any     1.01
#     strict             any     1.11
#     warnings           any     1.47
# 
t/00-report-prereqs.t .. ok
t/01-Item.t ............ ok
t/02-DataSet.t ......... ok
t/03-AM.t .............. ok
t/04-Result.t .......... ok
t/05-Bigint.t .......... ok
t/06-Batch.t ........... ok
t/07-Batch_hooks.t ..... ok
t/08-finnverb.t ........ ok
t/09-soybean.t ......... ok
All tests successful.
Files=12, Tests=143,  5 wallclock secs ( 0.16 usr  0.07 sys +  3.47 cusr  0.66 csys =  4.36 CPU)
Result: PASS

------------------------------
PREREQUISITES
------------------------------

Prerequisite modules loaded:

requires:

    Module              Need     Have    
    ------------------- -------- --------
    Carp                0        1.50    
    Class::Tiny         0        1.008   
    Exporter::Easy      0        0.18    
    feature             0        1.58    
    Getopt::Long        2.13     2.52    
    Import::Into        0        1.002005
    integer             0        1.01    
    Log::Any            0        1.710   
    Log::Any::Adapter   0        1.710   
    Path::Tiny          0        0.122   
    perl                5.010000 5.032001
    Pod::Usage          0        2.01    
    strict              0        1.11    
    Text::Table         0        1.134   
    warnings            0        1.47    
    XSLoader            0        0.30    

build_requires:

    Module              Need     Have    
    ------------------- -------- --------
    ExtUtils::MakeMaker 0        7.64    
    File::Spec          0        3.78    
    FindBin             0        1.51    
    Test::Deep          0        1.130   
    Test::Exception     0        0.43    
    Test::LongString    0        0.17    
    Test::More          0.88     1.302190
    Test::NoWarnings    0        1.06    

configure_requires:

    Module              Need     Have    
    ------------------- -------- --------
    ExtUtils::MakeMaker 6.17     7.64    
    perl                5.010    5.032001

opt_build_requires:

    Module              Need     Have    
    ------------------- -------- --------
    CPAN::Meta          2.120900 2.150010


------------------------------
ENVIRONMENT AND OTHER CONTEXT
------------------------------

Environment variables:

    AUTOMATED_TESTING = 1
    PATH = /home/goku/perl5/bin:/usr/bin:/bin:/usr/sbin:/sbin:/usr/X11R6/bin:/usr/local/bin:/usr/local/sbin
    PERL5LIB = /home/goku/perl5/lib/perl5
    PERL5OPT = 
    PERL5_CPANPLUS_IS_RUNNING = 30535
    PERL5_CPAN_IS_RUNNING = 30535
    PERL5_CPAN_IS_RUNNING_IN_RECURSION = 45110,30535
    PERL_CR_SMOKER_CURRENT = Algorithm-AM-3.12
    PERL_EXTUTILS_AUTOINSTALL = --defaultdeps
    PERL_LOCAL_LIB_ROOT = /home/goku/perl5
    PERL_MB_OPT = --install_base "/home/goku/perl5"
    PERL_MM_OPT = INSTALL_BASE=/home/goku/perl5
    PERL_MM_USE_DEFAULT = 1
    PERL_USE_UNSAFE_INC = 1
    SHELL = /bin/ksh
    TERM = xterm-256color

Perl special variables (and OS-specific diagnostics, for MSWin32):

    $^X = /usr/bin/perl
    $UID/$EUID = 1001 / 1001
    $GID = 1002 1002 1001
    $EGID = 1002 1002 1001

Perl module toolchain versions installed:

    Module              Have    
    ------------------- --------
    CPAN                2.33    
    CPAN::Meta          2.150010
    Cwd                 3.78    
    ExtUtils::CBuilder  0.280236
    ExtUtils::Command   7.64    
    ExtUtils::Install   2.20    
    ExtUtils::MakeMaker 7.64    
    ExtUtils::Manifest  1.72    
    ExtUtils::ParseXS   3.44    
    File::Spec          3.78    
    JSON                4.05    
    JSON::PP            4.08    
    Module::Build       0.4231  
    Module::Signature   n/a     
    Parse::CPAN::Meta   2.150010
    Test::Harness       3.43_06 
    Test::More          1.302190
    YAML                1.30    
    YAML::Syck          1.34    
    version             0.9929  


--

Summary of my perl5 (revision 5 version 32 subversion 1) configuration:
   
  Platform:
    osname=openbsd
    osvers=7.0
    archname=amd64-openbsd
    uname='openbsd'
    config_args='-dse -Dopenbsd_distribution=defined -Dmksymlinks'
    hint=recommended
    useposix=true
    d_sigaction=define
    useithreads=undef
    usemultiplicity=undef
    use64bitint=define
    use64bitall=define
    uselongdouble=undef
    usemymalloc=n
    default_inc_excludes_dot=define
    bincompat5005=undef
  Compiler:
    cc='cc'
    ccflags ='-DNO_LOCALE_NUMERIC -DNO_LOCALE_COLLATE -fno-strict-aliasing -fno-delete-null-pointer-checks -pipe -fstack-protector-strong -I/usr/local/include'
    optimize='-O2'
    cppflags='-DBIG_TIME -DNO_LOCALE_NUMERIC -DNO_LOCALE_COLLATE -fno-strict-aliasing -fno-delete-null-pointer-checks -pipe -fstack-protector-strong -I/usr/local/include'
    ccversion=''
    gccversion='OpenBSD Clang 11.1.0'
    gccosandvers=''
    intsize=4
    longsize=8
    ptrsize=8
    doublesize=8
    byteorder=12345678
    doublekind=3
    d_longlong=define
    longlongsize=8
    d_longdbl=define
    longdblsize=16
    longdblkind=3
    ivtype='long'
    ivsize=8
    nvtype='double'
    nvsize=8
    Off_t='off_t'
    lseeksize=8
    alignbytes=8
    prototype=define
  Linker and Libraries:
    ld='cc'
    ldflags ='-Wl,-E  -fstack-protector-strong -L/usr/local/lib'
    libpth=/usr/lib /usr/local/lib
    libs=-lm -lc
    perllibs=-lm -lc
    libc=/usr/lib/libc.so.96.1
    so=so
    useshrplib=true
    libperl=libperl.so.22.0
    gnulibc_version=''
  Dynamic Linking:
    dlsrc=dl_dlopen.xs
    dlext=so
    d_dlsymun=undef
    ccdlflags='-Wl,-R/usr/libdata/perl5/amd64-openbsd/CORE'
    cccdlflags='-DPIC -fpic '
    lddlflags='-shared -fpic  -fstack-protector-strong -L/usr/local/lib'


Characteristics of this binary (from libperl): 
  Compile-time options:
    HAS_TIMES
    PERLIO_LAYERS
    PERL_COPY_ON_WRITE
    PERL_DONT_CREATE_GVSV
    PERL_MALLOC_WRAP
    PERL_OP_PARENT
    PERL_PRESERVE_IVUV
    USE_64_BIT_ALL
    USE_64_BIT_INT
    USE_LARGE_FILES
    USE_LOCALE
    USE_LOCALE_CTYPE
    USE_LOCALE_TIME
    USE_PERLIO
    USE_PERL_ATOF
  Built under openbsd
  %ENV:
    PERL5LIB="/home/goku/perl5/lib/perl5"
    PERL5OPT=""
    PERL5_CPANPLUS_IS_RUNNING="30535"
    PERL5_CPAN_IS_RUNNING="30535"
    PERL5_CPAN_IS_RUNNING_IN_RECURSION="45110,30535"
    PERL_CR_SMOKER_CURRENT="Algorithm-AM-3.12"
    PERL_EXTUTILS_AUTOINSTALL="--defaultdeps"
    PERL_LOCAL_LIB_ROOT="/home/goku/perl5"
    PERL_MB_OPT="--install_base "/home/goku/perl5""
    PERL_MM_OPT="INSTALL_BASE=/home/goku/perl5"
    PERL_MM_USE_DEFAULT="1"
    PERL_USE_UNSAFE_INC="1"
  @INC:
    /home/goku/perl5/lib/perl5/amd64-openbsd
    /home/goku/perl5/lib/perl5
    /usr/local/libdata/perl5/site_perl/amd64-openbsd
    /usr/local/libdata/perl5/site_perl
    /usr/libdata/perl5/amd64-openbsd
    /usr/libdata/perl5
    .