Devel-hdb v0.25 Perl 5 v5.36.0 x86_64-linux
- Status
- Pass
- From
- Slaven Rezić
- Dist
-
Devel-hdb v0.25
- Platform
- Perl 5 v5.36.0 x86_64-linux
- Date
- 2024-01-16 19:41:18
- ID
- 37f0e348-b4a7-11ee-93df-a8156e8775ea
This distribution has been tested as part of the CPAN Testers
project, supporting the Perl programming language. See
http://wiki.cpantesters.org/ for more information or email
questions to cpan-testers-discuss@perl.org
--
Dear Anthony Brummett,
This is a computer-generated report for Devel-hdb-0.25
on perl 5.36.0, created by CPAN-Reporter-1.2019.
Thank you for uploading your work to CPAN. Congratulations!
All tests were successful.
Sections of this report:
* Tester comments
* Program output
* Prerequisites
* Environment and other context
------------------------------
TESTER COMMENTS
------------------------------
Additional comments from tester:
none provided
------------------------------
PROGRAM OUTPUT
------------------------------
Output from '/usr/bin/make test':
PERL_DL_NONLAZY=1 "/opt/perl-5.36.0/bin/perl" "-MExtUtils::Command::MM" "-MTest::Harness" "-e" "undef *Test::Harness::Switches; test_harness(0, 'blib/lib', 'blib/arch')" t/*.t
Debugged program pid 2623818 terminated with exit code 0
t/00-use.t ........................ ok
t/01-load-debugger-html.t ......... ok
t/02-stepin-subs-eval.t ........... ok
t/02-stepin.t ..................... ok
t/03-step-over-exception.t ........ ok
t/03-step-over-goto-label.t ....... ok
t/03-step-over-goto-sub.t ......... ok
t/03-step-over.t .................. ok
t/04-breakpoint-in-code.t ......... ok
t/04-breakpoint.t ................. ok
t/04-conditional-breakpoint.t ..... ok
t/04-get-all-breakpoints.t ........ ok
t/04-inactive-brekpoint.t ......... ok
t/05-loaded-files.t ............... ok
t/05-source-file.t ................ ok
t/06-eval-blessed.t ............... ok
t/06-eval.t ....................... ok
t/07-continue.t ................... ok
t/07-step-out.t ................... ok
t/08-action.t ..................... ok
t/08-inactive-action.t ............ ok
t/09-AUTOLOAD.t ................... ok
t/10-function-args.t .............. ok
t/11-getvar.t ..................... ok
t/14-fork.t ....................... ok
t/15-continue-nostop.t ............ ok
t/16-load-breakpoints.t ........... ok
t/16-save-breakpoints.t ........... ok
t/16-startup-load-breakpoints.t ... ok
t/17-exit.t ....................... ok
t/17-package-info.t ............... ok
This is an uncaught exception at /var/tmp/cpansmoker-1023/2024011617/devel-hdb-test-4VED line 11.
t/18-uncaught-exception.t ......... ok
t/19-trace-diff-changed-source.t .. ok
t/19-trace-diff.t ................. ok
t/20-stack.t ...................... ok
t/21-root-route.t ................. ok
t/22-watchpoint.t ................. ok
t/23-next-statement-fragment.t .... ok
t/50-router.t ..................... ok
All tests successful.
Files=39, Tests=406, 10 wallclock secs ( 0.11 usr 0.04 sys + 5.32 cusr 0.84 csys = 6.31 CPU)
Result: PASS
------------------------------
PREREQUISITES
------------------------------
Prerequisite modules loaded:
requires:
Module Need Have
--------------------------------- ----- --------
base 0 2.27
Carp 0 1.52
Data::Dumper 0 2.184
Data::Transform::ExplicitMetadata 0 0.09
Devel::Chitin 0.15 0.22
Digest::MD5 0 2.58
Exception::Class 0 1.45
Exporter 0 5.78
HTTP::Server::PSGI 0 0
IO::File 0 1.51
IO::Socket::INET 0 1.51
JSON 0 4.10
LWP::UserAgent 0 6.72
perl 5.006 5.036000
Plack::Request 0 1.0050
Scalar::Util 0 1.63
Socket 0 2.037
strict 0 1.12
Sub::Name 0 0.27
Sys::Hostname 0 1.24
Time::HiRes 0 1.9770
URI::Escape 0 5.21
vars 0 1.05
warnings 0 1.58
build_requires:
Module Need Have
--------------------------------- ----- --------
Devel::Callsite 0 1.0.1
ExtUtils::MakeMaker 0 7.70
Fcntl 0 1.15
File::Basename 0 2.85
File::Temp 0 0.2311
HTML::TreeBuilder 0 5.07
IO::Socket 0 1.51
lib 0 0.65
Test::More 0 1.302196
configure_requires:
Module Need Have
--------------------------------- ----- --------
ExtUtils::MakeMaker 0 7.70
perl 5.006 5.036000
------------------------------
ENVIRONMENT AND OTHER CONTEXT
------------------------------
Environment variables:
LANG = en_US.UTF-8
PATH = /usr/local/bin:/usr/bin:/bin:/usr/local/sbin:/usr/sbin:/sbin:/home/cpansand/bin/linux-gnu:/home/cpansand/bin/sh:/home/cpansand/bin:/usr/games:/home/cpansand/devel:/home/eserte/src/srezic-misc/scripts
PERL5LIB =
PERL5OPT =
PERL5_CPANPLUS_IS_RUNNING = 2612365
PERL5_CPAN_IS_RUNNING = 2612365
PERL5_CPAN_IS_RUNNING_IN_RECURSION = 2549524,2612365
PERLDOC = -MPod::Perldoc::ToTextOverstrike
PERL_BATCH = yes
PERL_CANARY_STABILITY_NOPROMPT = 1
PERL_CPAN_REPORTER_CONFIG = /var/tmp/cpansmoker-1023/2024011617/cpanreporter_000_config.ini
PERL_EXTUTILS_AUTOINSTALL = --defaultdeps
PERL_USE_UNSAFE_INC = 1
SHELL = /usr/bin/zsh
TERM = screen
TMPDIR = /var/tmp/cpansmoker-1023/2024011617
Perl special variables (and OS-specific diagnostics, for MSWin32):
$^X = /opt/perl-5.36.0/bin/perl
$UID/$EUID = 1023 / 1023
$GID = 1023 1023
$EGID = 1023 1023
Perl module toolchain versions installed:
Module Have
------------------- --------
CPAN 2.33
CPAN::Meta 2.150010
Cwd 3.84
ExtUtils::CBuilder 0.280236
ExtUtils::Command 7.70
ExtUtils::Install 2.22
ExtUtils::MakeMaker 7.70
ExtUtils::Manifest 1.75
ExtUtils::ParseXS 3.51
File::Spec 3.84
JSON 4.10
JSON::PP 4.16
Module::Build 0.4234
Module::Signature n/a
Parse::CPAN::Meta 2.150010
Test2 1.302196
Test::Harness 3.48
Test::More 1.302196
YAML 1.31
YAML::Syck 1.34
version 0.9929
--
Summary of my perl5 (revision 5 version 36 subversion 0) configuration:
Platform:
osname=linux
osvers=5.15.0-56-generic
archname=x86_64-linux
uname='linux cloud14.bbbike.org 5.15.0-56-generic #62-ubuntu smp tue nov 22 19:54:14 utc 2022 x86_64 x86_64 x86_64 gnulinux '
config_args='-ds -e -Dprefix=/opt/perl-5.36.0 -Dcf_email=srezic@cpan.org'
hint=recommended
useposix=true
d_sigaction=define
useithreads=undef
usemultiplicity=undef
use64bitint=define
use64bitall=define
uselongdouble=undef
usemymalloc=n
default_inc_excludes_dot=define
Compiler:
cc='cc'
ccflags ='-fwrapv -fno-strict-aliasing -pipe -fstack-protector-strong -I/usr/local/include -D_LARGEFILE_SOURCE -D_FILE_OFFSET_BITS=64'
optimize='-O2'
cppflags='-fwrapv -fno-strict-aliasing -pipe -fstack-protector-strong -I/usr/local/include'
ccversion=''
gccversion='11.3.0'
gccosandvers=''
intsize=4
longsize=8
ptrsize=8
doublesize=8
byteorder=12345678
doublekind=3
d_longlong=define
longlongsize=8
d_longdbl=define
longdblsize=16
longdblkind=3
ivtype='long'
ivsize=8
nvtype='double'
nvsize=8
Off_t='off_t'
lseeksize=8
alignbytes=8
prototype=define
Linker and Libraries:
ld='cc'
ldflags =' -fstack-protector-strong -L/usr/local/lib'
libpth=/usr/local/lib /usr/lib/x86_64-linux-gnu /usr/lib /usr/lib64
libs=-lpthread -lnsl -lgdbm -ldb -ldl -lm -lcrypt -lutil -lc
perllibs=-lpthread -lnsl -ldl -lm -lcrypt -lutil -lc
libc=/lib/x86_64-linux-gnu/libc.so.6
so=so
useshrplib=false
libperl=libperl.a
gnulibc_version='2.35'
Dynamic Linking:
dlsrc=dl_dlopen.xs
dlext=so
d_dlsymun=undef
ccdlflags='-Wl,-E'
cccdlflags='-fPIC'
lddlflags='-shared -O2 -L/usr/local/lib -fstack-protector-strong'
Characteristics of this binary (from libperl):
Compile-time options:
HAS_TIMES
PERLIO_LAYERS
PERL_COPY_ON_WRITE
PERL_DONT_CREATE_GVSV
PERL_MALLOC_WRAP
PERL_OP_PARENT
PERL_PRESERVE_IVUV
USE_64_BIT_ALL
USE_64_BIT_INT
USE_LARGE_FILES
USE_LOCALE
USE_LOCALE_COLLATE
USE_LOCALE_CTYPE
USE_LOCALE_NUMERIC
USE_LOCALE_TIME
USE_PERLIO
USE_PERL_ATOF
Built under linux
Compiled at Dec 18 2022 14:30:04
%ENV:
PERL5LIB=""
PERL5OPT=""
PERL5_CPANPLUS_IS_RUNNING="2612365"
PERL5_CPAN_IS_RUNNING="2612365"
PERL5_CPAN_IS_RUNNING_IN_RECURSION="2549524,2612365"
PERLDOC="-MPod::Perldoc::ToTextOverstrike"
PERL_BATCH="yes"
PERL_CANARY_STABILITY_NOPROMPT="1"
PERL_CPAN_REPORTER_CONFIG="/var/tmp/cpansmoker-1023/2024011617/cpanreporter_000_config.ini"
PERL_EXTUTILS_AUTOINSTALL="--defaultdeps"
PERL_USE_UNSAFE_INC="1"
@INC:
/opt/perl-5.36.0/lib/site_perl/5.36.0/x86_64-linux
/opt/perl-5.36.0/lib/site_perl/5.36.0
/opt/perl-5.36.0/lib/5.36.0/x86_64-linux
/opt/perl-5.36.0/lib/5.36.0
.