Back
From: metabase:user:322078bc-2aae-11df-837a-5e0a49663a4f
Subject: PASS Cache-CacheFactory-1.10 v5.15.0 NetBSD
Date: 2011-08-01T22:25:53Z
This distribution has been tested as part of the CPAN Testers
project, supporting the Perl programming language. See
http://wiki.cpantesters.org/ for more information or email
questions to cpan-testers-discuss@perl.org
--
Dear SGRAHAM,
This is a computer-generated error report created automatically by
CPANPLUS, version 0.9109. Testers personal comments may appear
at the end of this report.
MAKE TEST passed:
# Testing Cache::CacheFactory 1.10, Perl 5.015000, /home/cpan/pit/thr/perl-5.15.0/bin/perl5.15.0
t/00-load.t ................................ ok
t/10-namespace.t ........................... ok
t/20-storage.t ............................. ok
t/30-size-hack-with-devel-size.t ........... skipped: Devel::Size required for testing Devel::Size-using memorycache workaround
t/31-size-hack-force-missing-devel-size.t .. ok
t/40-expiry-lastmodified.t ................. ok
t/40-expiry-size.t ......................... ok
t/40-expiry-time.t ......................... ok
t/50-deep-clone.t .......................... ok
t/80-export.t .............................. ok
t/90-pod.t ................................. skipped: Test::Pod 1.22 required for testing POD
t/99-pod-coverage.t ........................ skipped: Test::Pod::Coverage 1.00 required for testing POD coverage
All tests successful.
Files=12, Tests=225, 5 wallclock secs ( 0.07 usr 0.07 sys + 0.83 cusr 0.26 csys = 1.23 CPU)
Result: PASS
[MSG] [Mon Aug 1 23:25:51 2011] Sending test report for 'Cache-CacheFactory-1.10'
This report was machine-generated by CPANPLUS::Dist::YACSmoke 0.64.
Powered by minismokebox version 0.54
------------------------------
ENVIRONMENT AND OTHER CONTEXT
------------------------------
Environment variables:
AUTOMATED_TESTING = 1
PATH = /home/cpan/bin:/bin:/sbin:/usr/bin:/usr/sbin:/usr/X11R7/bin:/usr/X11R6/bin:/usr/pkg/bin:/usr/pkg/sbin:/usr/games:/usr/local/bin:/usr/local/sbin
PERL5LIB = :/home/cpan/pit/thr/conf/perl-5.15.0/.cpanplus/5.15.0/build/Digest-SHA1-2.13/blib/lib:/home/cpan/pit/thr/conf/perl-5.15.0/.cpanplus/5.15.0/build/Digest-SHA1-2.13/blib/arch:/home/cpan/pit/thr/conf/perl-5.15.0/.cpanplus/5.15.0/build/Error-0.17016/blib/lib:/home/cpan/pit/thr/conf/perl-5.15.0/.cpanplus/5.15.0/build/Error-0.17016/blib/arch:/home/cpan/pit/thr/conf/perl-5.15.0/.cpanplus/5.15.0/build/Cache-Cache-1.06/blib/lib:/home/cpan/pit/thr/conf/perl-5.15.0/.cpanplus/5.15.0/build/Cache-Cache-1.06/blib/arch:/home/cpan/pit/thr/conf/perl-5.15.0/.cpanplus/5.15.0/build/Class-Factory-1.06/blib/lib:/home/cpan/pit/thr/conf/perl-5.15.0/.cpanplus/5.15.0/build/Class-Factory-1.06/blib/arch:/home/cpan/pit/thr/conf/perl-5.15.0/.cpanplus/5.15.0/build/Cache-CacheFactory-1.10/blib/lib:/home/cpan/pit/thr/conf/perl-5.15.0/.cpanplus/5.15.0/build/Cache-CacheFactory-1.10/blib/arch
PERL5_CPANPLUS_IS_RUNNING = 3535
PERL5_CPANPLUS_IS_VERSION = 0.9109
PERL5_MINISMOKEBOX = 0.54
PERL5_YACSMOKE_BASE = /home/cpan/pit/thr/conf/perl-5.15.0
PERL_EXTUTILS_AUTOINSTALL = --defaultdeps
PERL_MM_USE_DEFAULT = 1
SHELL = /usr/pkg/bin/bash
TERM = screen
Perl special variables (and OS-specific diagnostics, for MSWin32):
Perl: $^X = /home/cpan/pit/thr/perl-5.15.0/bin/perl5.15.0
UID: $< = 1001
EUID: $> = 1001
GID: $( = 100 100
EGID: $) = 100 100
-------------------------------
--
Summary of my perl5 (revision 5 version 15 subversion 0) configuration:
Platform:
osname=netbsd, osvers=5.99.55, archname=amd64-netbsd-thread-multi
uname='netbsd glissade.bingosnet.co.uk 5.99.55 netbsd 5.99.55 (generic) #0: sat jul 16 05:30:59 utc 2011 builds@b6.netbsd.org:homebuildsabheadamd64201107160350z-objhomebuildsabheadsrcsysarchamd64compilegeneric amd64 '
config_args='-des -Dprefix=/home/cpan/pit/thr/perl-5.15.0 -Dusethreads -Dusedevel'
hint=recommended, useposix=true, d_sigaction=define
useithreads=define, usemultiplicity=define
useperlio=define, d_sfio=undef, uselargefiles=define, usesocks=undef
use64bitint=define, use64bitall=define, uselongdouble=undef
usemymalloc=n, bincompat5005=undef
Compiler:
cc='cc', ccflags ='-fno-strict-aliasing -pipe -fstack-protector -I/usr/pkg/include',
optimize='-O',
cppflags='-fno-strict-aliasing -pipe -fstack-protector -I/usr/pkg/include'
ccversion='', gccversion='4.1.3 20080704 prerelease (NetBSD nb2 20081120)', gccosandvers=''
intsize=4, longsize=8, ptrsize=8, doublesize=8, byteorder=12345678
d_longlong=define, longlongsize=8, d_longdbl=define, longdblsize=16
ivtype='long', ivsize=8, nvtype='double', nvsize=8, Off_t='off_t', lseeksize=8
alignbytes=8, prototype=define
Linker and Libraries:
ld='cc', ldflags =' -Wl,-rpath,/usr/pkg/lib -Wl,-rpath,/usr/local/lib -fstack-protector -L/usr/pkg/lib'
libpth=/usr/pkg/lib /lib /usr/lib
libs=-lgdbm -lm -lcrypt -lutil -lc -lposix -lpthread
perllibs=-lm -lcrypt -lutil -lc -lposix -lpthread
libc=/lib/libc.so, so=so, useshrplib=false, libperl=libperl.a
gnulibc_version=''
Dynamic Linking:
dlsrc=dl_dlopen.xs, dlext=so, d_dlsymun=undef, ccdlflags='-Wl,-E '
cccdlflags='-DPIC -fPIC ', lddlflags='--whole-archive -shared -L/usr/pkg/lib -fstack-protector'
Characteristics of this binary (from libperl):
Compile-time options: MULTIPLICITY PERL_DONT_CREATE_GVSV
PERL_IMPLICIT_CONTEXT PERL_MALLOC_WRAP
PERL_PRESERVE_IVUV PERL_USE_DEVEL USE_64_BIT_ALL
USE_64_BIT_INT USE_ITHREADS USE_LARGE_FILES
USE_LOCALE USE_LOCALE_COLLATE USE_LOCALE_CTYPE
USE_LOCALE_NUMERIC USE_PERLIO USE_PERL_ATOF
USE_REENTRANT_API
Built under netbsd
Compiled at Jul 23 2011 09:06:23
%ENV:
PERL5LIB=":/home/cpan/pit/thr/conf/perl-5.15.0/.cpanplus/5.15.0/build/Digest-SHA1-2.13/blib/lib:/home/cpan/pit/thr/conf/perl-5.15.0/.cpanplus/5.15.0/build/Digest-SHA1-2.13/blib/arch:/home/cpan/pit/thr/conf/perl-5.15.0/.cpanplus/5.15.0/build/Error-0.17016/blib/lib:/home/cpan/pit/thr/conf/perl-5.15.0/.cpanplus/5.15.0/build/Error-0.17016/blib/arch:/home/cpan/pit/thr/conf/perl-5.15.0/.cpanplus/5.15.0/build/Cache-Cache-1.06/blib/lib:/home/cpan/pit/thr/conf/perl-5.15.0/.cpanplus/5.15.0/build/Cache-Cache-1.06/blib/arch:/home/cpan/pit/thr/conf/perl-5.15.0/.cpanplus/5.15.0/build/Class-Factory-1.06/blib/lib:/home/cpan/pit/thr/conf/perl-5.15.0/.cpanplus/5.15.0/build/Class-Factory-1.06/blib/arch:/home/cpan/pit/thr/conf/perl-5.15.0/.cpanplus/5.15.0/build/Cache-CacheFactory-1.10/blib/lib:/home/cpan/pit/thr/conf/perl-5.15.0/.cpanplus/5.15.0/build/Cache-CacheFactory-1.10/blib/arch"
PERL5_CPANPLUS_IS_RUNNING="3535"
PERL5_CPANPLUS_IS_VERSION="0.9109"
PERL5_MINISMOKEBOX="0.54"
PERL5_YACSMOKE_BASE="/home/cpan/pit/thr/conf/perl-5.15.0"
PERL_EXTUTILS_AUTOINSTALL="--defaultdeps"
PERL_MM_USE_DEFAULT="1"
@INC:
/home/cpan/pit/thr/conf/perl-5.15.0/.cpanplus/5.15.0/build/Digest-SHA1-2.13/blib/lib
/home/cpan/pit/thr/conf/perl-5.15.0/.cpanplus/5.15.0/build/Digest-SHA1-2.13/blib/arch
/home/cpan/pit/thr/conf/perl-5.15.0/.cpanplus/5.15.0/build/Error-0.17016/blib/lib
/home/cpan/pit/thr/conf/perl-5.15.0/.cpanplus/5.15.0/build/Error-0.17016/blib/arch
/home/cpan/pit/thr/conf/perl-5.15.0/.cpanplus/5.15.0/build/Cache-Cache-1.06/blib/lib
/home/cpan/pit/thr/conf/perl-5.15.0/.cpanplus/5.15.0/build/Cache-Cache-1.06/blib/arch
/home/cpan/pit/thr/conf/perl-5.15.0/.cpanplus/5.15.0/build/Class-Factory-1.06/blib/lib
/home/cpan/pit/thr/conf/perl-5.15.0/.cpanplus/5.15.0/build/Class-Factory-1.06/blib/arch
/home/cpan/pit/thr/conf/perl-5.15.0/.cpanplus/5.15.0/build/Cache-CacheFactory-1.10/blib/lib
/home/cpan/pit/thr/conf/perl-5.15.0/.cpanplus/5.15.0/build/Cache-CacheFactory-1.10/blib/arch
/home/cpan/pit/thr/perl-5.15.0/lib/site_perl/5.15.0/amd64-netbsd-thread-multi
/home/cpan/pit/thr/perl-5.15.0/lib/site_perl/5.15.0
/home/cpan/pit/thr/perl-5.15.0/lib/5.15.0/amd64-netbsd-thread-multi
/home/cpan/pit/thr/perl-5.15.0/lib/5.15.0
.