XTaTIK v0.005002 Perl 5 v5.30.0 RC1 x86_64-linux

Status
Pass
From
Slaven Rezić (SREZIC)
Dist
XTaTIK v0.005002
Platform
Perl 5 v5.30.0 RC1 x86_64-linux
Date
2019-05-15 01:24:42
ID
373d16cc-76b0-11e9-acb9-ae351f24ea8f
This distribution has been tested as part of the CPAN Testers
project, supporting the Perl programming language.  See
http://wiki.cpantesters.org/ for more information or email
questions to cpan-testers-discuss@perl.org


--
Dear Zoffix Znet,

This is a computer-generated report for XTaTIK-0.005002
on perl 5.30.0, created by CPAN-Reporter-1.2018.

Thank you for uploading your work to CPAN.  Congratulations!
All tests were successful.

Sections of this report:

    * Tester comments
    * Program output
    * Prerequisites
    * Environment and other context

------------------------------
TESTER COMMENTS
------------------------------

Additional comments from tester:

none provided

------------------------------
PROGRAM OUTPUT
------------------------------

Output from '/usr/bin/make test':

PERL_DL_NONLAZY=1 "/opt/perl-5.30.0-RC1/bin/perl" "-MExtUtils::Command::MM" "-MTest::Harness" "-e" "undef *Test::Harness::Switches; test_harness(0, 'blib/lib', 'blib/arch')" t/*.t
t/00-compile.t ................... ok
# Set XTATIK_TESTING env var to true, to run the tests
t/01-cat-traversal.t ............. ok
# Set XTATIK_TESTING env var to true, to run the tests
t/02-unit-multi-calculation.t .... ok
# Set XTATIK_TESTING env var to true, to run the tests
t/03-custom-cat-sorting.t ........ ok
# Set XTATIK_TESTING env var to true, to run the tests
t/04-blog.t ...................... ok
# Set XTATIK_TESTING env var to true, to run the tests
t/05-hot-products.t .............. ok
# Set XTATIK_TESTING env var to true, to run the tests
t/06-product-search.t ............ ok
# Set XTATIK_TESTING env var to true, to run the tests
t/07-google-analytics.t .......... ok
# Set XTATIK_TESTING env var to true, to run the tests
t/08-sitemap.t ................... ok
# Set XTATIK_TESTING env var to true, to run the tests
t/09-price-activated-features.t .. ok
# Set XTATIK_TESTING env var to true, to run the tests
t/10-product-pic-finder.t ........ ok
# Set XTATIK_TESTING env var to true, to run the tests
t/11-shipping_free-conf.t ........ ok
# Set XTATIK_TESTING env var to true, to run the tests
t/12-shop-titles.t ............... ok
# Set XTATIK_TESTING env var to true, to run the tests
t/13-meta-tags.t ................. ok
# Set XTATIK_TESTING env var to true, to run the tests
t/99-temp-restore-db.t ........... ok
All tests successful.
Files=15, Tests=42, 10 wallclock secs ( 0.09 usr  0.04 sys +  8.85 cusr  1.22 csys = 10.20 CPU)
Result: PASS

------------------------------
PREREQUISITES
------------------------------

Prerequisite modules loaded:

requires:

    Module                              Need     Have    
    ----------------------------------- -------- --------
    autobox                             0        v3.0.1  
    Carp                                0        1.50    
    Data::Entropy::Algorithms           0        0.007   
    Digest                              0        1.17_01 
    Digest::Bcrypt                      v1.0.1   1.209   
    Encode                              0        3.01    
    experimental                        0        0.020   
    Exporter                            0        5.73    
    Exporter::Easy                      0        0.18    
    File::Basename                      0        2.85    
    File::Find::Rule                    0        0.34    
    File::Glob                          0        1.32    
    File::Slurp::Tiny                   0        0.004   
    File::Spec::Functions               0        3.78    
    FindBin                             0        1.51    
    HTML::Entities                      0        3.69    
    JSON::Meth                          0        1.001007
    lib                                 0        0.65    
    List::AllUtils                      0        0.15    
    List::UtilsBy                       0        0.11    
    MIME::Base64                        0        3.15    
    Mojo::Base                          0        0       
    Mojo::DOM                           0        0       
    Mojo::Pg                            0        4.13    
    Mojolicious                         6.17     8.15    
    Mojolicious::Commands               0        0       
    Mojolicious::Lite                   0        0       
    Mojolicious::Plugin::AntiSpamMailTo 1.001003 1.001003
    Mojolicious::Plugin::AssetPack      0.63     2.08    
  ! Mojolicious::Plugin::Bootstrap3     3.3502   n/a     
    Mojolicious::Plugin::FormChecker    1.001002 1.001003
    Mojolicious::Plugin::IP2Location    0.001001 0.001001
    perl                                5.020    5.030000
    Scalar::Util                        0        1.50    
    Search::Indexer                     0        0.79    
    strict                              0        1.11    
    Text::Markdown                      0        1.000031
    Toadfarm                            0        0.79    
    utf8                                0        1.22    
    warnings                            0        1.44    

build_requires:

    Module                              Need     Have    
    ----------------------------------- -------- --------
    blib                                1.01     1.07    
    ExtUtils::MakeMaker                 0        7.36    
    File::Copy                          0        2.34    
    File::Spec                          0        3.78    
    IO::Handle                          0        1.40    
    IPC::Open3                          0        1.20    
    Test::Mojo::WithRoles               0        0.02    
    Test::More                          0        1.302164
    Test::Most                          0        0.35    

configure_requires:

    Module                              Need     Have    
    ----------------------------------- -------- --------
    ExtUtils::MakeMaker                 0        7.36    
    perl                                5.020    5.030000


------------------------------
ENVIRONMENT AND OTHER CONTEXT
------------------------------

Environment variables:

    LANG = en_US.UTF-8
    LC_ALL = de_DE.UTF-8
    PATH = /usr/local/bin:/usr/bin:/bin:/usr/local/sbin:/usr/sbin:/sbin:/home/cpansand/bin/linux-gnu:/home/cpansand/bin/sh:/home/cpansand/bin:/usr/games:/home/cpansand/devel:/home/eserte/src/srezic-misc/scripts
    PERL5LIB = 
    PERL5OPT = 
    PERL5_CPANPLUS_IS_RUNNING = 24702
    PERL5_CPAN_IS_RUNNING = 24702
    PERL5_CPAN_IS_RUNNING_IN_RECURSION = 4624,24702
    PERLDOC = -MPod::Perldoc::ToTextOverstrike
    PERL_BATCH = yes
    PERL_CANARY_STABILITY_NOPROMPT = 1
    PERL_CPAN_REPORTER_CONFIG = /var/tmp/cpansmoker-1023/2019051501/cpanreporter_000_config.ini
    PERL_EXTUTILS_AUTOINSTALL = --defaultdeps
    PERL_PARALLEL_SMOKER = yes
    PERL_USE_UNSAFE_INC = 1
    SHELL = /usr/bin/zsh
    TERM = screen
    TMPDIR = /var/tmp/cpansmoker-1023/2019051501

Perl special variables (and OS-specific diagnostics, for MSWin32):

    $^X = /opt/perl-5.30.0-RC1/bin/perl
    $UID/$EUID = 1023 / 1023
    $GID = 1023 1023
    $EGID = 1023 1023

Perl module toolchain versions installed:

    Module              Have    
    ------------------- --------
    CPAN                2.26    
    CPAN::Meta          2.150010
    Cwd                 3.78    
    ExtUtils::CBuilder  0.280231
    ExtUtils::Command   7.36    
    ExtUtils::Install   2.14    
    ExtUtils::MakeMaker 7.36    
    ExtUtils::Manifest  1.72    
    ExtUtils::ParseXS   3.40    
    File::Spec          3.78    
    JSON                4.02    
    JSON::PP            4.02    
    Module::Build       0.4229  
    Module::Signature   0.83    
    Parse::CPAN::Meta   2.150010
    Test::Harness       3.42    
    Test::More          1.302164
    YAML                1.29    
    YAML::Syck          1.31    
    version             0.9924  


--

Summary of my perl5 (revision 5 version 30 subversion 0) configuration:
   
  Platform:
    osname=linux
    osvers=5.0.13-100.fc28.x86_64
    archname=x86_64-linux
    uname='linux fedora-4gb-hel1-1 5.0.13-100.fc28.x86_64 #1 smp mon may 6 01:54:55 utc 2019 x86_64 x86_64 x86_64 gnulinux '
    config_args='-ds -e -Dprefix=/opt/perl-5.30.0-RC1 -Dcf_email=srezic@cpan.org'
    hint=recommended
    useposix=true
    d_sigaction=define
    useithreads=undef
    usemultiplicity=undef
    use64bitint=define
    use64bitall=define
    uselongdouble=undef
    usemymalloc=n
    default_inc_excludes_dot=define
    bincompat5005=undef
  Compiler:
    cc='cc'
    ccflags ='-fwrapv -fno-strict-aliasing -pipe -fstack-protector-strong -I/usr/local/include -D_LARGEFILE_SOURCE -D_FILE_OFFSET_BITS=64 -D_FORTIFY_SOURCE=2'
    optimize='-O2'
    cppflags='-fwrapv -fno-strict-aliasing -pipe -fstack-protector-strong -I/usr/local/include'
    ccversion=''
    gccversion='8.3.1 20190223 (Red Hat 8.3.1-2)'
    gccosandvers=''
    intsize=4
    longsize=8
    ptrsize=8
    doublesize=8
    byteorder=12345678
    doublekind=3
    d_longlong=define
    longlongsize=8
    d_longdbl=define
    longdblsize=16
    longdblkind=3
    ivtype='long'
    ivsize=8
    nvtype='double'
    nvsize=8
    Off_t='off_t'
    lseeksize=8
    alignbytes=8
    prototype=define
  Linker and Libraries:
    ld='cc'
    ldflags =' -fstack-protector-strong -L/usr/local/lib'
    libpth=/usr/local/lib /usr/lib /lib/../lib64 /usr/lib/../lib64 /lib /lib64 /usr/lib64 /usr/local/lib64
    libs=-lpthread -ldb -ldl -lm -lcrypt -lutil -lc
    perllibs=-lpthread -ldl -lm -lcrypt -lutil -lc
    libc=libc-2.27.so
    so=so
    useshrplib=false
    libperl=libperl.a
    gnulibc_version='2.27'
  Dynamic Linking:
    dlsrc=dl_dlopen.xs
    dlext=so
    d_dlsymun=undef
    ccdlflags='-Wl,-E'
    cccdlflags='-fPIC'
    lddlflags='-shared -O2 -L/usr/local/lib -fstack-protector-strong'


Characteristics of this binary (from libperl): 
  Compile-time options:
    HAS_TIMES
    PERLIO_LAYERS
    PERL_COPY_ON_WRITE
    PERL_DONT_CREATE_GVSV
    PERL_MALLOC_WRAP
    PERL_OP_PARENT
    PERL_PRESERVE_IVUV
    USE_64_BIT_ALL
    USE_64_BIT_INT
    USE_LARGE_FILES
    USE_LOCALE
    USE_LOCALE_COLLATE
    USE_LOCALE_CTYPE
    USE_LOCALE_NUMERIC
    USE_LOCALE_TIME
    USE_PERLIO
    USE_PERL_ATOF
  Locally applied patches:
    RC1
  Built under linux
  Compiled at May 12 2019 18:14:20
  %ENV:
    PERL5LIB=""
    PERL5OPT=""
    PERL5_CPANPLUS_IS_RUNNING="24702"
    PERL5_CPAN_IS_RUNNING="24702"
    PERL5_CPAN_IS_RUNNING_IN_RECURSION="4624,24702"
    PERLDOC="-MPod::Perldoc::ToTextOverstrike"
    PERL_BATCH="yes"
    PERL_CANARY_STABILITY_NOPROMPT="1"
    PERL_CPAN_REPORTER_CONFIG="/var/tmp/cpansmoker-1023/2019051501/cpanreporter_000_config.ini"
    PERL_EXTUTILS_AUTOINSTALL="--defaultdeps"
    PERL_PARALLEL_SMOKER="yes"
    PERL_USE_UNSAFE_INC="1"
  @INC:
    /opt/perl-5.30.0-RC1/lib/site_perl/5.30.0/x86_64-linux
    /opt/perl-5.30.0-RC1/lib/site_perl/5.30.0
    /opt/perl-5.30.0-RC1/lib/5.30.0/x86_64-linux
    /opt/perl-5.30.0-RC1/lib/5.30.0
    .