Back
From: metabase:user:fb19509c-17e3-11e3-a14d-fdb79081a995
Subject: PASS Lingua-ZH-Romanize-Pinyin-0.23 v5.20.0 Mac OS X
Date: 2014-05-27T18:25:00Z
This distribution has been tested as part of the CPAN Testers
project, supporting the Perl programming language. See
http://wiki.cpantesters.org/ for more information or email
questions to cpan-testers-discuss@perl.org
--
Dear KAWASAKI,
This is a computer-generated report for Lingua-ZH-Romanize-Pinyin-0.23
on perl 5.20.0, created by App::cpanminus::reporter 0.10 (1.7001).
Thank you for uploading your work to CPAN. Congratulations!
All tests were successful.
Sections of this report:
* Tester comments
* Program output
* Prerequisites
* Environment and other context
------------------------------
TESTER COMMENTS
------------------------------
Additional comments from tester:
none provided
------------------------------
PROGRAM OUTPUT
------------------------------
Output from '':
Building and testing Lingua-ZH-Romanize-Pinyin-0.23
/Users/ether/perl5/perlbrew/perls/20.0/bin/perl -Ilib -MLingua::ZH::Romanize::DictZH -e 'Lingua::ZH::Romanize::DictZH::Cantonese->update();'
Loading-Module: Storable.pm
Loading-Module: Encode.pm
Loading-Dictionary: cxterm/dict/big5/CTLauBig5.tit
Dictionary-Encoding: BIG5
Loading-Dictionary: cxterm/dict/gb/CTLau.tit
Dictionary-Encoding: GB2312
Writing-Storable: lib/Lingua/ZH/Romanize/Cantonese.store
Updater: Lingua::ZH::Romanize::DictZH (0.23)
Path: lib/Lingua/ZH/Romanize/Cantonese.store
Done.
/Users/ether/perl5/perlbrew/perls/20.0/bin/perl -Ilib -MLingua::ZH::Romanize::DictZH -e 'Lingua::ZH::Romanize::DictZH::Pinyin->update();'
Loading-Module: Storable.pm
Loading-Module: Encode.pm
Loading-Dictionary: cxterm/dict/big5/PY.tit
Dictionary-Encoding: BIG5
Loading-Dictionary: cxterm/dict/gb/PY.tit
Dictionary-Encoding: GB2312
Writing-Storable: lib/Lingua/ZH/Romanize/Pinyin.store
Updater: Lingua::ZH::Romanize::DictZH (0.23)
Path: lib/Lingua/ZH/Romanize/Pinyin.store
Done.
cp lib/Lingua/ZH/Romanize/Pinyin.pm blib/lib/Lingua/ZH/Romanize/Pinyin.pm
cp lib/Lingua/ZH/Romanize/Pinyin.store blib/lib/Lingua/ZH/Romanize/Pinyin.store
cp lib/Lingua/ZH/Romanize/DictZH.pm blib/lib/Lingua/ZH/Romanize/DictZH.pm
cp lib/Lingua/ZH/Romanize/Cantonese.pm blib/lib/Lingua/ZH/Romanize/Cantonese.pm
cp lib/Lingua/ZH/Romanize/Cantonese.store blib/lib/Lingua/ZH/Romanize/Cantonese.store
Manifying blib/man3/Lingua::ZH::Romanize::Cantonese.0
Manifying blib/man3/Lingua::ZH::Romanize::DictZH.0
Manifying blib/man3/Lingua::ZH::Romanize::Pinyin.0
PERL_DL_NONLAZY=1 /Users/ether/perl5/perlbrew/perls/20.0/bin/perl "-MExtUtils::Command::MM" "-MTest::Harness" "-e" "undef *Test::Harness::Switches; test_harness(0, 'blib/lib', 'blib/arch')" t/*.t
t/02_cantonese.t ....... ok
t/00_pod.t ............. ok
t/01_pinyin.t .......... ok
t/12_cantonese_utf8.t .. ok
t/11_pinyin_utf8.t ..... ok
All tests successful.
Files=5, Tests=77, 0 wallclock secs ( 0.04 usr 0.01 sys + 0.27 cusr 0.03 csys = 0.35 CPU)
Result: PASS
------------------------------
PREREQUISITES
------------------------------
Prerequisite modules loaded:
No requirements found
------------------------------
ENVIRONMENT AND OTHER CONTEXT
------------------------------
Environment variables:
LANG = en_CA.UTF-8
PATH = /Users/ether/.perlbrew/libs/20.0@std/bin:/Users/ether/perl5/perlbrew/bin:/Users/ether/perl5/perlbrew/perls/20.0/bin:/Users/ether/bin:/Users/ether/git/misc/install/bourbon/bin:/Users/ether/git/misc/install/generic/bin:/opt/local/bin:/opt/local/sbin:/Users/ether/src/CE/devtools:/Users/ether/git/CE/devtools:/Users/ether/src/CE/bin:/Users/ether/git/CE/bin:/usr/bin:/bin:/usr/sbin:/sbin:/usr/local/bin:/opt/local/share/git-core/contrib/workdir
PERL5LIB = /Users/ether/.perlbrew/libs/20.0@std/lib/perl5
PERLBREW_BASHRC_VERSION = 0.67
PERLBREW_HOME = /Users/ether/.perlbrew
PERLBREW_LIB = std
PERLBREW_MANPATH = /Users/ether/.perlbrew/libs/20.0@std/man:/Users/ether/perl5/perlbrew/perls/20.0/man
PERLBREW_PATH = /Users/ether/.perlbrew/libs/20.0@std/bin:/Users/ether/perl5/perlbrew/bin:/Users/ether/perl5/perlbrew/perls/20.0/bin
PERLBREW_PERL = 20.0
PERLBREW_ROOT = /Users/ether/perl5/perlbrew
PERLBREW_VERSION = 0.67
PERLDOC_PAGER = less -sicMr
PERL_AUTOINSTALL_PREFER_CPAN = 1
PERL_LOCAL_LIB_ROOT = /Users/ether/.perlbrew/libs/20.0@std
PERL_MB_OPT = --install_base /Users/ether/.perlbrew/libs/20.0@std
PERL_MM_OPT = INSTALL_BASE=/Users/ether/.perlbrew/libs/20.0@std
SHELL = /bin/bash
TERM = xterm-color
TMPDIR = /var/folders/kx/9dgyhhpn2yb7v2mggnr385fr0000gn/T/
Perl special variables (and OS-specific diagnostics, for MSWin32):
EGID = 20 20 402 12 61 79 80 81 98
EUID = 501
EXECUTABLE_NAME = /Users/ether/perl5/perlbrew/perls/20.0/bin/perl
GID = 20 20 402 12 61 79 80 81 98
UID = 501
Perl module toolchain versions installed:
Module Have
------------------- --------
CPAN 2.05
CPAN::Meta 2.140640
Cwd 3.47
ExtUtils::CBuilder 0.280216
ExtUtils::Command 1.18
ExtUtils::Install 1.67
ExtUtils::MakeMaker 6.98
ExtUtils::Manifest 1.63
ExtUtils::ParseXS 3.24
File::Spec 3.47
JSON 2.90
JSON::PP 2.27203
Module::Build 0.4205
Module::Signature n/a
Parse::CPAN::Meta 1.4414
Test::Harness 3.30
Test::More 1.001002
YAML 0.90
YAML::Syck 1.27
version 0.9908
--
Summary of my perl5 (revision 5 version 20 subversion 0) configuration:
Platform:
osname=darwin, osvers=12.5.0, archname=darwin-2level
uname='darwin bourbon 12.5.0 darwin kernel version 12.5.0: sun sep 29 13:33:47 pdt 2013; root:xnu-2050.48.12~1release_x86_64 x86_64 '
config_args='-de -Dprefix=/Users/ether/perl5/perlbrew/perls/20.0 -Dman1dir=none -Dman3dir=none -Aeval:scriptdir=/Users/ether/perl5/perlbrew/perls/20.0/bin'
hint=recommended, useposix=true, d_sigaction=define
useithreads=undef, usemultiplicity=undef
use64bitint=define, use64bitall=define, uselongdouble=undef
usemymalloc=n, bincompat5005=undef
Compiler:
cc='cc', ccflags ='-fno-common -DPERL_DARWIN -fno-strict-aliasing -pipe -fstack-protector -I/opt/local/include',
optimize='-O3',
cppflags='-fno-common -DPERL_DARWIN -fno-strict-aliasing -pipe -fstack-protector -I/opt/local/include'
ccversion='', gccversion='4.2.1 Compatible Apple LLVM 4.2 (clang-425.0.28)', gccosandvers=''
intsize=4, longsize=8, ptrsize=8, doublesize=8, byteorder=12345678
d_longlong=define, longlongsize=8, d_longdbl=define, longdblsize=16
ivtype='long', ivsize=8, nvtype='double', nvsize=8, Off_t='off_t', lseeksize=8
alignbytes=8, prototype=define
Linker and Libraries:
ld='env MACOSX_DEPLOYMENT_TARGET=10.3 cc', ldflags =' -fstack-protector -L/opt/local/lib'
libpth=/usr/bin/../lib/clang/4.2/lib /usr/lib /opt/local/lib
libs=-lgdbm -ldbm -ldl -lm -lutil -lc
perllibs=-ldl -lm -lutil -lc
libc=, so=dylib, useshrplib=false, libperl=libperl.a
gnulibc_version=''
Dynamic Linking:
dlsrc=dl_dlopen.xs, dlext=bundle, d_dlsymun=undef, ccdlflags=' '
cccdlflags=' ', lddlflags=' -bundle -undefined dynamic_lookup -L/opt/local/lib -fstack-protector'
Characteristics of this binary (from libperl):
Compile-time options: HAS_TIMES PERLIO_LAYERS PERL_DONT_CREATE_GVSV
PERL_HASH_FUNC_ONE_AT_A_TIME_HARD PERL_MALLOC_WRAP
PERL_NEW_COPY_ON_WRITE PERL_PRESERVE_IVUV
USE_64_BIT_ALL USE_64_BIT_INT USE_LARGE_FILES
USE_LOCALE USE_LOCALE_COLLATE USE_LOCALE_CTYPE
USE_LOCALE_NUMERIC USE_PERLIO USE_PERL_ATOF
Built under darwin
Compiled at May 27 2014 10:31:35
%ENV:
PERL5LIB="/Users/ether/.perlbrew/libs/20.0@std/lib/perl5"
PERLBREW_BASHRC_VERSION="0.67"
PERLBREW_HOME="/Users/ether/.perlbrew"
PERLBREW_LIB="std"
PERLBREW_MANPATH="/Users/ether/.perlbrew/libs/20.0@std/man:/Users/ether/perl5/perlbrew/perls/20.0/man"
PERLBREW_PATH="/Users/ether/.perlbrew/libs/20.0@std/bin:/Users/ether/perl5/perlbrew/bin:/Users/ether/perl5/perlbrew/perls/20.0/bin"
PERLBREW_PERL="20.0"
PERLBREW_ROOT="/Users/ether/perl5/perlbrew"
PERLBREW_VERSION="0.67"
PERLDOC_PAGER="less -sicMr"
PERL_AUTOINSTALL_PREFER_CPAN="1"
PERL_LOCAL_LIB_ROOT="/Users/ether/.perlbrew/libs/20.0@std"
PERL_MB_OPT="--install_base /Users/ether/.perlbrew/libs/20.0@std"
PERL_MM_OPT="INSTALL_BASE=/Users/ether/.perlbrew/libs/20.0@std"
@INC:
/Users/ether/.perlbrew/libs/20.0@std/lib/perl5/darwin-2level
/Users/ether/.perlbrew/libs/20.0@std/lib/perl5
/Users/ether/perl5/perlbrew/perls/20.0/lib/site_perl/5.20.0/darwin-2level
/Users/ether/perl5/perlbrew/perls/20.0/lib/site_perl/5.20.0
/Users/ether/perl5/perlbrew/perls/20.0/lib/5.20.0/darwin-2level
/Users/ether/perl5/perlbrew/perls/20.0/lib/5.20.0
.