Astro-Constants v0.15 Perl 5 v5.28.1 amd64-freebsd
        
            - Status
- Pass
- From
- Slaven Rezić
- Dist
- 
                Astro-Constants v0.15
            
- Platform
- Perl 5 v5.28.1 amd64-freebsd
- Date
- 2025-01-14 20:50:39
- ID
- 3637ec1e-d2b9-11ef-a6fa-76216e8775ea
This distribution has been tested as part of the CPAN Testers
project, supporting the Perl programming language.  See
http://wiki.cpantesters.org/ for more information or email
questions to cpan-testers-discuss@perl.org
--
Dear Boyd Duffee,
This is a computer-generated report for Astro-Constants-0.15
on perl 5.28.1, created by CPAN-Reporter-1.2019.
Thank you for uploading your work to CPAN.  Congratulations!
All tests were successful.
Sections of this report:
    * Tester comments
    * Program output
    * Prerequisites
    * Environment and other context
------------------------------
TESTER COMMENTS
------------------------------
Additional comments from tester:
none provided
------------------------------
PROGRAM OUTPUT
------------------------------
Output from '/usr/bin/make test':
PERL_DL_NONLAZY=1 "/usr/perl5.28.1p/bin/perl" "-MExtUtils::Command::MM" "-MTest::Harness" "-e" "undef *Test::Harness::Switches; test_harness(0, 'blib/lib', 'blib/arch')" t/*.t t/CODATA_2018/*.t
t/alternates.t ................... ok
t/author-critic.t ................ skipped: these tests are for testing by the author
t/author-pod.t ................... skipped: these tests are for testing by the author
t/author-validate_xml.t .......... skipped: these tests are for testing by the author
t/basic.t ........................ ok
t/codata_2014.t .................. skipped: waiting for Astro::Constants::CODATA::2014
t/CODATA_2018/alternates.t ....... ok
t/CODATA_2018/conversion.t ....... ok
t/CODATA_2018/electromagnetic.t .. ok
t/CODATA_2018/fundamental.t ...... ok
# MASS_HYDROGEN is from IUPAC 2013
t/CODATA_2018/nuclear.t .......... ok
t/conversion.t ................... ok
t/cosmology.t .................... ok
t/derived_constants.t ............ ok
t/electromagnetic.t .............. ok
t/functions.t .................... ok
t/fundamental.t .................. ok
# Testing values from IAU 2009/2012 System of Astronomical Constants
t/iau_2009.t ..................... ok
t/mathematical.t ................. ok
# MASS_HYDROGEN is from IUPAC 2013
t/nuclear.t ...................... ok
t/planetary.t .................... ok
t/warnings.t ..................... ok
HUBBLE_TIME deprecated at /home/cpansand/.cpan/build/2025011421/Astro-Constants-0.15-0/blib/lib/Astro/Constants/MKS.pm line 84.
t/zz_cosmology.t ................. ok
All tests successful.
Test Summary Report
-------------------
t/functions.t                  (Wstat: 0 Tests: 9 Failed: 0)
  TODO passed:   8-9
t/iau_2009.t                   (Wstat: 0 Tests: 10 Failed: 0)
  TODO passed:   8-10
Files=23, Tests=136,  2 wallclock secs ( 0.05 usr  0.02 sys +  1.29 cusr  0.82 csys =  2.18 CPU)
Result: PASS
------------------------------
PREREQUISITES
------------------------------
Prerequisite modules loaded:
requires:
    Module              Need  Have    
    ------------------- ----- --------
    perl                5.006 5.028001
build_requires:
    Module              Need  Have    
    ------------------- ----- --------
    ExtUtils::MakeMaker 0     7.70    
    Test2::V0           0     1.302206
    Test::More          0     1.302206
    Test::Number::Delta 0     1.06    
configure_requires:
    Module              Need  Have    
    ------------------- ----- --------
    ExtUtils::MakeMaker 0     7.70    
------------------------------
ENVIRONMENT AND OTHER CONTEXT
------------------------------
Environment variables:
    LC_ALL = de_DE.ISO8859-1
    PATH = /usr/local/bin:/usr/bin:/bin:/usr/local/sbin:/usr/sbin:/sbin:/home/cpansand/bin/freebsd10.3:/home/cpansand/bin/sh:/home/cpansand/bin:/usr/games:/home/cpansand/devel:/home/eserte/src/srezic-misc/scripts
    PERL5LIB = 
    PERL5OPT = 
    PERL5_CPANPLUS_IS_RUNNING = 49326
    PERL5_CPAN_IS_RUNNING = 49326
    PERL5_CPAN_IS_RUNNING_IN_RECURSION = 49289,49326
    PERLDOC = -MPod::Perldoc::ToTextOverstrike
    PERL_BATCH = yes
    PERL_CANARY_STABILITY_NOPROMPT = 1
    PERL_CPAN_REPORTER_CONFIG = /var/tmp/cpansmoker-1023/2025011421/cpanreporter_000_config.ini
    PERL_EXTUTILS_AUTOINSTALL = --defaultdeps
    PERL_USE_UNSAFE_INC = 1
    SHELL = /usr/local/bin/zsh
    TERM = screen
    TMPDIR = /var/tmp/cpansmoker-1023/2025011421
Perl special variables (and OS-specific diagnostics, for MSWin32):
    $^X = /usr/perl5.28.1p/bin/perl
    $UID/$EUID = 1023 / 1023
    $GID = 1023 1023
    $EGID = 1023 1023
Perl module toolchain versions installed:
    Module              Have    
    ------------------- --------
    CPAN                2.37    
    CPAN::Meta          2.150010
    Cwd                 3.75    
    ExtUtils::CBuilder  0.280236
    ExtUtils::Command   7.70    
    ExtUtils::Install   2.22    
    ExtUtils::MakeMaker 7.70    
    ExtUtils::Manifest  1.75    
    ExtUtils::ParseXS   3.51    
    File::Spec          3.75    
    JSON                4.10    
    JSON::PP            4.16    
    Module::Build       0.4234  
    Module::Signature   0.89    
    Parse::CPAN::Meta   2.150010
    Test2               1.302206
    Test::Harness       3.50    
    Test::More          1.302206
    YAML                1.30    
    YAML::Syck          1.34    
    version             0.9933  
--
Summary of my perl5 (revision 5 version 28 subversion 1) configuration:
   
  Platform:
    osname=freebsd
    osvers=10.3-release-p24
    archname=amd64-freebsd
    uname='freebsd cvrsnica-freebsd-101.herceg.de 10.3-release-p24 freebsd 10.3-release-p24 #0: wed nov 15 04:57:40 utc 2017 root@amd64-builder.daemonology.net:usrobjusrsrcsysgeneric amd64 '
    config_args='-ds -e -Dprefix=/usr/perl5.28.1p -Dcf_email=srezic@cpan.org -Doptimize=-O2 -pipe'
    hint=recommended
    useposix=true
    d_sigaction=define
    useithreads=undef
    usemultiplicity=undef
    use64bitint=define
    use64bitall=define
    uselongdouble=undef
    usemymalloc=n
    default_inc_excludes_dot=define
    bincompat5005=undef
  Compiler:
    cc='cc'
    ccflags ='-DHAS_FPSETMASK -DHAS_FLOATINGPOINT_H -fno-strict-aliasing -pipe -fstack-protector -I/usr/local/include -D_FORTIFY_SOURCE=2'
    optimize='-O2 -pipe'
    cppflags='-DHAS_FPSETMASK -DHAS_FLOATINGPOINT_H -fno-strict-aliasing -pipe -fstack-protector -I/usr/local/include'
    ccversion=''
    gccversion='4.2.1 Compatible FreeBSD Clang 3.4.1 (tags/RELEASE_34/dot1-final 208032)'
    gccosandvers=''
    intsize=4
    longsize=8
    ptrsize=8
    doublesize=8
    byteorder=12345678
    doublekind=3
    d_longlong=define
    longlongsize=8
    d_longdbl=define
    longdblsize=16
    longdblkind=3
    ivtype='long'
    ivsize=8
    nvtype='double'
    nvsize=8
    Off_t='off_t'
    lseeksize=8
    alignbytes=8
    prototype=define
  Linker and Libraries:
    ld='cc'
    ldflags ='-pthread -Wl,-E  -fstack-protector -L/usr/local/lib'
    libpth=/usr/lib /usr/local/lib /usr/include/clang/3.4.1 /usr/lib
    libs=-lpthread -lgdbm -lm -lcrypt -lutil -lc -lelf
    perllibs=-lpthread -lm -lcrypt -lutil -lc -lelf
    libc=
    so=so
    useshrplib=false
    libperl=libperl.a
    gnulibc_version=''
  Dynamic Linking:
    dlsrc=dl_dlopen.xs
    dlext=so
    d_dlsymun=undef
    ccdlflags=' '
    cccdlflags='-DPIC -fPIC'
    lddlflags='-shared  -L/usr/local/lib -fstack-protector'
Characteristics of this binary (from libperl): 
  Compile-time options:
    HAS_TIMES
    PERLIO_LAYERS
    PERL_COPY_ON_WRITE
    PERL_DONT_CREATE_GVSV
    PERL_MALLOC_WRAP
    PERL_OP_PARENT
    PERL_PRESERVE_IVUV
    USE_64_BIT_ALL
    USE_64_BIT_INT
    USE_LARGE_FILES
    USE_LOCALE
    USE_LOCALE_COLLATE
    USE_LOCALE_CTYPE
    USE_LOCALE_NUMERIC
    USE_LOCALE_TIME
    USE_PERLIO
    USE_PERL_ATOF
  Built under freebsd
  Compiled at Dec 12 2018 23:03:41
  %ENV:
    PERL5LIB=""
    PERL5OPT=""
    PERL5_CPANPLUS_IS_RUNNING="49326"
    PERL5_CPAN_IS_RUNNING="49326"
    PERL5_CPAN_IS_RUNNING_IN_RECURSION="49289,49326"
    PERLDOC="-MPod::Perldoc::ToTextOverstrike"
    PERL_BATCH="yes"
    PERL_CANARY_STABILITY_NOPROMPT="1"
    PERL_CPAN_REPORTER_CONFIG="/var/tmp/cpansmoker-1023/2025011421/cpanreporter_000_config.ini"
    PERL_EXTUTILS_AUTOINSTALL="--defaultdeps"
    PERL_USE_UNSAFE_INC="1"
  @INC:
    /usr/perl5.28.1p/lib/site_perl/5.28.1/amd64-freebsd
    /usr/perl5.28.1p/lib/site_perl/5.28.1
    /usr/perl5.28.1p/lib/5.28.1/amd64-freebsd
    /usr/perl5.28.1p/lib/5.28.1
    .