Back
From: metabase:user:30f4dfbe-2aae-11df-837a-5e0a49663a4f
Subject: PASS Parse-Eyapp-1.21 v5.8.6 GNU/Linux
Date: 2017-06-16T21:17:32Z
This distribution has been tested as part of the CPAN Testers
project, supporting the Perl programming language. See
http://wiki.cpantesters.org/ for more information or email
questions to cpan-testers-discuss@perl.org
--
Dear William N. Braswell, Jr.,
This is a computer-generated report for Parse-Eyapp-1.21
on perl 5.8.6, created by CPAN-Reporter-1.2018.
Thank you for uploading your work to CPAN. Congratulations!
All tests were successful.
Sections of this report:
* Tester comments
* Program output
* Prerequisites
* Environment and other context
------------------------------
TESTER COMMENTS
------------------------------
Additional comments from tester:
this report is from an automated smoke testing program
and was not reviewed by a human for accuracy
------------------------------
PROGRAM OUTPUT
------------------------------
Output from '/usr/bin/make test':
PERL_DL_NONLAZY=1 "/home/njh/perl5/perlbrew/perls/perl-5.8.6/bin/perl" "-MExtUtils::Command::MM" "-MTest::Harness" "-e" "undef *Test::Harness::Switches; test_harness(0, 'blib/lib', 'blib/arch')" t/*.t
t/04foldandzero.t ........................... ok
t/01calc.t .................................. ok
t/03newgrammar.t ............................ ok
t/05treewithvars.t .......................... ok
t/06meta.t .................................. ok
t/07translationschemetype.t ................. ok
t/08tschemetypestar.t ....................... ok
t/09ts_with_defaultaction.t ................. ok
t/11ts_simplify_codes.t ..................... ok
t/10ts_with_treereg.t ....................... ok
t/12ts_simplify_with_s.t .................... ok
t/13ts_simplify_with_delete.t ............... ok
t/15treeregswith2arrays.t ................... ok
t/14ts_simplify_with_trreereg.t ............. ok
t/16treeregswitharrayattheend.t ............. ok
t/17fatherisscalar.t ........................ ok
t/18fatherpatternwitharrays.t ............... ok
t/19treeregswitharrays2transf.t ............. ok
t/20treeregswitharrays2transf.t ............. ok
t/21fatherisdot.t ........................... ok
t/22treeregswithregexpwithid.t .............. ok
t/23treeregswitharraysandregexps.t .......... ok
t/24prefixes.t .............................. ok
t/25foldwithnew.t ........................... ok
t/26foldwithnewwithvars.t ................... ok
t/27unshiftinmyself.t ....................... ok
t/28unshifttwoitems.t ....................... ok
t/29foldinglistsofexpressions.t ............. ok
t/31optional.t .............................. ok
t/30complextreereg.t ........................ ok
t/32deletenodewithwarn.t .................... ok
t/33moveinvariantoutofloop.t ................ ok
t/34moveinvariantoutofloopcomplexformula.t .. ok
t/35match.t ................................. ok
t/36tswithmultipledefact.t .................. ok
t/37tsplus.t ................................ ok
t/38tspostfix.t ............................. ok
t/38tspostfix_resultisarray.t ............... ok
t/39tspostfix.t ............................. ok
t/40wrongoptionforTreeregexp_new.t .......... ok
t/42pod.t ................................... skipped: Developer test
t/41indexbug.t .............................. ok
t/43dotandscalar.t .......................... ok
t/44repeatedarray.t ......................... ok
t/45starandarray.t .......................... ok
t/47ruleindex.t ............................. ok
t/46starandstar.t ........................... ok
t/48yyprefix.t .............................. ok
t/49conflicts.t ............................. ok
t/52accesors.t .............................. ok
t/53accessorsskip.t ......................... ok
t/55builder.t ............................... ok
t/56equal.t ................................. ok
t/54alias_and_yyprefix.t .................... ok
t/50SimpleChalfscope.t ...................... ok
t/57testequal.t ............................. ok
t/58standalone.t ............................ ok
t/61standalonegift.t ........................ ok
t/59newgrammarerrors.t ...................... ok
t/60dynamicyyprefix_and_alias.t ............. ok
t/62docinsideeyapp.t ........................ ok
t/63docwithdoublecut.t ...................... ok
t/64standalonegiftandeyapp.t ................ ok
t/65yydebugandpod.t ......................... ok
t/66yydebugstandaloneandpod.t ............... ok
t/70dos2unix.t .............................. ok
t/67outputfile.t ............................ ok
t/71dynamicconflictresolution.t ............. ok
t/72mixedstandaloneanddynamicload.t ......... ok
t/73dynamicshiftreduceconflictresolution.t .. ok
t/75tokenandvariablewiththesamename.t ....... ok
t/74lalrdependanttest.t ..................... ok
t/78twolexers.t ............................. ok
t/77lexicalanalyzergeneration.t ............. ok
t/76minusvoption.t .......................... ok
t/79syntactictokenwithdef.t ................. ok
t/81tokendirectiveandsubstitution.t ......... ok
t/80ppcr.t .................................. ok
t/82expectandPLI.t .......................... ok
t/83parsingstringsandtrees.t ................ ok
t/84graphics.t .............................. ok
t/85minusSoption.t .......................... ok
t/86recycle.t ............................... ok
t/87namingSchemes.t ......................... ok
t/88explorer.t .............................. ok
t/98nopm.t .................................. ok
t/99Cplusplusgrammar.t ...................... skipped: Developer test
All tests successful.
Files=87, Tests=881, 22 wallclock secs ( 2.43 usr 0.87 sys + 71.80 cusr 6.53 csys = 81.63 CPU)
Result: PASS
------------------------------
PREREQUISITES
------------------------------
Prerequisite modules loaded:
requires:
Module Need Have
------------------- ---- --------
Data::Dumper 1.0 2.121_02
List::Util 1.0 1.47
Parse::Yapp 1.2 1.2
Pod::Usage 1.0 1.16
build_requires:
Module Need Have
------------------- ---- --------
ExtUtils::MakeMaker 0 7.24
configure_requires:
Module Need Have
------------------- ---- --------
ExtUtils::MakeMaker 0 7.24
------------------------------
ENVIRONMENT AND OTHER CONTEXT
------------------------------
Environment variables:
AUTOMATED_TESTING = 1
HARNESS_OPTIONS = j4
LANG = en_US.UTF-8
LANGUAGE = en_US.UTF-8
LC_ALL = en_US.UTF-8
PATH = /home/njh/perl5/perlbrew/bin:/home/njh/perl5/perlbrew/perls/perl-5.8.6/bin:/home/njh/perl5/perlbrew/bin:/home/njh/src/njh/smoker/bin:/usr/bin:/bin
PERL5LIB = /home/njh/.cpan/build/Parse-Yapp-1.2-0/blib/arch:/home/njh/.cpan/build/Parse-Yapp-1.2-0/blib/lib
PERL5OPT =
PERL5_CPANPLUS_IS_RUNNING = 28599
PERL5_CPAN_IS_RUNNING = 28599
PERLBREW_BASHRC_VERSION = 0.78
PERLBREW_LIB =
PERLBREW_MANPATH = /home/njh/perl5/perlbrew/perls/perl-5.8.6/man
PERLBREW_PATH = /home/njh/perl5/perlbrew/bin:/home/njh/perl5/perlbrew/perls/perl-5.8.6/bin
PERLBREW_PERL = perl-5.8.6
PERLBREW_ROOT = /home/njh/perl5/perlbrew
PERLBREW_VERSION = 0.78
PERL_LOCAL_LIB_ROOT =
SHELL = /bin/sh
Perl special variables (and OS-specific diagnostics, for MSWin32):
$^X = /home/njh/perl5/perlbrew/perls/perl-5.8.6/bin/perl
$UID/$EUID = 1000 / 1000
$GID = 100 100
$EGID = 100 100
Perl module toolchain versions installed:
Module Have
------------------- --------
CPAN 2.16
CPAN::Meta 2.143240
Cwd 3.2701
ExtUtils::CBuilder 0.280224
ExtUtils::Command 7.24
ExtUtils::Install 1.54
ExtUtils::MakeMaker 7.24
ExtUtils::Manifest 1.70
ExtUtils::ParseXS 3.30
File::Spec 3.2701
JSON n/a
JSON::PP 2.27400
Module::Build 0.4220
Module::Signature n/a
Parse::CPAN::Meta 1.4414
Test::Harness 3.36
Test::More 1.302075
YAML n/a
YAML::Syck 1.30
version 0.9917
--
Summary of my perl5 (revision 5 version 8 subversion 6) configuration:
Platform:
osname=linux, osvers=4.5.7-std-4, archname=armv7l-linux-thread-multi
uname='linux scw-808d97 4.5.7-std-4 #1 smp tue jul 12 11:00:06 utc 2016 armv7l gnulinux '
config_args='-de -Dprefix=/home/njh/perl5/perlbrew/perls/perl-5.8.6 -Duseithreads -Dusemultiplicity -Dusedevel -Accflags=-O2 -W -Wformat=2 -Wswitch -Wshadow -Wwrite-strings -Wuninitialized -Wall -pipe -fomit-frame-pointer -D_FORTIFY_SOURCE=2 -Wpointer-arith -Wstrict-prototypes -fstack-protector -Wstack-protector -Wextra -Wbad-function-cast -Wcast-align -Wcast-qual -Wdisabled-optimization -Wendif-labels -Wfloat-equal -Wformat-nonliteral -Winline -Wmissing-declarations -Wmissing-prototypes -Wnested-externs -Wpointer-arith -Wundef -Wformat-security -mtune=native -march=native -mfpu=vfp -mfloat-abi=hard -Aeval:scriptdir=/home/njh/perl5/perlbrew/perls/perl-5.8.6/bin'
hint=recommended, useposix=true, d_sigaction=define
usethreads=define use5005threads=undef useithreads=define usemultiplicity=define
useperlio=define d_sfio=undef uselargefiles=define usesocks=undef
use64bitint=undef use64bitall=undef uselongdouble=undef
usemymalloc=n, bincompat5005=undef
Compiler:
cc='cc', ccflags ='-D_REENTRANT -D_GNU_SOURCE -O2 -W -Wformat=2 -Wswitch -Wshadow -Wwrite-strings -Wuninitialized -Wall -pipe -fomit-frame-pointer -D_FORTIFY_SOURCE=2 -Wpointer-arith -Wstrict-prototypes -fstack-protector -Wstack-protector -Wextra -Wbad-function-cast -Wcast-align -Wcast-qual -Wdisabled-optimization -Wendif-labels -Wfloat-equal -Wformat-nonliteral -Winline -Wmissing-declarations -Wmissing-prototypes -Wnested-externs -Wpointer-arith -Wundef -Wformat-security -mtune=native -march=native -mfpu=vfp -mfloat-abi=hard -fno-strict-aliasing -I/usr/local/include -D_LARGEFILE_SOURCE -D_FILE_OFFSET_BITS=64',
optimize='-O2',
cppflags='-D_REENTRANT -D_GNU_SOURCE -O2 -W -Wformat=2 -Wswitch -Wshadow -Wwrite-strings -Wuninitialized -Wall -pipe -fomit-frame-pointer -D_FORTIFY_SOURCE=2 -Wpointer-arith -Wstrict-prototypes -fstack-protector -Wstack-protector -Wextra -Wbad-function-cast -Wcast-align -Wcast-qual -Wdisabled-optimization -Wendif-labels -Wfloat-equal -Wformat-nonliteral -Winline -Wmissing-declarations -Wmissing-prototypes -Wnested-externs -Wpointer-arith -Wundef -Wformat-security -mtune=native -march=native -mfpu=vfp -mfloat-abi=hard -fno-strict-aliasing -I/usr/local/include'
ccversion='', gccversion='4.9.2', gccosandvers=''
intsize=4, longsize=4, ptrsize=4, doublesize=8, byteorder=1234
d_longlong=define, longlongsize=8, d_longdbl=define, longdblsize=8
ivtype='long', ivsize=4, nvtype='double', nvsize=8, Off_t='off_t', lseeksize=8
alignbytes=8, prototype=define
Linker and Libraries:
ld='cc', ldflags =' -L/usr/local/lib'
libpth=/usr/local/lib /lib/arm-linux-gnueabihf /lib /usr/lib/arm-linux-gnueabihf /usr/lib
libs=-lnsl -ldl -lm -lcrypt -lutil -lpthread -lc
perllibs=-lnsl -ldl -lm -lcrypt -lutil -lpthread -lc
libc=libc-2.19.so, so=so, useshrplib=false, libperl=libperl.a
gnulibc_version='2.19'
Dynamic Linking:
dlsrc=dl_dlopen.xs, dlext=so, d_dlsymun=undef, ccdlflags='-Wl,-E'
cccdlflags='-fpic', lddlflags='-shared -L/usr/local/lib'
Characteristics of this binary (from libperl):
Compile-time options: MULTIPLICITY USE_ITHREADS USE_LARGE_FILES PERL_IMPLICIT_CONTEXT
Locally applied patches:
Devel::PatchPerl 1.38
Built under linux
Compiled at Feb 26 2017 04:35:47
%ENV:
PERL5LIB="/home/njh/.cpan/build/Parse-Yapp-1.2-0/blib/arch:/home/njh/.cpan/build/Parse-Yapp-1.2-0/blib/lib"
PERL5OPT=""
PERL5_CPANPLUS_IS_RUNNING="28599"
PERL5_CPAN_IS_RUNNING="28599"
PERLBREW_BASHRC_VERSION="0.78"
PERLBREW_LIB=""
PERLBREW_MANPATH="/home/njh/perl5/perlbrew/perls/perl-5.8.6/man"
PERLBREW_PATH="/home/njh/perl5/perlbrew/bin:/home/njh/perl5/perlbrew/perls/perl-5.8.6/bin"
PERLBREW_PERL="perl-5.8.6"
PERLBREW_ROOT="/home/njh/perl5/perlbrew"
PERLBREW_VERSION="0.78"
PERL_LOCAL_LIB_ROOT=""
@INC:
/home/njh/.cpan/build/Parse-Yapp-1.2-0/blib/arch
/home/njh/.cpan/build/Parse-Yapp-1.2-0/blib/lib
/home/njh/perl5/perlbrew/perls/perl-5.8.6/lib/5.8.6/armv7l-linux-thread-multi
/home/njh/perl5/perlbrew/perls/perl-5.8.6/lib/5.8.6
/home/njh/perl5/perlbrew/perls/perl-5.8.6/lib/site_perl/5.8.6/armv7l-linux-thread-multi
/home/njh/perl5/perlbrew/perls/perl-5.8.6/lib/site_perl/5.8.6
/home/njh/perl5/perlbrew/perls/perl-5.8.6/lib/site_perl
.