Project2-Gantt v0.008 Perl 5 v5.34.0 x86_64-linux-ld

Status
Pass
From
Andreas J. König (ANDK)
Dist
Project2-Gantt v0.008
Platform
Perl 5 v5.34.0 x86_64-linux-ld
Date
2023-02-14 23:49:24
ID
35d34454-acc2-11ed-90db-43f063867b38
This distribution has been tested as part of the CPAN Testers
project, supporting the Perl programming language.  See
http://wiki.cpantesters.org/ for more information or email
questions to cpan-testers-discuss@perl.org


--
Dear Bruno Ramos,

This is a computer-generated report for Project2-Gantt-0.008
on perl 5.34.0, created by CPAN-Reporter-1.2018.

Thank you for uploading your work to CPAN.  Congratulations!
All tests were successful.

Sections of this report:

    * Tester comments
    * Program output
    * Prerequisites
    * Environment and other context

------------------------------
TESTER COMMENTS
------------------------------

Additional comments from tester:

this report is from an automated smoke testing program
and was not reviewed by a human for accuracy

------------------------------
PROGRAM OUTPUT
------------------------------

Output from '/usr/bin/make test':

PERL_DL_NONLAZY=1 "/home/sand/src/perl/repoperls/installed-perls/host/k93stretch/v5.34.0/e80a/bin/perl" "-MExtUtils::Command::MM" "-MTest::Harness" "-e" "undef *Test::Harness::Switches; test_harness(0, 'blib/lib', 'blib/arch')" t/*.t
# 
# Versions for all modules listed in MYMETA.json (including optional ones):
# 
# === Configure Requires ===
# 
#     Module              Want Have
#     ------------------- ---- ----
#     ExtUtils::MakeMaker  any 7.66
# 
# === Build Requires ===
# 
#     Module              Want Have
#     ------------------- ---- ----
#     ExtUtils::MakeMaker  any 7.66
# 
# === Test Requires ===
# 
#     Module              Want     Have
#     ------------------- ---- --------
#     ExtUtils::MakeMaker  any     7.66
#     File::Find::Rule     any     0.34
#     File::Spec           any     3.80
#     Test::Directory      any    0.051
#     Test::More           any 1.302191
# 
# === Test Recommends ===
# 
#     Module         Want     Have
#     ---------- -------- --------
#     CPAN::Meta 2.120900 2.150010
# 
# === Runtime Requires ===
# 
#     Module       Want     Have
#     ----------- ----- --------
#     Imager      1.019    1.019
#     Mojolicious  9.31     9.31
#     perl        5.020 5.034000
# 
# === Runtime Recommends ===
# 
#     Module             Want  Have
#     ----------------- ----- -----
#     Alien::Font::Vera 0.013 0.013
# 
t/00-report-prereqs.t .. ok
# Project2::Gantt
# Project2::Gantt::DateUtils
# Project2::Gantt::Skin
# Project2::Gantt::TextUtils
# Project2::Gantt::GanttHeader
# Project2::Gantt::ImageWriter
# Project2::Gantt::TimeSpan
# Project2::Gantt::Globals
# Project2::Gantt::Resource
# Project2::Gantt::Task
# Project2::Gantt::SpanInfo
# Project2::Gantt::Skin::Small
# Project2::Gantt::Skin::Large
# Project2::Gantt::Skin::Medium
t/compile.t ............ ok
# $VAR1 = bless( {
#                  'dir' => 'test-directory-tmp-Wa4tO'
#                }, 'Test::Directory' );
# $VAR1 = 'test-directory-tmp-Wa4tO/gantt-hours.png';
t/gantt-hours.t ........ ok
t/project2_gantt.t ..... ok
t/time_piece.t ......... ok
All tests successful.
Files=5, Tests=25,  2 wallclock secs ( 0.04 usr  0.01 sys +  1.09 cusr  0.19 csys =  1.33 CPU)
Result: PASS

------------------------------
PREREQUISITES
------------------------------

Prerequisite modules loaded:

requires:

    Module              Need  Have    
    ------------------- ----- --------
    Imager              1.019 1.019   
    Mojolicious         9.31  9.31    
    perl                5.020 5.034000

build_requires:

    Module              Need  Have    
    ------------------- ----- --------
    ExtUtils::MakeMaker 0     7.66    
    File::Find::Rule    0     0.34    
    File::Spec          0     3.80    
    Test::Directory     0     0.051   
    Test::More          0     1.302191

configure_requires:

    Module              Need  Have    
    ------------------- ----- --------
    ExtUtils::MakeMaker 0     7.66    

opt_requires:

    Module              Need  Have    
    ------------------- ----- --------
    Alien::Font::Vera   0.013 0.013   


------------------------------
ENVIRONMENT AND OTHER CONTEXT
------------------------------

Environment variables:

    AUTOMATED_TESTING = 1
    LANG = en_US.UTF-8
    LANGUAGE = en_US:en
    PATH = /home/sand/bin:/usr/local/bin:/usr/bin:/bin:/usr/games:/usr/local/perl/bin:/usr/X11/bin:/sbin:/usr/sbin
    PERL5LIB = /tmp/loop_over_bdir-19033-Y9I_ZO/Alien-Font-Vera-0.013-0/blib/arch:/tmp/loop_over_bdir-19033-Y9I_ZO/Alien-Font-Vera-0.013-0/blib/lib:/tmp/loop_over_bdir-19033-Y9I_ZO/Test-Directory-0.051-0/blib/arch:/tmp/loop_over_bdir-19033-Y9I_ZO/Test-Directory-0.051-0/blib/lib
    PERL5OPT = 
    PERL5_CPANPLUS_IS_RUNNING = 3697
    PERL5_CPAN_IS_RUNNING = 3697
    PERL_CANARY_STABILITY_NOPROMPT = 1
    PERL_MM_USE_DEFAULT = 1
    PERL_USE_UNSAFE_INC = 1
    SHELL = /usr/bin/zsh
    TERM = screen

Perl special variables (and OS-specific diagnostics, for MSWin32):

    $^X = /home/sand/src/perl/repoperls/installed-perls/host/k93stretch/v5.34.0/e80a/bin/perl
    $UID/$EUID = 1005 / 1005
    $GID = 1005 1005
    $EGID = 1005 1005

Perl module toolchain versions installed:

    Module              Have    
    ------------------- --------
    CPAN                2.34    
    CPAN::Meta          2.150010
    Cwd                 3.80    
    ExtUtils::CBuilder  0.280236
    ExtUtils::Command   7.66    
    ExtUtils::Install   2.22    
    ExtUtils::MakeMaker 7.66    
    ExtUtils::Manifest  1.73    
    ExtUtils::ParseXS   3.44    
    File::Spec          3.80    
    JSON                4.10    
    JSON::PP            4.16    
    Module::Build       0.4232  
    Module::Signature   0.88    
    Parse::CPAN::Meta   2.150010
    Test::Harness       3.44    
    Test::More          1.302191
    YAML                1.30    
    YAML::Syck          1.34    
    version             0.9929  


--

Summary of my perl5 (revision 5 version 34 subversion 0) configuration:
  Commit id: 79a7b254d85a10b65126ad99bf10e70480569d68
  Platform:
    osname=linux
    osvers=4.9.0-18-amd64
    archname=x86_64-linux-ld
    uname='linux k93stretch 4.9.0-18-amd64 #1 smp debian 4.9.303-1 (2022-03-07) x86_64 gnulinux '
    config_args='-Dprefix=/home/sand/src/perl/repoperls/installed-perls/host/k93stretch/v5.34.0/e80a -Dmyhostname=k93stretch -Dinstallusrbinperl=n -Uversiononly -Dusedevel -des -Ui_db -Dlibswanted=cl pthread socket inet nsl gdbm dbm malloc dl ld sun m crypt sec util c cposix posix ucb BSD gdbm_compat -Uuseithreads -Duselongdouble -DEBUGGING=both'
    hint=recommended
    useposix=true
    d_sigaction=define
    useithreads=undef
    usemultiplicity=undef
    use64bitint=define
    use64bitall=define
    uselongdouble=define
    usemymalloc=n
    default_inc_excludes_dot=define
  Compiler:
    cc='cc'
    ccflags ='-fwrapv -DDEBUGGING -fno-strict-aliasing -pipe -fstack-protector-strong -I/usr/local/include -D_LARGEFILE_SOURCE -D_FILE_OFFSET_BITS=64 -D_FORTIFY_SOURCE=2'
    optimize='-O2 -g'
    cppflags='-fwrapv -DDEBUGGING -fno-strict-aliasing -pipe -fstack-protector-strong -I/usr/local/include'
    ccversion=''
    gccversion='6.3.0 20170516'
    gccosandvers=''
    intsize=4
    longsize=8
    ptrsize=8
    doublesize=8
    byteorder=12345678
    doublekind=3
    d_longlong=define
    longlongsize=8
    d_longdbl=define
    longdblsize=16
    longdblkind=3
    ivtype='long'
    ivsize=8
    nvtype='long double'
    nvsize=16
    Off_t='off_t'
    lseeksize=8
    alignbytes=16
    prototype=define
  Linker and Libraries:
    ld='cc'
    ldflags =' -fstack-protector-strong -L/usr/local/lib'
    libpth=/usr/local/lib /usr/lib/x86_64-linux-gnu /usr/lib /lib/x86_64-linux-gnu /lib
    libs=-lpthread -lnsl -ldl -lm -lcrypt -lutil -lc
    perllibs=-lpthread -lnsl -ldl -lm -lcrypt -lutil -lc
    libc=libc-2.24.so
    so=so
    useshrplib=false
    libperl=libperl.a
    gnulibc_version='2.24'
  Dynamic Linking:
    dlsrc=dl_dlopen.xs
    dlext=so
    d_dlsymun=undef
    ccdlflags='-Wl,-E'
    cccdlflags='-fPIC'
    lddlflags='-shared -O2 -g -L/usr/local/lib -fstack-protector-strong'


Characteristics of this binary (from libperl): 
  Compile-time options:
    DEBUGGING
    HAS_TIMES
    PERLIO_LAYERS
    PERL_COPY_ON_WRITE
    PERL_DONT_CREATE_GVSV
    PERL_MALLOC_WRAP
    PERL_OP_PARENT
    PERL_PRESERVE_IVUV
    PERL_USE_DEVEL
    USE_64_BIT_ALL
    USE_64_BIT_INT
    USE_LARGE_FILES
    USE_LOCALE
    USE_LOCALE_COLLATE
    USE_LOCALE_CTYPE
    USE_LOCALE_NUMERIC
    USE_LOCALE_TIME
    USE_LONG_DOUBLE
    USE_PERLIO
    USE_PERL_ATOF
  Built under linux
  Compiled at Apr 18 2022 07:01:56
  %ENV:
    PERL5LIB="/tmp/loop_over_bdir-19033-Y9I_ZO/Alien-Font-Vera-0.013-0/blib/arch:/tmp/loop_over_bdir-19033-Y9I_ZO/Alien-Font-Vera-0.013-0/blib/lib:/tmp/loop_over_bdir-19033-Y9I_ZO/Test-Directory-0.051-0/blib/arch:/tmp/loop_over_bdir-19033-Y9I_ZO/Test-Directory-0.051-0/blib/lib"
    PERL5OPT=""
    PERL5_CPANPLUS_IS_RUNNING="3697"
    PERL5_CPAN_IS_RUNNING="3697"
    PERL_CANARY_STABILITY_NOPROMPT="1"
    PERL_MM_USE_DEFAULT="1"
    PERL_USE_UNSAFE_INC="1"
  @INC:
    /tmp/loop_over_bdir-19033-Y9I_ZO/Alien-Font-Vera-0.013-0/blib/arch
    /tmp/loop_over_bdir-19033-Y9I_ZO/Alien-Font-Vera-0.013-0/blib/lib
    /tmp/loop_over_bdir-19033-Y9I_ZO/Test-Directory-0.051-0/blib/arch
    /tmp/loop_over_bdir-19033-Y9I_ZO/Test-Directory-0.051-0/blib/lib
    /home/sand/src/perl/repoperls/installed-perls/host/k93stretch/v5.34.0/e80a/lib/site_perl/5.34.0/x86_64-linux-ld
    /home/sand/src/perl/repoperls/installed-perls/host/k93stretch/v5.34.0/e80a/lib/site_perl/5.34.0
    /home/sand/src/perl/repoperls/installed-perls/host/k93stretch/v5.34.0/e80a/lib/5.34.0/x86_64-linux-ld
    /home/sand/src/perl/repoperls/installed-perls/host/k93stretch/v5.34.0/e80a/lib/5.34.0
    .