Convert-Pheno v0.27 Perl 5 v5.28.3 arm64-freebsd
- Status
- Pass
- From
- Slaven Rezić
- Dist
-
Convert-Pheno v0.27
- Platform
- Perl 5 v5.28.3 arm64-freebsd
- Date
- 2025-01-16 14:21:42
- ID
- 355c2c08-d415-11ef-9f4c-da2b6e8775ea
This distribution has been tested as part of the CPAN Testers
project, supporting the Perl programming language. See
http://wiki.cpantesters.org/ for more information or email
questions to cpan-testers-discuss@perl.org
--
Dear Manuel Rueda,
This is a computer-generated report for Convert-Pheno-0.27
on perl 5.28.3, created by CPAN-Reporter-1.2019.
Thank you for uploading your work to CPAN. Congratulations!
All tests were successful.
Sections of this report:
* Tester comments
* Program output
* Prerequisites
* Environment and other context
------------------------------
TESTER COMMENTS
------------------------------
Additional comments from tester:
none provided
------------------------------
PROGRAM OUTPUT
------------------------------
Output from '/usr/bin/make test':
Skip blib/lib/auto/share/dist/Convert-Pheno/db/omim.db (unchanged)
Skip blib/lib/auto/share/dist/Convert-Pheno/db/cdisc.db (unchanged)
Skip blib/lib/auto/share/dist/Convert-Pheno/db/README (unchanged)
Skip blib/lib/auto/share/dist/Convert-Pheno/db/icd10.db (unchanged)
Skip blib/lib/auto/share/dist/Convert-Pheno/ex/perl.pl (unchanged)
Skip blib/lib/auto/share/dist/Convert-Pheno/db/concepts_candidates_2_exposure.csv (unchanged)
Skip blib/lib/auto/share/dist/Convert-Pheno/schema/mapping.json (unchanged)
Skip blib/lib/auto/share/dist/Convert-Pheno/db/hpo.db (unchanged)
Skip blib/lib/auto/share/dist/Convert-Pheno/ex/python.py (unchanged)
Skip blib/lib/auto/share/dist/Convert-Pheno/db/ncit.db (unchanged)
PERL_DL_NONLAZY=1 "/usr/perl5.28.3/bin/perl" "-MExtUtils::Command::MM" "-MTest::Harness" "-e" "undef *Test::Harness::Switches; test_harness(0, 'blib/lib', 'blib/arch')" t/*.t
t/args.t ..... ok
t/cli.t ...... ok
t/mapping.t .. ok
t/module.t ... ok
t/stream.t ... ok
All tests successful.
Files=5, Tests=33, 13 wallclock secs ( 0.04 usr 0.02 sys + 11.77 cusr 1.10 csys = 12.93 CPU)
Result: PASS
------------------------------
PREREQUISITES
------------------------------
Prerequisite modules loaded:
requires:
Module Need Have
------------------------------ -------- --------
Data::Leaf::Walker 0.21 0.21
DBD::SQLite 1.72 1.74
DBI 1.643 1.643
Devel::Size 0.84 0.84
File::ShareDir::ProjectDistDir 1.000009 1.000009
Hash::Fold v1.0.0 v1.0.0
JSON::Validator 5.14 5.14
JSON::XS 4.03 4.03
JSONLD 0.006 0.006
Mojolicious 9.33 9.37
Moo 2.005005 2.005005
Path::Tiny 0.144 0.146
perl 5.026000 5.028003
Sort::Naturally 1.03 1.03
Term::ANSIColor 5.01 5.01
Text::CSV_XS 1.50 1.55
Text::Similarity 0.13 0.13
Types::Standard 2.004000 2.006000
XML::Fast 0.17 0.17
YAML::XS 0.88 v0.902.0
build_requires:
Module Need Have
------------------------------ -------- --------
ExtUtils::MakeMaker 0 7.70
Test::Deep 1.204 1.204
Test::Exception 0.43 0.43
Test::More 1.30 1.302207
Test::Warn 0.37 0.37
configure_requires:
Module Need Have
------------------------------ -------- --------
ExtUtils::MakeMaker 7.70 7.70
File::ShareDir::Install 0.14 0.14
------------------------------
ENVIRONMENT AND OTHER CONTEXT
------------------------------
Environment variables:
LANG = C.UTF-8
PATH = /usr/local/bin:/usr/bin:/bin:/usr/local/sbin:/usr/sbin:/sbin:/home/cpansand/bin/sh:/home/cpansand/bin:/usr/games:/home/cpansand/devel:/home/eserte/src/srezic-misc/scripts
PERL5LIB = /home/cpansand/.cpan/build/2025011614/XML-Fast-0.17-0/blib/arch:/home/cpansand/.cpan/build/2025011614/XML-Fast-0.17-0/blib/lib:/home/cpansand/.cpan/build/2025011614/Text-Similarity-0.13-0/blib/arch:/home/cpansand/.cpan/build/2025011614/Text-Similarity-0.13-0/blib/lib:/home/cpansand/.cpan/build/2025011614/JSONLD-0.006-0/blib/arch:/home/cpansand/.cpan/build/2025011614/JSONLD-0.006-0/blib/lib:/home/cpansand/.cpan/build/2025011614/Data-Leaf-Walker-0.21-0/blib/arch:/home/cpansand/.cpan/build/2025011614/Data-Leaf-Walker-0.21-0/blib/lib
PERL5OPT =
PERL5_CPANPLUS_IS_RUNNING = 77381
PERL5_CPAN_IS_RUNNING = 77381
PERL5_CPAN_IS_RUNNING_IN_RECURSION = 54023,77381
PERL_BATCH = yes
PERL_CANARY_STABILITY_NOPROMPT = 1
PERL_CPAN_REPORTER_CONFIG = /var/tmp/cpansmoker-1023/2025011613/cpanreporter_000_config.ini
PERL_EXTUTILS_AUTOINSTALL = --defaultdeps
PERL_USE_UNSAFE_INC = 1
SHELL = /bin/sh
TMPDIR = /var/tmp/cpansmoker-1023/2025011613
Perl special variables (and OS-specific diagnostics, for MSWin32):
$^X = /usr/perl5.28.3/bin/perl
$UID/$EUID = 1023 / 1023
$GID = 1023 1023
$EGID = 1023 1023
Perl module toolchain versions installed:
Module Have
------------------- --------
CPAN 2.20
CPAN::Meta 2.150010
Cwd 3.75
ExtUtils::CBuilder 0.280236
ExtUtils::Command 7.70
ExtUtils::Install 2.22
ExtUtils::MakeMaker 7.70
ExtUtils::Manifest 1.75
ExtUtils::ParseXS 3.51
File::Spec 3.75
JSON 4.10
JSON::PP 4.16
Module::Build 0.4234
Module::Signature n/a
Parse::CPAN::Meta 2.150010
Test2 1.302207
Test::Harness 3.50
Test::More 1.302207
YAML 1.31
YAML::Syck 1.34
version 0.9923
--
Summary of my perl5 (revision 5 version 28 subversion 3) configuration:
Platform:
osname=freebsd
osvers=14.1-stable
archname=arm64-freebsd
uname='freebsd cloud9.bbbike.org 14.1-stable freebsd 14.1-stable stable14-n268041-bb7b7b0eb7cf generic arm64 '
config_args='-ds -e -Dprefix=/usr/perl5.28.3 -Dcf_email=srezic@cpan.org -Doptimize=-O2 -pipe'
hint=recommended
useposix=true
d_sigaction=define
useithreads=undef
usemultiplicity=undef
use64bitint=define
use64bitall=define
uselongdouble=undef
usemymalloc=n
default_inc_excludes_dot=define
bincompat5005=undef
Compiler:
cc='cc'
ccflags ='-DHAS_FPSETMASK -DHAS_FLOATINGPOINT_H -fno-strict-aliasing -pipe -fstack-protector-strong -I/usr/local/include'
optimize='-O2 -pipe'
cppflags='-DHAS_FPSETMASK -DHAS_FLOATINGPOINT_H -fno-strict-aliasing -pipe -fstack-protector-strong -I/usr/local/include'
ccversion=''
gccversion='FreeBSD Clang 18.1.6 (https://github.com/llvm/llvm-project.git llvmorg-18.1.6-0-g1118c2e05e67)'
gccosandvers=''
intsize=4
longsize=8
ptrsize=8
doublesize=8
byteorder=12345678
doublekind=3
d_longlong=define
longlongsize=8
d_longdbl=define
longdblsize=16
longdblkind=1
ivtype='long'
ivsize=8
nvtype='double'
nvsize=8
Off_t='off_t'
lseeksize=8
alignbytes=8
prototype=define
Linker and Libraries:
ld='cc'
ldflags ='-Wl,-E -fstack-protector-strong -L/usr/local/lib'
libpth=/usr/lib /usr/local/lib /usr/lib/clang/18/lib /usr/lib
libs=-lpthread -lgdbm -ldl -lm -lcrypt -lutil -lc
perllibs=-lpthread -ldl -lm -lcrypt -lutil -lc
libc=
so=so
useshrplib=false
libperl=libperl.a
gnulibc_version=''
Dynamic Linking:
dlsrc=dl_dlopen.xs
dlext=so
d_dlsymun=undef
ccdlflags=' '
cccdlflags='-DPIC -fPIC'
lddlflags='-shared -L/usr/local/lib -fstack-protector-strong'
Characteristics of this binary (from libperl):
Compile-time options:
HAS_TIMES
PERLIO_LAYERS
PERL_COPY_ON_WRITE
PERL_DONT_CREATE_GVSV
PERL_MALLOC_WRAP
PERL_OP_PARENT
PERL_PRESERVE_IVUV
USE_64_BIT_ALL
USE_64_BIT_INT
USE_LARGE_FILES
USE_LOCALE
USE_LOCALE_COLLATE
USE_LOCALE_CTYPE
USE_LOCALE_NUMERIC
USE_LOCALE_TIME
USE_PERLIO
USE_PERL_ATOF
Locally applied patches:
Devel::PatchPerl 2.08
Built under freebsd
Compiled at Jun 30 2024 07:39:37
%ENV:
PERL5LIB="/home/cpansand/.cpan/build/2025011614/XML-Fast-0.17-0/blib/arch:/home/cpansand/.cpan/build/2025011614/XML-Fast-0.17-0/blib/lib:/home/cpansand/.cpan/build/2025011614/Text-Similarity-0.13-0/blib/arch:/home/cpansand/.cpan/build/2025011614/Text-Similarity-0.13-0/blib/lib:/home/cpansand/.cpan/build/2025011614/JSONLD-0.006-0/blib/arch:/home/cpansand/.cpan/build/2025011614/JSONLD-0.006-0/blib/lib:/home/cpansand/.cpan/build/2025011614/Data-Leaf-Walker-0.21-0/blib/arch:/home/cpansand/.cpan/build/2025011614/Data-Leaf-Walker-0.21-0/blib/lib"
PERL5OPT=""
PERL5_CPANPLUS_IS_RUNNING="77381"
PERL5_CPAN_IS_RUNNING="77381"
PERL5_CPAN_IS_RUNNING_IN_RECURSION="54023,77381"
PERL_BATCH="yes"
PERL_CANARY_STABILITY_NOPROMPT="1"
PERL_CPAN_REPORTER_CONFIG="/var/tmp/cpansmoker-1023/2025011613/cpanreporter_000_config.ini"
PERL_EXTUTILS_AUTOINSTALL="--defaultdeps"
PERL_USE_UNSAFE_INC="1"
@INC:
/home/cpansand/.cpan/build/2025011614/XML-Fast-0.17-0/blib/arch
/home/cpansand/.cpan/build/2025011614/XML-Fast-0.17-0/blib/lib
/home/cpansand/.cpan/build/2025011614/Text-Similarity-0.13-0/blib/arch
/home/cpansand/.cpan/build/2025011614/Text-Similarity-0.13-0/blib/lib
/home/cpansand/.cpan/build/2025011614/JSONLD-0.006-0/blib/arch
/home/cpansand/.cpan/build/2025011614/JSONLD-0.006-0/blib/lib
/home/cpansand/.cpan/build/2025011614/Data-Leaf-Walker-0.21-0/blib/arch
/home/cpansand/.cpan/build/2025011614/Data-Leaf-Walker-0.21-0/blib/lib
/usr/perl5.28.3/lib/site_perl/5.28.3/arm64-freebsd
/usr/perl5.28.3/lib/site_perl/5.28.3
/usr/perl5.28.3/lib/5.28.3/arm64-freebsd
/usr/perl5.28.3/lib/5.28.3
.