MouseX-NativeTraits v1.09 Perl 5 v5.28.2 x86_64-linux-thread-multi
- Status
- Pass
- From
- Nigel Horne
- Dist
-
MouseX-NativeTraits v1.09
- Platform
- Perl 5 v5.28.2 x86_64-linux-thread-multi
- Date
- 2019-06-14 20:37:20
- ID
- 350bd37e-8ee4-11e9-a14c-c69b77725194
This distribution has been tested as part of the CPAN Testers
project, supporting the Perl programming language. See
http://wiki.cpantesters.org/ for more information or email
questions to cpan-testers-discuss@perl.org
--
Dear Goro Fuji,
This is a computer-generated report for MouseX-NativeTraits-1.09
on perl 5.28.2, created by CPAN-Reporter-1.2018.
Thank you for uploading your work to CPAN. Congratulations!
All tests were successful.
Sections of this report:
* Tester comments
* Program output
* Prerequisites
* Environment and other context
------------------------------
TESTER COMMENTS
------------------------------
Additional comments from tester:
this report is from an automated smoke testing program
and was not reviewed by a human for accuracy
------------------------------
PROGRAM OUTPUT
------------------------------
Output from '/usr/bin/make test':
PERL_DL_NONLAZY=1 "/home/njh/perl5/perlbrew/perls/perl-5.28.2-thread/bin/perl5.28.2" "-MExtUtils::Command::MM" "-MTest::Harness" "-e" "\$ENV{q{ANY_MOOSE}} = q{Mouse}; undef *Test::Harness::Switches; test_harness(0, 'inc', 'blib/lib', 'blib/arch'); " t/*.t t/070_native_traits/*.t
Any::Moose is deprecated. Please use Moo instead at t/01_basic.t line 8.
# Testing MouseX::NativeTraits/1.09
# Dependencies:
# Mouse/v2.5.6
t/00_load.t ...................................... ok
t/01_basic.t ..................................... ok
Any::Moose is deprecated. Please use Moo instead at t/02_meta.t line 7.
t/02_meta.t ...................................... ok
t/03_extra.t ..................................... ok
t/04_counter.t ................................... ok
t/05_remain_tied.t ............................... ok
Any::Moose is deprecated. Please use Moo instead at t/070_native_traits/010_trait_array.t line 8.
Any::Moose is deprecated. Please use Moo instead at t/070_native_traits/011_array_subtypes.t line 8.
t/070_native_traits/011_array_subtypes.t ......... ok
t/070_native_traits/012_array_trigger.t .......... ok
t/070_native_traits/013_array_coerce.t ........... skipped: Not supported by MouseX::NativeTraits
Any::Moose is deprecated. Please use Moo instead at t/070_native_traits/020_trait_bool.t line 8.
t/070_native_traits/010_trait_array.t ............ ok
t/070_native_traits/020_trait_bool.t ............. ok
Any::Moose is deprecated. Please use Moo instead at t/070_native_traits/030_trait_code.t line 6.
t/070_native_traits/030_trait_code.t ............. ok
Any::Moose is deprecated. Please use Moo instead at t/070_native_traits/040_trait_counter.t line 8.
Any::Moose is deprecated. Please use Moo instead at t/070_native_traits/050_trait_hash.t line 8.
t/070_native_traits/040_trait_counter.t .......... ok
t/070_native_traits/050_trait_hash.t ............. ok
t/070_native_traits/051_hash_subtypes.t .......... ok
t/070_native_traits/053_hash_coerce.t ............ skipped: Not supported by MouseX::NativeTraits
t/070_native_traits/052_hash_trigger.t ........... ok
Any::Moose is deprecated. Please use Moo instead at t/070_native_traits/060_trait_number.t line 8.
Any::Moose is deprecated. Please use Moo instead at t/070_native_traits/070_trait_string.t line 8.
t/070_native_traits/060_trait_number.t ........... ok
t/070_native_traits/070_trait_string.t ........... ok
t/070_native_traits/100_array_from_role.t ........ ok
t/070_native_traits/101_remove_attribute.t ....... skipped: Not supported by MouseX::NativeTraits
t/070_native_traits/102_collection_with_roles.t .. ok
t/070_native_traits/103_custom_instance.t ........ skipped: not supproted by MouseX::NativeTraits
All tests successful.
Files=23, Tests=3482, 3 wallclock secs ( 0.38 usr 0.06 sys + 3.64 cusr 0.54 csys = 4.62 CPU)
Result: PASS
------------------------------
PREREQUISITES
------------------------------
Prerequisite modules loaded:
requires:
Module Need Have
------------------- -------- --------
Mouse 0.82 v2.5.6
perl 5.006002 5.028002
build_requires:
Module Need Have
------------------- -------- --------
Any::Moose 0.13 0.27
ExtUtils::MakeMaker 6.59 7.36
Test::Fatal 0.003 0.014
Test::More 0.88 1.302164
configure_requires:
Module Need Have
------------------- -------- --------
ExtUtils::MakeMaker 6.59 7.36
------------------------------
ENVIRONMENT AND OTHER CONTEXT
------------------------------
Environment variables:
AUTOMATED_TESTING = 1
HARNESS_OPTIONS = j2
LANG = en_US.UTF-8
PATH = /home/njh/perl5/perlbrew/bin:/home/njh/perl5/perlbrew/perls/perl-5.28.2-thread/bin:/home/njh/src/njh/smoker/bin:/usr/bin:/bin
PERL5LIB = /tmp/build/Any-Moose-0.27-4/blib/arch:/tmp/build/Any-Moose-0.27-4/blib/lib:/tmp/build/Mouse-v2.5.6-4/blib/arch:/tmp/build/Mouse-v2.5.6-4/blib/lib:/tmp/build/Module-Build-XSUtil-0.19-4/blib/arch:/tmp/build/Module-Build-XSUtil-0.19-4/blib/lib:/tmp/build/File-Copy-Recursive-Reduced-0.006-4/blib/arch:/tmp/build/File-Copy-Recursive-Reduced-0.006-4/blib/lib:/tmp/build/Devel-CheckCompiler-0.07-4/blib/arch:/tmp/build/Devel-CheckCompiler-0.07-4/blib/lib:/tmp/build/Cwd-Guard-0.05-4/blib/arch:/tmp/build/Cwd-Guard-0.05-4/blib/lib:/tmp/build/Config-Model-Tester-4.003-4/blib/arch:/tmp/build/Config-Model-Tester-4.003-4/blib/lib:/tmp/build/Test-Log-Log4perl-0.32-4/blib/arch:/tmp/build/Test-Log-Log4perl-0.32-4/blib/lib
PERL5OPT =
PERL5_CPANPLUS_IS_RUNNING = 13281
PERL5_CPAN_IS_RUNNING = 13281
PERL5_CPAN_IS_RUNNING_IN_RECURSION = 13264,13281
PERLBREW_HOME = /home/njh/.perlbrew
PERLBREW_MANPATH = /home/njh/perl5/perlbrew/perls/perl-5.28.2-thread/man
PERLBREW_PATH = /home/njh/perl5/perlbrew/bin:/home/njh/perl5/perlbrew/perls/perl-5.28.2-thread/bin
PERLBREW_PERL = perl-5.28.2-thread
PERLBREW_ROOT = /home/njh/perl5/perlbrew
PERLBREW_SHELLRC_VERSION = 0.86
PERLBREW_VERSION = 0.86
PERL_USE_UNSAFE_INC = 1
SHELL = /bin/sh
TEMP = /tmp/user/1000
TMPDIR = /tmp/user/1000/testwrapper.13267
Perl special variables (and OS-specific diagnostics, for MSWin32):
$^X = /home/njh/perl5/perlbrew/perls/perl-5.28.2-thread/bin/perl5.28.2
$UID/$EUID = 1000 / 1000
$GID = 1000 4 24 25 29 30 44 46 103 108 115 123 996 1000
$EGID = 1000 4 24 25 29 30 44 46 103 108 115 123 996 1000
Perl module toolchain versions installed:
Module Have
------------------- --------
CPAN 2.26
CPAN::Meta 2.150010
Cwd 3.75
ExtUtils::CBuilder 0.280231
ExtUtils::Command 7.36
ExtUtils::Install 2.14
ExtUtils::MakeMaker 7.36
ExtUtils::Manifest 1.72
ExtUtils::ParseXS 3.39
File::Spec 3.75
JSON 4.02
JSON::PP 4.02
Module::Build 0.4229
Module::Signature n/a
Parse::CPAN::Meta 2.150010
Test::Harness 3.42
Test::More 1.302164
YAML 1.29
YAML::Syck 1.31
version 0.9924
--
Summary of my perl5 (revision 5 version 28 subversion 2) configuration:
Platform:
osname=linux
osvers=4.16.0-2-amd64
archname=x86_64-linux-thread-multi
uname='linux amelia 4.16.0-2-amd64 #1 smp debian 4.16.16-2 (2018-06-22) x86_64 gnulinux '
config_args='-de -Dprefix=/home/njh/perl5/perlbrew/perls/perl-5.28.2-thread -Dusedevel -Dusethreads -Accflags= -Aeval:scriptdir=/home/njh/perl5/perlbrew/perls/perl-5.28.2-thread/bin'
hint=recommended
useposix=true
d_sigaction=define
useithreads=define
usemultiplicity=define
use64bitint=define
use64bitall=define
uselongdouble=undef
usemymalloc=n
default_inc_excludes_dot=define
bincompat5005=undef
Compiler:
cc='cc'
ccflags ='-D_REENTRANT -D_GNU_SOURCE -fwrapv -fno-strict-aliasing -pipe -fstack-protector-strong -I/usr/local/include -D_LARGEFILE_SOURCE -D_FILE_OFFSET_BITS=64'
optimize='-O2'
cppflags='-D_REENTRANT -D_GNU_SOURCE -fwrapv -fno-strict-aliasing -pipe -fstack-protector-strong -I/usr/local/include'
ccversion=''
gccversion='8.3.0'
gccosandvers=''
intsize=4
longsize=8
ptrsize=8
doublesize=8
byteorder=12345678
doublekind=3
d_longlong=define
longlongsize=8
d_longdbl=define
longdblsize=16
longdblkind=3
ivtype='long'
ivsize=8
nvtype='double'
nvsize=8
Off_t='off_t'
lseeksize=8
alignbytes=8
prototype=define
Linker and Libraries:
ld='cc'
ldflags =' -fstack-protector-strong -L/usr/local/lib'
libpth=/usr/local/lib /usr/lib/gcc/x86_64-linux-gnu/8/include-fixed /usr/include/x86_64-linux-gnu /usr/lib /lib/x86_64-linux-gnu /lib/../lib /usr/lib/x86_64-linux-gnu /usr/lib/../lib /lib /lib64 /usr/lib64
libs=-lpthread -lnsl -lgdbm -ldb -ldl -lm -lcrypt -lutil -lc
perllibs=-lpthread -lnsl -ldl -lm -lcrypt -lutil -lc
libc=libc-2.28.so
so=so
useshrplib=false
libperl=libperl.a
gnulibc_version='2.28'
Dynamic Linking:
dlsrc=dl_dlopen.xs
dlext=so
d_dlsymun=undef
ccdlflags='-Wl,-E'
cccdlflags='-fPIC'
lddlflags='-shared -O2 -L/usr/local/lib -fstack-protector-strong'
Characteristics of this binary (from libperl):
Compile-time options:
HAS_TIMES
MULTIPLICITY
PERLIO_LAYERS
PERL_COPY_ON_WRITE
PERL_DONT_CREATE_GVSV
PERL_IMPLICIT_CONTEXT
PERL_MALLOC_WRAP
PERL_OP_PARENT
PERL_PRESERVE_IVUV
PERL_USE_DEVEL
USE_64_BIT_ALL
USE_64_BIT_INT
USE_ITHREADS
USE_LARGE_FILES
USE_LOCALE
USE_LOCALE_COLLATE
USE_LOCALE_CTYPE
USE_LOCALE_NUMERIC
USE_LOCALE_TIME
USE_PERLIO
USE_PERL_ATOF
USE_REENTRANT_API
Locally applied patches:
Devel::PatchPerl 1.48
Built under linux
Compiled at Apr 24 2019 00:40:46
%ENV:
PERL5LIB="/tmp/build/Any-Moose-0.27-4/blib/arch:/tmp/build/Any-Moose-0.27-4/blib/lib:/tmp/build/Mouse-v2.5.6-4/blib/arch:/tmp/build/Mouse-v2.5.6-4/blib/lib:/tmp/build/Module-Build-XSUtil-0.19-4/blib/arch:/tmp/build/Module-Build-XSUtil-0.19-4/blib/lib:/tmp/build/File-Copy-Recursive-Reduced-0.006-4/blib/arch:/tmp/build/File-Copy-Recursive-Reduced-0.006-4/blib/lib:/tmp/build/Devel-CheckCompiler-0.07-4/blib/arch:/tmp/build/Devel-CheckCompiler-0.07-4/blib/lib:/tmp/build/Cwd-Guard-0.05-4/blib/arch:/tmp/build/Cwd-Guard-0.05-4/blib/lib:/tmp/build/Config-Model-Tester-4.003-4/blib/arch:/tmp/build/Config-Model-Tester-4.003-4/blib/lib:/tmp/build/Test-Log-Log4perl-0.32-4/blib/arch:/tmp/build/Test-Log-Log4perl-0.32-4/blib/lib"
PERL5OPT=""
PERL5_CPANPLUS_IS_RUNNING="13281"
PERL5_CPAN_IS_RUNNING="13281"
PERL5_CPAN_IS_RUNNING_IN_RECURSION="13264,13281"
PERLBREW_HOME="/home/njh/.perlbrew"
PERLBREW_MANPATH="/home/njh/perl5/perlbrew/perls/perl-5.28.2-thread/man"
PERLBREW_PATH="/home/njh/perl5/perlbrew/bin:/home/njh/perl5/perlbrew/perls/perl-5.28.2-thread/bin"
PERLBREW_PERL="perl-5.28.2-thread"
PERLBREW_ROOT="/home/njh/perl5/perlbrew"
PERLBREW_SHELLRC_VERSION="0.86"
PERLBREW_VERSION="0.86"
PERL_USE_UNSAFE_INC="1"
@INC:
/tmp/build/Any-Moose-0.27-4/blib/arch
/tmp/build/Any-Moose-0.27-4/blib/lib
/tmp/build/Mouse-v2.5.6-4/blib/arch
/tmp/build/Mouse-v2.5.6-4/blib/lib
/tmp/build/Module-Build-XSUtil-0.19-4/blib/arch
/tmp/build/Module-Build-XSUtil-0.19-4/blib/lib
/tmp/build/File-Copy-Recursive-Reduced-0.006-4/blib/arch
/tmp/build/File-Copy-Recursive-Reduced-0.006-4/blib/lib
/tmp/build/Devel-CheckCompiler-0.07-4/blib/arch
/tmp/build/Devel-CheckCompiler-0.07-4/blib/lib
/tmp/build/Cwd-Guard-0.05-4/blib/arch
/tmp/build/Cwd-Guard-0.05-4/blib/lib
/tmp/build/Config-Model-Tester-4.003-4/blib/arch
/tmp/build/Config-Model-Tester-4.003-4/blib/lib
/tmp/build/Test-Log-Log4perl-0.32-4/blib/arch
/tmp/build/Test-Log-Log4perl-0.32-4/blib/lib
/home/njh/perl5/perlbrew/perls/perl-5.28.2-thread/lib/site_perl/5.28.2/x86_64-linux-thread-multi
/home/njh/perl5/perlbrew/perls/perl-5.28.2-thread/lib/site_perl/5.28.2
/home/njh/perl5/perlbrew/perls/perl-5.28.2-thread/lib/5.28.2/x86_64-linux-thread-multi
/home/njh/perl5/perlbrew/perls/perl-5.28.2-thread/lib/5.28.2
.