SReview v0.9.3 Perl 5 v5.34.0 amd64-freebsd

Status
Pass
From
Slaven Rezić
Dist
SReview v0.9.3
Platform
Perl 5 v5.34.0 amd64-freebsd
Date
2023-11-03T07:54:24
ID
34724df6-7a1e-11ee-a9a8-56406e8775ea
This distribution has been tested as part of the CPAN Testers
project, supporting the Perl programming language.  See
http://wiki.cpantesters.org/ for more information or email
questions to cpan-testers-discuss@perl.org


--
Dear Wouter Verhelst,

This is a computer-generated report for SReview-0.9.3
on perl 5.34.0, created by CPAN-Reporter-1.2018.

Thank you for uploading your work to CPAN.  Congratulations!
All tests were successful.

Sections of this report:

    * Tester comments
    * Program output
    * Prerequisites
    * Environment and other context

------------------------------
TESTER COMMENTS
------------------------------

Additional comments from tester:

none provided

------------------------------
PROGRAM OUTPUT
------------------------------

Output from '/usr/bin/make test':

PERL_DL_NONLAZY=1 "/usr/perl5.34.0p/bin/perl" "-MExtUtils::Command::MM" "-MTest::Harness" "-e" "undef *Test::Harness::Switches; test_harness(0, 'blib/lib', 'blib/arch')" t/*.t
t/010-config.t ........... ok
t/040-db.t ............... ok
t/080-runthrough.t ....... ok
Warning: could not find configuration file /etc/sreview/config.pm, falling back to defaults at /usr/home/cpansand/.cpan/build/2023110307/SReview-0.9.3-1/blib/lib/SReview/Config/Common.pm line 63.
t/085-schedule-export.t .. ok
Warning: could not find configuration file /etc/sreview/config.pm, falling back to defaults at /usr/home/cpansand/.cpan/build/2023110307/SReview-0.9.3-1/blib/lib/SReview/Config/Common.pm line 63.
t/090-talk.t ............. ok
Warning: could not find configuration file /etc/sreview/config.pm, falling back to defaults at /usr/home/cpansand/.cpan/build/2023110307/SReview-0.9.3-1/blib/lib/SReview/Config/Common.pm line 63.
t/095-files.t ............ ok
Warning: could not find configuration file /etc/sreview/config.pm, falling back to defaults at /usr/home/cpansand/.cpan/build/2023110307/SReview-0.9.3-1/blib/lib/SReview/Config/Common.pm line 63.
t/095-synfig.t ........... ok
Warning: could not find configuration file /etc/sreview/config.pm, falling back to defaults at /usr/home/cpansand/.cpan/build/2023110307/SReview-0.9.3-1/blib/lib/SReview/Config/Common.pm line 63.
t/100-mojo.t ............. ok
Warning: could not find configuration file /etc/sreview/config.pm, falling back to defaults at /usr/home/cpansand/.cpan/build/2023110307/SReview-0.9.3-1/blib/lib/SReview/Config/Common.pm line 63.
t/110-api.t .............. ok
t/120-types.t ............ ok
t/130-schedule.t ......... ok
All tests successful.
Files=11, Tests=119,  9 wallclock secs ( 0.05 usr  0.06 sys +  6.60 cusr  1.27 csys =  7.99 CPU)
Result: PASS

------------------------------
PREREQUISITES
------------------------------

Prerequisite modules loaded:

requires:

    Module                       Need   Have    
    ---------------------------- ------ --------
    Class::Type::Enum            0      0.014   
    Crypt::PRNG                  0      0.080   
    DateTime                     0      1.63    
    DateTime::Format::ISO8601    0      0.16    
    DateTime::Format::Pg         0      0.16014 
    Media::Convert               v1.0.1 1.0.2   
    Mojo::JSON                   0      0       
    Mojo::Pg                     0      4.27    
    Mojolicious::Plugin::OpenAPI 4.03   5.09    
    Moose                        0      2.2206  
    Net::Amazon::S3              0      0.991   
    Net::SSH::AuthorizedKeysFile 0      0.18    
    Text::Format                 0      0.62    

build_requires:

    Module                       Need   Have    
    ---------------------------- ------ --------
    ExtUtils::MakeMaker          0      7.70    
    Test::More                   0      1.302196
    YAML::XS                     0      0.88    

configure_requires:

    Module                       Need   Have    
    ---------------------------- ------ --------
    ExtUtils::Depends            0      0.8001  


------------------------------
ENVIRONMENT AND OTHER CONTEXT
------------------------------

Environment variables:

    PATH = /usr/local/bin:/usr/bin:/bin:/usr/local/sbin:/usr/sbin:/sbin:/home/cpansand/bin/sh:/home/cpansand/bin:/usr/games:/home/cpansand/devel:/usr/home/eserte/src/srezic-misc/scripts
    PERL5LIB = 
    PERL5OPT = 
    PERL5_CPANPLUS_IS_RUNNING = 1965
    PERL5_CPAN_IS_RUNNING = 1965
    PERL5_CPAN_IS_RUNNING_IN_RECURSION = 99396,1965
    PERL_BATCH = yes
    PERL_CANARY_STABILITY_NOPROMPT = 1
    PERL_CPAN_REPORTER_CONFIG = /var/tmp/cpansmoker-1023/2023110307/cpanreporter_000_config.ini
    PERL_EXTUTILS_AUTOINSTALL = --defaultdeps
    PERL_USE_UNSAFE_INC = 1
    SHELL = /bin/sh
    TMPDIR = /var/tmp/cpansmoker-1023/2023110307

Perl special variables (and OS-specific diagnostics, for MSWin32):

    $^X = /usr/perl5.34.0p/bin/perl
    $UID/$EUID = 1023 / 1023
    $GID = 1023 1023
    $EGID = 1023 1023

Perl module toolchain versions installed:

    Module              Have    
    ------------------- --------
    CPAN                2.36    
    CPAN::Meta          2.150010
    Cwd                 3.80    
    ExtUtils::CBuilder  0.280236
    ExtUtils::Command   7.70    
    ExtUtils::Install   2.20    
    ExtUtils::MakeMaker 7.70    
    ExtUtils::Manifest  1.75    
    ExtUtils::ParseXS   3.51    
    File::Spec          3.80    
    JSON                4.10    
    JSON::PP            4.15    
    Module::Build       0.4234  
    Module::Signature   0.88    
    Parse::CPAN::Meta   2.150010
    Test::Harness       3.47    
    Test::More          1.302196
    YAML                1.30    
    YAML::Syck          1.34    
    version             0.9929  


--

Summary of my perl5 (revision 5 version 34 subversion 0) configuration:
   
  Platform:
    osname=freebsd
    osvers=12.2-stable
    archname=amd64-freebsd
    uname='freebsd cloud1.bbbike.org 12.2-stable freebsd 12.2-stable stable12-n233163-8ab4e1b9512 generic amd64 '
    config_args='-ds -e -Dprefix=/usr/perl5.34.0p -Dcf_email=srezic@cpan.org -Doptimize=-O2 -pipe'
    hint=recommended
    useposix=true
    d_sigaction=define
    useithreads=undef
    usemultiplicity=undef
    use64bitint=define
    use64bitall=define
    uselongdouble=undef
    usemymalloc=n
    default_inc_excludes_dot=define
  Compiler:
    cc='cc'
    ccflags ='-DHAS_FPSETMASK -DHAS_FLOATINGPOINT_H -fno-strict-aliasing -pipe -fstack-protector-strong -I/usr/local/include'
    optimize='-O2 -pipe'
    cppflags='-DHAS_FPSETMASK -DHAS_FLOATINGPOINT_H -fno-strict-aliasing -pipe -fstack-protector-strong -I/usr/local/include'
    ccversion=''
    gccversion='FreeBSD Clang 10.0.1 (git@github.com:llvm/llvm-project.git llvmorg-10.0.1-0-gef32c611aa2)'
    gccosandvers=''
    intsize=4
    longsize=8
    ptrsize=8
    doublesize=8
    byteorder=12345678
    doublekind=3
    d_longlong=define
    longlongsize=8
    d_longdbl=define
    longdblsize=16
    longdblkind=3
    ivtype='long'
    ivsize=8
    nvtype='double'
    nvsize=8
    Off_t='off_t'
    lseeksize=8
    alignbytes=8
    prototype=define
  Linker and Libraries:
    ld='cc'
    ldflags ='-pthread -Wl,-E  -fstack-protector-strong -L/usr/local/lib'
    libpth=/usr/lib /usr/local/lib /usr/lib/clang/10.0.1/lib
    libs=-lpthread -lgdbm -ldl -lm -lcrypt -lutil -lc
    perllibs=-lpthread -ldl -lm -lcrypt -lutil -lc
    libc=
    so=so
    useshrplib=false
    libperl=libperl.a
    gnulibc_version=''
  Dynamic Linking:
    dlsrc=dl_dlopen.xs
    dlext=so
    d_dlsymun=undef
    ccdlflags=' '
    cccdlflags='-DPIC -fPIC'
    lddlflags='-shared  -L/usr/local/lib -fstack-protector-strong'


Characteristics of this binary (from libperl): 
  Compile-time options:
    HAS_TIMES
    PERLIO_LAYERS
    PERL_COPY_ON_WRITE
    PERL_DONT_CREATE_GVSV
    PERL_MALLOC_WRAP
    PERL_OP_PARENT
    PERL_PRESERVE_IVUV
    USE_64_BIT_ALL
    USE_64_BIT_INT
    USE_LARGE_FILES
    USE_LOCALE
    USE_LOCALE_COLLATE
    USE_LOCALE_CTYPE
    USE_LOCALE_NUMERIC
    USE_LOCALE_TIME
    USE_PERLIO
    USE_PERL_ATOF
  Built under freebsd
  Compiled at May 25 2021 16:34:52
  %ENV:
    PERL5LIB=""
    PERL5OPT=""
    PERL5_CPANPLUS_IS_RUNNING="1965"
    PERL5_CPAN_IS_RUNNING="1965"
    PERL5_CPAN_IS_RUNNING_IN_RECURSION="99396,1965"
    PERL_BATCH="yes"
    PERL_CANARY_STABILITY_NOPROMPT="1"
    PERL_CPAN_REPORTER_CONFIG="/var/tmp/cpansmoker-1023/2023110307/cpanreporter_000_config.ini"
    PERL_EXTUTILS_AUTOINSTALL="--defaultdeps"
    PERL_USE_UNSAFE_INC="1"
  @INC:
    /usr/perl5.34.0p/lib/site_perl/5.34.0/amd64-freebsd
    /usr/perl5.34.0p/lib/site_perl/5.34.0
    /usr/perl5.34.0p/lib/5.34.0/amd64-freebsd
    /usr/perl5.34.0p/lib/5.34.0
    .