Report for Net-HTTP-Spore-0.04

Back
From: metabase:user:9820532a-708b-1014-9a05-b18a96298da1
Subject: PASS Net-HTTP-Spore-0.04 v5.14.2 FreeBSD
Date: 2011-10-09T15:34:39Z

This distribution has been tested as part of the CPAN Testers
project, supporting the Perl programming language.  See
http://wiki.cpantesters.org/ for more information or email
questions to cpan-testers-discuss@perl.org


--
Dear Franck Cuny,

This is a computer-generated report for Net-HTTP-Spore-0.04
on perl 5.14.2, created by CPAN-Reporter-1.2002.

Thank you for uploading your work to CPAN.  Congratulations!
All tests were successful.

Sections of this report:

    * Tester comments
    * Program output
    * Prerequisites
    * Environment and other context

------------------------------
TESTER COMMENTS
------------------------------

Additional comments from tester:

this report is from an automated smoke testing program
and was not reviewed by a human for accuracy

------------------------------
PROGRAM OUTPUT
------------------------------

Output from '/usr/bin/make test':

PERL_DL_NONLAZY=1 /home/test/perl5/perlbrew/perls/perl-5.14.2/bin/perl "-MExtUtils::Command::MM" "-e" "test_harness(0, 'blib/lib', 'blib/arch')" t/*.t t/spore-method/*.t t/spore-middleware/*.t t/spore-request/*.t t/spore-response/*.t t/spore-role/*.t t/spore/*.t
t/release-eol.t ...................... skipped: these tests are for release candidate testing
t/release-no-tabs.t .................. skipped: these tests are for release candidate testing
t/release-pod-coverage.t ............. skipped: these tests are for release candidate testing
t/release-pod-syntax.t ............... skipped: these tests are for release candidate testing
Providing an optimized subroutine ref for type constraints is deprecated. Use the inlining feature (inline_as) instead. at /usr/home/test/.cpan/build/Net-HTTP-Spore-0.04-CLiQoh/blib/lib/Net/HTTP/Spore/Meta/Method.pm line 13
	Net::HTTP::Spore::Meta::Method::BEGIN() called at /home/test/perl5/perlbrew/perls/perl-5.14.2/lib/site_perl/5.14.2/MooseX/Types/URI.pm line 0
	eval {...} called at /home/test/perl5/perlbrew/perls/perl-5.14.2/lib/site_perl/5.14.2/MooseX/Types/URI.pm line 0
	require Net/HTTP/Spore/Meta/Method.pm called at t/spore-method/base.t line 5
	main::BEGIN() called at /home/test/perl5/perlbrew/perls/perl-5.14.2/lib/site_perl/5.14.2/MooseX/Types/URI.pm line 0
	eval {...} called at /home/test/perl5/perlbrew/perls/perl-5.14.2/lib/site_perl/5.14.2/MooseX/Types/URI.pm line 0
t/spore-method/base.t ................ ok
Providing an optimized subroutine ref for type constraints is deprecated. Use the inlining feature (inline_as) instead. at /usr/home/test/.cpan/build/Net-HTTP-Spore-0.04-CLiQoh/blib/lib/Net/HTTP/Spore/Meta/Method.pm line 13
	Net::HTTP::Spore::Meta::Method::BEGIN() called at /home/test/perl5/perlbrew/perls/perl-5.14.2/lib/site_perl/5.14.2/MooseX/Types/URI.pm line 0
	eval {...} called at /home/test/perl5/perlbrew/perls/perl-5.14.2/lib/site_perl/5.14.2/MooseX/Types/URI.pm line 0
	require Net/HTTP/Spore/Meta/Method.pm called at /usr/home/test/.cpan/build/Net-HTTP-Spore-0.04-CLiQoh/blib/lib/Net/HTTP/Spore/Meta/Method/Spore.pm line 11
	Net::HTTP::Spore::Meta::Method::Spore::BEGIN() called at /home/test/perl5/perlbrew/perls/perl-5.14.2/lib/site_perl/5.14.2/MooseX/Types/URI.pm line 0
	eval {...} called at /home/test/perl5/perlbrew/perls/perl-5.14.2/lib/site_perl/5.14.2/MooseX/Types/URI.pm line 0
	require Net/HTTP/Spore/Meta/Method/Spore.pm called at /home/test/perl5/perlbrew/perls/perl-5.14.2/lib/site_perl/5.14.2/Module/Runtime.pm line 198
	Module::Runtime::require_module('Net::HTTP::Spore::Meta::Method::Spore') called at /home/test/perl5/perlbrew/perls/perl-5.14.2/lib/site_perl/5.14.2/Class/Load.pm line 199
	Class::Load::__ANON__() called at /home/test/perl5/perlbrew/perls/perl-5.14.2/lib/site_perl/5.14.2/Try/Tiny.pm line 71
	eval {...} called at /home/test/perl5/perlbrew/perls/perl-5.14.2/lib/site_perl/5.14.2/Try/Tiny.pm line 67
	Try::Tiny::try('CODE(0x802a714f8)', 'Try::Tiny::Catch=REF(0x802a64798)') called at /home/test/perl5/perlbrew/perls/perl-5.14.2/lib/site_perl/5.14.2/Class/Load.pm line 205
	Class::Load::try_load_class('Net::HTTP::Spore::Meta::Method::Spore', undef) called at /home/test/perl5/perlbrew/perls/perl-5.14.2/lib/site_perl/5.14.2/Class/Load.pm line 64
	Class::Load::load_class('Net::HTTP::Spore::Meta::Method::Spore', undef) called at /home/test/perl5/perlbrew/perls/perl-5.14.2/lib/site_perl/5.14.2/amd64-freebsd/Moose/Util.pm line 132
	Moose::Util::_apply_all_roles('Moose::Meta::Role=HASH(0x802a87d38)', undef, 'Net::HTTP::Spore::Meta::Method::Spore') called at /home/test/perl5/perlbrew/perls/perl-5.14.2/lib/site_perl/5.14.2/amd64-freebsd/Moose/Util.pm line 99
	Moose::Util::apply_all_roles('Moose::Meta::Role=HASH(0x802a87d38)', 'Net::HTTP::Spore::Meta::Method::Spore') called at /home/test/perl5/perlbrew/perls/perl-5.14.2/lib/site_perl/5.14.2/amd64-freebsd/Moose/Role.pm line 29
	Moose::Role::with('Moose::Meta::Role=HASH(0x802a87d38)', 'Net::HTTP::Spore::Meta::Method::Spore') called at /home/test/perl5/perlbrew/perls/perl-5.14.2/lib/site_perl/5.14.2/amd64-freebsd/Moose/Exporter.pm line 370
	Moose::Role::with('Net::HTTP::Spore::Meta::Method::Spore') called at /usr/home/test/.cpan/build/Net-HTTP-Spore-0.04-CLiQoh/blib/lib/Net/HTTP/Spore/Meta/Class.pm line 10
	require Net/HTTP/Spore/Meta/Class.pm called at /home/test/perl5/perlbrew/perls/perl-5.14.2/lib/site_perl/5.14.2/Module/Runtime.pm line 198
	Module::Runtime::require_module('Net::HTTP::Spore::Meta::Class') called at /home/test/perl5/perlbrew/perls/perl-5.14.2/lib/site_perl/5.14.2/Class/Load.pm line 199
	Class::Load::__ANON__() called at /home/test/perl5/perlbrew/perls/perl-5.14.2/lib/site_perl/5.14.2/Try/Tiny.pm line 71
	eval {...} called at /home/test/perl5/perlbrew/perls/perl-5.14.2/lib/site_perl/5.14.2/Try/Tiny.pm line 67
	Try::Tiny::try('CODE(0x802a5ac18)', 'Try::Tiny::Catch=REF(0x80298bea0)') called at /home/test/perl5/perlbrew/perls/perl-5.14.2/lib/site_perl/5.14.2/Class/Load.pm line 205
	Class::Load::try_load_class('Net::HTTP::Spore::Meta::Class', undef) called at /home/test/perl5/perlbrew/perls/perl-5.14.2/lib/site_perl/5.14.2/Class/Load.pm line 64
	Class::Load::load_class('Net::HTTP::Spore::Meta::Class', undef) called at /home/test/perl5/perlbrew/perls/perl-5.14.2/lib/site_perl/5.14.2/amd64-freebsd/Moose/Util.pm line 132
	Moose::Util::_apply_all_roles('Moose::Meta::Class=HASH(0x802a64150)', undef, 'Net::HTTP::Spore::Meta::Class') called at /home/test/perl5/perlbrew/perls/perl-5.14.2/lib/site_perl/5.14.2/amd64-freebsd/Moose/Util.pm line 99
	Moose::Util::apply_all_roles('Moose::Meta::Class=HASH(0x802a64150)', 'Net::HTTP::Spore::Meta::Class') called at /home/test/perl5/perlbrew/perls/perl-5.14.2/lib/site_perl/5.14.2/amd64-freebsd/Moose/Meta/Class.pm line 104
	Moose::Meta::Class::create('Moose::Meta::Class', 'Moose::Meta::Class::__ANON__::SERIAL::1', 'roles', 'ARRAY(0x8029ea408)', 'weaken', '', 'superclasses', 'ARRAY(0x802a5ac60)') called at /home/test/perl5/perlbrew/perls/perl-5.14.2/lib/site_perl/5.14.2/amd64-freebsd/Class/MOP/Package.pm line 120
	Class::MOP::Package::create_anon('Moose::Meta::Class', 'superclasses', 'ARRAY(0x802a5ac60)', 'roles', 'ARRAY(0x8029ea408)', 'cache', 1) called at /home/test/perl5/perlbrew/perls/perl-5.14.2/lib/site_perl/5.14.2/amd64-freebsd/Class/MOP/Class.pm line 474
	Class::MOP::Class::create_anon_class('Moose::Meta::Class', 'superclasses', 'ARRAY(0x802a5ac60)', 'roles', 'ARRAY(0x8029ea408)', 'cache', 1) called at /home/test/perl5/perlbrew/perls/perl-5.14.2/lib/site_perl/5.14.2/amd64-freebsd/Moose/Util/MetaRole.pm line 134
	Moose::Util::MetaRole::_make_new_class('Moose::Meta::Class', 'ARRAY(0x8029ea408)') called at /home/test/perl5/perlbrew/perls/perl-5.14.2/lib/site_perl/5.14.2/amd64-freebsd/Moose/Util/MetaRole.pm line 79
	Moose::Util::MetaRole::_make_new_metaclass('Moose::Meta::Class=HASH(0x802a5a2b8)', 'HASH(0x802a5f4e0)', 'class') called at /home/test/perl5/perlbrew/perls/perl-5.14.2/lib/site_perl/5.14.2/amd64-freebsd/Moose/Util/MetaRole.pm line 28
	Moose::Util::MetaRole::apply_metaroles('for', 'Net::HTTP::Spore::Core', 'class_metaroles', 'HASH(0x802a5f4e0)') called at /usr/home/test/.cpan/build/Net-HTTP-Spore-0.04-CLiQoh/blib/lib/Net/HTTP/Spore/Meta.pm line 28
	Net::HTTP::Spore::Meta::init_meta('Net::HTTP::Spore::Meta', 'for_class', 'MooseX::Types::URI', 'metaclass', undef, 'meta_name', 'meta') called at /home/test/perl5/perlbrew/perls/perl-5.14.2/lib/site_perl/5.14.2/amd64-freebsd/Moose/Exporter.pm line 435
	Moose::Exporter::__ANON__('Net::HTTP::Spore::Meta') called at /usr/home/test/.cpan/build/Net-HTTP-Spore-0.04-CLiQoh/blib/lib/Net/HTTP/Spore/Core.pm line 6
	Net::HTTP::Spore::Core::BEGIN() called at /home/test/perl5/perlbrew/perls/perl-5.14.2/lib/site_perl/5.14.2/MooseX/Types/URI.pm line 0
	eval {...} called at /home/test/perl5/perlbrew/perls/perl-5.14.2/lib/site_perl/5.14.2/MooseX/Types/URI.pm line 0
	require Net/HTTP/Spore/Core.pm called at /usr/home/test/.cpan/build/Net-HTTP-Spore-0.04-CLiQoh/blib/lib/Net/HTTP/Spore.pm line 13
	Net::HTTP::Spore::BEGIN() called at /home/test/perl5/perlbrew/perls/perl-5.14.2/lib/site_perl/5.14.2/MooseX/Types/URI.pm line 0
	eval {...} called at /home/test/perl5/perlbrew/perls/perl-5.14.2/lib/site_perl/5.14.2/MooseX/Types/URI.pm line 0
	require Net/HTTP/Spore.pm called at t/spore-method/payload.t line 8
	main::BEGIN() called at /home/test/perl5/perlbrew/perls/perl-5.14.2/lib/site_perl/5.14.2/MooseX/Types/URI.pm line 0
	eval {...} called at /home/test/perl5/perlbrew/perls/perl-5.14.2/lib/site_perl/5.14.2/MooseX/Types/URI.pm line 0
t/spore-method/payload.t ............. ok
Providing an optimized subroutine ref for type constraints is deprecated. Use the inlining feature (inline_as) instead. at /usr/home/test/.cpan/build/Net-HTTP-Spore-0.04-CLiQoh/blib/lib/Net/HTTP/Spore/Meta/Method.pm line 13
	Net::HTTP::Spore::Meta::Method::BEGIN() called at /home/test/perl5/perlbrew/perls/perl-5.14.2/lib/site_perl/5.14.2/MooseX/Types/URI.pm line 0
	eval {...} called at /home/test/perl5/perlbrew/perls/perl-5.14.2/lib/site_perl/5.14.2/MooseX/Types/URI.pm line 0
	require Net/HTTP/Spore/Meta/Method.pm called at /usr/home/test/.cpan/build/Net-HTTP-Spore-0.04-CLiQoh/blib/lib/Net/HTTP/Spore/Meta/Method/Spore.pm line 11
	Net::HTTP::Spore::Meta::Method::Spore::BEGIN() called at /home/test/perl5/perlbrew/perls/perl-5.14.2/lib/site_perl/5.14.2/MooseX/Types/URI.pm line 0
	eval {...} called at /home/test/perl5/perlbrew/perls/perl-5.14.2/lib/site_perl/5.14.2/MooseX/Types/URI.pm line 0
	require Net/HTTP/Spore/Meta/Method/Spore.pm called at /home/test/perl5/perlbrew/perls/perl-5.14.2/lib/site_perl/5.14.2/Module/Runtime.pm line 198
	Module::Runtime::require_module('Net::HTTP::Spore::Meta::Method::Spore') called at /home/test/perl5/perlbrew/perls/perl-5.14.2/lib/site_perl/5.14.2/Class/Load.pm line 199
	Class::Load::__ANON__() called at /home/test/perl5/perlbrew/perls/perl-5.14.2/lib/site_perl/5.14.2/Try/Tiny.pm line 71
	eval {...} called at /home/test/perl5/perlbrew/perls/perl-5.14.2/lib/site_perl/5.14.2/Try/Tiny.pm line 67
	Try::Tiny::try('CODE(0x802c5fd20)', 'Try::Tiny::Catch=REF(0x8029fafc0)') called at /home/test/perl5/perlbrew/perls/perl-5.14.2/lib/site_perl/5.14.2/Class/Load.pm line 205
	Class::Load::try_load_class('Net::HTTP::Spore::Meta::Method::Spore', undef) called at /home/test/perl5/perlbrew/perls/perl-5.14.2/lib/site_perl/5.14.2/Class/Load.pm line 64
	Class::Load::load_class('Net::HTTP::Spore::Meta::Method::Spore', undef) called at /home/test/perl5/perlbrew/perls/perl-5.14.2/lib/site_perl/5.14.2/amd64-freebsd/Moose/Util.pm line 132
	Moose::Util::_apply_all_roles('Moose::Meta::Role=HASH(0x802c5f588)', undef, 'Net::HTTP::Spore::Meta::Method::Spore') called at /home/test/perl5/perlbrew/perls/perl-5.14.2/lib/site_perl/5.14.2/amd64-freebsd/Moose/Util.pm line 99
	Moose::Util::apply_all_roles('Moose::Meta::Role=HASH(0x802c5f588)', 'Net::HTTP::Spore::Meta::Method::Spore') called at /home/test/perl5/perlbrew/perls/perl-5.14.2/lib/site_perl/5.14.2/amd64-freebsd/Moose/Role.pm line 29
	Moose::Role::with('Moose::Meta::Role=HASH(0x802c5f588)', 'Net::HTTP::Spore::Meta::Method::Spore') called at /home/test/perl5/perlbrew/perls/perl-5.14.2/lib/site_perl/5.14.2/amd64-freebsd/Moose/Exporter.pm line 370
	Moose::Role::with('Net::HTTP::Spore::Meta::Method::Spore') called at /usr/home/test/.cpan/build/Net-HTTP-Spore-0.04-CLiQoh/blib/lib/Net/HTTP/Spore/Meta/Class.pm line 10
	require Net/HTTP/Spore/Meta/Class.pm called at /home/test/perl5/perlbrew/perls/perl-5.14.2/lib/site_perl/5.14.2/Module/Runtime.pm line 198
	Module::Runtime::require_module('Net::HTTP::Spore::Meta::Class') called at /home/test/perl5/perlbrew/perls/perl-5.14.2/lib/site_perl/5.14.2/Class/Load.pm line 199
	Class::Load::__ANON__() called at /home/test/perl5/perlbrew/perls/perl-5.14.2/lib/site_perl/5.14.2/Try/Tiny.pm line 71
	eval {...} called at /home/test/perl5/perlbrew/perls/perl-5.14.2/lib/site_perl/5.14.2/Try/Tiny.pm line 67
	Try::Tiny::try('CODE(0x8029fa468)', 'Try::Tiny::Catch=REF(0x8028fc630)') called at /home/test/perl5/perlbrew/perls/perl-5.14.2/lib/site_perl/5.14.2/Class/Load.pm line 205
	Class::Load::try_load_class('Net::HTTP::Spore::Meta::Class', undef) called at /home/test/perl5/perlbrew/perls/perl-5.14.2/lib/site_perl/5.14.2/Class/Load.pm line 64
	Class::Load::load_class('Net::HTTP::Spore::Meta::Class', undef) called at /home/test/perl5/perlbrew/perls/perl-5.14.2/lib/site_perl/5.14.2/amd64-freebsd/Moose/Util.pm line 132
	Moose::Util::_apply_all_roles('Moose::Meta::Class=HASH(0x8029fa978)', undef, 'Net::HTTP::Spore::Meta::Class') called at /home/test/perl5/perlbrew/perls/perl-5.14.2/lib/site_perl/5.14.2/amd64-freebsd/Moose/Util.pm line 99
	Moose::Util::apply_all_roles('Moose::Meta::Class=HASH(0x8029fa978)', 'Net::HTTP::Spore::Meta::Class') called at /home/test/perl5/perlbrew/perls/perl-5.14.2/lib/site_perl/5.14.2/amd64-freebsd/Moose/Meta/Class.pm line 104
	Moose::Meta::Class::create('Moose::Meta::Class', 'Moose::Meta::Class::__ANON__::SERIAL::1', 'roles', 'ARRAY(0x802911408)', 'weaken', '', 'superclasses', 'ARRAY(0x8029fa4b0)') called at /home/test/perl5/perlbrew/perls/perl-5.14.2/lib/site_perl/5.14.2/amd64-freebsd/Class/MOP/Package.pm line 120
	Class::MOP::Package::create_anon('Moose::Meta::Class', 'superclasses', 'ARRAY(0x8029fa4b0)', 'roles', 'ARRAY(0x802911408)', 'cache', 1) called at /home/test/perl5/perlbrew/perls/perl-5.14.2/lib/site_perl/5.14.2/amd64-freebsd/Class/MOP/Class.pm line 474
	Class::MOP::Class::create_anon_class('Moose::Meta::Class', 'superclasses', 'ARRAY(0x8029fa4b0)', 'roles', 'ARRAY(0x802911408)', 'cache', 1) called at /home/test/perl5/perlbrew/perls/perl-5.14.2/lib/site_perl/5.14.2/amd64-freebsd/Moose/Util/MetaRole.pm line 134
	Moose::Util::MetaRole::_make_new_class('Moose::Meta::Class', 'ARRAY(0x802911408)') called at /home/test/perl5/perlbrew/perls/perl-5.14.2/lib/site_perl/5.14.2/amd64-freebsd/Moose/Util/MetaRole.pm line 79
	Moose::Util::MetaRole::_make_new_metaclass('Moose::Meta::Class=HASH(0x802c1cae0)', 'HASH(0x8029e7d08)', 'class') called at /home/test/perl5/perlbrew/perls/perl-5.14.2/lib/site_perl/5.14.2/amd64-freebsd/Moose/Util/MetaRole.pm line 28
	Moose::Util::MetaRole::apply_metaroles('for', 'Net::HTTP::Spore::Core', 'class_metaroles', 'HASH(0x8029e7d08)') called at /usr/home/test/.cpan/build/Net-HTTP-Spore-0.04-CLiQoh/blib/lib/Net/HTTP/Spore/Meta.pm line 28
	Net::HTTP::Spore::Meta::init_meta('Net::HTTP::Spore::Meta', 'for_class', 'MooseX::Types::URI', 'metaclass', undef, 'meta_name', 'meta') called at /home/test/perl5/perlbrew/perls/perl-5.14.2/lib/site_perl/5.14.2/amd64-freebsd/Moose/Exporter.pm line 435
	Moose::Exporter::__ANON__('Net::HTTP::Spore::Meta') called at /usr/home/test/.cpan/build/Net-HTTP-Spore-0.04-CLiQoh/blib/lib/Net/HTTP/Spore/Core.pm line 6
	Net::HTTP::Spore::Core::BEGIN() called at /home/test/perl5/perlbrew/perls/perl-5.14.2/lib/site_perl/5.14.2/MooseX/Types/URI.pm line 0
	eval {...} called at /home/test/perl5/perlbrew/perls/perl-5.14.2/lib/site_perl/5.14.2/MooseX/Types/URI.pm line 0
	require Net/HTTP/Spore/Core.pm called at /usr/home/test/.cpan/build/Net-HTTP-Spore-0.04-CLiQoh/blib/lib/Net/HTTP/Spore.pm line 13
	Net::HTTP::Spore::BEGIN() called at /home/test/perl5/perlbrew/perls/perl-5.14.2/lib/site_perl/5.14.2/MooseX/Types/URI.pm line 0
	eval {...} called at /home/test/perl5/perlbrew/perls/perl-5.14.2/lib/site_perl/5.14.2/MooseX/Types/URI.pm line 0
	require Net/HTTP/Spore.pm called at t/spore-middleware/auth-basic.t line 8
	main::BEGIN() called at /home/test/perl5/perlbrew/perls/perl-5.14.2/lib/site_perl/5.14.2/MooseX/Types/URI.pm line 0
	eval {...} called at /home/test/perl5/perlbrew/perls/perl-5.14.2/lib/site_perl/5.14.2/MooseX/Types/URI.pm line 0
t/spore-middleware/auth-basic.t ...... ok
Providing an optimized subroutine ref for type constraints is deprecated. Use the inlining feature (inline_as) instead. at /usr/home/test/.cpan/build/Net-HTTP-Spore-0.04-CLiQoh/blib/lib/Net/HTTP/Spore/Meta/Method.pm line 13
	Net::HTTP::Spore::Meta::Method::BEGIN() called at /home/test/perl5/perlbrew/perls/perl-5.14.2/lib/site_perl/5.14.2/MooseX/Types/URI.pm line 0
	eval {...} called at /home/test/perl5/perlbrew/perls/perl-5.14.2/lib/site_perl/5.14.2/MooseX/Types/URI.pm line 0
	require Net/HTTP/Spore/Meta/Method.pm called at /usr/home/test/.cpan/build/Net-HTTP-Spore-0.04-CLiQoh/blib/lib/Net/HTTP/Spore/Meta/Method/Spore.pm line 11
	Net::HTTP::Spore::Meta::Method::Spore::BEGIN() called at /home/test/perl5/perlbrew/perls/perl-5.14.2/lib/site_perl/5.14.2/MooseX/Types/URI.pm line 0
	eval {...} called at /home/test/perl5/perlbrew/perls/perl-5.14.2/lib/site_perl/5.14.2/MooseX/Types/URI.pm line 0
	require Net/HTTP/Spore/Meta/Method/Spore.pm called at /home/test/perl5/perlbrew/perls/perl-5.14.2/lib/site_perl/5.14.2/Module/Runtime.pm line 198
	Module::Runtime::require_module('Net::HTTP::Spore::Meta::Method::Spore') called at /home/test/perl5/perlbrew/perls/perl-5.14.2/lib/site_perl/5.14.2/Class/Load.pm line 199
	Class::Load::__ANON__() called at /home/test/perl5/perlbrew/perls/perl-5.14.2/lib/site_perl/5.14.2/Try/Tiny.pm line 71
	eval {...} called at /home/test/perl5/perlbrew/perls/perl-5.14.2/lib/site_perl/5.14.2/Try/Tiny.pm line 67
	Try::Tiny::try('CODE(0x802a6e3c0)', 'Try::Tiny::Catch=REF(0x802a23660)') called at /home/test/perl5/perlbrew/perls/perl-5.14.2/lib/site_perl/5.14.2/Class/Load.pm line 205
	Class::Load::try_load_class('Net::HTTP::Spore::Meta::Method::Spore', undef) called at /home/test/perl5/perlbrew/perls/perl-5.14.2/lib/site_perl/5.14.2/Class/Load.pm line 64
	Class::Load::load_class('Net::HTTP::Spore::Meta::Method::Spore', undef) called at /home/test/perl5/perlbrew/perls/perl-5.14.2/lib/site_perl/5.14.2/amd64-freebsd/Moose/Util.pm line 132
	Moose::Util::_apply_all_roles('Moose::Meta::Role=HASH(0x802a57c00)', undef, 'Net::HTTP::Spore::Meta::Method::Spore') called at /home/test/perl5/perlbrew/perls/perl-5.14.2/lib/site_perl/5.14.2/amd64-freebsd/Moose/Util.pm line 99
	Moose::Util::apply_all_roles('Moose::Meta::Role=HASH(0x802a57c00)', 'Net::HTTP::Spore::Meta::Method::Spore') called at /home/test/perl5/perlbrew/perls/perl-5.14.2/lib/site_perl/5.14.2/amd64-freebsd/Moose/Role.pm line 29
	Moose::Role::with('Moose::Meta::Role=HASH(0x802a57c00)', 'Net::HTTP::Spore::Meta::Method::Spore') called at /home/test/perl5/perlbrew/perls/perl-5.14.2/lib/site_perl/5.14.2/amd64-freebsd/Moose/Exporter.pm line 370
	Moose::Role::with('Net::HTTP::Spore::Meta::Method::Spore') called at /usr/home/test/.cpan/build/Net-HTTP-Spore-0.04-CLiQoh/blib/lib/Net/HTTP/Spore/Meta/Class.pm line 10
	require Net/HTTP/Spore/Meta/Class.pm called at /home/test/perl5/perlbrew/perls/perl-5.14.2/lib/site_perl/5.14.2/Module/Runtime.pm line 198
	Module::Runtime::require_module('Net::HTTP::Spore::Meta::Class') called at /home/test/perl5/perlbrew/perls/perl-5.14.2/lib/site_perl/5.14.2/Class/Load.pm line 199
	Class::Load::__ANON__() called at /home/test/perl5/perlbrew/perls/perl-5.14.2/lib/site_perl/5.14.2/Try/Tiny.pm line 71
	eval {...} called at /home/test/perl5/perlbrew/perls/perl-5.14.2/lib/site_perl/5.14.2/Try/Tiny.pm line 67
	Try::Tiny::try('CODE(0x8027f4ae0)', 'Try::Tiny::Catch=REF(0x8026edca8)') called at /home/test/perl5/perlbrew/perls/perl-5.14.2/lib/site_perl/5.14.2/Class/Load.pm line 205
	Class::Load::try_load_class('Net::HTTP::Spore::Meta::Class', undef) called at /home/test/perl5/perlbrew/perls/perl-5.14.2/lib/site_perl/5.14.2/Class/Load.pm line 64
	Class::Load::load_class('Net::HTTP::Spore::Meta::Class', undef) called at /home/test/perl5/perlbrew/perls/perl-5.14.2/lib/site_perl/5.14.2/amd64-freebsd/Moose/Util.pm line 132
	Moose::Util::_apply_all_roles('Moose::Meta::Class=HASH(0x802a23018)', undef, 'Net::HTTP::Spore::Meta::Class') called at /home/test/perl5/perlbrew/perls/perl-5.14.2/lib/site_perl/5.14.2/amd64-freebsd/Moose/Util.pm line 99
	Moose::Util::apply_all_roles('Moose::Meta::Class=HASH(0x802a23018)', 'Net::HTTP::Spore::Meta::Class') called at /home/test/perl5/perlbrew/perls/perl-5.14.2/lib/site_perl/5.14.2/amd64-freebsd/Moose/Meta/Class.pm line 104
	Moose::Meta::Class::create('Moose::Meta::Class', 'Moose::Meta::Class::__ANON__::SERIAL::1', 'roles', 'ARRAY(0x802737a80)', 'weaken', '', 'superclasses', 'ARRAY(0x8027f4b28)') called at /home/test/perl5/perlbrew/perls/perl-5.14.2/lib/site_perl/5.14.2/amd64-freebsd/Class/MOP/Package.pm line 120
	Class::MOP::Package::create_anon('Moose::Meta::Class', 'superclasses', 'ARRAY(0x8027f4b28)', 'roles', 'ARRAY(0x802737a80)', 'cache', 1) called at /home/test/perl5/perlbrew/perls/perl-5.14.2/lib/site_perl/5.14.2/amd64-freebsd/Class/MOP/Class.pm line 474
	Class::MOP::Class::create_anon_class('Moose::Meta::Class', 'superclasses', 'ARRAY(0x8027f4b28)', 'roles', 'ARRAY(0x802737a80)', 'cache', 1) called at /home/test/perl5/perlbrew/perls/perl-5.14.2/lib/site_perl/5.14.2/amd64-freebsd/Moose/Util/MetaRole.pm line 134
	Moose::Util::MetaRole::_make_new_class('Moose::Meta::Class', 'ARRAY(0x802737a80)') called at /home/test/perl5/perlbrew/perls/perl-5.14.2/lib/site_perl/5.14.2/amd64-freebsd/Moose/Util/MetaRole.pm line 79
	Moose::Util::MetaRole::_make_new_metaclass('Moose::Meta::Class=HASH(0x8027f4180)', 'HASH(0x8027f23a8)', 'class') called at /home/test/perl5/perlbrew/perls/perl-5.14.2/lib/site_perl/5.14.2/amd64-freebsd/Moose/Util/MetaRole.pm line 28
	Moose::Util::MetaRole::apply_metaroles('for', 'Net::HTTP::Spore::Core', 'class_metaroles', 'HASH(0x8027f23a8)') called at /usr/home/test/.cpan/build/Net-HTTP-Spore-0.04-CLiQoh/blib/lib/Net/HTTP/Spore/Meta.pm line 28
	Net::HTTP::Spore::Meta::init_meta('Net::HTTP::Spore::Meta', 'for_class', 'MooseX::Types::URI', 'metaclass', undef, 'meta_name', 'meta') called at /home/test/perl5/perlbrew/perls/perl-5.14.2/lib/site_perl/5.14.2/amd64-freebsd/Moose/Exporter.pm line 435
	Moose::Exporter::__ANON__('Net::HTTP::Spore::Meta') called at /usr/home/test/.cpan/build/Net-HTTP-Spore-0.04-CLiQoh/blib/lib/Net/HTTP/Spore/Core.pm line 6
	Net::HTTP::Spore::Core::BEGIN() called at /home/test/perl5/perlbrew/perls/perl-5.14.2/lib/site_perl/5.14.2/MooseX/Types/URI.pm line 0
	eval {...} called at /home/test/perl5/perlbrew/perls/perl-5.14.2/lib/site_perl/5.14.2/MooseX/Types/URI.pm line 0
	require Net/HTTP/Spore/Core.pm called at /usr/home/test/.cpan/build/Net-HTTP-Spore-0.04-CLiQoh/blib/lib/Net/HTTP/Spore.pm line 13
	Net::HTTP::Spore::BEGIN() called at /home/test/perl5/perlbrew/perls/perl-5.14.2/lib/site_perl/5.14.2/MooseX/Types/URI.pm line 0
	eval {...} called at /home/test/perl5/perlbrew/perls/perl-5.14.2/lib/site_perl/5.14.2/MooseX/Types/URI.pm line 0
	require Net/HTTP/Spore.pm called at t/spore-middleware/auth-header.t line 6
	main::BEGIN() called at /home/test/perl5/perlbrew/perls/perl-5.14.2/lib/site_perl/5.14.2/MooseX/Types/URI.pm line 0
	eval {...} called at /home/test/perl5/perlbrew/perls/perl-5.14.2/lib/site_perl/5.14.2/MooseX/Types/URI.pm line 0
t/spore-middleware/auth-header.t ..... ok
Providing an optimized subroutine ref for type constraints is deprecated. Use the inlining feature (inline_as) instead. at /usr/home/test/.cpan/build/Net-HTTP-Spore-0.04-CLiQoh/blib/lib/Net/HTTP/Spore/Meta/Method.pm line 13
	Net::HTTP::Spore::Meta::Method::BEGIN() called at /home/test/perl5/perlbrew/perls/perl-5.14.2/lib/site_perl/5.14.2/MooseX/Types/URI.pm line 0
	eval {...} called at /home/test/perl5/perlbrew/perls/perl-5.14.2/lib/site_perl/5.14.2/MooseX/Types/URI.pm line 0
	require Net/HTTP/Spore/Meta/Method.pm called at /usr/home/test/.cpan/build/Net-HTTP-Spore-0.04-CLiQoh/blib/lib/Net/HTTP/Spore/Meta/Method/Spore.pm line 11
	Net::HTTP::Spore::Meta::Method::Spore::BEGIN() called at /home/test/perl5/perlbrew/perls/perl-5.14.2/lib/site_perl/5.14.2/MooseX/Types/URI.pm line 0
	eval {...} called at /home/test/perl5/perlbrew/perls/perl-5.14.2/lib/site_perl/5.14.2/MooseX/Types/URI.pm line 0
	require Net/HTTP/Spore/Meta/Method/Spore.pm called at /home/test/perl5/perlbrew/perls/perl-5.14.2/lib/site_perl/5.14.2/Module/Runtime.pm line 198
	Module::Runtime::require_module('Net::HTTP::Spore::Meta::Method::Spore') called at /home/test/perl5/perlbrew/perls/perl-5.14.2/lib/site_perl/5.14.2/Class/Load.pm line 199
	Class::Load::__ANON__() called at /home/test/perl5/perlbrew/perls/perl-5.14.2/lib/site_perl/5.14.2/Try/Tiny.pm line 71
	eval {...} called at /home/test/perl5/perlbrew/perls/perl-5.14.2/lib/site_perl/5.14.2/Try/Tiny.pm line 67
	Try::Tiny::try('CODE(0x80287caf8)', 'Try::Tiny::Catch=REF(0x802828d98)') called at /home/test/perl5/perlbrew/perls/perl-5.14.2/lib/site_perl/5.14.2/Class/Load.pm line 205
	Class::Load::try_load_class('Net::HTTP::Spore::Meta::Method::Spore', undef) called at /home/test/perl5/perlbrew/perls/perl-5.14.2/lib/site_perl/5.14.2/Class/Load.pm line 64
	Class::Load::load_class('Net::HTTP::Spore::Meta::Method::Spore', undef) called at /home/test/perl5/perlbrew/perls/perl-5.14.2/lib/site_perl/5.14.2/amd64-freebsd/Moose/Util.pm line 132
	Moose::Util::_apply_all_roles('Moose::Meta::Role=HASH(0x80287c360)', undef, 'Net::HTTP::Spore::Meta::Method::Spore') called at /home/test/perl5/perlbrew/perls/perl-5.14.2/lib/site_perl/5.14.2/amd64-freebsd/Moose/Util.pm line 99
	Moose::Util::apply_all_roles('Moose::Meta::Role=HASH(0x80287c360)', 'Net::HTTP::Spore::Meta::Method::Spore') called at /home/test/perl5/perlbrew/perls/perl-5.14.2/lib/site_perl/5.14.2/amd64-freebsd/Moose/Role.pm line 29
	Moose::Role::with('Moose::Meta::Role=HASH(0x80287c360)', 'Net::HTTP::Spore::Meta::Method::Spore') called at /home/test/perl5/perlbrew/perls/perl-5.14.2/lib/site_perl/5.14.2/amd64-freebsd/Moose/Exporter.pm line 370
	Moose::Role::with('Net::HTTP::Spore::Meta::Method::Spore') called at /usr/home/test/.cpan/build/Net-HTTP-Spore-0.04-CLiQoh/blib/lib/Net/HTTP/Spore/Meta/Class.pm line 10
	require Net/HTTP/Spore/Meta/Class.pm called at /home/test/perl5/perlbrew/perls/perl-5.14.2/lib/site_perl/5.14.2/Module/Runtime.pm line 198
	Module::Runtime::require_module('Net::HTTP::Spore::Meta::Class') called at /home/test/perl5/perlbrew/perls/perl-5.14.2/lib/site_perl/5.14.2/Class/Load.pm line 199
	Class::Load::__ANON__() called at /home/test/perl5/perlbrew/perls/perl-5.14.2/lib/site_perl/5.14.2/Try/Tiny.pm line 71
	eval {...} called at /home/test/perl5/perlbrew/perls/perl-5.14.2/lib/site_perl/5.14.2/Try/Tiny.pm line 67
	Try::Tiny::try('CODE(0x802828240)', 'Try::Tiny::Catch=REF(0x802709408)') called at /home/test/perl5/perlbrew/perls/perl-5.14.2/lib/site_perl/5.14.2/Class/Load.pm line 205
	Class::Load::try_load_class('Net::HTTP::Spore::Meta::Class', undef) called at /home/test/perl5/perlbrew/perls/perl-5.14.2/lib/site_perl/5.14.2/Class/Load.pm line 64
	Class::Load::load_class('Net::HTTP::Spore::Meta::Class', undef) called at /home/test/perl5/perlbrew/perls/perl-5.14.2/lib/site_perl/5.14.2/amd64-freebsd/Moose/Util.pm line 132
	Moose::Util::_apply_all_roles('Moose::Meta::Class=HASH(0x802828750)', undef, 'Net::HTTP::Spore::Meta::Class') called at /home/test/perl5/perlbrew/perls/perl-5.14.2/lib/site_perl/5.14.2/amd64-freebsd/Moose/Util.pm line 99
	Moose::Util::apply_all_roles('Moose::Meta::Class=HASH(0x802828750)', 'Net::HTTP::Spore::Meta::Class') called at /home/test/perl5/perlbrew/perls/perl-5.14.2/lib/site_perl/5.14.2/amd64-freebsd/Moose/Meta/Class.pm line 104
	Moose::Meta::Class::create('Moose::Meta::Class', 'Moose::Meta::Class::__ANON__::SERIAL::1', 'roles', 'ARRAY(0x8027271e0)', 'weaken', '', 'superclasses', 'ARRAY(0x802828288)') called at /home/test/perl5/perlbrew/perls/perl-5.14.2/lib/site_perl/5.14.2/amd64-freebsd/Class/MOP/Package.pm line 120
	Class::MOP::Package::create_anon('Moose::Meta::Class', 'superclasses', 'ARRAY(0x802828288)', 'roles', 'ARRAY(0x8027271e0)', 'cache', 1) called at /home/test/perl5/perlbrew/perls/perl-5.14.2/lib/site_perl/5.14.2/amd64-freebsd/Class/MOP/Class.pm line 474
	Class::MOP::Class::create_anon_class('Moose::Meta::Class', 'superclasses', 'ARRAY(0x802828288)', 'roles', 'ARRAY(0x8027271e0)', 'cache', 1) called at /home/test/perl5/perlbrew/perls/perl-5.14.2/lib/site_perl/5.14.2/amd64-freebsd/Moose/Util/MetaRole.pm line 134
	Moose::Util::MetaRole::_make_new_class('Moose::Meta::Class', 'ARRAY(0x8027271e0)') called at /home/test/perl5/perlbrew/perls/perl-5.14.2/lib/site_perl/5.14.2/amd64-freebsd/Moose/Util/MetaRole.pm line 79
	Moose::Util::MetaRole::_make_new_metaclass('Moose::Meta::Class=HASH(0x801b898b8)', 'HASH(0x802804ae0)', 'class') called at /home/test/perl5/perlbrew/perls/perl-5.14.2/lib/site_perl/5.14.2/amd64-freebsd/Moose/Util/MetaRole.pm line 28
	Moose::Util::MetaRole::apply_metaroles('for', 'Net::HTTP::Spore::Core', 'class_metaroles', 'HASH(0x802804ae0)') called at /usr/home/test/.cpan/build/Net-HTTP-Spore-0.04-CLiQoh/blib/lib/Net/HTTP/Spore/Meta.pm line 28
	Net::HTTP::Spore::Meta::init_meta('Net::HTTP::Spore::Meta', 'for_class', 'MooseX::Types::URI', 'metaclass', undef, 'meta_name', 'meta') called at /home/test/perl5/perlbrew/perls/perl-5.14.2/lib/site_perl/5.14.2/amd64-freebsd/Moose/Exporter.pm line 435
	Moose::Exporter::__ANON__('Net::HTTP::Spore::Meta') called at /usr/home/test/.cpan/build/Net-HTTP-Spore-0.04-CLiQoh/blib/lib/Net/HTTP/Spore/Core.pm line 6
	Net::HTTP::Spore::Core::BEGIN() called at /home/test/perl5/perlbrew/perls/perl-5.14.2/lib/site_perl/5.14.2/MooseX/Types/URI.pm line 0
	eval {...} called at /home/test/perl5/perlbrew/perls/perl-5.14.2/lib/site_perl/5.14.2/MooseX/Types/URI.pm line 0
	require Net/HTTP/Spore/Core.pm called at /usr/home/test/.cpan/build/Net-HTTP-Spore-0.04-CLiQoh/blib/lib/Net/HTTP/Spore.pm line 13
	Net::HTTP::Spore::BEGIN() called at /home/test/perl5/perlbrew/perls/perl-5.14.2/lib/site_perl/5.14.2/MooseX/Types/URI.pm line 0
	eval {...} called at /home/test/perl5/perlbrew/perls/perl-5.14.2/lib/site_perl/5.14.2/MooseX/Types/URI.pm line 0
	require Net/HTTP/Spore.pm called at t/spore-middleware/auth-oauth.t line 6
	main::BEGIN() called at /home/test/perl5/perlbrew/perls/perl-5.14.2/lib/site_perl/5.14.2/MooseX/Types/URI.pm line 0
	eval {...} called at /home/test/perl5/perlbrew/perls/perl-5.14.2/lib/site_perl/5.14.2/MooseX/Types/URI.pm line 0
t/spore-middleware/auth-oauth.t ...... ok
Providing an optimized subroutine ref for type constraints is deprecated. Use the inlining feature (inline_as) instead. at /usr/home/test/.cpan/build/Net-HTTP-Spore-0.04-CLiQoh/blib/lib/Net/HTTP/Spore/Meta/Method.pm line 13
	Net::HTTP::Spore::Meta::Method::BEGIN() called at /home/test/perl5/perlbrew/perls/perl-5.14.2/lib/site_perl/5.14.2/MooseX/Types/URI.pm line 0
	eval {...} called at /home/test/perl5/perlbrew/perls/perl-5.14.2/lib/site_perl/5.14.2/MooseX/Types/URI.pm line 0
	require Net/HTTP/Spore/Meta/Method.pm called at /usr/home/test/.cpan/build/Net-HTTP-Spore-0.04-CLiQoh/blib/lib/Net/HTTP/Spore/Meta/Method/Spore.pm line 11
	Net::HTTP::Spore::Meta::Method::Spore::BEGIN() called at /home/test/perl5/perlbrew/perls/perl-5.14.2/lib/site_perl/5.14.2/MooseX/Types/URI.pm line 0
	eval {...} called at /home/test/perl5/perlbrew/perls/perl-5.14.2/lib/site_perl/5.14.2/MooseX/Types/URI.pm line 0
	require Net/HTTP/Spore/Meta/Method/Spore.pm called at /home/test/perl5/perlbrew/perls/perl-5.14.2/lib/site_perl/5.14.2/Module/Runtime.pm line 198
	Module::Runtime::require_module('Net::HTTP::Spore::Meta::Method::Spore') called at /home/test/perl5/perlbrew/perls/perl-5.14.2/lib/site_perl/5.14.2/Class/Load.pm line 199
	Class::Load::__ANON__() called at /home/test/perl5/perlbrew/perls/perl-5.14.2/lib/site_perl/5.14.2/Try/Tiny.pm line 71
	eval {...} called at /home/test/perl5/perlbrew/perls/perl-5.14.2/lib/site_perl/5.14.2/Try/Tiny.pm line 67
	Try::Tiny::try('CODE(0x802a623a8)', 'Try::Tiny::Catch=REF(0x802a37648)') called at /home/test/perl5/perlbrew/perls/perl-5.14.2/lib/site_perl/5.14.2/Class/Load.pm line 205
	Class::Load::try_load_class('Net::HTTP::Spore::Meta::Method::Spore', undef) called at /home/test/perl5/perlbrew/perls/perl-5.14.2/lib/site_perl/5.14.2/Class/Load.pm line 64
	Class::Load::load_class('Net::HTTP::Spore::Meta::Method::Spore', undef) called at /home/test/perl5/perlbrew/perls/perl-5.14.2/lib/site_perl/5.14.2/amd64-freebsd/Moose/Util.pm line 132
	Moose::Util::_apply_all_roles('Moose::Meta::Role=HASH(0x802a4cbe8)', undef, 'Net::HTTP::Spore::Meta::Method::Spore') called at /home/test/perl5/perlbrew/perls/perl-5.14.2/lib/site_perl/5.14.2/amd64-freebsd/Moose/Util.pm line 99
	Moose::Util::apply_all_roles('Moose::Meta::Role=HASH(0x802a4cbe8)', 'Net::HTTP::Spore::Meta::Method::Spore') called at /home/test/perl5/perlbrew/perls/perl-5.14.2/lib/site_perl/5.14.2/amd64-freebsd/Moose/Role.pm line 29
	Moose::Role::with('Moose::Meta::Role=HASH(0x802a4cbe8)', 'Net::HTTP::Spore::Meta::Method::Spore') called at /home/test/perl5/perlbrew/perls/perl-5.14.2/lib/site_perl/5.14.2/amd64-freebsd/Moose/Exporter.pm line 370
	Moose::Role::with('Net::HTTP::Spore::Meta::Method::Spore') called at /usr/home/test/.cpan/build/Net-HTTP-Spore-0.04-CLiQoh/blib/lib/Net/HTTP/Spore/Meta/Class.pm line 10
	require Net/HTTP/Spore/Meta/Class.pm called at /home/test/perl5/perlbrew/perls/perl-5.14.2/lib/site_perl/5.14.2/Module/Runtime.pm line 198
	Module::Runtime::require_module('Net::HTTP::Spore::Meta::Class') called at /home/test/perl5/perlbrew/perls/perl-5.14.2/lib/site_perl/5.14.2/Class/Load.pm line 199
	Class::Load::__ANON__() called at /home/test/perl5/perlbrew/perls/perl-5.14.2/lib/site_perl/5.14.2/Try/Tiny.pm line 71
	eval {...} called at /home/test/perl5/perlbrew/perls/perl-5.14.2/lib/site_perl/5.14.2/Try/Tiny.pm line 67
	Try::Tiny::try('CODE(0x802a36ac8)', 'Try::Tiny::Catch=REF(0x802968d50)') called at /home/test/perl5/perlbrew/perls/perl-5.14.2/lib/site_perl/5.14.2/Class/Load.pm line 205
	Class::Load::try_load_class('Net::HTTP::Spore::Meta::Class', undef) called at /home/test/perl5/perlbrew/perls/perl-5.14.2/lib/site_perl/5.14.2/Class/Load.pm line 64
	Class::Load::load_class('Net::HTTP::Spore::Meta::Class', undef) called at /home/test/perl5/perlbrew/perls/perl-5.14.2/lib/site_perl/5.14.2/amd64-freebsd/Moose/Util.pm line 132
	Moose::Util::_apply_all_roles('Moose::Meta::Class=HASH(0x802a36fd8)', undef, 'Net::HTTP::Spore::Meta::Class') called at /home/test/perl5/perlbrew/perls/perl-5.14.2/lib/site_perl/5.14.2/amd64-freebsd/Moose/Util.pm line 99
	Moose::Util::apply_all_roles('Moose::Meta::Class=HASH(0x802a36fd8)', 'Net::HTTP::Spore::Meta::Class') called at /home/test/perl5/perlbrew/perls/perl-5.14.2/lib/site_perl/5.14.2/amd64-freebsd/Moose/Meta/Class.pm line 104
	Moose::Meta::Class::create('Moose::Meta::Class', 'Moose::Meta::Class::__ANON__::SERIAL::1', 'roles', 'ARRAY(0x8029ca2b8)', 'weaken', '', 'superclasses', 'ARRAY(0x802a36b10)') called at /home/test/perl5/perlbrew/perls/perl-5.14.2/lib/site_perl/5.14.2/amd64-freebsd/Class/MOP/Package.pm line 120
	Class::MOP::Package::create_anon('Moose::Meta::Class', 'superclasses', 'ARRAY(0x802a36b10)', 'roles', 'ARRAY(0x8029ca2b8)', 'cache', 1) called at /home/test/perl5/perlbrew/perls/perl-5.14.2/lib/site_perl/5.14.2/amd64-freebsd/Class/MOP/Class.pm line 474
	Class::MOP::Class::create_anon_class('Moose::Meta::Class', 'superclasses', 'ARRAY(0x802a36b10)', 'roles', 'ARRAY(0x8029ca2b8)', 'cache', 1) called at /home/test/perl5/perlbrew/perls/perl-5.14.2/lib/site_perl/5.14.2/amd64-freebsd/Moose/Util/MetaRole.pm line 134
	Moose::Util::MetaRole::_make_new_class('Moose::Meta::Class', 'ARRAY(0x8029ca2b8)') called at /home/test/perl5/perlbrew/perls/perl-5.14.2/lib/site_perl/5.14.2/amd64-freebsd/Moose/Util/MetaRole.pm line 79
	Moose::Util::MetaRole::_make_new_metaclass('Moose::Meta::Class=HASH(0x802a36168)', 'HASH(0x80297f390)', 'class') called at /home/test/perl5/perlbrew/perls/perl-5.14.2/lib/site_perl/5.14.2/amd64-freebsd/Moose/Util/MetaRole.pm line 28
	Moose::Util::MetaRole::apply_metaroles('for', 'Net::HTTP::Spore::Core', 'class_metaroles', 'HASH(0x80297f390)') called at /usr/home/test/.cpan/build/Net-HTTP-Spore-0.04-CLiQoh/blib/lib/Net/HTTP/Spore/Meta.pm line 28
	Net::HTTP::Spore::Meta::init_meta('Net::HTTP::Spore::Meta', 'for_class', 'MooseX::Types::URI', 'metaclass', undef, 'meta_name', 'meta') called at /home/test/perl5/perlbrew/perls/perl-5.14.2/lib/site_perl/5.14.2/amd64-freebsd/Moose/Exporter.pm line 435
	Moose::Exporter::__ANON__('Net::HTTP::Spore::Meta') called at /usr/home/test/.cpan/build/Net-HTTP-Spore-0.04-CLiQoh/blib/lib/Net/HTTP/Spore/Core.pm line 6
	Net::HTTP::Spore::Core::BEGIN() called at /home/test/perl5/perlbrew/perls/perl-5.14.2/lib/site_perl/5.14.2/MooseX/Types/URI.pm line 0
	eval {...} called at /home/test/perl5/perlbrew/perls/perl-5.14.2/lib/site_perl/5.14.2/MooseX/Types/URI.pm line 0
	require Net/HTTP/Spore/Core.pm called at /usr/home/test/.cpan/build/Net-HTTP-Spore-0.04-CLiQoh/blib/lib/Net/HTTP/Spore.pm line 13
	Net::HTTP::Spore::BEGIN() called at /home/test/perl5/perlbrew/perls/perl-5.14.2/lib/site_perl/5.14.2/MooseX/Types/URI.pm line 0
	eval {...} called at /home/test/perl5/perlbrew/perls/perl-5.14.2/lib/site_perl/5.14.2/MooseX/Types/URI.pm line 0
	require Net/HTTP/Spore.pm called at t/spore-middleware/format-auto.t line 9
	main::BEGIN() called at /home/test/perl5/perlbrew/perls/perl-5.14.2/lib/site_perl/5.14.2/MooseX/Types/URI.pm line 0
	eval {...} called at /home/test/perl5/perlbrew/perls/perl-5.14.2/lib/site_perl/5.14.2/MooseX/Types/URI.pm line 0
t/spore-middleware/format-auto.t ..... ok
Providing an optimized subroutine ref for type constraints is deprecated. Use the inlining feature (inline_as) instead. at /usr/home/test/.cpan/build/Net-HTTP-Spore-0.04-CLiQoh/blib/lib/Net/HTTP/Spore/Meta/Method.pm line 13
	Net::HTTP::Spore::Meta::Method::BEGIN() called at /home/test/perl5/perlbrew/perls/perl-5.14.2/lib/site_perl/5.14.2/MooseX/Types/URI.pm line 0
	eval {...} called at /home/test/perl5/perlbrew/perls/perl-5.14.2/lib/site_perl/5.14.2/MooseX/Types/URI.pm line 0
	require Net/HTTP/Spore/Meta/Method.pm called at /usr/home/test/.cpan/build/Net-HTTP-Spore-0.04-CLiQoh/blib/lib/Net/HTTP/Spore/Meta/Method/Spore.pm line 11
	Net::HTTP::Spore::Meta::Method::Spore::BEGIN() called at /home/test/perl5/perlbrew/perls/perl-5.14.2/lib/site_perl/5.14.2/MooseX/Types/URI.pm line 0
	eval {...} called at /home/test/perl5/perlbrew/perls/perl-5.14.2/lib/site_perl/5.14.2/MooseX/Types/URI.pm line 0
	require Net/HTTP/Spore/Meta/Method/Spore.pm called at /home/test/perl5/perlbrew/perls/perl-5.14.2/lib/site_perl/5.14.2/Module/Runtime.pm line 198
	Module::Runtime::require_module('Net::HTTP::Spore::Meta::Method::Spore') called at /home/test/perl5/perlbrew/perls/perl-5.14.2/lib/site_perl/5.14.2/Class/Load.pm line 199
	Class::Load::__ANON__() called at /home/test/perl5/perlbrew/perls/perl-5.14.2/lib/site_perl/5.14.2/Try/Tiny.pm line 71
	eval {...} called at /home/test/perl5/perlbrew/perls/perl-5.14.2/lib/site_perl/5.14.2/Try/Tiny.pm line 67
	Try::Tiny::try('CODE(0x802a62360)', 'Try::Tiny::Catch=REF(0x802a37600)') called at /home/test/perl5/perlbrew/perls/perl-5.14.2/lib/site_perl/5.14.2/Class/Load.pm line 205
	Class::Load::try_load_class('Net::HTTP::Spore::Meta::Method::Spore', undef) called at /home/test/perl5/perlbrew/perls/perl-5.14.2/lib/site_perl/5.14.2/Class/Load.pm line 64
	Class::Load::load_class('Net::HTTP::Spore::Meta::Method::Spore', undef) called at /home/test/perl5/perlbrew/perls/perl-5.14.2/lib/site_perl/5.14.2/amd64-freebsd/Moose/Util.pm line 132
	Moose::Util::_apply_all_roles('Moose::Meta::Role=HASH(0x802a4cba0)', undef, 'Net::HTTP::Spore::Meta::Method::Spore') called at /home/test/perl5/perlbrew/perls/perl-5.14.2/lib/site_perl/5.14.2/amd64-freebsd/Moose/Util.pm line 99
	Moose::Util::apply_all_roles('Moose::Meta::Role=HASH(0x802a4cba0)', 'Net::HTTP::Spore::Meta::Method::Spore') called at /home/test/perl5/perlbrew/perls/perl-5.14.2/lib/site_perl/5.14.2/amd64-freebsd/Moose/Role.pm line 29
	Moose::Role::with('Moose::Meta::Role=HASH(0x802a4cba0)', 'Net::HTTP::Spore::Meta::Method::Spore') called at /home/test/perl5/perlbrew/perls/perl-5.14.2/lib/site_perl/5.14.2/amd64-freebsd/Moose/Exporter.pm line 370
	Moose::Role::with('Net::HTTP::Spore::Meta::Method::Spore') called at /usr/home/test/.cpan/build/Net-HTTP-Spore-0.04-CLiQoh/blib/lib/Net/HTTP/Spore/Meta/Class.pm line 10
	require Net/HTTP/Spore/Meta/Class.pm called at /home/test/perl5/perlbrew/perls/perl-5.14.2/lib/site_perl/5.14.2/Module/Runtime.pm line 198
	Module::Runtime::require_module('Net::HTTP::Spore::Meta::Class') called at /home/test/perl5/perlbrew/perls/perl-5.14.2/lib/site_perl/5.14.2/Class/Load.pm line 199
	Class::Load::__ANON__() called at /home/test/perl5/perlbrew/perls/perl-5.14.2/lib/site_perl/5.14.2/Try/Tiny.pm line 71
	eval {...} called at /home/test/perl5/perlbrew/perls/perl-5.14.2/lib/site_perl/5.14.2/Try/Tiny.pm line 67
	Try::Tiny::try('CODE(0x802a36a80)', 'Try::Tiny::Catch=REF(0x802968d08)') called at /home/test/perl5/perlbrew/perls/perl-5.14.2/lib/site_perl/5.14.2/Class/Load.pm line 205
	Class::Load::try_load_class('Net::HTTP::Spore::Meta::Class', undef) called at /home/test/perl5/perlbrew/perls/perl-5.14.2/lib/site_perl/5.14.2/Class/Load.pm line 64
	Class::Load::load_class('Net::HTTP::Spore::Meta::Class', undef) called at /home/test/perl5/perlbrew/perls/perl-5.14.2/lib/site_perl/5.14.2/amd64-freebsd/Moose/Util.pm line 132
	Moose::Util::_apply_all_roles('Moose::Meta::Class=HASH(0x802a36f90)', undef, 'Net::HTTP::Spore::Meta::Class') called at /home/test/perl5/perlbrew/perls/perl-5.14.2/lib/site_perl/5.14.2/amd64-freebsd/Moose/Util.pm line 99
	Moose::Util::apply_all_roles('Moose::Meta::Class=HASH(0x802a36f90)', 'Net::HTTP::Spore::Meta::Class') called at /home/test/perl5/perlbrew/perls/perl-5.14.2/lib/site_perl/5.14.2/amd64-freebsd/Moose/Meta/Class.pm line 104
	Moose::Meta::Class::create('Moose::Meta::Class', 'Moose::Meta::Class::__ANON__::SERIAL::1', 'roles', 'ARRAY(0x8029ca270)', 'weaken', '', 'superclasses', 'ARRAY(0x802a36ac8)') called at /home/test/perl5/perlbrew/perls/perl-5.14.2/lib/site_perl/5.14.2/amd64-freebsd/Class/MOP/Package.pm line 120
	Class::MOP::Package::create_anon('Moose::Meta::Class', 'superclasses', 'ARRAY(0x802a36ac8)', 'roles', 'ARRAY(0x8029ca270)', 'cache', 1) called at /home/test/perl5/perlbrew/perls/perl-5.14.2/lib/site_perl/5.14.2/amd64-freebsd/Class/MOP/Class.pm line 474
	Class::MOP::Class::create_anon_class('Moose::Meta::Class', 'superclasses', 'ARRAY(0x802a36ac8)', 'roles', 'ARRAY(0x8029ca270)', 'cache', 1) called at /home/test/perl5/perlbrew/perls/perl-5.14.2/lib/site_perl/5.14.2/amd64-freebsd/Moose/Util/MetaRole.pm line 134
	Moose::Util::MetaRole::_make_new_class('Moose::Meta::Class', 'ARRAY(0x8029ca270)') called at /home/test/perl5/perlbrew/perls/perl-5.14.2/lib/site_perl/5.14.2/amd64-freebsd/Moose/Util/MetaRole.pm line 79
	Moose::Util::MetaRole::_make_new_metaclass('Moose::Meta::Class=HASH(0x802a36120)', 'HASH(0x802980348)', 'class') called at /home/test/perl5/perlbrew/perls/perl-5.14.2/lib/site_perl/5.14.2/amd64-freebsd/Moose/Util/MetaRole.pm line 28
	Moose::Util::MetaRole::apply_metaroles('for', 'Net::HTTP::Spore::Core', 'class_metaroles', 'HASH(0x802980348)') called at /usr/home/test/.cpan/build/Net-HTTP-Spore-0.04-CLiQoh/blib/lib/Net/HTTP/Spore/Meta.pm line 28
	Net::HTTP::Spore::Meta::init_meta('Net::HTTP::Spore::Meta', 'for_class', 'MooseX::Types::URI', 'metaclass', undef, 'meta_name', 'meta') called at /home/test/perl5/perlbrew/perls/perl-5.14.2/lib/site_perl/5.14.2/amd64-freebsd/Moose/Exporter.pm line 435
	Moose::Exporter::__ANON__('Net::HTTP::Spore::Meta') called at /usr/home/test/.cpan/build/Net-HTTP-Spore-0.04-CLiQoh/blib/lib/Net/HTTP/Spore/Core.pm line 6
	Net::HTTP::Spore::Core::BEGIN() called at /home/test/perl5/perlbrew/perls/perl-5.14.2/lib/site_perl/5.14.2/MooseX/Types/URI.pm line 0
	eval {...} called at /home/test/perl5/perlbrew/perls/perl-5.14.2/lib/site_perl/5.14.2/MooseX/Types/URI.pm line 0
	require Net/HTTP/Spore/Core.pm called at /usr/home/test/.cpan/build/Net-HTTP-Spore-0.04-CLiQoh/blib/lib/Net/HTTP/Spore.pm line 13
	Net::HTTP::Spore::BEGIN() called at /home/test/perl5/perlbrew/perls/perl-5.14.2/lib/site_perl/5.14.2/MooseX/Types/URI.pm line 0
	eval {...} called at /home/test/perl5/perlbrew/perls/perl-5.14.2/lib/site_perl/5.14.2/MooseX/Types/URI.pm line 0
	require Net/HTTP/Spore.pm called at t/spore-middleware/format-json.t line 7
	main::BEGIN() called at /home/test/perl5/perlbrew/perls/perl-5.14.2/lib/site_perl/5.14.2/MooseX/Types/URI.pm line 0
	eval {...} called at /home/test/perl5/perlbrew/perls/perl-5.14.2/lib/site_perl/5.14.2/MooseX/Types/URI.pm line 0
t/spore-middleware/format-json.t ..... ok
Providing an optimized subroutine ref for type constraints is deprecated. Use the inlining feature (inline_as) instead. at /usr/home/test/.cpan/build/Net-HTTP-Spore-0.04-CLiQoh/blib/lib/Net/HTTP/Spore/Meta/Method.pm line 13
	Net::HTTP::Spore::Meta::Method::BEGIN() called at /home/test/perl5/perlbrew/perls/perl-5.14.2/lib/site_perl/5.14.2/MooseX/Types/URI.pm line 0
	eval {...} called at /home/test/perl5/perlbrew/perls/perl-5.14.2/lib/site_perl/5.14.2/MooseX/Types/URI.pm line 0
	require Net/HTTP/Spore/Meta/Method.pm called at /usr/home/test/.cpan/build/Net-HTTP-Spore-0.04-CLiQoh/blib/lib/Net/HTTP/Spore/Meta/Method/Spore.pm line 11
	Net::HTTP::Spore::Meta::Method::Spore::BEGIN() called at /home/test/perl5/perlbrew/perls/perl-5.14.2/lib/site_perl/5.14.2/MooseX/Types/URI.pm line 0
	eval {...} called at /home/test/perl5/perlbrew/perls/perl-5.14.2/lib/site_perl/5.14.2/MooseX/Types/URI.pm line 0
	require Net/HTTP/Spore/Meta/Method/Spore.pm called at /home/test/perl5/perlbrew/perls/perl-5.14.2/lib/site_perl/5.14.2/Module/Runtime.pm line 198
	Module::Runtime::require_module('Net::HTTP::Spore::Meta::Method::Spore') called at /home/test/perl5/perlbrew/perls/perl-5.14.2/lib/site_perl/5.14.2/Class/Load.pm line 199
	Class::Load::__ANON__() called at /home/test/perl5/perlbrew/perls/perl-5.14.2/lib/site_perl/5.14.2/Try/Tiny.pm line 71
	eval {...} called at /home/test/perl5/perlbrew/perls/perl-5.14.2/lib/site_perl/5.14.2/Try/Tiny.pm line 67
	Try::Tiny::try('CODE(0x8028d9420)', 'Try::Tiny::Catch=REF(0x80289f6c0)') called at /home/test/perl5/perlbrew/perls/perl-5.14.2/lib/site_perl/5.14.2/Class/Load.pm line 205
	Class::Load::try_load_class('Net::HTTP::Spore::Meta::Method::Spore', undef) called at /home/test/perl5/perlbrew/perls/perl-5.14.2/lib/site_perl/5.14.2/Class/Load.pm line 64
	Class::Load::load_class('Net::HTTP::Spore::Meta::Method::Spore', undef) called at /home/test/perl5/perlbrew/perls/perl-5.14.2/lib/site_perl/5.14.2/amd64-freebsd/Moose/Util.pm line 132
	Moose::Util::_apply_all_roles('Moose::Meta::Role=HASH(0x8028d7c60)', undef, 'Net::HTTP::Spore::Meta::Method::Spore') called at /home/test/perl5/perlbrew/perls/perl-5.14.2/lib/site_perl/5.14.2/amd64-freebsd/Moose/Util.pm line 99
	Moose::Util::apply_all_roles('Moose::Meta::Role=HASH(0x8028d7c60)', 'Net::HTTP::Spore::Meta::Method::Spore') called at /home/test/perl5/perlbrew/perls/perl-5.14.2/lib/site_perl/5.14.2/amd64-freebsd/Moose/Role.pm line 29
	Moose::Role::with('Moose::Meta::Role=HASH(0x8028d7c60)', 'Net::HTTP::Spore::Meta::Method::Spore') called at /home/test/perl5/perlbrew/perls/perl-5.14.2/lib/site_perl/5.14.2/amd64-freebsd/Moose/Exporter.pm line 370
	Moose::Role::with('Net::HTTP::Spore::Meta::Method::Spore') called at /usr/home/test/.cpan/build/Net-HTTP-Spore-0.04-CLiQoh/blib/lib/Net/HTTP/Spore/Meta/Class.pm line 10
	require Net/HTTP/Spore/Meta/Class.pm called at /home/test/perl5/perlbrew/perls/perl-5.14.2/lib/site_perl/5.14.2/Module/Runtime.pm line 198
	Module::Runtime::require_module('Net::HTTP::Spore::Meta::Class') called at /home/test/perl5/perlbrew/perls/perl-5.14.2/lib/site_perl/5.14.2/Class/Load.pm line 199
	Class::Load::__ANON__() called at /home/test/perl5/perlbrew/perls/perl-5.14.2/lib/site_perl/5.14.2/Try/Tiny.pm line 71
	eval {...} called at /home/test/perl5/perlbrew/perls/perl-5.14.2/lib/site_perl/5.14.2/Try/Tiny.pm line 67
	Try::Tiny::try('CODE(0x802878b40)', 'Try::Tiny::Catch=REF(0x802771d80)') called at /home/test/perl5/perlbrew/perls/perl-5.14.2/lib/site_perl/5.14.2/Class/Load.pm line 205
	Class::Load::try_load_class('Net::HTTP::Spore::Meta::Class', undef) called at /home/test/perl5/perlbrew/perls/perl-5.14.2/lib/site_perl/5.14.2/Class/Load.pm line 64
	Class::Load::load_class('Net::HTTP::Spore::Meta::Class', undef) called at /home/test/perl5/perlbrew/perls/perl-5.14.2/lib/site_perl/5.14.2/amd64-freebsd/Moose/Util.pm line 132
	Moose::Util::_apply_all_roles('Moose::Meta::Class=HASH(0x80289f078)', undef, 'Net::HTTP::Spore::Meta::Class') called at /home/test/perl5/perlbrew/perls/perl-5.14.2/lib/site_perl/5.14.2/amd64-freebsd/Moose/Util.pm line 99
	Moose::Util::apply_all_roles('Moose::Meta::Class=HASH(0x80289f078)', 'Net::HTTP::Spore::Meta::Class') called at /home/test/perl5/perlbrew/perls/perl-5.14.2/lib/site_perl/5.14.2/amd64-freebsd/Moose/Meta/Class.pm line 104
	Moose::Meta::Class::create('Moose::Meta::Class', 'Moose::Meta::Class::__ANON__::SERIAL::1', 'roles', 'ARRAY(0x8027b3af8)', 'weaken', '', 'superclasses', 'ARRAY(0x802878b88)') called at /home/test/perl5/perlbrew/perls/perl-5.14.2/lib/site_perl/5.14.2/amd64-freebsd/Class/MOP/Package.pm line 120
	Class::MOP::Package::create_anon('Moose::Meta::Class', 'superclasses', 'ARRAY(0x802878b88)', 'roles', 'ARRAY(0x8027b3af8)', 'cache', 1) called at /home/test/perl5/perlbrew/perls/perl-5.14.2/lib/site_perl/5.14.2/amd64-freebsd/Class/MOP/Class.pm line 474
	Class::MOP::Class::create_anon_class('Moose::Meta::Class', 'superclasses', 'ARRAY(0x802878b88)', 'roles', 'ARRAY(0x8027b3af8)', 'cache', 1) called at /home/test/perl5/perlbrew/perls/perl-5.14.2/lib/site_perl/5.14.2/amd64-freebsd/Moose/Util/MetaRole.pm line 134
	Moose::Util::MetaRole::_make_new_class('Moose::Meta::Class', 'ARRAY(0x8027b3af8)') called at /home/test/perl5/perlbrew/perls/perl-5.14.2/lib/site_perl/5.14.2/amd64-freebsd/Moose/Util/MetaRole.pm line 79
	Moose::Util::MetaRole::_make_new_metaclass('Moose::Meta::Class=HASH(0x8028781e0)', 'HASH(0x802876408)', 'class') called at /home/test/perl5/perlbrew/perls/perl-5.14.2/lib/site_perl/5.14.2/amd64-freebsd/Moose/Util/MetaRole.pm line 28
	Moose::Util::MetaRole::apply_metaroles('for', 'Net::HTTP::Spore::Core', 'class_metaroles', 'HASH(0x802876408)') called at /usr/home/test/.cpan/build/Net-HTTP-Spore-0.04-CLiQoh/blib/lib/Net/HTTP/Spore/Meta.pm line 28
	Net::HTTP::Spore::Meta::init_meta('Net::HTTP::Spore::Meta', 'for_class', 'MooseX::Types::URI', 'metaclass', undef, 'meta_name', 'meta') called at /home/test/perl5/perlbrew/perls/perl-5.14.2/lib/site_perl/5.14.2/amd64-freebsd/Moose/Exporter.pm line 435
	Moose::Exporter::__ANON__('Net::HTTP::Spore::Meta') called at /usr/home/test/.cpan/build/Net-HTTP-Spore-0.04-CLiQoh/blib/lib/Net/HTTP/Spore/Core.pm line 6
	Net::HTTP::Spore::Core::BEGIN() called at /home/test/perl5/perlbrew/perls/perl-5.14.2/lib/site_perl/5.14.2/MooseX/Types/URI.pm line 0
	eval {...} called at /home/test/perl5/perlbrew/perls/perl-5.14.2/lib/site_perl/5.14.2/MooseX/Types/URI.pm line 0
	require Net/HTTP/Spore/Core.pm called at /usr/home/test/.cpan/build/Net-HTTP-Spore-0.04-CLiQoh/blib/lib/Net/HTTP/Spore.pm line 13
	Net::HTTP::Spore::BEGIN() called at /home/test/perl5/perlbrew/perls/perl-5.14.2/lib/site_perl/5.14.2/MooseX/Types/URI.pm line 0
	eval {...} called at /home/test/perl5/perlbrew/perls/perl-5.14.2/lib/site_perl/5.14.2/MooseX/Types/URI.pm line 0
	require Net/HTTP/Spore.pm called at t/spore-middleware/format-xml.t line 7
	main::BEGIN() called at /home/test/perl5/perlbrew/perls/perl-5.14.2/lib/site_perl/5.14.2/MooseX/Types/URI.pm line 0
	eval {...} called at /home/test/perl5/perlbrew/perls/perl-5.14.2/lib/site_perl/5.14.2/MooseX/Types/URI.pm line 0
t/spore-middleware/format-xml.t ...... ok
Providing an optimized subroutine ref for type constraints is deprecated. Use the inlining feature (inline_as) instead. at /usr/home/test/.cpan/build/Net-HTTP-Spore-0.04-CLiQoh/blib/lib/Net/HTTP/Spore/Meta/Method.pm line 13
	Net::HTTP::Spore::Meta::Method::BEGIN() called at /home/test/perl5/perlbrew/perls/perl-5.14.2/lib/site_perl/5.14.2/MooseX/Types/URI.pm line 0
	eval {...} called at /home/test/perl5/perlbrew/perls/perl-5.14.2/lib/site_perl/5.14.2/MooseX/Types/URI.pm line 0
	require Net/HTTP/Spore/Meta/Method.pm called at /usr/home/test/.cpan/build/Net-HTTP-Spore-0.04-CLiQoh/blib/lib/Net/HTTP/Spore/Meta/Method/Spore.pm line 11
	Net::HTTP::Spore::Meta::Method::Spore::BEGIN() called at /home/test/perl5/perlbrew/perls/perl-5.14.2/lib/site_perl/5.14.2/MooseX/Types/URI.pm line 0
	eval {...} called at /home/test/perl5/perlbrew/perls/perl-5.14.2/lib/site_perl/5.14.2/MooseX/Types/URI.pm line 0
	require Net/HTTP/Spore/Meta/Method/Spore.pm called at /home/test/perl5/perlbrew/perls/perl-5.14.2/lib/site_perl/5.14.2/Module/Runtime.pm line 198
	Module::Runtime::require_module('Net::HTTP::Spore::Meta::Method::Spore') called at /home/test/perl5/perlbrew/perls/perl-5.14.2/lib/site_perl/5.14.2/Class/Load.pm line 199
	Class::Load::__ANON__() called at /home/test/perl5/perlbrew/perls/perl-5.14.2/lib/site_perl/5.14.2/Try/Tiny.pm line 71
	eval {...} called at /home/test/perl5/perlbrew/perls/perl-5.14.2/lib/site_perl/5.14.2/Try/Tiny.pm line 67
	Try::Tiny::try('CODE(0x8028ab570)', 'Try::Tiny::Catch=REF(0x802837810)') called at /home/test/perl5/perlbrew/perls/perl-5.14.2/lib/site_perl/5.14.2/Class/Load.pm line 205
	Class::Load::try_load_class('Net::HTTP::Spore::Meta::Method::Spore', undef) called at /home/test/perl5/perlbrew/perls/perl-5.14.2/lib/site_perl/5.14.2/Class/Load.pm line 64
	Class::Load::load_class('Net::HTTP::Spore::Meta::Method::Spore', undef) called at /home/test/perl5/perlbrew/perls/perl-5.14.2/lib/site_perl/5.14.2/amd64-freebsd/Moose/Util.pm line 132
	Moose::Util::_apply_all_roles('Moose::Meta::Role=HASH(0x802893db0)', undef, 'Net::HTTP::Spore::Meta::Method::Spore') called at /home/test/perl5/perlbrew/perls/perl-5.14.2/lib/site_perl/5.14.2/amd64-freebsd/Moose/Util.pm line 99
	Moose::Util::apply_all_roles('Moose::Meta::Role=HASH(0x802893db0)', 'Net::HTTP::Spore::Meta::Method::Spore') called at /home/test/perl5/perlbrew/perls/perl-5.14.2/lib/site_perl/5.14.2/amd64-freebsd/Moose/Role.pm line 29
	Moose::Role::with('Moose::Meta::Role=HASH(0x802893db0)', 'Net::HTTP::Spore::Meta::Method::Spore') called at /home/test/perl5/perlbrew/perls/perl-5.14.2/lib/site_perl/5.14.2/amd64-freebsd/Moose/Exporter.pm line 370
	Moose::Role::with('Net::HTTP::Spore::Meta::Method::Spore') called at /usr/home/test/.cpan/build/Net-HTTP-Spore-0.04-CLiQoh/blib/lib/Net/HTTP/Spore/Meta/Class.pm line 10
	require Net/HTTP/Spore/Meta/Class.pm called at /home/test/perl5/perlbrew/perls/perl-5.14.2/lib/site_perl/5.14.2/Module/Runtime.pm line 198
	Module::Runtime::require_module('Net::HTTP::Spore::Meta::Class') called at /home/test/perl5/perlbrew/perls/perl-5.14.2/lib/site_perl/5.14.2/Class/Load.pm line 199
	Class::Load::__ANON__() called at /home/test/perl5/perlbrew/perls/perl-5.14.2/lib/site_perl/5.14.2/Try/Tiny.pm line 71
	eval {...} called at /home/test/perl5/perlbrew/perls/perl-5.14.2/lib/site_perl/5.14.2/Try/Tiny.pm line 67
	Try::Tiny::try('CODE(0x802835c90)', 'Try::Tiny::Catch=REF(0x802736ea0)') called at /home/test/perl5/perlbrew/perls/perl-5.14.2/lib/site_perl/5.14.2/Class/Load.pm line 205
	Class::Load::try_load_class('Net::HTTP::Spore::Meta::Class', undef) called at /home/test/perl5/perlbrew/perls/perl-5.14.2/lib/site_perl/5.14.2/Class/Load.pm line 64
	Class::Load::load_class('Net::HTTP::Spore::Meta::Class', undef) called at /home/test/perl5/perlbrew/perls/perl-5.14.2/lib/site_perl/5.14.2/amd64-freebsd/Moose/Util.pm line 132
	Moose::Util::_apply_all_roles('Moose::Meta::Class=HASH(0x8028371c8)', undef, 'Net::HTTP::Spore::Meta::Class') called at /home/test/perl5/perlbrew/perls/perl-5.14.2/lib/site_perl/5.14.2/amd64-freebsd/Moose/Util.pm line 99
	Moose::Util::apply_all_roles('Moose::Meta::Class=HASH(0x8028371c8)', 'Net::HTTP::Spore::Meta::Class') called at /home/test/perl5/perlbrew/perls/perl-5.14.2/lib/site_perl/5.14.2/amd64-freebsd/Moose/Meta/Class.pm line 104
	Moose::Meta::Class::create('Moose::Meta::Class', 'Moose::Meta::Class::__ANON__::SERIAL::1', 'roles', 'ARRAY(0x802770c78)', 'weaken', '', 'superclasses', 'ARRAY(0x802835cd8)') called at /home/test/perl5/perlbrew/perls/perl-5.14.2/lib/site_perl/5.14.2/amd64-freebsd/Class/MOP/Package.pm line 120
	Class::MOP::Package::create_anon('Moose::Meta::Class', 'superclasses', 'ARRAY(0x802835cd8)', 'roles', 'ARRAY(0x802770c78)', 'cache', 1) called at /home/test/perl5/perlbrew/perls/perl-5.14.2/lib/site_perl/5.14.2/amd64-freebsd/Class/MOP/Class.pm line 474
	Class::MOP::Class::create_anon_class('Moose::Meta::Class', 'superclasses', 'ARRAY(0x802835cd8)', 'roles', 'ARRAY(0x802770c78)', 'cache', 1) called at /home/test/perl5/perlbrew/perls/perl-5.14.2/lib/site_perl/5.14.2/amd64-freebsd/Moose/Util/MetaRole.pm line 134
	Moose::Util::MetaRole::_make_new_class('Moose::Meta::Class', 'ARRAY(0x802770c78)') called at /home/test/perl5/perlbrew/perls/perl-5.14.2/lib/site_perl/5.14.2/amd64-freebsd/Moose/Util/MetaRole.pm line 79
	Moose::Util::MetaRole::_make_new_metaclass('Moose::Meta::Class=HASH(0x802835330)', 'HASH(0x802833558)', 'class') called at /home/test/perl5/perlbrew/perls/perl-5.14.2/lib/site_perl/5.14.2/amd64-freebsd/Moose/Util/MetaRole.pm line 28
	Moose::Util::MetaRole::apply_metaroles('for', 'Net::HTTP::Spore::Core', 'class_metaroles', 'HASH(0x802833558)') called at /usr/home/test/.cpan/build/Net-HTTP-Spore-0.04-CLiQoh/blib/lib/Net/HTTP/Spore/Meta.pm line 28
	Net::HTTP::Spore::Meta::init_meta('Net::HTTP::Spore::Meta', 'for_class', 'MooseX::Types::URI', 'metaclass', undef, 'meta_name', 'meta') called at /home/test/perl5/perlbrew/perls/perl-5.14.2/lib/site_perl/5.14.2/amd64-freebsd/Moose/Exporter.pm line 435
	Moose::Exporter::__ANON__('Net::HTTP::Spore::Meta') called at /usr/home/test/.cpan/build/Net-HTTP-Spore-0.04-CLiQoh/blib/lib/Net/HTTP/Spore/Core.pm line 6
	Net::HTTP::Spore::Core::BEGIN() called at /home/test/perl5/perlbrew/perls/perl-5.14.2/lib/site_perl/5.14.2/MooseX/Types/URI.pm line 0
	eval {...} called at /home/test/perl5/perlbrew/perls/perl-5.14.2/lib/site_perl/5.14.2/MooseX/Types/URI.pm line 0
	require Net/HTTP/Spore/Core.pm called at /usr/home/test/.cpan/build/Net-HTTP-Spore-0.04-CLiQoh/blib/lib/Net/HTTP/Spore.pm line 13
	Net::HTTP::Spore::BEGIN() called at /home/test/perl5/perlbrew/perls/perl-5.14.2/lib/site_perl/5.14.2/MooseX/Types/URI.pm line 0
	eval {...} called at /home/test/perl5/perlbrew/perls/perl-5.14.2/lib/site_perl/5.14.2/MooseX/Types/URI.pm line 0
	require Net/HTTP/Spore.pm called at t/spore-middleware/format-yaml.t line 7
	main::BEGIN() called at /home/test/perl5/perlbrew/perls/perl-5.14.2/lib/site_perl/5.14.2/MooseX/Types/URI.pm line 0
	eval {...} called at /home/test/perl5/perlbrew/perls/perl-5.14.2/lib/site_perl/5.14.2/MooseX/Types/URI.pm line 0
t/spore-middleware/format-yaml.t ..... ok
Providing an optimized subroutine ref for type constraints is deprecated. Use the inlining feature (inline_as) instead. at /usr/home/test/.cpan/build/Net-HTTP-Spore-0.04-CLiQoh/blib/lib/Net/HTTP/Spore/Meta/Method.pm line 13
	Net::HTTP::Spore::Meta::Method::BEGIN() called at /home/test/perl5/perlbrew/perls/perl-5.14.2/lib/site_perl/5.14.2/MooseX/Types/URI.pm line 0
	eval {...} called at /home/test/perl5/perlbrew/perls/perl-5.14.2/lib/site_perl/5.14.2/MooseX/Types/URI.pm line 0
	require Net/HTTP/Spore/Meta/Method.pm called at /usr/home/test/.cpan/build/Net-HTTP-Spore-0.04-CLiQoh/blib/lib/Net/HTTP/Spore/Meta/Method/Spore.pm line 11
	Net::HTTP::Spore::Meta::Method::Spore::BEGIN() called at /home/test/perl5/perlbrew/perls/perl-5.14.2/lib/site_perl/5.14.2/MooseX/Types/URI.pm line 0
	eval {...} called at /home/test/perl5/perlbrew/perls/perl-5.14.2/lib/site_perl/5.14.2/MooseX/Types/URI.pm line 0
	require Net/HTTP/Spore/Meta/Method/Spore.pm called at /home/test/perl5/perlbrew/perls/perl-5.14.2/lib/site_perl/5.14.2/Module/Runtime.pm line 198
	Module::Runtime::require_module('Net::HTTP::Spore::Meta::Method::Spore') called at /home/test/perl5/perlbrew/perls/perl-5.14.2/lib/site_perl/5.14.2/Class/Load.pm line 199
	Class::Load::__ANON__() called at /home/test/perl5/perlbrew/perls/perl-5.14.2/lib/site_perl/5.14.2/Try/Tiny.pm line 71
	eval {...} called at /home/test/perl5/perlbrew/perls/perl-5.14.2/lib/site_perl/5.14.2/Try/Tiny.pm line 67
	Try::Tiny::try('CODE(0x802a6d378)', 'Try::Tiny::Catch=REF(0x802a23618)') called at /home/test/perl5/perlbrew/perls/perl-5.14.2/lib/site_perl/5.14.2/Class/Load.pm line 205
	Class::Load::try_load_class('Net::HTTP::Spore::Meta::Method::Spore', undef) called at /home/test/perl5/perlbrew/perls/perl-5.14.2/lib/site_perl/5.14.2/Class/Load.pm line 64
	Class::Load::load_class('Net::HTTP::Spore::Meta::Method::Spore', undef) called at /home/test/perl5/perlbrew/perls/perl-5.14.2/lib/site_perl/5.14.2/amd64-freebsd/Moose/Util.pm line 132
	Moose::Util::_apply_all_roles('Moose::Meta::Role=HASH(0x802a57bb8)', undef, 'Net::HTTP::Spore::Meta::Method::Spore') called at /home/test/perl5/perlbrew/perls/perl-5.14.2/lib/site_perl/5.14.2/amd64-freebsd/Moose/Util.pm line 99
	Moose::Util::apply_all_roles('Moose::Meta::Role=HASH(0x802a57bb8)', 'Net::HTTP::Spore::Meta::Method::Spore') called at /home/test/perl5/perlbrew/perls/perl-5.14.2/lib/site_perl/5.14.2/amd64-freebsd/Moose/Role.pm line 29
	Moose::Role::with('Moose::Meta::Role=HASH(0x802a57bb8)', 'Net::HTTP::Spore::Meta::Method::Spore') called at /home/test/perl5/perlbrew/perls/perl-5.14.2/lib/site_perl/5.14.2/amd64-freebsd/Moose/Exporter.pm line 370
	Moose::Role::with('Net::HTTP::Spore::Meta::Method::Spore') called at /usr/home/test/.cpan/build/Net-HTTP-Spore-0.04-CLiQoh/blib/lib/Net/HTTP/Spore/Meta/Class.pm line 10
	require Net/HTTP/Spore/Meta/Class.pm called at /home/test/perl5/perlbrew/perls/perl-5.14.2/lib/site_perl/5.14.2/Module/Runtime.pm line 198
	Module::Runtime::require_module('Net::HTTP::Spore::Meta::Class') called at /home/test/perl5/perlbrew/perls/perl-5.14.2/lib/site_perl/5.14.2/Class/Load.pm line 199
	Class::Load::__ANON__() called at /home/test/perl5/perlbrew/perls/perl-5.14.2/lib/site_perl/5.14.2/Try/Tiny.pm line 71
	eval {...} called at /home/test/perl5/perlbrew/perls/perl-5.14.2/lib/site_perl/5.14.2/Try/Tiny.pm line 67
	Try::Tiny::try('CODE(0x802a06a98)', 'Try::Tiny::Catch=REF(0x8026edc60)') called at /home/test/perl5/perlbrew/perls/perl-5.14.2/lib/site_perl/5.14.2/Class/Load.pm line 205
	Class::Load::try_load_class('Net::HTTP::Spore::Meta::Class', undef) called at /home/test/perl5/perlbrew/perls/perl-5.14.2/lib/site_perl/5.14.2/Class/Load.pm line 64
	Class::Load::load_class('Net::HTTP::Spore::Meta::Class', undef) called at /home/test/perl5/perlbrew/perls/perl-5.14.2/lib/site_perl/5.14.2/amd64-freebsd/Moose/Util.pm line 132
	Moose::Util::_apply_all_roles('Moose::Meta::Class=HASH(0x802a06fa8)', undef, 'Net::HTTP::Spore::Meta::Class') called at /home/test/perl5/perlbrew/perls/perl-5.14.2/lib/site_perl/5.14.2/amd64-freebsd/Moose/Util.pm line 99
	Moose::Util::apply_all_roles('Moose::Meta::Class=HASH(0x802a06fa8)', 'Net::HTTP::Spore::Meta::Class') called at /home/test/perl5/perlbrew/perls/perl-5.14.2/lib/site_perl/5.14.2/amd64-freebsd/Moose/Meta/Class.pm line 104
	Moose::Meta::Class::create('Moose::Meta::Class', 'Moose::Meta::Class::__ANON__::SERIAL::1', 'roles', 'ARRAY(0x802737a38)', 'weaken', '', 'superclasses', 'ARRAY(0x802a06ae0)') called at /home/test/perl5/perlbrew/perls/perl-5.14.2/lib/site_perl/5.14.2/amd64-freebsd/Class/MOP/Package.pm line 120
	Class::MOP::Package::create_anon('Moose::Meta::Class', 'superclasses', 'ARRAY(0x802a06ae0)', 'roles', 'ARRAY(0x802737a38)', 'cache', 1) called at /home/test/perl5/perlbrew/perls/perl-5.14.2/lib/site_perl/5.14.2/amd64-freebsd/Class/MOP/Class.pm line 474
	Class::MOP::Class::create_anon_class('Moose::Meta::Class', 'superclasses', 'ARRAY(0x802a06ae0)', 'roles', 'ARRAY(0x802737a38)', 'cache', 1) called at /home/test/perl5/perlbrew/perls/perl-5.14.2/lib/site_perl/5.14.2/amd64-freebsd/Moose/Util/MetaRole.pm line 134
	Moose::Util::MetaRole::_make_new_class('Moose::Meta::Class', 'ARRAY(0x802737a38)') called at /home/test/perl5/perlbrew/perls/perl-5.14.2/lib/site_perl/5.14.2/amd64-freebsd/Moose/Util/MetaRole.pm line 79
	Moose::Util::MetaRole::_make_new_metaclass('Moose::Meta::Class=HASH(0x802a06138)', 'HASH(0x8027f3360)', 'class') called at /home/test/perl5/perlbrew/perls/perl-5.14.2/lib/site_perl/5.14.2/amd64-freebsd/Moose/Util/MetaRole.pm line 28
	Moose::Util::MetaRole::apply_metaroles('for', 'Net::HTTP::Spore::Core', 'class_metaroles', 'HASH(0x8027f3360)') called at /usr/home/test/.cpan/build/Net-HTTP-Spore-0.04-CLiQoh/blib/lib/Net/HTTP/Spore/Meta.pm line 28
	Net::HTTP::Spore::Meta::init_meta('Net::HTTP::Spore::Meta', 'for_class', 'MooseX::Types::URI', 'metaclass', undef, 'meta_name', 'meta') called at /home/test/perl5/perlbrew/perls/perl-5.14.2/lib/site_perl/5.14.2/amd64-freebsd/Moose/Exporter.pm line 435
	Moose::Exporter::__ANON__('Net::HTTP::Spore::Meta') called at /usr/home/test/.cpan/build/Net-HTTP-Spore-0.04-CLiQoh/blib/lib/Net/HTTP/Spore/Core.pm line 6
	Net::HTTP::Spore::Core::BEGIN() called at /home/test/perl5/perlbrew/perls/perl-5.14.2/lib/site_perl/5.14.2/MooseX/Types/URI.pm line 0
	eval {...} called at /home/test/perl5/perlbrew/perls/perl-5.14.2/lib/site_perl/5.14.2/MooseX/Types/URI.pm line 0
	require Net/HTTP/Spore/Core.pm called at /usr/home/test/.cpan/build/Net-HTTP-Spore-0.04-CLiQoh/blib/lib/Net/HTTP/Spore.pm line 13
	Net::HTTP::Spore::BEGIN() called at /home/test/perl5/perlbrew/perls/perl-5.14.2/lib/site_perl/5.14.2/MooseX/Types/URI.pm line 0
	eval {...} called at /home/test/perl5/perlbrew/perls/perl-5.14.2/lib/site_perl/5.14.2/MooseX/Types/URI.pm line 0
	require Net/HTTP/Spore.pm called at t/spore-middleware/ns.t line 4
	main::BEGIN() called at /home/test/perl5/perlbrew/perls/perl-5.14.2/lib/site_perl/5.14.2/MooseX/Types/URI.pm line 0
	eval {...} called at /home/test/perl5/perlbrew/perls/perl-5.14.2/lib/site_perl/5.14.2/MooseX/Types/URI.pm line 0
t/spore-middleware/ns.t .............. ok
Providing an optimized subroutine ref for type constraints is deprecated. Use the inlining feature (inline_as) instead. at /usr/home/test/.cpan/build/Net-HTTP-Spore-0.04-CLiQoh/blib/lib/Net/HTTP/Spore/Meta/Method.pm line 13
	Net::HTTP::Spore::Meta::Method::BEGIN() called at /home/test/perl5/perlbrew/perls/perl-5.14.2/lib/site_perl/5.14.2/MooseX/Types/URI.pm line 0
	eval {...} called at /home/test/perl5/perlbrew/perls/perl-5.14.2/lib/site_perl/5.14.2/MooseX/Types/URI.pm line 0
	require Net/HTTP/Spore/Meta/Method.pm called at /usr/home/test/.cpan/build/Net-HTTP-Spore-0.04-CLiQoh/blib/lib/Net/HTTP/Spore/Meta/Method/Spore.pm line 11
	Net::HTTP::Spore::Meta::Method::Spore::BEGIN() called at /home/test/perl5/perlbrew/perls/perl-5.14.2/lib/site_perl/5.14.2/MooseX/Types/URI.pm line 0
	eval {...} called at /home/test/perl5/perlbrew/perls/perl-5.14.2/lib/site_perl/5.14.2/MooseX/Types/URI.pm line 0
	require Net/HTTP/Spore/Meta/Method/Spore.pm called at /home/test/perl5/perlbrew/perls/perl-5.14.2/lib/site_perl/5.14.2/Module/Runtime.pm line 198
	Module::Runtime::require_module('Net::HTTP::Spore::Meta::Method::Spore') called at /home/test/perl5/perlbrew/perls/perl-5.14.2/lib/site_perl/5.14.2/Class/Load.pm line 199
	Class::Load::__ANON__() called at /home/test/perl5/perlbrew/perls/perl-5.14.2/lib/site_perl/5.14.2/Try/Tiny.pm line 71
	eval {...} called at /home/test/perl5/perlbrew/perls/perl-5.14.2/lib/site_perl/5.14.2/Try/Tiny.pm line 67
	Try::Tiny::try('CODE(0x802a6e3c0)', 'Try::Tiny::Catch=REF(0x802a23660)') called at /home/test/perl5/perlbrew/perls/perl-5.14.2/lib/site_perl/5.14.2/Class/Load.pm line 205
	Class::Load::try_load_class('Net::HTTP::Spore::Meta::Method::Spore', undef) called at /home/test/perl5/perlbrew/perls/perl-5.14.2/lib/site_perl/5.14.2/Class/Load.pm line 64
	Class::Load::load_class('Net::HTTP::Spore::Meta::Method::Spore', undef) called at /home/test/perl5/perlbrew/perls/perl-5.14.2/lib/site_perl/5.14.2/amd64-freebsd/Moose/Util.pm line 132
	Moose::Util::_apply_all_roles('Moose::Meta::Role=HASH(0x802a57c00)', undef, 'Net::HTTP::Spore::Meta::Method::Spore') called at /home/test/perl5/perlbrew/perls/perl-5.14.2/lib/site_perl/5.14.2/amd64-freebsd/Moose/Util.pm line 99
	Moose::Util::apply_all_roles('Moose::Meta::Role=HASH(0x802a57c00)', 'Net::HTTP::Spore::Meta::Method::Spore') called at /home/test/perl5/perlbrew/perls/perl-5.14.2/lib/site_perl/5.14.2/amd64-freebsd/Moose/Role.pm line 29
	Moose::Role::with('Moose::Meta::Role=HASH(0x802a57c00)', 'Net::HTTP::Spore::Meta::Method::Spore') called at /home/test/perl5/perlbrew/perls/perl-5.14.2/lib/site_perl/5.14.2/amd64-freebsd/Moose/Exporter.pm line 370
	Moose::Role::with('Net::HTTP::Spore::Meta::Method::Spore') called at /usr/home/test/.cpan/build/Net-HTTP-Spore-0.04-CLiQoh/blib/lib/Net/HTTP/Spore/Meta/Class.pm line 10
	require Net/HTTP/Spore/Meta/Class.pm called at /home/test/perl5/perlbrew/perls/perl-5.14.2/lib/site_perl/5.14.2/Module/Runtime.pm line 198
	Module::Runtime::require_module('Net::HTTP::Spore::Meta::Class') called at /home/test/perl5/perlbrew/perls/perl-5.14.2/lib/site_perl/5.14.2/Class/Load.pm line 199
	Class::Load::__ANON__() called at /home/test/perl5/perlbrew/perls/perl-5.14.2/lib/site_perl/5.14.2/Try/Tiny.pm line 71
	eval {...} called at /home/test/perl5/perlbrew/perls/perl-5.14.2/lib/site_perl/5.14.2/Try/Tiny.pm line 67
	Try::Tiny::try('CODE(0x802a06ae0)', 'Try::Tiny::Catch=REF(0x8026efca8)') called at /home/test/perl5/perlbrew/perls/perl-5.14.2/lib/site_perl/5.14.2/Class/Load.pm line 205
	Class::Load::try_load_class('Net::HTTP::Spore::Meta::Class', undef) called at /home/test/perl5/perlbrew/perls/perl-5.14.2/lib/site_perl/5.14.2/Class/Load.pm line 64
	Class::Load::load_class('Net::HTTP::Spore::Meta::Class', undef) called at /home/test/perl5/perlbrew/perls/perl-5.14.2/lib/site_perl/5.14.2/amd64-freebsd/Moose/Util.pm line 132
	Moose::Util::_apply_all_roles('Moose::Meta::Class=HASH(0x802a23018)', undef, 'Net::HTTP::Spore::Meta::Class') called at /home/test/perl5/perlbrew/perls/perl-5.14.2/lib/site_perl/5.14.2/amd64-freebsd/Moose/Util.pm line 99
	Moose::Util::apply_all_roles('Moose::Meta::Class=HASH(0x802a23018)', 'Net::HTTP::Spore::Meta::Class') called at /home/test/perl5/perlbrew/perls/perl-5.14.2/lib/site_perl/5.14.2/amd64-freebsd/Moose/Meta/Class.pm line 104
	Moose::Meta::Class::create('Moose::Meta::Class', 'Moose::Meta::Class::__ANON__::SERIAL::1', 'roles', 'ARRAY(0x802737a80)', 'weaken', '', 'superclasses', 'ARRAY(0x802a06b28)') called at /home/test/perl5/perlbrew/perls/perl-5.14.2/lib/site_perl/5.14.2/amd64-freebsd/Class/MOP/Package.pm line 120
	Class::MOP::Package::create_anon('Moose::Meta::Class', 'superclasses', 'ARRAY(0x802a06b28)', 'roles', 'ARRAY(0x802737a80)', 'cache', 1) called at /home/test/perl5/perlbrew/perls/perl-5.14.2/lib/site_perl/5.14.2/amd64-freebsd/Class/MOP/Class.pm line 474
	Class::MOP::Class::create_anon_class('Moose::Meta::Class', 'superclasses', 'ARRAY(0x802a06b28)', 'roles', 'ARRAY(0x802737a80)', 'cache', 1) called at /home/test/perl5/perlbrew/perls/perl-5.14.2/lib/site_perl/5.14.2/amd64-freebsd/Moose/Util/MetaRole.pm line 134
	Moose::Util::MetaRole::_make_new_class('Moose::Meta::Class', 'ARRAY(0x802737a80)') called at /home/test/perl5/perlbrew/perls/perl-5.14.2/lib/site_perl/5.14.2/amd64-freebsd/Moose/Util/MetaRole.pm line 79
	Moose::Util::MetaRole::_make_new_metaclass('Moose::Meta::Class=HASH(0x802a06180)', 'HASH(0x8027f23a8)', 'class') called at /home/test/perl5/perlbrew/perls/perl-5.14.2/lib/site_perl/5.14.2/amd64-freebsd/Moose/Util/MetaRole.pm line 28
	Moose::Util::MetaRole::apply_metaroles('for', 'Net::HTTP::Spore::Core', 'class_metaroles', 'HASH(0x8027f23a8)') called at /usr/home/test/.cpan/build/Net-HTTP-Spore-0.04-CLiQoh/blib/lib/Net/HTTP/Spore/Meta.pm line 28
	Net::HTTP::Spore::Meta::init_meta('Net::HTTP::Spore::Meta', 'for_class', 'MooseX::Types::URI', 'metaclass', undef, 'meta_name', 'meta') called at /home/test/perl5/perlbrew/perls/perl-5.14.2/lib/site_perl/5.14.2/amd64-freebsd/Moose/Exporter.pm line 435
	Moose::Exporter::__ANON__('Net::HTTP::Spore::Meta') called at /usr/home/test/.cpan/build/Net-HTTP-Spore-0.04-CLiQoh/blib/lib/Net/HTTP/Spore/Core.pm line 6
	Net::HTTP::Spore::Core::BEGIN() called at /home/test/perl5/perlbrew/perls/perl-5.14.2/lib/site_perl/5.14.2/MooseX/Types/URI.pm line 0
	eval {...} called at /home/test/perl5/perlbrew/perls/perl-5.14.2/lib/site_perl/5.14.2/MooseX/Types/URI.pm line 0
	require Net/HTTP/Spore/Core.pm called at /usr/home/test/.cpan/build/Net-HTTP-Spore-0.04-CLiQoh/blib/lib/Net/HTTP/Spore.pm line 13
	Net::HTTP::Spore::BEGIN() called at /home/test/perl5/perlbrew/perls/perl-5.14.2/lib/site_perl/5.14.2/MooseX/Types/URI.pm line 0
	eval {...} called at /home/test/perl5/perlbrew/perls/perl-5.14.2/lib/site_perl/5.14.2/MooseX/Types/URI.pm line 0
	require Net/HTTP/Spore.pm called at t/spore-middleware/redirection.t line 8
	main::BEGIN() called at /home/test/perl5/perlbrew/perls/perl-5.14.2/lib/site_perl/5.14.2/MooseX/Types/URI.pm line 0
	eval {...} called at /home/test/perl5/perlbrew/perls/perl-5.14.2/lib/site_perl/5.14.2/MooseX/Types/URI.pm line 0
t/spore-middleware/redirection.t ..... ok
Providing an optimized subroutine ref for type constraints is deprecated. Use the inlining feature (inline_as) instead. at /usr/home/test/.cpan/build/Net-HTTP-Spore-0.04-CLiQoh/blib/lib/Net/HTTP/Spore/Meta/Method.pm line 13
	Net::HTTP::Spore::Meta::Method::BEGIN() called at /home/test/perl5/perlbrew/perls/perl-5.14.2/lib/site_perl/5.14.2/MooseX/Types/URI.pm line 0
	eval {...} called at /home/test/perl5/perlbrew/perls/perl-5.14.2/lib/site_perl/5.14.2/MooseX/Types/URI.pm line 0
	require Net/HTTP/Spore/Meta/Method.pm called at /usr/home/test/.cpan/build/Net-HTTP-Spore-0.04-CLiQoh/blib/lib/Net/HTTP/Spore/Meta/Method/Spore.pm line 11
	Net::HTTP::Spore::Meta::Method::Spore::BEGIN() called at /home/test/perl5/perlbrew/perls/perl-5.14.2/lib/site_perl/5.14.2/MooseX/Types/URI.pm line 0
	eval {...} called at /home/test/perl5/perlbrew/perls/perl-5.14.2/lib/site_perl/5.14.2/MooseX/Types/URI.pm line 0
	require Net/HTTP/Spore/Meta/Method/Spore.pm called at /home/test/perl5/perlbrew/perls/perl-5.14.2/lib/site_perl/5.14.2/Module/Runtime.pm line 198
	Module::Runtime::require_module('Net::HTTP::Spore::Meta::Method::Spore') called at /home/test/perl5/perlbrew/perls/perl-5.14.2/lib/site_perl/5.14.2/Class/Load.pm line 199
	Class::Load::__ANON__() called at /home/test/perl5/perlbrew/perls/perl-5.14.2/lib/site_perl/5.14.2/Try/Tiny.pm line 71
	eval {...} called at /home/test/perl5/perlbrew/perls/perl-5.14.2/lib/site_perl/5.14.2/Try/Tiny.pm line 67
	Try::Tiny::try('CODE(0x802a6d378)', 'Try::Tiny::Catch=REF(0x802a23618)') called at /home/test/perl5/perlbrew/perls/perl-5.14.2/lib/site_perl/5.14.2/Class/Load.pm line 205
	Class::Load::try_load_class('Net::HTTP::Spore::Meta::Method::Spore', undef) called at /home/test/perl5/perlbrew/perls/perl-5.14.2/lib/site_perl/5.14.2/Class/Load.pm line 64
	Class::Load::load_class('Net::HTTP::Spore::Meta::Method::Spore', undef) called at /home/test/perl5/perlbrew/perls/perl-5.14.2/lib/site_perl/5.14.2/amd64-freebsd/Moose/Util.pm line 132
	Moose::Util::_apply_all_roles('Moose::Meta::Role=HASH(0x802a57bb8)', undef, 'Net::HTTP::Spore::Meta::Method::Spore') called at /home/test/perl5/perlbrew/perls/perl-5.14.2/lib/site_perl/5.14.2/amd64-freebsd/Moose/Util.pm line 99
	Moose::Util::apply_all_roles('Moose::Meta::Role=HASH(0x802a57bb8)', 'Net::HTTP::Spore::Meta::Method::Spore') called at /home/test/perl5/perlbrew/perls/perl-5.14.2/lib/site_perl/5.14.2/amd64-freebsd/Moose/Role.pm line 29
	Moose::Role::with('Moose::Meta::Role=HASH(0x802a57bb8)', 'Net::HTTP::Spore::Meta::Method::Spore') called at /home/test/perl5/perlbrew/perls/perl-5.14.2/lib/site_perl/5.14.2/amd64-freebsd/Moose/Exporter.pm line 370
	Moose::Role::with('Net::HTTP::Spore::Meta::Method::Spore') called at /usr/home/test/.cpan/build/Net-HTTP-Spore-0.04-CLiQoh/blib/lib/Net/HTTP/Spore/Meta/Class.pm line 10
	require Net/HTTP/Spore/Meta/Class.pm called at /home/test/perl5/perlbrew/perls/perl-5.14.2/lib/site_perl/5.14.2/Module/Runtime.pm line 198
	Module::Runtime::require_module('Net::HTTP::Spore::Meta::Class') called at /home/test/perl5/perlbrew/perls/perl-5.14.2/lib/site_perl/5.14.2/Class/Load.pm line 199
	Class::Load::__ANON__() called at /home/test/perl5/perlbrew/perls/perl-5.14.2/lib/site_perl/5.14.2/Try/Tiny.pm line 71
	eval {...} called at /home/test/perl5/perlbrew/perls/perl-5.14.2/lib/site_perl/5.14.2/Try/Tiny.pm line 67
	Try::Tiny::try('CODE(0x802a06a98)', 'Try::Tiny::Catch=REF(0x8026edc60)') called at /home/test/perl5/perlbrew/perls/perl-5.14.2/lib/site_perl/5.14.2/Class/Load.pm line 205
	Class::Load::try_load_class('Net::HTTP::Spore::Meta::Class', undef) called at /home/test/perl5/perlbrew/perls/perl-5.14.2/lib/site_perl/5.14.2/Class/Load.pm line 64
	Class::Load::load_class('Net::HTTP::Spore::Meta::Class', undef) called at /home/test/perl5/perlbrew/perls/perl-5.14.2/lib/site_perl/5.14.2/amd64-freebsd/Moose/Util.pm line 132
	Moose::Util::_apply_all_roles('Moose::Meta::Class=HASH(0x802a06fa8)', undef, 'Net::HTTP::Spore::Meta::Class') called at /home/test/perl5/perlbrew/perls/perl-5.14.2/lib/site_perl/5.14.2/amd64-freebsd/Moose/Util.pm line 99
	Moose::Util::apply_all_roles('Moose::Meta::Class=HASH(0x802a06fa8)', 'Net::HTTP::Spore::Meta::Class') called at /home/test/perl5/perlbrew/perls/perl-5.14.2/lib/site_perl/5.14.2/amd64-freebsd/Moose/Meta/Class.pm line 104
	Moose::Meta::Class::create('Moose::Meta::Class', 'Moose::Meta::Class::__ANON__::SERIAL::1', 'roles', 'ARRAY(0x802737a38)', 'weaken', '', 'superclasses', 'ARRAY(0x802a06ae0)') called at /home/test/perl5/perlbrew/perls/perl-5.14.2/lib/site_perl/5.14.2/amd64-freebsd/Class/MOP/Package.pm line 120
	Class::MOP::Package::create_anon('Moose::Meta::Class', 'superclasses', 'ARRAY(0x802a06ae0)', 'roles', 'ARRAY(0x802737a38)', 'cache', 1) called at /home/test/perl5/perlbrew/perls/perl-5.14.2/lib/site_perl/5.14.2/amd64-freebsd/Class/MOP/Class.pm line 474
	Class::MOP::Class::create_anon_class('Moose::Meta::Class', 'superclasses', 'ARRAY(0x802a06ae0)', 'roles', 'ARRAY(0x802737a38)', 'cache', 1) called at /home/test/perl5/perlbrew/perls/perl-5.14.2/lib/site_perl/5.14.2/amd64-freebsd/Moose/Util/MetaRole.pm line 134
	Moose::Util::MetaRole::_make_new_class('Moose::Meta::Class', 'ARRAY(0x802737a38)') called at /home/test/perl5/perlbrew/perls/perl-5.14.2/lib/site_perl/5.14.2/amd64-freebsd/Moose/Util/MetaRole.pm line 79
	Moose::Util::MetaRole::_make_new_metaclass('Moose::Meta::Class=HASH(0x802a06138)', 'HASH(0x8027f3360)', 'class') called at /home/test/perl5/perlbrew/perls/perl-5.14.2/lib/site_perl/5.14.2/amd64-freebsd/Moose/Util/MetaRole.pm line 28
	Moose::Util::MetaRole::apply_metaroles('for', 'Net::HTTP::Spore::Core', 'class_metaroles', 'HASH(0x8027f3360)') called at /usr/home/test/.cpan/build/Net-HTTP-Spore-0.04-CLiQoh/blib/lib/Net/HTTP/Spore/Meta.pm line 28
	Net::HTTP::Spore::Meta::init_meta('Net::HTTP::Spore::Meta', 'for_class', 'MooseX::Types::URI', 'metaclass', undef, 'meta_name', 'meta') called at /home/test/perl5/perlbrew/perls/perl-5.14.2/lib/site_perl/5.14.2/amd64-freebsd/Moose/Exporter.pm line 435
	Moose::Exporter::__ANON__('Net::HTTP::Spore::Meta') called at /usr/home/test/.cpan/build/Net-HTTP-Spore-0.04-CLiQoh/blib/lib/Net/HTTP/Spore/Core.pm line 6
	Net::HTTP::Spore::Core::BEGIN() called at /home/test/perl5/perlbrew/perls/perl-5.14.2/lib/site_perl/5.14.2/MooseX/Types/URI.pm line 0
	eval {...} called at /home/test/perl5/perlbrew/perls/perl-5.14.2/lib/site_perl/5.14.2/MooseX/Types/URI.pm line 0
	require Net/HTTP/Spore/Core.pm called at /usr/home/test/.cpan/build/Net-HTTP-Spore-0.04-CLiQoh/blib/lib/Net/HTTP/Spore.pm line 13
	Net::HTTP::Spore::BEGIN() called at /home/test/perl5/perlbrew/perls/perl-5.14.2/lib/site_perl/5.14.2/MooseX/Types/URI.pm line 0
	eval {...} called at /home/test/perl5/perlbrew/perls/perl-5.14.2/lib/site_perl/5.14.2/MooseX/Types/URI.pm line 0
	require Net/HTTP/Spore.pm called at t/spore-middleware/runtime.t line 5
	main::BEGIN() called at /home/test/perl5/perlbrew/perls/perl-5.14.2/lib/site_perl/5.14.2/MooseX/Types/URI.pm line 0
	eval {...} called at /home/test/perl5/perlbrew/perls/perl-5.14.2/lib/site_perl/5.14.2/MooseX/Types/URI.pm line 0
t/spore-middleware/runtime.t ......... ok
Providing an optimized subroutine ref for type constraints is deprecated. Use the inlining feature (inline_as) instead. at /usr/home/test/.cpan/build/Net-HTTP-Spore-0.04-CLiQoh/blib/lib/Net/HTTP/Spore/Meta/Method.pm line 13
	Net::HTTP::Spore::Meta::Method::BEGIN() called at /home/test/perl5/perlbrew/perls/perl-5.14.2/lib/site_perl/5.14.2/MooseX/Types/URI.pm line 0
	eval {...} called at /home/test/perl5/perlbrew/perls/perl-5.14.2/lib/site_perl/5.14.2/MooseX/Types/URI.pm line 0
	require Net/HTTP/Spore/Meta/Method.pm called at /usr/home/test/.cpan/build/Net-HTTP-Spore-0.04-CLiQoh/blib/lib/Net/HTTP/Spore/Meta/Method/Spore.pm line 11
	Net::HTTP::Spore::Meta::Method::Spore::BEGIN() called at /home/test/perl5/perlbrew/perls/perl-5.14.2/lib/site_perl/5.14.2/MooseX/Types/URI.pm line 0
	eval {...} called at /home/test/perl5/perlbrew/perls/perl-5.14.2/lib/site_perl/5.14.2/MooseX/Types/URI.pm line 0
	require Net/HTTP/Spore/Meta/Method/Spore.pm called at /home/test/perl5/perlbrew/perls/perl-5.14.2/lib/site_perl/5.14.2/Module/Runtime.pm line 198
	Module::Runtime::require_module('Net::HTTP::Spore::Meta::Method::Spore') called at /home/test/perl5/perlbrew/perls/perl-5.14.2/lib/site_perl/5.14.2/Class/Load.pm line 199
	Class::Load::__ANON__() called at /home/test/perl5/perlbrew/perls/perl-5.14.2/lib/site_perl/5.14.2/Try/Tiny.pm line 71
	eval {...} called at /home/test/perl5/perlbrew/perls/perl-5.14.2/lib/site_perl/5.14.2/Try/Tiny.pm line 67
	Try::Tiny::try('CODE(0x802a6e378)', 'Try::Tiny::Catch=REF(0x802a23618)') called at /home/test/perl5/perlbrew/perls/perl-5.14.2/lib/site_perl/5.14.2/Class/Load.pm line 205
	Class::Load::try_load_class('Net::HTTP::Spore::Meta::Method::Spore', undef) called at /home/test/perl5/perlbrew/perls/perl-5.14.2/lib/site_perl/5.14.2/Class/Load.pm line 64
	Class::Load::load_class('Net::HTTP::Spore::Meta::Method::Spore', undef) called at /home/test/perl5/perlbrew/perls/perl-5.14.2/lib/site_perl/5.14.2/amd64-freebsd/Moose/Util.pm line 132
	Moose::Util::_apply_all_roles('Moose::Meta::Role=HASH(0x802a57bb8)', undef, 'Net::HTTP::Spore::Meta::Method::Spore') called at /home/test/perl5/perlbrew/perls/perl-5.14.2/lib/site_perl/5.14.2/amd64-freebsd/Moose/Util.pm line 99
	Moose::Util::apply_all_roles('Moose::Meta::Role=HASH(0x802a57bb8)', 'Net::HTTP::Spore::Meta::Method::Spore') called at /home/test/perl5/perlbrew/perls/perl-5.14.2/lib/site_perl/5.14.2/amd64-freebsd/Moose/Role.pm line 29
	Moose::Role::with('Moose::Meta::Role=HASH(0x802a57bb8)', 'Net::HTTP::Spore::Meta::Method::Spore') called at /home/test/perl5/perlbrew/perls/perl-5.14.2/lib/site_perl/5.14.2/amd64-freebsd/Moose/Exporter.pm line 370
	Moose::Role::with('Net::HTTP::Spore::Meta::Method::Spore') called at /usr/home/test/.cpan/build/Net-HTTP-Spore-0.04-CLiQoh/blib/lib/Net/HTTP/Spore/Meta/Class.pm line 10
	require Net/HTTP/Spore/Meta/Class.pm called at /home/test/perl5/perlbrew/perls/perl-5.14.2/lib/site_perl/5.14.2/Module/Runtime.pm line 198
	Module::Runtime::require_module('Net::HTTP::Spore::Meta::Class') called at /home/test/perl5/perlbrew/perls/perl-5.14.2/lib/site_perl/5.14.2/Class/Load.pm line 199
	Class::Load::__ANON__() called at /home/test/perl5/perlbrew/perls/perl-5.14.2/lib/site_perl/5.14.2/Try/Tiny.pm line 71
	eval {...} called at /home/test/perl5/perlbrew/perls/perl-5.14.2/lib/site_perl/5.14.2/Try/Tiny.pm line 67
	Try::Tiny::try('CODE(0x802a06a98)', 'Try::Tiny::Catch=REF(0x8026edc60)') called at /home/test/perl5/perlbrew/perls/perl-5.14.2/lib/site_perl/5.14.2/Class/Load.pm line 205
	Class::Load::try_load_class('Net::HTTP::Spore::Meta::Class', undef) called at /home/test/perl5/perlbrew/perls/perl-5.14.2/lib/site_perl/5.14.2/Class/Load.pm line 64
	Class::Load::load_class('Net::HTTP::Spore::Meta::Class', undef) called at /home/test/perl5/perlbrew/perls/perl-5.14.2/lib/site_perl/5.14.2/amd64-freebsd/Moose/Util.pm line 132
	Moose::Util::_apply_all_roles('Moose::Meta::Class=HASH(0x802a06fa8)', undef, 'Net::HTTP::Spore::Meta::Class') called at /home/test/perl5/perlbrew/perls/perl-5.14.2/lib/site_perl/5.14.2/amd64-freebsd/Moose/Util.pm line 99
	Moose::Util::apply_all_roles('Moose::Meta::Class=HASH(0x802a06fa8)', 'Net::HTTP::Spore::Meta::Class') called at /home/test/perl5/perlbrew/perls/perl-5.14.2/lib/site_perl/5.14.2/amd64-freebsd/Moose/Meta/Class.pm line 104
	Moose::Meta::Class::create('Moose::Meta::Class', 'Moose::Meta::Class::__ANON__::SERIAL::1', 'roles', 'ARRAY(0x802737a38)', 'weaken', '', 'superclasses', 'ARRAY(0x802a06ae0)') called at /home/test/perl5/perlbrew/perls/perl-5.14.2/lib/site_perl/5.14.2/amd64-freebsd/Class/MOP/Package.pm line 120
	Class::MOP::Package::create_anon('Moose::Meta::Class', 'superclasses', 'ARRAY(0x802a06ae0)', 'roles', 'ARRAY(0x802737a38)', 'cache', 1) called at /home/test/perl5/perlbrew/perls/perl-5.14.2/lib/site_perl/5.14.2/amd64-freebsd/Class/MOP/Class.pm line 474
	Class::MOP::Class::create_anon_class('Moose::Meta::Class', 'superclasses', 'ARRAY(0x802a06ae0)', 'roles', 'ARRAY(0x802737a38)', 'cache', 1) called at /home/test/perl5/perlbrew/perls/perl-5.14.2/lib/site_perl/5.14.2/amd64-freebsd/Moose/Util/MetaRole.pm line 134
	Moose::Util::MetaRole::_make_new_class('Moose::Meta::Class', 'ARRAY(0x802737a38)') called at /home/test/perl5/perlbrew/perls/perl-5.14.2/lib/site_perl/5.14.2/amd64-freebsd/Moose/Util/MetaRole.pm line 79
	Moose::Util::MetaRole::_make_new_metaclass('Moose::Meta::Class=HASH(0x802a06138)', 'HASH(0x8027f3360)', 'class') called at /home/test/perl5/perlbrew/perls/perl-5.14.2/lib/site_perl/5.14.2/amd64-freebsd/Moose/Util/MetaRole.pm line 28
	Moose::Util::MetaRole::apply_metaroles('for', 'Net::HTTP::Spore::Core', 'class_metaroles', 'HASH(0x8027f3360)') called at /usr/home/test/.cpan/build/Net-HTTP-Spore-0.04-CLiQoh/blib/lib/Net/HTTP/Spore/Meta.pm line 28
	Net::HTTP::Spore::Meta::init_meta('Net::HTTP::Spore::Meta', 'for_class', 'MooseX::Types::URI', 'metaclass', undef, 'meta_name', 'meta') called at /home/test/perl5/perlbrew/perls/perl-5.14.2/lib/site_perl/5.14.2/amd64-freebsd/Moose/Exporter.pm line 435
	Moose::Exporter::__ANON__('Net::HTTP::Spore::Meta') called at /usr/home/test/.cpan/build/Net-HTTP-Spore-0.04-CLiQoh/blib/lib/Net/HTTP/Spore/Core.pm line 6
	Net::HTTP::Spore::Core::BEGIN() called at /home/test/perl5/perlbrew/perls/perl-5.14.2/lib/site_perl/5.14.2/MooseX/Types/URI.pm line 0
	eval {...} called at /home/test/perl5/perlbrew/perls/perl-5.14.2/lib/site_perl/5.14.2/MooseX/Types/URI.pm line 0
	require Net/HTTP/Spore/Core.pm called at /usr/home/test/.cpan/build/Net-HTTP-Spore-0.04-CLiQoh/blib/lib/Net/HTTP/Spore.pm line 13
	Net::HTTP::Spore::BEGIN() called at /home/test/perl5/perlbrew/perls/perl-5.14.2/lib/site_perl/5.14.2/MooseX/Types/URI.pm line 0
	eval {...} called at /home/test/perl5/perlbrew/perls/perl-5.14.2/lib/site_perl/5.14.2/MooseX/Types/URI.pm line 0
	require Net/HTTP/Spore.pm called at t/spore-middleware/useragent.t line 5
	main::BEGIN() called at /home/test/perl5/perlbrew/perls/perl-5.14.2/lib/site_perl/5.14.2/MooseX/Types/URI.pm line 0
	eval {...} called at /home/test/perl5/perlbrew/perls/perl-5.14.2/lib/site_perl/5.14.2/MooseX/Types/URI.pm line 0
t/spore-middleware/useragent.t ....... ok
Providing an optimized subroutine ref for type constraints is deprecated. Use the inlining feature (inline_as) instead. at /usr/home/test/.cpan/build/Net-HTTP-Spore-0.04-CLiQoh/blib/lib/Net/HTTP/Spore/Meta/Method.pm line 13
	Net::HTTP::Spore::Meta::Method::BEGIN() called at /home/test/perl5/perlbrew/perls/perl-5.14.2/lib/site_perl/5.14.2/MooseX/Types/URI.pm line 0
	eval {...} called at /home/test/perl5/perlbrew/perls/perl-5.14.2/lib/site_perl/5.14.2/MooseX/Types/URI.pm line 0
	require Net/HTTP/Spore/Meta/Method.pm called at /usr/home/test/.cpan/build/Net-HTTP-Spore-0.04-CLiQoh/blib/lib/Net/HTTP/Spore/Meta/Method/Spore.pm line 11
	Net::HTTP::Spore::Meta::Method::Spore::BEGIN() called at /home/test/perl5/perlbrew/perls/perl-5.14.2/lib/site_perl/5.14.2/MooseX/Types/URI.pm line 0
	eval {...} called at /home/test/perl5/perlbrew/perls/perl-5.14.2/lib/site_perl/5.14.2/MooseX/Types/URI.pm line 0
	require Net/HTTP/Spore/Meta/Method/Spore.pm called at /home/test/perl5/perlbrew/perls/perl-5.14.2/lib/site_perl/5.14.2/Module/Runtime.pm line 198
	Module::Runtime::require_module('Net::HTTP::Spore::Meta::Method::Spore') called at /home/test/perl5/perlbrew/perls/perl-5.14.2/lib/site_perl/5.14.2/Class/Load.pm line 199
	Class::Load::__ANON__() called at /home/test/perl5/perlbrew/perls/perl-5.14.2/lib/site_perl/5.14.2/Try/Tiny.pm line 71
	eval {...} called at /home/test/perl5/perlbrew/perls/perl-5.14.2/lib/site_perl/5.14.2/Try/Tiny.pm line 67
	Try::Tiny::try('CODE(0x802a6e378)', 'Try::Tiny::Catch=REF(0x802a23618)') called at /home/test/perl5/perlbrew/perls/perl-5.14.2/lib/site_perl/5.14.2/Class/Load.pm line 205
	Class::Load::try_load_class('Net::HTTP::Spore::Meta::Method::Spore', undef) called at /home/test/perl5/perlbrew/perls/perl-5.14.2/lib/site_perl/5.14.2/Class/Load.pm line 64
	Class::Load::load_class('Net::HTTP::Spore::Meta::Method::Spore', undef) called at /home/test/perl5/perlbrew/perls/perl-5.14.2/lib/site_perl/5.14.2/amd64-freebsd/Moose/Util.pm line 132
	Moose::Util::_apply_all_roles('Moose::Meta::Role=HASH(0x802a57bb8)', undef, 'Net::HTTP::Spore::Meta::Method::Spore') called at /home/test/perl5/perlbrew/perls/perl-5.14.2/lib/site_perl/5.14.2/amd64-freebsd/Moose/Util.pm line 99
	Moose::Util::apply_all_roles('Moose::Meta::Role=HASH(0x802a57bb8)', 'Net::HTTP::Spore::Meta::Method::Spore') called at /home/test/perl5/perlbrew/perls/perl-5.14.2/lib/site_perl/5.14.2/amd64-freebsd/Moose/Role.pm line 29
	Moose::Role::with('Moose::Meta::Role=HASH(0x802a57bb8)', 'Net::HTTP::Spore::Meta::Method::Spore') called at /home/test/perl5/perlbrew/perls/perl-5.14.2/lib/site_perl/5.14.2/amd64-freebsd/Moose/Exporter.pm line 370
	Moose::Role::with('Net::HTTP::Spore::Meta::Method::Spore') called at /usr/home/test/.cpan/build/Net-HTTP-Spore-0.04-CLiQoh/blib/lib/Net/HTTP/Spore/Meta/Class.pm line 10
	require Net/HTTP/Spore/Meta/Class.pm called at /home/test/perl5/perlbrew/perls/perl-5.14.2/lib/site_perl/5.14.2/Module/Runtime.pm line 198
	Module::Runtime::require_module('Net::HTTP::Spore::Meta::Class') called at /home/test/perl5/perlbrew/perls/perl-5.14.2/lib/site_perl/5.14.2/Class/Load.pm line 199
	Class::Load::__ANON__() called at /home/test/perl5/perlbrew/perls/perl-5.14.2/lib/site_perl/5.14.2/Try/Tiny.pm line 71
	eval {...} called at /home/test/perl5/perlbrew/perls/perl-5.14.2/lib/site_perl/5.14.2/Try/Tiny.pm line 67
	Try::Tiny::try('CODE(0x8027f4a98)', 'Try::Tiny::Catch=REF(0x8026ecc60)') called at /home/test/perl5/perlbrew/perls/perl-5.14.2/lib/site_perl/5.14.2/Class/Load.pm line 205
	Class::Load::try_load_class('Net::HTTP::Spore::Meta::Class', undef) called at /home/test/perl5/perlbrew/perls/perl-5.14.2/lib/site_perl/5.14.2/Class/Load.pm line 64
	Class::Load::load_class('Net::HTTP::Spore::Meta::Class', undef) called at /home/test/perl5/perlbrew/perls/perl-5.14.2/lib/site_perl/5.14.2/amd64-freebsd/Moose/Util.pm line 132
	Moose::Util::_apply_all_roles('Moose::Meta::Class=HASH(0x8027f4fa8)', undef, 'Net::HTTP::Spore::Meta::Class') called at /home/test/perl5/perlbrew/perls/perl-5.14.2/lib/site_perl/5.14.2/amd64-freebsd/Moose/Util.pm line 99
	Moose::Util::apply_all_roles('Moose::Meta::Class=HASH(0x8027f4fa8)', 'Net::HTTP::Spore::Meta::Class') called at /home/test/perl5/perlbrew/perls/perl-5.14.2/lib/site_perl/5.14.2/amd64-freebsd/Moose/Meta/Class.pm line 104
	Moose::Meta::Class::create('Moose::Meta::Class', 'Moose::Meta::Class::__ANON__::SERIAL::1', 'roles', 'ARRAY(0x802737a38)', 'weaken', '', 'superclasses', 'ARRAY(0x8027f4ae0)') called at /home/test/perl5/perlbrew/perls/perl-5.14.2/lib/site_perl/5.14.2/amd64-freebsd/Class/MOP/Package.pm line 120
	Class::MOP::Package::create_anon('Moose::Meta::Class', 'superclasses', 'ARRAY(0x8027f4ae0)', 'roles', 'ARRAY(0x802737a38)', 'cache', 1) called at /home/test/perl5/perlbrew/perls/perl-5.14.2/lib/site_perl/5.14.2/amd64-freebsd/Class/MOP/Class.pm line 474
	Class::MOP::Class::create_anon_class('Moose::Meta::Class', 'superclasses', 'ARRAY(0x8027f4ae0)', 'roles', 'ARRAY(0x802737a38)', 'cache', 1) called at /home/test/perl5/perlbrew/perls/perl-5.14.2/lib/site_perl/5.14.2/amd64-freebsd/Moose/Util/MetaRole.pm line 134
	Moose::Util::MetaRole::_make_new_class('Moose::Meta::Class', 'ARRAY(0x802737a38)') called at /home/test/perl5/perlbrew/perls/perl-5.14.2/lib/site_perl/5.14.2/amd64-freebsd/Moose/Util/MetaRole.pm line 79
	Moose::Util::MetaRole::_make_new_metaclass('Moose::Meta::Class=HASH(0x8027f4138)', 'HASH(0x8027f2360)', 'class') called at /home/test/perl5/perlbrew/perls/perl-5.14.2/lib/site_perl/5.14.2/amd64-freebsd/Moose/Util/MetaRole.pm line 28
	Moose::Util::MetaRole::apply_metaroles('for', 'Net::HTTP::Spore::Core', 'class_metaroles', 'HASH(0x8027f2360)') called at /usr/home/test/.cpan/build/Net-HTTP-Spore-0.04-CLiQoh/blib/lib/Net/HTTP/Spore/Meta.pm line 28
	Net::HTTP::Spore::Meta::init_meta('Net::HTTP::Spore::Meta', 'for_class', 'MooseX::Types::URI', 'metaclass', undef, 'meta_name', 'meta') called at /home/test/perl5/perlbrew/perls/perl-5.14.2/lib/site_perl/5.14.2/amd64-freebsd/Moose/Exporter.pm line 435
	Moose::Exporter::__ANON__('Net::HTTP::Spore::Meta') called at /usr/home/test/.cpan/build/Net-HTTP-Spore-0.04-CLiQoh/blib/lib/Net/HTTP/Spore/Core.pm line 6
	Net::HTTP::Spore::Core::BEGIN() called at /home/test/perl5/perlbrew/perls/perl-5.14.2/lib/site_perl/5.14.2/MooseX/Types/URI.pm line 0
	eval {...} called at /home/test/perl5/perlbrew/perls/perl-5.14.2/lib/site_perl/5.14.2/MooseX/Types/URI.pm line 0
	require Net/HTTP/Spore/Core.pm called at /usr/home/test/.cpan/build/Net-HTTP-Spore-0.04-CLiQoh/blib/lib/Net/HTTP/Spore.pm line 13
	Net::HTTP::Spore::BEGIN() called at /home/test/perl5/perlbrew/perls/perl-5.14.2/lib/site_perl/5.14.2/MooseX/Types/URI.pm line 0
	eval {...} called at /home/test/perl5/perlbrew/perls/perl-5.14.2/lib/site_perl/5.14.2/MooseX/Types/URI.pm line 0
	require Net/HTTP/Spore.pm called at t/spore-middleware/x-do-not-track.t line 5
	main::BEGIN() called at /home/test/perl5/perlbrew/perls/perl-5.14.2/lib/site_perl/5.14.2/MooseX/Types/URI.pm line 0
	eval {...} called at /home/test/perl5/perlbrew/perls/perl-5.14.2/lib/site_perl/5.14.2/MooseX/Types/URI.pm line 0
t/spore-middleware/x-do-not-track.t .. ok
t/spore-request/base.t ............... ok
Providing an optimized subroutine ref for type constraints is deprecated. Use the inlining feature (inline_as) instead. at /usr/home/test/.cpan/build/Net-HTTP-Spore-0.04-CLiQoh/blib/lib/Net/HTTP/Spore/Meta/Method.pm line 13
	Net::HTTP::Spore::Meta::Method::BEGIN() called at /home/test/perl5/perlbrew/perls/perl-5.14.2/lib/site_perl/5.14.2/MooseX/Types/URI.pm line 0
	eval {...} called at /home/test/perl5/perlbrew/perls/perl-5.14.2/lib/site_perl/5.14.2/MooseX/Types/URI.pm line 0
	require Net/HTTP/Spore/Meta/Method.pm called at /usr/home/test/.cpan/build/Net-HTTP-Spore-0.04-CLiQoh/blib/lib/Net/HTTP/Spore/Meta/Method/Spore.pm line 11
	Net::HTTP::Spore::Meta::Method::Spore::BEGIN() called at /home/test/perl5/perlbrew/perls/perl-5.14.2/lib/site_perl/5.14.2/MooseX/Types/URI.pm line 0
	eval {...} called at /home/test/perl5/perlbrew/perls/perl-5.14.2/lib/site_perl/5.14.2/MooseX/Types/URI.pm line 0
	require Net/HTTP/Spore/Meta/Method/Spore.pm called at /home/test/perl5/perlbrew/perls/perl-5.14.2/lib/site_perl/5.14.2/Module/Runtime.pm line 198
	Module::Runtime::require_module('Net::HTTP::Spore::Meta::Method::Spore') called at /home/test/perl5/perlbrew/perls/perl-5.14.2/lib/site_perl/5.14.2/Class/Load.pm line 199
	Class::Load::__ANON__() called at /home/test/perl5/perlbrew/perls/perl-5.14.2/lib/site_perl/5.14.2/Try/Tiny.pm line 71
	eval {...} called at /home/test/perl5/perlbrew/perls/perl-5.14.2/lib/site_perl/5.14.2/Try/Tiny.pm line 67
	Try::Tiny::try('CODE(0x802a6e3c0)', 'Try::Tiny::Catch=REF(0x802a23660)') called at /home/test/perl5/perlbrew/perls/perl-5.14.2/lib/site_perl/5.14.2/Class/Load.pm line 205
	Class::Load::try_load_class('Net::HTTP::Spore::Meta::Method::Spore', undef) called at /home/test/perl5/perlbrew/perls/perl-5.14.2/lib/site_perl/5.14.2/Class/Load.pm line 64
	Class::Load::load_class('Net::HTTP::Spore::Meta::Method::Spore', undef) called at /home/test/perl5/perlbrew/perls/perl-5.14.2/lib/site_perl/5.14.2/amd64-freebsd/Moose/Util.pm line 132
	Moose::Util::_apply_all_roles('Moose::Meta::Role=HASH(0x802a57c00)', undef, 'Net::HTTP::Spore::Meta::Method::Spore') called at /home/test/perl5/perlbrew/perls/perl-5.14.2/lib/site_perl/5.14.2/amd64-freebsd/Moose/Util.pm line 99
	Moose::Util::apply_all_roles('Moose::Meta::Role=HASH(0x802a57c00)', 'Net::HTTP::Spore::Meta::Method::Spore') called at /home/test/perl5/perlbrew/perls/perl-5.14.2/lib/site_perl/5.14.2/amd64-freebsd/Moose/Role.pm line 29
	Moose::Role::with('Moose::Meta::Role=HASH(0x802a57c00)', 'Net::HTTP::Spore::Meta::Method::Spore') called at /home/test/perl5/perlbrew/perls/perl-5.14.2/lib/site_perl/5.14.2/amd64-freebsd/Moose/Exporter.pm line 370
	Moose::Role::with('Net::HTTP::Spore::Meta::Method::Spore') called at /usr/home/test/.cpan/build/Net-HTTP-Spore-0.04-CLiQoh/blib/lib/Net/HTTP/Spore/Meta/Class.pm line 10
	require Net/HTTP/Spore/Meta/Class.pm called at /home/test/perl5/perlbrew/perls/perl-5.14.2/lib/site_perl/5.14.2/Module/Runtime.pm line 198
	Module::Runtime::require_module('Net::HTTP::Spore::Meta::Class') called at /home/test/perl5/perlbrew/perls/perl-5.14.2/lib/site_perl/5.14.2/Class/Load.pm line 199
	Class::Load::__ANON__() called at /home/test/perl5/perlbrew/perls/perl-5.14.2/lib/site_perl/5.14.2/Try/Tiny.pm line 71
	eval {...} called at /home/test/perl5/perlbrew/perls/perl-5.14.2/lib/site_perl/5.14.2/Try/Tiny.pm line 67
	Try::Tiny::try('CODE(0x802a06ae0)', 'Try::Tiny::Catch=REF(0x8026ecca8)') called at /home/test/perl5/perlbrew/perls/perl-5.14.2/lib/site_perl/5.14.2/Class/Load.pm line 205
	Class::Load::try_load_class('Net::HTTP::Spore::Meta::Class', undef) called at /home/test/perl5/perlbrew/perls/perl-5.14.2/lib/site_perl/5.14.2/Class/Load.pm line 64
	Class::Load::load_class('Net::HTTP::Spore::Meta::Class', undef) called at /home/test/perl5/perlbrew/perls/perl-5.14.2/lib/site_perl/5.14.2/amd64-freebsd/Moose/Util.pm line 132
	Moose::Util::_apply_all_roles('Moose::Meta::Class=HASH(0x802a23018)', undef, 'Net::HTTP::Spore::Meta::Class') called at /home/test/perl5/perlbrew/perls/perl-5.14.2/lib/site_perl/5.14.2/amd64-freebsd/Moose/Util.pm line 99
	Moose::Util::apply_all_roles('Moose::Meta::Class=HASH(0x802a23018)', 'Net::HTTP::Spore::Meta::Class') called at /home/test/perl5/perlbrew/perls/perl-5.14.2/lib/site_perl/5.14.2/amd64-freebsd/Moose/Meta/Class.pm line 104
	Moose::Meta::Class::create('Moose::Meta::Class', 'Moose::Meta::Class::__ANON__::SERIAL::1', 'roles', 'ARRAY(0x802737a80)', 'weaken', '', 'superclasses', 'ARRAY(0x802a06b28)') called at /home/test/perl5/perlbrew/perls/perl-5.14.2/lib/site_perl/5.14.2/amd64-freebsd/Class/MOP/Package.pm line 120
	Class::MOP::Package::create_anon('Moose::Meta::Class', 'superclasses', 'ARRAY(0x802a06b28)', 'roles', 'ARRAY(0x802737a80)', 'cache', 1) called at /home/test/perl5/perlbrew/perls/perl-5.14.2/lib/site_perl/5.14.2/amd64-freebsd/Class/MOP/Class.pm line 474
	Class::MOP::Class::create_anon_class('Moose::Meta::Class', 'superclasses', 'ARRAY(0x802a06b28)', 'roles', 'ARRAY(0x802737a80)', 'cache', 1) called at /home/test/perl5/perlbrew/perls/perl-5.14.2/lib/site_perl/5.14.2/amd64-freebsd/Moose/Util/MetaRole.pm line 134
	Moose::Util::MetaRole::_make_new_class('Moose::Meta::Class', 'ARRAY(0x802737a80)') called at /home/test/perl5/perlbrew/perls/perl-5.14.2/lib/site_perl/5.14.2/amd64-freebsd/Moose/Util/MetaRole.pm line 79
	Moose::Util::MetaRole::_make_new_metaclass('Moose::Meta::Class=HASH(0x802a06180)', 'HASH(0x8027f23a8)', 'class') called at /home/test/perl5/perlbrew/perls/perl-5.14.2/lib/site_perl/5.14.2/amd64-freebsd/Moose/Util/MetaRole.pm line 28
	Moose::Util::MetaRole::apply_metaroles('for', 'Net::HTTP::Spore::Core', 'class_metaroles', 'HASH(0x8027f23a8)') called at /usr/home/test/.cpan/build/Net-HTTP-Spore-0.04-CLiQoh/blib/lib/Net/HTTP/Spore/Meta.pm line 28
	Net::HTTP::Spore::Meta::init_meta('Net::HTTP::Spore::Meta', 'for_class', 'MooseX::Types::URI', 'metaclass', undef, 'meta_name', 'meta') called at /home/test/perl5/perlbrew/perls/perl-5.14.2/lib/site_perl/5.14.2/amd64-freebsd/Moose/Exporter.pm line 435
	Moose::Exporter::__ANON__('Net::HTTP::Spore::Meta') called at /usr/home/test/.cpan/build/Net-HTTP-Spore-0.04-CLiQoh/blib/lib/Net/HTTP/Spore/Core.pm line 6
	Net::HTTP::Spore::Core::BEGIN() called at /home/test/perl5/perlbrew/perls/perl-5.14.2/lib/site_perl/5.14.2/MooseX/Types/URI.pm line 0
	eval {...} called at /home/test/perl5/perlbrew/perls/perl-5.14.2/lib/site_perl/5.14.2/MooseX/Types/URI.pm line 0
	require Net/HTTP/Spore/Core.pm called at /usr/home/test/.cpan/build/Net-HTTP-Spore-0.04-CLiQoh/blib/lib/Net/HTTP/Spore.pm line 13
	Net::HTTP::Spore::BEGIN() called at /home/test/perl5/perlbrew/perls/perl-5.14.2/lib/site_perl/5.14.2/MooseX/Types/URI.pm line 0
	eval {...} called at /home/test/perl5/perlbrew/perls/perl-5.14.2/lib/site_perl/5.14.2/MooseX/Types/URI.pm line 0
	require Net/HTTP/Spore.pm called at t/spore-request/exception.t line 6
	main::BEGIN() called at /home/test/perl5/perlbrew/perls/perl-5.14.2/lib/site_perl/5.14.2/MooseX/Types/URI.pm line 0
	eval {...} called at /home/test/perl5/perlbrew/perls/perl-5.14.2/lib/site_perl/5.14.2/MooseX/Types/URI.pm line 0
t/spore-request/exception.t .......... ok
t/spore-request/finalize.t ........... ok
Providing an optimized subroutine ref for type constraints is deprecated. Use the inlining feature (inline_as) instead. at /usr/home/test/.cpan/build/Net-HTTP-Spore-0.04-CLiQoh/blib/lib/Net/HTTP/Spore/Meta/Method.pm line 13
	Net::HTTP::Spore::Meta::Method::BEGIN() called at /home/test/perl5/perlbrew/perls/perl-5.14.2/lib/site_perl/5.14.2/MooseX/Types/URI.pm line 0
	eval {...} called at /home/test/perl5/perlbrew/perls/perl-5.14.2/lib/site_perl/5.14.2/MooseX/Types/URI.pm line 0
	require Net/HTTP/Spore/Meta/Method.pm called at /usr/home/test/.cpan/build/Net-HTTP-Spore-0.04-CLiQoh/blib/lib/Net/HTTP/Spore/Meta/Method/Spore.pm line 11
	Net::HTTP::Spore::Meta::Method::Spore::BEGIN() called at /home/test/perl5/perlbrew/perls/perl-5.14.2/lib/site_perl/5.14.2/MooseX/Types/URI.pm line 0
	eval {...} called at /home/test/perl5/perlbrew/perls/perl-5.14.2/lib/site_perl/5.14.2/MooseX/Types/URI.pm line 0
	require Net/HTTP/Spore/Meta/Method/Spore.pm called at /home/test/perl5/perlbrew/perls/perl-5.14.2/lib/site_perl/5.14.2/Module/Runtime.pm line 198
	Module::Runtime::require_module('Net::HTTP::Spore::Meta::Method::Spore') called at /home/test/perl5/perlbrew/perls/perl-5.14.2/lib/site_perl/5.14.2/Class/Load.pm line 199
	Class::Load::__ANON__() called at /home/test/perl5/perlbrew/perls/perl-5.14.2/lib/site_perl/5.14.2/Try/Tiny.pm line 71
	eval {...} called at /home/test/perl5/perlbrew/perls/perl-5.14.2/lib/site_perl/5.14.2/Try/Tiny.pm line 67
	Try::Tiny::try('CODE(0x802a6d378)', 'Try::Tiny::Catch=REF(0x802a23618)') called at /home/test/perl5/perlbrew/perls/perl-5.14.2/lib/site_perl/5.14.2/Class/Load.pm line 205
	Class::Load::try_load_class('Net::HTTP::Spore::Meta::Method::Spore', undef) called at /home/test/perl5/perlbrew/perls/perl-5.14.2/lib/site_perl/5.14.2/Class/Load.pm line 64
	Class::Load::load_class('Net::HTTP::Spore::Meta::Method::Spore', undef) called at /home/test/perl5/perlbrew/perls/perl-5.14.2/lib/site_perl/5.14.2/amd64-freebsd/Moose/Util.pm line 132
	Moose::Util::_apply_all_roles('Moose::Meta::Role=HASH(0x802a57bb8)', undef, 'Net::HTTP::Spore::Meta::Method::Spore') called at /home/test/perl5/perlbrew/perls/perl-5.14.2/lib/site_perl/5.14.2/amd64-freebsd/Moose/Util.pm line 99
	Moose::Util::apply_all_roles('Moose::Meta::Role=HASH(0x802a57bb8)', 'Net::HTTP::Spore::Meta::Method::Spore') called at /home/test/perl5/perlbrew/perls/perl-5.14.2/lib/site_perl/5.14.2/amd64-freebsd/Moose/Role.pm line 29
	Moose::Role::with('Moose::Meta::Role=HASH(0x802a57bb8)', 'Net::HTTP::Spore::Meta::Method::Spore') called at /home/test/perl5/perlbrew/perls/perl-5.14.2/lib/site_perl/5.14.2/amd64-freebsd/Moose/Exporter.pm line 370
	Moose::Role::with('Net::HTTP::Spore::Meta::Method::Spore') called at /usr/home/test/.cpan/build/Net-HTTP-Spore-0.04-CLiQoh/blib/lib/Net/HTTP/Spore/Meta/Class.pm line 10
	require Net/HTTP/Spore/Meta/Class.pm called at /home/test/perl5/perlbrew/perls/perl-5.14.2/lib/site_perl/5.14.2/Module/Runtime.pm line 198
	Module::Runtime::require_module('Net::HTTP::Spore::Meta::Class') called at /home/test/perl5/perlbrew/perls/perl-5.14.2/lib/site_perl/5.14.2/Class/Load.pm line 199
	Class::Load::__ANON__() called at /home/test/perl5/perlbrew/perls/perl-5.14.2/lib/site_perl/5.14.2/Try/Tiny.pm line 71
	eval {...} called at /home/test/perl5/perlbrew/perls/perl-5.14.2/lib/site_perl/5.14.2/Try/Tiny.pm line 67
	Try::Tiny::try('CODE(0x802a06a98)', 'Try::Tiny::Catch=REF(0x8026edc60)') called at /home/test/perl5/perlbrew/perls/perl-5.14.2/lib/site_perl/5.14.2/Class/Load.pm line 205
	Class::Load::try_load_class('Net::HTTP::Spore::Meta::Class', undef) called at /home/test/perl5/perlbrew/perls/perl-5.14.2/lib/site_perl/5.14.2/Class/Load.pm line 64
	Class::Load::load_class('Net::HTTP::Spore::Meta::Class', undef) called at /home/test/perl5/perlbrew/perls/perl-5.14.2/lib/site_perl/5.14.2/amd64-freebsd/Moose/Util.pm line 132
	Moose::Util::_apply_all_roles('Moose::Meta::Class=HASH(0x802a06fa8)', undef, 'Net::HTTP::Spore::Meta::Class') called at /home/test/perl5/perlbrew/perls/perl-5.14.2/lib/site_perl/5.14.2/amd64-freebsd/Moose/Util.pm line 99
	Moose::Util::apply_all_roles('Moose::Meta::Class=HASH(0x802a06fa8)', 'Net::HTTP::Spore::Meta::Class') called at /home/test/perl5/perlbrew/perls/perl-5.14.2/lib/site_perl/5.14.2/amd64-freebsd/Moose/Meta/Class.pm line 104
	Moose::Meta::Class::create('Moose::Meta::Class', 'Moose::Meta::Class::__ANON__::SERIAL::1', 'roles', 'ARRAY(0x802737a38)', 'weaken', '', 'superclasses', 'ARRAY(0x802a06ae0)') called at /home/test/perl5/perlbrew/perls/perl-5.14.2/lib/site_perl/5.14.2/amd64-freebsd/Class/MOP/Package.pm line 120
	Class::MOP::Package::create_anon('Moose::Meta::Class', 'superclasses', 'ARRAY(0x802a06ae0)', 'roles', 'ARRAY(0x802737a38)', 'cache', 1) called at /home/test/perl5/perlbrew/perls/perl-5.14.2/lib/site_perl/5.14.2/amd64-freebsd/Class/MOP/Class.pm line 474
	Class::MOP::Class::create_anon_class('Moose::Meta::Class', 'superclasses', 'ARRAY(0x802a06ae0)', 'roles', 'ARRAY(0x802737a38)', 'cache', 1) called at /home/test/perl5/perlbrew/perls/perl-5.14.2/lib/site_perl/5.14.2/amd64-freebsd/Moose/Util/MetaRole.pm line 134
	Moose::Util::MetaRole::_make_new_class('Moose::Meta::Class', 'ARRAY(0x802737a38)') called at /home/test/perl5/perlbrew/perls/perl-5.14.2/lib/site_perl/5.14.2/amd64-freebsd/Moose/Util/MetaRole.pm line 79
	Moose::Util::MetaRole::_make_new_metaclass('Moose::Meta::Class=HASH(0x802a06138)', 'HASH(0x8027f3360)', 'class') called at /home/test/perl5/perlbrew/perls/perl-5.14.2/lib/site_perl/5.14.2/amd64-freebsd/Moose/Util/MetaRole.pm line 28
	Moose::Util::MetaRole::apply_metaroles('for', 'Net::HTTP::Spore::Core', 'class_metaroles', 'HASH(0x8027f3360)') called at /usr/home/test/.cpan/build/Net-HTTP-Spore-0.04-CLiQoh/blib/lib/Net/HTTP/Spore/Meta.pm line 28
	Net::HTTP::Spore::Meta::init_meta('Net::HTTP::Spore::Meta', 'for_class', 'MooseX::Types::URI', 'metaclass', undef, 'meta_name', 'meta') called at /home/test/perl5/perlbrew/perls/perl-5.14.2/lib/site_perl/5.14.2/amd64-freebsd/Moose/Exporter.pm line 435
	Moose::Exporter::__ANON__('Net::HTTP::Spore::Meta') called at /usr/home/test/.cpan/build/Net-HTTP-Spore-0.04-CLiQoh/blib/lib/Net/HTTP/Spore/Core.pm line 6
	Net::HTTP::Spore::Core::BEGIN() called at /home/test/perl5/perlbrew/perls/perl-5.14.2/lib/site_perl/5.14.2/MooseX/Types/URI.pm line 0
	eval {...} called at /home/test/perl5/perlbrew/perls/perl-5.14.2/lib/site_perl/5.14.2/MooseX/Types/URI.pm line 0
	require Net/HTTP/Spore/Core.pm called at /usr/home/test/.cpan/build/Net-HTTP-Spore-0.04-CLiQoh/blib/lib/Net/HTTP/Spore.pm line 13
	Net::HTTP::Spore::BEGIN() called at /home/test/perl5/perlbrew/perls/perl-5.14.2/lib/site_perl/5.14.2/MooseX/Types/URI.pm line 0
	eval {...} called at /home/test/perl5/perlbrew/perls/perl-5.14.2/lib/site_perl/5.14.2/MooseX/Types/URI.pm line 0
	require Net/HTTP/Spore.pm called at t/spore-request/form_data.t line 5
	main::BEGIN() called at /home/test/perl5/perlbrew/perls/perl-5.14.2/lib/site_perl/5.14.2/MooseX/Types/URI.pm line 0
	eval {...} called at /home/test/perl5/perlbrew/perls/perl-5.14.2/lib/site_perl/5.14.2/MooseX/Types/URI.pm line 0
t/spore-request/form_data.t .......... ok
Providing an optimized subroutine ref for type constraints is deprecated. Use the inlining feature (inline_as) instead. at /usr/home/test/.cpan/build/Net-HTTP-Spore-0.04-CLiQoh/blib/lib/Net/HTTP/Spore/Meta/Method.pm line 13
	Net::HTTP::Spore::Meta::Method::BEGIN() called at /home/test/perl5/perlbrew/perls/perl-5.14.2/lib/site_perl/5.14.2/MooseX/Types/URI.pm line 0
	eval {...} called at /home/test/perl5/perlbrew/perls/perl-5.14.2/lib/site_perl/5.14.2/MooseX/Types/URI.pm line 0
	require Net/HTTP/Spore/Meta/Method.pm called at /usr/home/test/.cpan/build/Net-HTTP-Spore-0.04-CLiQoh/blib/lib/Net/HTTP/Spore/Meta/Method/Spore.pm line 11
	Net::HTTP::Spore::Meta::Method::Spore::BEGIN() called at /home/test/perl5/perlbrew/perls/perl-5.14.2/lib/site_perl/5.14.2/MooseX/Types/URI.pm line 0
	eval {...} called at /home/test/perl5/perlbrew/perls/perl-5.14.2/lib/site_perl/5.14.2/MooseX/Types/URI.pm line 0
	require Net/HTTP/Spore/Meta/Method/Spore.pm called at /home/test/perl5/perlbrew/perls/perl-5.14.2/lib/site_perl/5.14.2/Module/Runtime.pm line 198
	Module::Runtime::require_module('Net::HTTP::Spore::Meta::Method::Spore') called at /home/test/perl5/perlbrew/perls/perl-5.14.2/lib/site_perl/5.14.2/Class/Load.pm line 199
	Class::Load::__ANON__() called at /home/test/perl5/perlbrew/perls/perl-5.14.2/lib/site_perl/5.14.2/Try/Tiny.pm line 71
	eval {...} called at /home/test/perl5/perlbrew/perls/perl-5.14.2/lib/site_perl/5.14.2/Try/Tiny.pm line 67
	Try::Tiny::try('CODE(0x802e84b40)', 'Try::Tiny::Catch=REF(0x802e84a38)') called at /home/test/perl5/perlbrew/perls/perl-5.14.2/lib/site_perl/5.14.2/Class/Load.pm line 205
	Class::Load::try_load_class('Net::HTTP::Spore::Meta::Method::Spore', undef) called at /home/test/perl5/perlbrew/perls/perl-5.14.2/lib/site_perl/5.14.2/Class/Load.pm line 64
	Class::Load::load_class('Net::HTTP::Spore::Meta::Method::Spore', undef) called at /home/test/perl5/perlbrew/perls/perl-5.14.2/lib/site_perl/5.14.2/amd64-freebsd/Moose/Util.pm line 132
	Moose::Util::_apply_all_roles('Moose::Meta::Role=HASH(0x802e86540)', undef, 'Net::HTTP::Spore::Meta::Method::Spore') called at /home/test/perl5/perlbrew/perls/perl-5.14.2/lib/site_perl/5.14.2/amd64-freebsd/Moose/Util.pm line 99
	Moose::Util::apply_all_roles('Moose::Meta::Role=HASH(0x802e86540)', 'Net::HTTP::Spore::Meta::Method::Spore') called at /home/test/perl5/perlbrew/perls/perl-5.14.2/lib/site_perl/5.14.2/amd64-freebsd/Moose/Role.pm line 29
	Moose::Role::with('Moose::Meta::Role=HASH(0x802e86540)', 'Net::HTTP::Spore::Meta::Method::Spore') called at /home/test/perl5/perlbrew/perls/perl-5.14.2/lib/site_perl/5.14.2/amd64-freebsd/Moose/Exporter.pm line 370
	Moose::Role::with('Net::HTTP::Spore::Meta::Method::Spore') called at /usr/home/test/.cpan/build/Net-HTTP-Spore-0.04-CLiQoh/blib/lib/Net/HTTP/Spore/Meta/Class.pm line 10
	require Net/HTTP/Spore/Meta/Class.pm called at /home/test/perl5/perlbrew/perls/perl-5.14.2/lib/site_perl/5.14.2/Module/Runtime.pm line 198
	Module::Runtime::require_module('Net::HTTP::Spore::Meta::Class') called at /home/test/perl5/perlbrew/perls/perl-5.14.2/lib/site_perl/5.14.2/Class/Load.pm line 199
	Class::Load::__ANON__() called at /home/test/perl5/perlbrew/perls/perl-5.14.2/lib/site_perl/5.14.2/Try/Tiny.pm line 71
	eval {...} called at /home/test/perl5/perlbrew/perls/perl-5.14.2/lib/site_perl/5.14.2/Try/Tiny.pm line 67
	Try::Tiny::try('CODE(0x802e73f60)', 'Try::Tiny::Catch=REF(0x802b4ffc0)') called at /home/test/perl5/perlbrew/perls/perl-5.14.2/lib/site_perl/5.14.2/Class/Load.pm line 205
	Class::Load::try_load_class('Net::HTTP::Spore::Meta::Class', undef) called at /home/test/perl5/perlbrew/perls/perl-5.14.2/lib/site_perl/5.14.2/Class/Load.pm line 64
	Class::Load::load_class('Net::HTTP::Spore::Meta::Class', undef) called at /home/test/perl5/perlbrew/perls/perl-5.14.2/lib/site_perl/5.14.2/amd64-freebsd/Moose/Util.pm line 132
	Moose::Util::_apply_all_roles('Moose::Meta::Class=HASH(0x802e84468)', undef, 'Net::HTTP::Spore::Meta::Class') called at /home/test/perl5/perlbrew/perls/perl-5.14.2/lib/site_perl/5.14.2/amd64-freebsd/Moose/Util.pm line 99
	Moose::Util::apply_all_roles('Moose::Meta::Class=HASH(0x802e84468)', 'Net::HTTP::Spore::Meta::Class') called at /home/test/perl5/perlbrew/perls/perl-5.14.2/lib/site_perl/5.14.2/amd64-freebsd/Moose/Meta/Class.pm line 104
	Moose::Meta::Class::create('Moose::Meta::Class', 'Moose::Meta::Class::__ANON__::SERIAL::4', 'roles', 'ARRAY(0x802b8eae0)', 'weaken', '', 'superclasses', 'ARRAY(0x802e73fd8)') called at /home/test/perl5/perlbrew/perls/perl-5.14.2/lib/site_perl/5.14.2/amd64-freebsd/Class/MOP/Package.pm line 120
	Class::MOP::Package::create_anon('Moose::Meta::Class', 'superclasses', 'ARRAY(0x802e73fd8)', 'roles', 'ARRAY(0x802b8eae0)', 'cache', 1) called at /home/test/perl5/perlbrew/perls/perl-5.14.2/lib/site_perl/5.14.2/amd64-freebsd/Class/MOP/Class.pm line 474
	Class::MOP::Class::create_anon_class('Moose::Meta::Class', 'superclasses', 'ARRAY(0x802e73fd8)', 'roles', 'ARRAY(0x802b8eae0)', 'cache', 1) called at /home/test/perl5/perlbrew/perls/perl-5.14.2/lib/site_perl/5.14.2/amd64-freebsd/Moose/Util/MetaRole.pm line 134
	Moose::Util::MetaRole::_make_new_class('Moose::Meta::Class', 'ARRAY(0x802b8eae0)') called at /home/test/perl5/perlbrew/perls/perl-5.14.2/lib/site_perl/5.14.2/amd64-freebsd/Moose/Util/MetaRole.pm line 79
	Moose::Util::MetaRole::_make_new_metaclass('Moose::Meta::Class=HASH(0x802e73630)', 'HASH(0x802e5c858)', 'class') called at /home/test/perl5/perlbrew/perls/perl-5.14.2/lib/site_perl/5.14.2/amd64-freebsd/Moose/Util/MetaRole.pm line 28
	Moose::Util::MetaRole::apply_metaroles('for', 'Net::HTTP::Spore::Core', 'class_metaroles', 'HASH(0x802e5c858)') called at /usr/home/test/.cpan/build/Net-HTTP-Spore-0.04-CLiQoh/blib/lib/Net/HTTP/Spore/Meta.pm line 28
	Net::HTTP::Spore::Meta::init_meta('Net::HTTP::Spore::Meta', 'for_class', 'MooseX::Types::URI', 'metaclass', undef, 'meta_name', 'meta') called at /home/test/perl5/perlbrew/perls/perl-5.14.2/lib/site_perl/5.14.2/amd64-freebsd/Moose/Exporter.pm line 435
	Moose::Exporter::__ANON__('Net::HTTP::Spore::Meta') called at /usr/home/test/.cpan/build/Net-HTTP-Spore-0.04-CLiQoh/blib/lib/Net/HTTP/Spore/Core.pm line 6
	Net::HTTP::Spore::Core::BEGIN() called at /home/test/perl5/perlbrew/perls/perl-5.14.2/lib/site_perl/5.14.2/MooseX/Types/URI.pm line 0
	eval {...} called at /home/test/perl5/perlbrew/perls/perl-5.14.2/lib/site_perl/5.14.2/MooseX/Types/URI.pm line 0
	require Net/HTTP/Spore/Core.pm called at /usr/home/test/.cpan/build/Net-HTTP-Spore-0.04-CLiQoh/blib/lib/Net/HTTP/Spore.pm line 13
	Net::HTTP::Spore::BEGIN() called at /home/test/perl5/perlbrew/perls/perl-5.14.2/lib/site_perl/5.14.2/MooseX/Types/URI.pm line 0
	eval {...} called at /home/test/perl5/perlbrew/perls/perl-5.14.2/lib/site_perl/5.14.2/MooseX/Types/URI.pm line 0
	require Net/HTTP/Spore.pm called at t/spore-request/headers.t line 6
	main::BEGIN() called at /home/test/perl5/perlbrew/perls/perl-5.14.2/lib/site_perl/5.14.2/MooseX/Types/URI.pm line 0
	eval {...} called at /home/test/perl5/perlbrew/perls/perl-5.14.2/lib/site_perl/5.14.2/MooseX/Types/URI.pm line 0
t/spore-request/headers.t ............ ok
t/spore-request/new.t ................ ok
t/spore-request/request_uri.t ........ ok
t/spore-request/script_name.t ........ ok
t/spore-request/uri.t ................ ok
t/spore-response/body.t .............. ok
Providing an optimized subroutine ref for type constraints is deprecated. Use the inlining feature (inline_as) instead. at /usr/home/test/.cpan/build/Net-HTTP-Spore-0.04-CLiQoh/blib/lib/Net/HTTP/Spore/Meta/Method.pm line 13
	Net::HTTP::Spore::Meta::Method::BEGIN() called at /home/test/perl5/perlbrew/perls/perl-5.14.2/lib/site_perl/5.14.2/MooseX/Types/URI.pm line 0
	eval {...} called at /home/test/perl5/perlbrew/perls/perl-5.14.2/lib/site_perl/5.14.2/MooseX/Types/URI.pm line 0
	require Net/HTTP/Spore/Meta/Method.pm called at /usr/home/test/.cpan/build/Net-HTTP-Spore-0.04-CLiQoh/blib/lib/Net/HTTP/Spore/Meta/Method/Spore.pm line 11
	Net::HTTP::Spore::Meta::Method::Spore::BEGIN() called at /home/test/perl5/perlbrew/perls/perl-5.14.2/lib/site_perl/5.14.2/MooseX/Types/URI.pm line 0
	eval {...} called at /home/test/perl5/perlbrew/perls/perl-5.14.2/lib/site_perl/5.14.2/MooseX/Types/URI.pm line 0
	require Net/HTTP/Spore/Meta/Method/Spore.pm called at /home/test/perl5/perlbrew/perls/perl-5.14.2/lib/site_perl/5.14.2/Module/Runtime.pm line 198
	Module::Runtime::require_module('Net::HTTP::Spore::Meta::Method::Spore') called at /home/test/perl5/perlbrew/perls/perl-5.14.2/lib/site_perl/5.14.2/Class/Load.pm line 199
	Class::Load::__ANON__() called at /home/test/perl5/perlbrew/perls/perl-5.14.2/lib/site_perl/5.14.2/Try/Tiny.pm line 71
	eval {...} called at /home/test/perl5/perlbrew/perls/perl-5.14.2/lib/site_perl/5.14.2/Try/Tiny.pm line 67
	Try::Tiny::try('CODE(0x802a6d378)', 'Try::Tiny::Catch=REF(0x802a23618)') called at /home/test/perl5/perlbrew/perls/perl-5.14.2/lib/site_perl/5.14.2/Class/Load.pm line 205
	Class::Load::try_load_class('Net::HTTP::Spore::Meta::Method::Spore', undef) called at /home/test/perl5/perlbrew/perls/perl-5.14.2/lib/site_perl/5.14.2/Class/Load.pm line 64
	Class::Load::load_class('Net::HTTP::Spore::Meta::Method::Spore', undef) called at /home/test/perl5/perlbrew/perls/perl-5.14.2/lib/site_perl/5.14.2/amd64-freebsd/Moose/Util.pm line 132
	Moose::Util::_apply_all_roles('Moose::Meta::Role=HASH(0x802a57bb8)', undef, 'Net::HTTP::Spore::Meta::Method::Spore') called at /home/test/perl5/perlbrew/perls/perl-5.14.2/lib/site_perl/5.14.2/amd64-freebsd/Moose/Util.pm line 99
	Moose::Util::apply_all_roles('Moose::Meta::Role=HASH(0x802a57bb8)', 'Net::HTTP::Spore::Meta::Method::Spore') called at /home/test/perl5/perlbrew/perls/perl-5.14.2/lib/site_perl/5.14.2/amd64-freebsd/Moose/Role.pm line 29
	Moose::Role::with('Moose::Meta::Role=HASH(0x802a57bb8)', 'Net::HTTP::Spore::Meta::Method::Spore') called at /home/test/perl5/perlbrew/perls/perl-5.14.2/lib/site_perl/5.14.2/amd64-freebsd/Moose/Exporter.pm line 370
	Moose::Role::with('Net::HTTP::Spore::Meta::Method::Spore') called at /usr/home/test/.cpan/build/Net-HTTP-Spore-0.04-CLiQoh/blib/lib/Net/HTTP/Spore/Meta/Class.pm line 10
	require Net/HTTP/Spore/Meta/Class.pm called at /home/test/perl5/perlbrew/perls/perl-5.14.2/lib/site_perl/5.14.2/Module/Runtime.pm line 198
	Module::Runtime::require_module('Net::HTTP::Spore::Meta::Class') called at /home/test/perl5/perlbrew/perls/perl-5.14.2/lib/site_perl/5.14.2/Class/Load.pm line 199
	Class::Load::__ANON__() called at /home/test/perl5/perlbrew/perls/perl-5.14.2/lib/site_perl/5.14.2/Try/Tiny.pm line 71
	eval {...} called at /home/test/perl5/perlbrew/perls/perl-5.14.2/lib/site_perl/5.14.2/Try/Tiny.pm line 67
	Try::Tiny::try('CODE(0x802a06a98)', 'Try::Tiny::Catch=REF(0x8026edc60)') called at /home/test/perl5/perlbrew/perls/perl-5.14.2/lib/site_perl/5.14.2/Class/Load.pm line 205
	Class::Load::try_load_class('Net::HTTP::Spore::Meta::Class', undef) called at /home/test/perl5/perlbrew/perls/perl-5.14.2/lib/site_perl/5.14.2/Class/Load.pm line 64
	Class::Load::load_class('Net::HTTP::Spore::Meta::Class', undef) called at /home/test/perl5/perlbrew/perls/perl-5.14.2/lib/site_perl/5.14.2/amd64-freebsd/Moose/Util.pm line 132
	Moose::Util::_apply_all_roles('Moose::Meta::Class=HASH(0x802a06fa8)', undef, 'Net::HTTP::Spore::Meta::Class') called at /home/test/perl5/perlbrew/perls/perl-5.14.2/lib/site_perl/5.14.2/amd64-freebsd/Moose/Util.pm line 99
	Moose::Util::apply_all_roles('Moose::Meta::Class=HASH(0x802a06fa8)', 'Net::HTTP::Spore::Meta::Class') called at /home/test/perl5/perlbrew/perls/perl-5.14.2/lib/site_perl/5.14.2/amd64-freebsd/Moose/Meta/Class.pm line 104
	Moose::Meta::Class::create('Moose::Meta::Class', 'Moose::Meta::Class::__ANON__::SERIAL::1', 'roles', 'ARRAY(0x802737a38)', 'weaken', '', 'superclasses', 'ARRAY(0x802a06ae0)') called at /home/test/perl5/perlbrew/perls/perl-5.14.2/lib/site_perl/5.14.2/amd64-freebsd/Class/MOP/Package.pm line 120
	Class::MOP::Package::create_anon('Moose::Meta::Class', 'superclasses', 'ARRAY(0x802a06ae0)', 'roles', 'ARRAY(0x802737a38)', 'cache', 1) called at /home/test/perl5/perlbrew/perls/perl-5.14.2/lib/site_perl/5.14.2/amd64-freebsd/Class/MOP/Class.pm line 474
	Class::MOP::Class::create_anon_class('Moose::Meta::Class', 'superclasses', 'ARRAY(0x802a06ae0)', 'roles', 'ARRAY(0x802737a38)', 'cache', 1) called at /home/test/perl5/perlbrew/perls/perl-5.14.2/lib/site_perl/5.14.2/amd64-freebsd/Moose/Util/MetaRole.pm line 134
	Moose::Util::MetaRole::_make_new_class('Moose::Meta::Class', 'ARRAY(0x802737a38)') called at /home/test/perl5/perlbrew/perls/perl-5.14.2/lib/site_perl/5.14.2/amd64-freebsd/Moose/Util/MetaRole.pm line 79
	Moose::Util::MetaRole::_make_new_metaclass('Moose::Meta::Class=HASH(0x802a06138)', 'HASH(0x8027f3360)', 'class') called at /home/test/perl5/perlbrew/perls/perl-5.14.2/lib/site_perl/5.14.2/amd64-freebsd/Moose/Util/MetaRole.pm line 28
	Moose::Util::MetaRole::apply_metaroles('for', 'Net::HTTP::Spore::Core', 'class_metaroles', 'HASH(0x8027f3360)') called at /usr/home/test/.cpan/build/Net-HTTP-Spore-0.04-CLiQoh/blib/lib/Net/HTTP/Spore/Meta.pm line 28
	Net::HTTP::Spore::Meta::init_meta('Net::HTTP::Spore::Meta', 'for_class', 'MooseX::Types::URI', 'metaclass', undef, 'meta_name', 'meta') called at /home/test/perl5/perlbrew/perls/perl-5.14.2/lib/site_perl/5.14.2/amd64-freebsd/Moose/Exporter.pm line 435
	Moose::Exporter::__ANON__('Net::HTTP::Spore::Meta') called at /usr/home/test/.cpan/build/Net-HTTP-Spore-0.04-CLiQoh/blib/lib/Net/HTTP/Spore/Core.pm line 6
	Net::HTTP::Spore::Core::BEGIN() called at /home/test/perl5/perlbrew/perls/perl-5.14.2/lib/site_perl/5.14.2/MooseX/Types/URI.pm line 0
	eval {...} called at /home/test/perl5/perlbrew/perls/perl-5.14.2/lib/site_perl/5.14.2/MooseX/Types/URI.pm line 0
	require Net/HTTP/Spore/Core.pm called at /usr/home/test/.cpan/build/Net-HTTP-Spore-0.04-CLiQoh/blib/lib/Net/HTTP/Spore.pm line 13
	Net::HTTP::Spore::BEGIN() called at /home/test/perl5/perlbrew/perls/perl-5.14.2/lib/site_perl/5.14.2/MooseX/Types/URI.pm line 0
	eval {...} called at /home/test/perl5/perlbrew/perls/perl-5.14.2/lib/site_perl/5.14.2/MooseX/Types/URI.pm line 0
	require Net/HTTP/Spore.pm called at t/spore-response/debug.t line 4
	main::BEGIN() called at /home/test/perl5/perlbrew/perls/perl-5.14.2/lib/site_perl/5.14.2/MooseX/Types/URI.pm line 0
	eval {...} called at /home/test/perl5/perlbrew/perls/perl-5.14.2/lib/site_perl/5.14.2/MooseX/Types/URI.pm line 0
t/spore-response/debug.t ............. ok
t/spore-response/headers.t ........... ok
t/spore-response/new.t ............... ok
t/spore-response/response.t .......... ok
t/spore-response/timeout.t ........... ok
Providing an optimized subroutine ref for type constraints is deprecated. Use the inlining feature (inline_as) instead. at /usr/home/test/.cpan/build/Net-HTTP-Spore-0.04-CLiQoh/blib/lib/Net/HTTP/Spore/Meta/Method.pm line 13
	Net::HTTP::Spore::Meta::Method::BEGIN() called at /home/test/perl5/perlbrew/perls/perl-5.14.2/lib/site_perl/5.14.2/MooseX/Types/URI.pm line 0
	eval {...} called at /home/test/perl5/perlbrew/perls/perl-5.14.2/lib/site_perl/5.14.2/MooseX/Types/URI.pm line 0
	require Net/HTTP/Spore/Meta/Method.pm called at /usr/home/test/.cpan/build/Net-HTTP-Spore-0.04-CLiQoh/blib/lib/Net/HTTP/Spore/Meta/Method/Spore.pm line 11
	Net::HTTP::Spore::Meta::Method::Spore::BEGIN() called at /home/test/perl5/perlbrew/perls/perl-5.14.2/lib/site_perl/5.14.2/MooseX/Types/URI.pm line 0
	eval {...} called at /home/test/perl5/perlbrew/perls/perl-5.14.2/lib/site_perl/5.14.2/MooseX/Types/URI.pm line 0
	require Net/HTTP/Spore/Meta/Method/Spore.pm called at /home/test/perl5/perlbrew/perls/perl-5.14.2/lib/site_perl/5.14.2/Module/Runtime.pm line 198
	Module::Runtime::require_module('Net::HTTP::Spore::Meta::Method::Spore') called at /home/test/perl5/perlbrew/perls/perl-5.14.2/lib/site_perl/5.14.2/Class/Load.pm line 199
	Class::Load::__ANON__() called at /home/test/perl5/perlbrew/perls/perl-5.14.2/lib/site_perl/5.14.2/Try/Tiny.pm line 71
	eval {...} called at /home/test/perl5/perlbrew/perls/perl-5.14.2/lib/site_perl/5.14.2/Try/Tiny.pm line 67
	Try::Tiny::try('CODE(0x802b3aaf8)', 'Try::Tiny::Catch=REF(0x802b32210)') called at /home/test/perl5/perlbrew/perls/perl-5.14.2/lib/site_perl/5.14.2/Class/Load.pm line 205
	Class::Load::try_load_class('Net::HTTP::Spore::Meta::Method::Spore', undef) called at /home/test/perl5/perlbrew/perls/perl-5.14.2/lib/site_perl/5.14.2/Class/Load.pm line 64
	Class::Load::load_class('Net::HTTP::Spore::Meta::Method::Spore', undef) called at /home/test/perl5/perlbrew/perls/perl-5.14.2/lib/site_perl/5.14.2/amd64-freebsd/Moose/Util.pm line 132
	Moose::Util::_apply_all_roles('Moose::Meta::Role=HASH(0x802b32cf0)', undef, 'Net::HTTP::Spore::Meta::Method::Spore') called at /home/test/perl5/perlbrew/perls/perl-5.14.2/lib/site_perl/5.14.2/amd64-freebsd/Moose/Util.pm line 99
	Moose::Util::apply_all_roles('Moose::Meta::Role=HASH(0x802b32cf0)', 'Net::HTTP::Spore::Meta::Method::Spore') called at /home/test/perl5/perlbrew/perls/perl-5.14.2/lib/site_perl/5.14.2/amd64-freebsd/Moose/Role.pm line 29
	Moose::Role::with('Moose::Meta::Role=HASH(0x802b32cf0)', 'Net::HTTP::Spore::Meta::Method::Spore') called at /home/test/perl5/perlbrew/perls/perl-5.14.2/lib/site_perl/5.14.2/amd64-freebsd/Moose/Exporter.pm line 370
	Moose::Role::with('Net::HTTP::Spore::Meta::Method::Spore') called at /usr/home/test/.cpan/build/Net-HTTP-Spore-0.04-CLiQoh/blib/lib/Net/HTTP/Spore/Meta/Class.pm line 10
	require Net/HTTP/Spore/Meta/Class.pm called at /home/test/perl5/perlbrew/perls/perl-5.14.2/lib/site_perl/5.14.2/Module/Runtime.pm line 198
	Module::Runtime::require_module('Net::HTTP::Spore::Meta::Class') called at /home/test/perl5/perlbrew/perls/perl-5.14.2/lib/site_perl/5.14.2/Class/Load.pm line 199
	Class::Load::__ANON__() called at /home/test/perl5/perlbrew/perls/perl-5.14.2/lib/site_perl/5.14.2/Try/Tiny.pm line 71
	eval {...} called at /home/test/perl5/perlbrew/perls/perl-5.14.2/lib/site_perl/5.14.2/Try/Tiny.pm line 67
	Try::Tiny::try('CODE(0x802b31690)', 'Try::Tiny::Catch=REF(0x802a0c4c8)') called at /home/test/perl5/perlbrew/perls/perl-5.14.2/lib/site_perl/5.14.2/Class/Load.pm line 205
	Class::Load::try_load_class('Net::HTTP::Spore::Meta::Class', undef) called at /home/test/perl5/perlbrew/perls/perl-5.14.2/lib/site_perl/5.14.2/Class/Load.pm line 64
	Class::Load::load_class('Net::HTTP::Spore::Meta::Class', undef) called at /home/test/perl5/perlbrew/perls/perl-5.14.2/lib/site_perl/5.14.2/amd64-freebsd/Moose/Util.pm line 132
	Moose::Util::_apply_all_roles('Moose::Meta::Class=HASH(0x802b31ba0)', undef, 'Net::HTTP::Spore::Meta::Class') called at /home/test/perl5/perlbrew/perls/perl-5.14.2/lib/site_perl/5.14.2/amd64-freebsd/Moose/Util.pm line 99
	Moose::Util::apply_all_roles('Moose::Meta::Class=HASH(0x802b31ba0)', 'Net::HTTP::Spore::Meta::Class') called at /home/test/perl5/perlbrew/perls/perl-5.14.2/lib/site_perl/5.14.2/amd64-freebsd/Moose/Meta/Class.pm line 104
	Moose::Meta::Class::create('Moose::Meta::Class', 'Moose::Meta::Class::__ANON__::SERIAL::1', 'roles', 'ARRAY(0x802a58e58)', 'weaken', '', 'superclasses', 'ARRAY(0x802b316d8)') called at /home/test/perl5/perlbrew/perls/perl-5.14.2/lib/site_perl/5.14.2/amd64-freebsd/Class/MOP/Package.pm line 120
	Class::MOP::Package::create_anon('Moose::Meta::Class', 'superclasses', 'ARRAY(0x802b316d8)', 'roles', 'ARRAY(0x802a58e58)', 'cache', 1) called at /home/test/perl5/perlbrew/perls/perl-5.14.2/lib/site_perl/5.14.2/amd64-freebsd/Class/MOP/Class.pm line 474
	Class::MOP::Class::create_anon_class('Moose::Meta::Class', 'superclasses', 'ARRAY(0x802b316d8)', 'roles', 'ARRAY(0x802a58e58)', 'cache', 1) called at /home/test/perl5/perlbrew/perls/perl-5.14.2/lib/site_perl/5.14.2/amd64-freebsd/Moose/Util/MetaRole.pm line 134
	Moose::Util::MetaRole::_make_new_class('Moose::Meta::Class', 'ARRAY(0x802a58e58)') called at /home/test/perl5/perlbrew/perls/perl-5.14.2/lib/site_perl/5.14.2/amd64-freebsd/Moose/Util/MetaRole.pm line 79
	Moose::Util::MetaRole::_make_new_metaclass('Moose::Meta::Class=HASH(0x802b2cd08)', 'HASH(0x80207af30)', 'class') called at /home/test/perl5/perlbrew/perls/perl-5.14.2/lib/site_perl/5.14.2/amd64-freebsd/Moose/Util/MetaRole.pm line 28
	Moose::Util::MetaRole::apply_metaroles('for', 'Net::HTTP::Spore::Core', 'class_metaroles', 'HASH(0x80207af30)') called at /usr/home/test/.cpan/build/Net-HTTP-Spore-0.04-CLiQoh/blib/lib/Net/HTTP/Spore/Meta.pm line 28
	Net::HTTP::Spore::Meta::init_meta('Net::HTTP::Spore::Meta', 'for_class', 'MooseX::Types::URI', 'metaclass', undef, 'meta_name', 'meta') called at /home/test/perl5/perlbrew/perls/perl-5.14.2/lib/site_perl/5.14.2/amd64-freebsd/Moose/Exporter.pm line 435
	Moose::Exporter::__ANON__('Net::HTTP::Spore::Meta') called at /usr/home/test/.cpan/build/Net-HTTP-Spore-0.04-CLiQoh/blib/lib/Net/HTTP/Spore/Core.pm line 6
	Net::HTTP::Spore::Core::BEGIN() called at /home/test/perl5/perlbrew/perls/perl-5.14.2/lib/site_perl/5.14.2/MooseX/Types/URI.pm line 0
	eval {...} called at /home/test/perl5/perlbrew/perls/perl-5.14.2/lib/site_perl/5.14.2/MooseX/Types/URI.pm line 0
	require Net/HTTP/Spore/Core.pm called at /usr/home/test/.cpan/build/Net-HTTP-Spore-0.04-CLiQoh/blib/lib/Net/HTTP/Spore.pm line 13
	Net::HTTP::Spore::BEGIN() called at /home/test/perl5/perlbrew/perls/perl-5.14.2/lib/site_perl/5.14.2/MooseX/Types/URI.pm line 0
	eval {...} called at /home/test/perl5/perlbrew/perls/perl-5.14.2/lib/site_perl/5.14.2/MooseX/Types/URI.pm line 0
	require Net/HTTP/Spore.pm called at /usr/home/test/.cpan/build/Net-HTTP-Spore-0.04-CLiQoh/blib/lib/Net/HTTP/Spore/Role.pm line 9
	Net::HTTP::Spore::Role::BEGIN() called at /home/test/perl5/perlbrew/perls/perl-5.14.2/lib/site_perl/5.14.2/MooseX/Types/URI.pm line 0
	eval {...} called at /home/test/perl5/perlbrew/perls/perl-5.14.2/lib/site_perl/5.14.2/MooseX/Types/URI.pm line 0
	require Net/HTTP/Spore/Role.pm called at /home/test/perl5/perlbrew/perls/perl-5.14.2/lib/site_perl/5.14.2/Module/Runtime.pm line 198
	Module::Runtime::require_module('Net::HTTP::Spore::Role') called at /home/test/perl5/perlbrew/perls/perl-5.14.2/lib/site_perl/5.14.2/Class/Load.pm line 199
	Class::Load::__ANON__() called at /home/test/perl5/perlbrew/perls/perl-5.14.2/lib/site_perl/5.14.2/Try/Tiny.pm line 71
	eval {...} called at /home/test/perl5/perlbrew/perls/perl-5.14.2/lib/site_perl/5.14.2/Try/Tiny.pm line 67
	Try::Tiny::try('CODE(0x80296e2e8)', 'Try::Tiny::Catch=REF(0x802960bd0)') called at /home/test/perl5/perlbrew/perls/perl-5.14.2/lib/site_perl/5.14.2/Class/Load.pm line 205
	Class::Load::try_load_class('Net::HTTP::Spore::Role', 'HASH(0x802851180)') called at /home/test/perl5/perlbrew/perls/perl-5.14.2/lib/site_perl/5.14.2/Class/Load.pm line 64
	Class::Load::load_class('Net::HTTP::Spore::Role', 'HASH(0x802851180)') called at /home/test/perl5/perlbrew/perls/perl-5.14.2/lib/site_perl/5.14.2/amd64-freebsd/Moose/Util.pm line 132
	Moose::Util::_apply_all_roles('Moose::Meta::Class=HASH(0x80283a3a8)', undef, 'Net::HTTP::Spore::Role', 'HASH(0x802851180)') called at /home/test/perl5/perlbrew/perls/perl-5.14.2/lib/site_perl/5.14.2/amd64-freebsd/Moose/Util.pm line 99
	Moose::Util::apply_all_roles('Moose::Meta::Class=HASH(0x80283a3a8)', 'Net::HTTP::Spore::Role', 'HASH(0x802851180)') called at /home/test/perl5/perlbrew/perls/perl-5.14.2/lib/site_perl/5.14.2/amd64-freebsd/Moose.pm line 67
	Moose::with('Moose::Meta::Class=HASH(0x80283a3a8)', 'Net::HTTP::Spore::Role', 'HASH(0x802851180)') called at /home/test/perl5/perlbrew/perls/perl-5.14.2/lib/site_perl/5.14.2/amd64-freebsd/Moose/Exporter.pm line 370
	Moose::with('Net::HTTP::Spore::Role', 'HASH(0x802851180)') called at t/spore-role/basic.t line 21
t/spore-role/basic.t ................. ok
Providing an optimized subroutine ref for type constraints is deprecated. Use the inlining feature (inline_as) instead. at /usr/home/test/.cpan/build/Net-HTTP-Spore-0.04-CLiQoh/blib/lib/Net/HTTP/Spore/Meta/Method.pm line 13
	Net::HTTP::Spore::Meta::Method::BEGIN() called at /home/test/perl5/perlbrew/perls/perl-5.14.2/lib/site_perl/5.14.2/MooseX/Types/URI.pm line 0
	eval {...} called at /home/test/perl5/perlbrew/perls/perl-5.14.2/lib/site_perl/5.14.2/MooseX/Types/URI.pm line 0
	require Net/HTTP/Spore/Meta/Method.pm called at /usr/home/test/.cpan/build/Net-HTTP-Spore-0.04-CLiQoh/blib/lib/Net/HTTP/Spore/Meta/Method/Spore.pm line 11
	Net::HTTP::Spore::Meta::Method::Spore::BEGIN() called at /home/test/perl5/perlbrew/perls/perl-5.14.2/lib/site_perl/5.14.2/MooseX/Types/URI.pm line 0
	eval {...} called at /home/test/perl5/perlbrew/perls/perl-5.14.2/lib/site_perl/5.14.2/MooseX/Types/URI.pm line 0
	require Net/HTTP/Spore/Meta/Method/Spore.pm called at /home/test/perl5/perlbrew/perls/perl-5.14.2/lib/site_perl/5.14.2/Module/Runtime.pm line 198
	Module::Runtime::require_module('Net::HTTP::Spore::Meta::Method::Spore') called at /home/test/perl5/perlbrew/perls/perl-5.14.2/lib/site_perl/5.14.2/Class/Load.pm line 199
	Class::Load::__ANON__() called at /home/test/perl5/perlbrew/perls/perl-5.14.2/lib/site_perl/5.14.2/Try/Tiny.pm line 71
	eval {...} called at /home/test/perl5/perlbrew/perls/perl-5.14.2/lib/site_perl/5.14.2/Try/Tiny.pm line 67
	Try::Tiny::try('CODE(0x802a79d38)', 'Try::Tiny::Catch=REF(0x802a6f078)') called at /home/test/perl5/perlbrew/perls/perl-5.14.2/lib/site_perl/5.14.2/Class/Load.pm line 205
	Class::Load::try_load_class('Net::HTTP::Spore::Meta::Method::Spore', undef) called at /home/test/perl5/perlbrew/perls/perl-5.14.2/lib/site_perl/5.14.2/Class/Load.pm line 64
	Class::Load::load_class('Net::HTTP::Spore::Meta::Method::Spore', undef) called at /home/test/perl5/perlbrew/perls/perl-5.14.2/lib/site_perl/5.14.2/amd64-freebsd/Moose/Util.pm line 132
	Moose::Util::_apply_all_roles('Moose::Meta::Role=HASH(0x802a795a0)', undef, 'Net::HTTP::Spore::Meta::Method::Spore') called at /home/test/perl5/perlbrew/perls/perl-5.14.2/lib/site_perl/5.14.2/amd64-freebsd/Moose/Util.pm line 99
	Moose::Util::apply_all_roles('Moose::Meta::Role=HASH(0x802a795a0)', 'Net::HTTP::Spore::Meta::Method::Spore') called at /home/test/perl5/perlbrew/perls/perl-5.14.2/lib/site_perl/5.14.2/amd64-freebsd/Moose/Role.pm line 29
	Moose::Role::with('Moose::Meta::Role=HASH(0x802a795a0)', 'Net::HTTP::Spore::Meta::Method::Spore') called at /home/test/perl5/perlbrew/perls/perl-5.14.2/lib/site_perl/5.14.2/amd64-freebsd/Moose/Exporter.pm line 370
	Moose::Role::with('Net::HTTP::Spore::Meta::Method::Spore') called at /usr/home/test/.cpan/build/Net-HTTP-Spore-0.04-CLiQoh/blib/lib/Net/HTTP/Spore/Meta/Class.pm line 10
	require Net/HTTP/Spore/Meta/Class.pm called at /home/test/perl5/perlbrew/perls/perl-5.14.2/lib/site_perl/5.14.2/Module/Runtime.pm line 198
	Module::Runtime::require_module('Net::HTTP::Spore::Meta::Class') called at /home/test/perl5/perlbrew/perls/perl-5.14.2/lib/site_perl/5.14.2/Class/Load.pm line 199
	Class::Load::__ANON__() called at /home/test/perl5/perlbrew/perls/perl-5.14.2/lib/site_perl/5.14.2/Try/Tiny.pm line 71
	eval {...} called at /home/test/perl5/perlbrew/perls/perl-5.14.2/lib/site_perl/5.14.2/Try/Tiny.pm line 67
	Try::Tiny::try('CODE(0x802a6a4f8)', 'Try::Tiny::Catch=REF(0x802a46120)') called at /home/test/perl5/perlbrew/perls/perl-5.14.2/lib/site_perl/5.14.2/Class/Load.pm line 205
	Class::Load::try_load_class('Net::HTTP::Spore::Meta::Class', undef) called at /home/test/perl5/perlbrew/perls/perl-5.14.2/lib/site_perl/5.14.2/Class/Load.pm line 64
	Class::Load::load_class('Net::HTTP::Spore::Meta::Class', undef) called at /home/test/perl5/perlbrew/perls/perl-5.14.2/lib/site_perl/5.14.2/amd64-freebsd/Moose/Util.pm line 132
	Moose::Util::_apply_all_roles('Moose::Meta::Class=HASH(0x802a6aa08)', undef, 'Net::HTTP::Spore::Meta::Class') called at /home/test/perl5/perlbrew/perls/perl-5.14.2/lib/site_perl/5.14.2/amd64-freebsd/Moose/Util.pm line 99
	Moose::Util::apply_all_roles('Moose::Meta::Class=HASH(0x802a6aa08)', 'Net::HTTP::Spore::Meta::Class') called at /home/test/perl5/perlbrew/perls/perl-5.14.2/lib/site_perl/5.14.2/amd64-freebsd/Moose/Meta/Class.pm line 104
	Moose::Meta::Class::create('Moose::Meta::Class', 'Moose::Meta::Class::__ANON__::SERIAL::1', 'roles', 'ARRAY(0x8011791c8)', 'weaken', '', 'superclasses', 'ARRAY(0x802a6a540)') called at /home/test/perl5/perlbrew/perls/perl-5.14.2/lib/site_perl/5.14.2/amd64-freebsd/Class/MOP/Package.pm line 120
	Class::MOP::Package::create_anon('Moose::Meta::Class', 'superclasses', 'ARRAY(0x802a6a540)', 'roles', 'ARRAY(0x8011791c8)', 'cache', 1) called at /home/test/perl5/perlbrew/perls/perl-5.14.2/lib/site_perl/5.14.2/amd64-freebsd/Class/MOP/Class.pm line 474
	Class::MOP::Class::create_anon_class('Moose::Meta::Class', 'superclasses', 'ARRAY(0x802a6a540)', 'roles', 'ARRAY(0x8011791c8)', 'cache', 1) called at /home/test/perl5/perlbrew/perls/perl-5.14.2/lib/site_perl/5.14.2/amd64-freebsd/Moose/Util/MetaRole.pm line 134
	Moose::Util::MetaRole::_make_new_class('Moose::Meta::Class', 'ARRAY(0x8011791c8)') called at /home/test/perl5/perlbrew/perls/perl-5.14.2/lib/site_perl/5.14.2/amd64-freebsd/Moose/Util/MetaRole.pm line 79
	Moose::Util::MetaRole::_make_new_metaclass('Moose::Meta::Class=HASH(0x802a60b70)', 'HASH(0x802a54f90)', 'class') called at /home/test/perl5/perlbrew/perls/perl-5.14.2/lib/site_perl/5.14.2/amd64-freebsd/Moose/Util/MetaRole.pm line 28
	Moose::Util::MetaRole::apply_metaroles('for', 'Net::HTTP::Spore::Core', 'class_metaroles', 'HASH(0x802a54f90)') called at /usr/home/test/.cpan/build/Net-HTTP-Spore-0.04-CLiQoh/blib/lib/Net/HTTP/Spore/Meta.pm line 28
	Net::HTTP::Spore::Meta::init_meta('Net::HTTP::Spore::Meta', 'for_class', 'MooseX::Types::URI', 'metaclass', undef, 'meta_name', 'meta') called at /home/test/perl5/perlbrew/perls/perl-5.14.2/lib/site_perl/5.14.2/amd64-freebsd/Moose/Exporter.pm line 435
	Moose::Exporter::__ANON__('Net::HTTP::Spore::Meta') called at /usr/home/test/.cpan/build/Net-HTTP-Spore-0.04-CLiQoh/blib/lib/Net/HTTP/Spore/Core.pm line 6
	Net::HTTP::Spore::Core::BEGIN() called at /home/test/perl5/perlbrew/perls/perl-5.14.2/lib/site_perl/5.14.2/MooseX/Types/URI.pm line 0
	eval {...} called at /home/test/perl5/perlbrew/perls/perl-5.14.2/lib/site_perl/5.14.2/MooseX/Types/URI.pm line 0
	require Net/HTTP/Spore/Core.pm called at /usr/home/test/.cpan/build/Net-HTTP-Spore-0.04-CLiQoh/blib/lib/Net/HTTP/Spore.pm line 13
	Net::HTTP::Spore::BEGIN() called at /home/test/perl5/perlbrew/perls/perl-5.14.2/lib/site_perl/5.14.2/MooseX/Types/URI.pm line 0
	eval {...} called at /home/test/perl5/perlbrew/perls/perl-5.14.2/lib/site_perl/5.14.2/MooseX/Types/URI.pm line 0
	require Net/HTTP/Spore.pm called at t/spore/01_new_from_string.t line 10
	main::BEGIN() called at /home/test/perl5/perlbrew/perls/perl-5.14.2/lib/site_perl/5.14.2/MooseX/Types/URI.pm line 0
	eval {...} called at /home/test/perl5/perlbrew/perls/perl-5.14.2/lib/site_perl/5.14.2/MooseX/Types/URI.pm line 0
t/spore/01_new_from_string.t ......... ok
Providing an optimized subroutine ref for type constraints is deprecated. Use the inlining feature (inline_as) instead. at /usr/home/test/.cpan/build/Net-HTTP-Spore-0.04-CLiQoh/blib/lib/Net/HTTP/Spore/Meta/Method.pm line 13
	Net::HTTP::Spore::Meta::Method::BEGIN() called at /home/test/perl5/perlbrew/perls/perl-5.14.2/lib/site_perl/5.14.2/MooseX/Types/URI.pm line 0
	eval {...} called at /home/test/perl5/perlbrew/perls/perl-5.14.2/lib/site_perl/5.14.2/MooseX/Types/URI.pm line 0
	require Net/HTTP/Spore/Meta/Method.pm called at /usr/home/test/.cpan/build/Net-HTTP-Spore-0.04-CLiQoh/blib/lib/Net/HTTP/Spore/Meta/Method/Spore.pm line 11
	Net::HTTP::Spore::Meta::Method::Spore::BEGIN() called at /home/test/perl5/perlbrew/perls/perl-5.14.2/lib/site_perl/5.14.2/MooseX/Types/URI.pm line 0
	eval {...} called at /home/test/perl5/perlbrew/perls/perl-5.14.2/lib/site_perl/5.14.2/MooseX/Types/URI.pm line 0
	require Net/HTTP/Spore/Meta/Method/Spore.pm called at /home/test/perl5/perlbrew/perls/perl-5.14.2/lib/site_perl/5.14.2/Module/Runtime.pm line 198
	Module::Runtime::require_module('Net::HTTP::Spore::Meta::Method::Spore') called at /home/test/perl5/perlbrew/perls/perl-5.14.2/lib/site_perl/5.14.2/Class/Load.pm line 199
	Class::Load::__ANON__() called at /home/test/perl5/perlbrew/perls/perl-5.14.2/lib/site_perl/5.14.2/Try/Tiny.pm line 71
	eval {...} called at /home/test/perl5/perlbrew/perls/perl-5.14.2/lib/site_perl/5.14.2/Try/Tiny.pm line 67
	Try::Tiny::try('CODE(0x802879690)', 'Try::Tiny::Catch=REF(0x802818930)') called at /home/test/perl5/perlbrew/perls/perl-5.14.2/lib/site_perl/5.14.2/Class/Load.pm line 205
	Class::Load::try_load_class('Net::HTTP::Spore::Meta::Method::Spore', undef) called at /home/test/perl5/perlbrew/perls/perl-5.14.2/lib/site_perl/5.14.2/Class/Load.pm line 64
	Class::Load::load_class('Net::HTTP::Spore::Meta::Method::Spore', undef) called at /home/test/perl5/perlbrew/perls/perl-5.14.2/lib/site_perl/5.14.2/amd64-freebsd/Moose/Util.pm line 132
	Moose::Util::_apply_all_roles('Moose::Meta::Role=HASH(0x802888ed0)', undef, 'Net::HTTP::Spore::Meta::Method::Spore') called at /home/test/perl5/perlbrew/perls/perl-5.14.2/lib/site_perl/5.14.2/amd64-freebsd/Moose/Util.pm line 99
	Moose::Util::apply_all_roles('Moose::Meta::Role=HASH(0x802888ed0)', 'Net::HTTP::Spore::Meta::Method::Spore') called at /home/test/perl5/perlbrew/perls/perl-5.14.2/lib/site_perl/5.14.2/amd64-freebsd/Moose/Role.pm line 29
	Moose::Role::with('Moose::Meta::Role=HASH(0x802888ed0)', 'Net::HTTP::Spore::Meta::Method::Spore') called at /home/test/perl5/perlbrew/perls/perl-5.14.2/lib/site_perl/5.14.2/amd64-freebsd/Moose/Exporter.pm line 370
	Moose::Role::with('Net::HTTP::Spore::Meta::Method::Spore') called at /usr/home/test/.cpan/build/Net-HTTP-Spore-0.04-CLiQoh/blib/lib/Net/HTTP/Spore/Meta/Class.pm line 10
	require Net/HTTP/Spore/Meta/Class.pm called at /home/test/perl5/perlbrew/perls/perl-5.14.2/lib/site_perl/5.14.2/Module/Runtime.pm line 198
	Module::Runtime::require_module('Net::HTTP::Spore::Meta::Class') called at /home/test/perl5/perlbrew/perls/perl-5.14.2/lib/site_perl/5.14.2/Class/Load.pm line 199
	Class::Load::__ANON__() called at /home/test/perl5/perlbrew/perls/perl-5.14.2/lib/site_perl/5.14.2/Try/Tiny.pm line 71
	eval {...} called at /home/test/perl5/perlbrew/perls/perl-5.14.2/lib/site_perl/5.14.2/Try/Tiny.pm line 67
	Try::Tiny::try('CODE(0x802816db0)', 'Try::Tiny::Catch=REF(0x8027ca078)') called at /home/test/perl5/perlbrew/perls/perl-5.14.2/lib/site_perl/5.14.2/Class/Load.pm line 205
	Class::Load::try_load_class('Net::HTTP::Spore::Meta::Class', undef) called at /home/test/perl5/perlbrew/perls/perl-5.14.2/lib/site_perl/5.14.2/Class/Load.pm line 64
	Class::Load::load_class('Net::HTTP::Spore::Meta::Class', undef) called at /home/test/perl5/perlbrew/perls/perl-5.14.2/lib/site_perl/5.14.2/amd64-freebsd/Moose/Util.pm line 132
	Moose::Util::_apply_all_roles('Moose::Meta::Class=HASH(0x8028182e8)', undef, 'Net::HTTP::Spore::Meta::Class') called at /home/test/perl5/perlbrew/perls/perl-5.14.2/lib/site_perl/5.14.2/amd64-freebsd/Moose/Util.pm line 99
	Moose::Util::apply_all_roles('Moose::Meta::Class=HASH(0x8028182e8)', 'Net::HTTP::Spore::Meta::Class') called at /home/test/perl5/perlbrew/perls/perl-5.14.2/lib/site_perl/5.14.2/amd64-freebsd/Moose/Meta/Class.pm line 104
	Moose::Meta::Class::create('Moose::Meta::Class', 'Moose::Meta::Class::__ANON__::SERIAL::1', 'roles', 'ARRAY(0x8010fe4f8)', 'weaken', '', 'superclasses', 'ARRAY(0x802816df8)') called at /home/test/perl5/perlbrew/perls/perl-5.14.2/lib/site_perl/5.14.2/amd64-freebsd/Class/MOP/Package.pm line 120
	Class::MOP::Package::create_anon('Moose::Meta::Class', 'superclasses', 'ARRAY(0x802816df8)', 'roles', 'ARRAY(0x8010fe4f8)', 'cache', 1) called at /home/test/perl5/perlbrew/perls/perl-5.14.2/lib/site_perl/5.14.2/amd64-freebsd/Class/MOP/Class.pm line 474
	Class::MOP::Class::create_anon_class('Moose::Meta::Class', 'superclasses', 'ARRAY(0x802816df8)', 'roles', 'ARRAY(0x8010fe4f8)', 'cache', 1) called at /home/test/perl5/perlbrew/perls/perl-5.14.2/lib/site_perl/5.14.2/amd64-freebsd/Moose/Util/MetaRole.pm line 134
	Moose::Util::MetaRole::_make_new_class('Moose::Meta::Class', 'ARRAY(0x8010fe4f8)') called at /home/test/perl5/perlbrew/perls/perl-5.14.2/lib/site_perl/5.14.2/amd64-freebsd/Moose/Util/MetaRole.pm line 79
	Moose::Util::MetaRole::_make_new_metaclass('Moose::Meta::Class=HASH(0x802816450)', 'HASH(0x802814678)', 'class') called at /home/test/perl5/perlbrew/perls/perl-5.14.2/lib/site_perl/5.14.2/amd64-freebsd/Moose/Util/MetaRole.pm line 28
	Moose::Util::MetaRole::apply_metaroles('for', 'Net::HTTP::Spore::Core', 'class_metaroles', 'HASH(0x802814678)') called at /usr/home/test/.cpan/build/Net-HTTP-Spore-0.04-CLiQoh/blib/lib/Net/HTTP/Spore/Meta.pm line 28
	Net::HTTP::Spore::Meta::init_meta('Net::HTTP::Spore::Meta', 'for_class', 'MooseX::Types::URI', 'metaclass', undef, 'meta_name', 'meta') called at /home/test/perl5/perlbrew/perls/perl-5.14.2/lib/site_perl/5.14.2/amd64-freebsd/Moose/Exporter.pm line 435
	Moose::Exporter::__ANON__('Net::HTTP::Spore::Meta') called at /usr/home/test/.cpan/build/Net-HTTP-Spore-0.04-CLiQoh/blib/lib/Net/HTTP/Spore/Core.pm line 6
	Net::HTTP::Spore::Core::BEGIN() called at /home/test/perl5/perlbrew/perls/perl-5.14.2/lib/site_perl/5.14.2/MooseX/Types/URI.pm line 0
	eval {...} called at /home/test/perl5/perlbrew/perls/perl-5.14.2/lib/site_perl/5.14.2/MooseX/Types/URI.pm line 0
	require Net/HTTP/Spore/Core.pm called at /usr/home/test/.cpan/build/Net-HTTP-Spore-0.04-CLiQoh/blib/lib/Net/HTTP/Spore.pm line 13
	Net::HTTP::Spore::BEGIN() called at /home/test/perl5/perlbrew/perls/perl-5.14.2/lib/site_perl/5.14.2/MooseX/Types/URI.pm line 0
	eval {...} called at /home/test/perl5/perlbrew/perls/perl-5.14.2/lib/site_perl/5.14.2/MooseX/Types/URI.pm line 0
	require Net/HTTP/Spore.pm called at t/spore/02_enable.t line 9
	main::BEGIN() called at /home/test/perl5/perlbrew/perls/perl-5.14.2/lib/site_perl/5.14.2/MooseX/Types/URI.pm line 0
	eval {...} called at /home/test/perl5/perlbrew/perls/perl-5.14.2/lib/site_perl/5.14.2/MooseX/Types/URI.pm line 0
t/spore/02_enable.t .................. ok
All tests successful.
Files=36, Tests=173, 29 wallclock secs ( 0.27 usr  0.80 sys + 13.83 cusr  2.73 csys = 17.62 CPU)
Result: PASS

------------------------------
PREREQUISITES
------------------------------

Prerequisite modules loaded:

requires:

    Module                       Need Have   
    ---------------------------- ---- -------
    Carp                         0    1.23   
    Digest::SHA                  0    5.62   
    HTTP::Headers                0    6.00   
    HTTP::Request                0    6.00   
    IO::All                      0    0.44   
    IO::File                     0    1.15   
    JSON                         0    2.53   
    LWP::UserAgent               0    6.02   
    MIME::Base64                 0    3.13   
    Moose                        0    2.0300 
    Moose::Exporter              0    2.0300 
  ! Moose::Meta::Method          0    broken 
    Moose::Role                  0    2.0300 
    Moose::Util::MetaRole        0    2.0300 
  ! Moose::Util::TypeConstraints 0    broken 
  ! MooseX::Role::Parameterized  0    broken 
    MooseX::Types::Moose         0    0.30   
  ! MooseX::Types::URI           0    broken 
    overload                     0    1.13   
    Scalar::Util                 0    1.23   
    Time::HiRes                  0    1.9724 
    Try::Tiny                    0    0.11   
    URI                          0    1.59   
    URI::Escape                  0    3.31   
    XML::Simple                  0    2.18   
    YAML                         0    0.77   

build_requires:

    Module                       Need Have   
    ---------------------------- ---- -------
    File::Temp                   0    0.22   
    Test::Exception              0    0.31   
    Test::More                   0    0.98   

configure_requires:

    Module                       Need Have   
    ---------------------------- ---- -------
    ExtUtils::MakeMaker          6.30 6.61_01


------------------------------
ENVIRONMENT AND OTHER CONTEXT
------------------------------

Environment variables:

    AUTOMATED_TESTING = 1
    LANG = C
    LC_ALL = C
    PATH = /home/test/perl5/perlbrew/bin:/home/test/perl5/perlbrew/perls/perl-5.14.2/bin:~/bin:/sbin:/bin:/usr/sbin:/usr/bin:/usr/games:/usr/local/sbin:/usr/local/bin:/home/test/bin
    PATH_WITHOUT_PERLBREW = ~/bin:/sbin:/bin:/usr/sbin:/usr/bin:/usr/games:/usr/local/sbin:/usr/local/bin:/home/test/bin
    PERL5LIB = 
    PERL5OPT = 
    PERL5_CPANPLUS_IS_RUNNING = 23257
    PERL5_CPAN_IS_RUNNING = 23257
    PERL5_CPAN_IS_RUNNING_IN_RECURSION = 1043,23257
    PERLBREW_HOME = /home/test/.perlbrew
    PERLBREW_PATH = /home/test/perl5/perlbrew/bin:/home/test/perl5/perlbrew/perls/perl-5.14.2/bin
    PERLBREW_PERL = perl-5.14.2
    PERLBREW_ROOT = /home/test/perl5/perlbrew
    PERLBREW_VERSION = 0.29
    PERL_CPANM_OPT = --prompt --mirror http://172.16.1.3/cpan/
    PERL_CR_SMOKER_CURRENT = JIRA-Client-REST-0.04
    PERL_EXTUTILS_AUTOINSTALL = --defaultdeps
    PERL_MM_USE_DEFAULT = 1
    SHELL = /usr/local/bin/bash
    TERM = linux

Perl special variables (and OS-specific diagnostics, for MSWin32):

    $^X = /home/test/perl5/perlbrew/perls/perl-5.14.2/bin/perl
    $UID/$EUID = 1002 / 1002
    $GID = 1002 1002
    $EGID = 1002 1002

Perl module toolchain versions installed:

    Module              Have    
    ------------------- --------
    CPAN                1.9800  
    CPAN::Meta          2.112621
    Cwd                 3.36    
    ExtUtils::CBuilder  0.280203
    ExtUtils::Command   1.17    
    ExtUtils::Install   1.56    
    ExtUtils::MakeMaker 6.61_01 
    ExtUtils::Manifest  1.60    
    ExtUtils::ParseXS   3.05    
    File::Spec          3.33    
    JSON                2.53    
    JSON::PP            2.27200 
    Module::Build       0.3800  
    Module::Signature   n/a     
    Parse::CPAN::Meta   1.4401  
    Test::Harness       3.23    
    Test::More          0.98    
    YAML                0.77    
    YAML::Syck          1.17    
    version             0.94    


--

Summary of my perl5 (revision 5 version 14 subversion 2) configuration:
   
  Platform:
    osname=freebsd, osvers=8.1-release, archname=amd64-freebsd
    uname='freebsd fbsd.local 8.1-release freebsd 8.1-release #0: mon jul 19 02:36:49 utc 2010 root@mason.cse.buffalo.edu:usrobjusrsrcsysgeneric amd64 '
    config_args='-de -Dprefix=/home/test/perl5/perlbrew/perls/perl-5.14.2'
    hint=recommended, useposix=true, d_sigaction=define
    useithreads=undef, usemultiplicity=undef
    useperlio=define, d_sfio=undef, uselargefiles=define, usesocks=undef
    use64bitint=define, use64bitall=define, uselongdouble=undef
    usemymalloc=n, bincompat5005=undef
  Compiler:
    cc='cc', ccflags ='-DHAS_FPSETMASK -DHAS_FLOATINGPOINT_H -fno-strict-aliasing -pipe -fstack-protector -I/usr/local/include',
    optimize='-O',
    cppflags='-DHAS_FPSETMASK -DHAS_FLOATINGPOINT_H -fno-strict-aliasing -pipe -fstack-protector -I/usr/local/include'
    ccversion='', gccversion='4.2.1 20070719  [FreeBSD]', gccosandvers=''
    intsize=4, longsize=8, ptrsize=8, doublesize=8, byteorder=12345678
    d_longlong=define, longlongsize=8, d_longdbl=define, longdblsize=16
    ivtype='long', ivsize=8, nvtype='double', nvsize=8, Off_t='off_t', lseeksize=8
    alignbytes=8, prototype=define
  Linker and Libraries:
    ld='cc', ldflags ='-Wl,-E  -fstack-protector -L/usr/local/lib'
    libpth=/usr/lib /usr/local/lib
    libs=-lm -lcrypt -lutil -lc
    perllibs=-lm -lcrypt -lutil -lc
    libc=, so=so, useshrplib=false, libperl=libperl.a
    gnulibc_version=''
  Dynamic Linking:
    dlsrc=dl_dlopen.xs, dlext=so, d_dlsymun=undef, ccdlflags=' '
    cccdlflags='-DPIC -fPIC', lddlflags='-shared  -L/usr/local/lib -fstack-protector'


Characteristics of this binary (from libperl): 
  Compile-time options: PERL_DONT_CREATE_GVSV PERL_MALLOC_WRAP
                        PERL_PRESERVE_IVUV USE_64_BIT_ALL USE_64_BIT_INT
                        USE_LARGE_FILES USE_PERLIO USE_PERL_ATOF
  Built under freebsd
  Compiled at Oct  7 2011 21:23:03
  %ENV:
    PERL5LIB=""
    PERL5OPT=""
    PERL5_CPANPLUS_IS_RUNNING="23257"
    PERL5_CPAN_IS_RUNNING="23257"
    PERL5_CPAN_IS_RUNNING_IN_RECURSION="1043,23257"
    PERLBREW_HOME="/home/test/.perlbrew"
    PERLBREW_PATH="/home/test/perl5/perlbrew/bin:/home/test/perl5/perlbrew/perls/perl-5.14.2/bin"
    PERLBREW_PERL="perl-5.14.2"
    PERLBREW_ROOT="/home/test/perl5/perlbrew"
    PERLBREW_VERSION="0.29"
    PERL_CPANM_OPT="--prompt --mirror http://172.16.1.3/cpan/"
    PERL_CR_SMOKER_CURRENT="JIRA-Client-REST-0.04"
    PERL_EXTUTILS_AUTOINSTALL="--defaultdeps"
    PERL_MM_USE_DEFAULT="1"
  @INC:
    /home/test/perl5/perlbrew/perls/perl-5.14.2/lib/site_perl/5.14.2/amd64-freebsd
    /home/test/perl5/perlbrew/perls/perl-5.14.2/lib/site_perl/5.14.2
    /home/test/perl5/perlbrew/perls/perl-5.14.2/lib/5.14.2/amd64-freebsd
    /home/test/perl5/perlbrew/perls/perl-5.14.2/lib/5.14.2
    .