Report for Net-HTTP-Spore-0.04

Back
From: metabase:user:320bfe00-2aae-11df-837a-5e0a49663a4f
Subject: PASS Net-HTTP-Spore-0.04 v5.15.0 GNU/Linux
Date: 2011-07-26T11:27:10Z

This distribution has been tested as part of the CPAN Testers
project, supporting the Perl programming language.  See
http://wiki.cpantesters.org/ for more information or email
questions to cpan-testers-discuss@perl.org


--
Dear Franck Cuny,

This is a computer-generated report for Net-HTTP-Spore-0.04
on perl 5.15.0, created by CPAN-Reporter-1.19_04.

Thank you for uploading your work to CPAN.  Congratulations!
All tests were successful.

Sections of this report:

    * Tester comments
    * Program output
    * Prerequisites
    * Environment and other context

------------------------------
TESTER COMMENTS
------------------------------

Additional comments from tester:

this report is from an automated smoke testing program
and was not reviewed by a human for accuracy

------------------------------
PROGRAM OUTPUT
------------------------------

Output from '/usr/bin/make test':

PERL_DL_NONLAZY=1 /home/sand/src/perl/repoperls/installed-perls/perl/v5.15.0-77-g6bb18b5/1df5/bin/perl "-MExtUtils::Command::MM" "-e" "test_harness(0, 'blib/lib', 'blib/arch')" t/*.t t/spore-method/*.t t/spore-middleware/*.t t/spore-request/*.t t/spore-response/*.t t/spore-role/*.t t/spore/*.t
t/release-eol.t ...................... skipped: these tests are for release candidate testing
t/release-no-tabs.t .................. skipped: these tests are for release candidate testing
t/release-pod-coverage.t ............. skipped: these tests are for release candidate testing
t/release-pod-syntax.t ............... skipped: these tests are for release candidate testing
t/spore-method/base.t ................ ok
t/spore-method/payload.t ............. ok
t/spore-middleware/auth-basic.t ...... ok
t/spore-middleware/auth-header.t ..... ok
t/spore-middleware/auth-oauth.t ...... ok
t/spore-middleware/format-auto.t ..... ok
t/spore-middleware/format-json.t ..... ok
t/spore-middleware/format-xml.t ...... ok
t/spore-middleware/format-yaml.t ..... ok
t/spore-middleware/ns.t .............. ok
t/spore-middleware/redirection.t ..... ok
t/spore-middleware/runtime.t ......... ok
t/spore-middleware/useragent.t ....... ok
t/spore-middleware/x-do-not-track.t .. ok
t/spore-request/base.t ............... ok
t/spore-request/exception.t .......... ok
t/spore-request/finalize.t ........... ok
t/spore-request/form_data.t .......... ok
t/spore-request/headers.t ............ ok
t/spore-request/new.t ................ ok
t/spore-request/request_uri.t ........ ok
t/spore-request/script_name.t ........ ok
t/spore-request/uri.t ................ ok
t/spore-response/body.t .............. ok
t/spore-response/debug.t ............. ok
t/spore-response/headers.t ........... ok
t/spore-response/new.t ............... ok
t/spore-response/response.t .......... ok
t/spore-response/timeout.t ........... ok
t/spore-role/basic.t ................. ok
t/spore/01_new_from_string.t ......... ok
t/spore/02_enable.t .................. ok
All tests successful.
Files=36, Tests=173, 27 wallclock secs ( 0.13 usr  0.04 sys + 16.73 cusr  1.06 csys = 17.96 CPU)
Result: PASS

------------------------------
PREREQUISITES
------------------------------

Prerequisite modules loaded:

requires:

    Module                       Need Have  
    ---------------------------- ---- ------
    Carp                         0    1.20  
    Digest::SHA                  0    5.62  
    HTTP::Headers                0    6.00  
    HTTP::Request                0    6.00  
    IO::All                      0    0.43  
    IO::File                     0    1.15  
    JSON                         0    2.53  
    LWP::UserAgent               0    6.02  
    MIME::Base64                 0    3.13  
    Moose                        0    2.0202
    Moose::Exporter              0    2.0202
  ! Moose::Meta::Method          0    broken
    Moose::Role                  0    2.0202
    Moose::Util::MetaRole        0    2.0202
  ! Moose::Util::TypeConstraints 0    broken
  ! MooseX::Role::Parameterized  0    broken
    MooseX::Types::Moose         0    0.27  
  ! MooseX::Types::URI           0    broken
    overload                     0    1.14  
    Scalar::Util                 0    1.23  
    Time::HiRes                  0    1.9724
    Try::Tiny                    0    0.09  
    URI                          0    1.58  
    URI::Escape                  0    3.30  
    XML::Simple                  0    2.18  
    YAML                         0    0.73  

build_requires:

    Module                       Need Have  
    ---------------------------- ---- ------
    File::Temp                   0    0.22  
    Test::Exception              0    0.31  
    Test::More                   0    0.98  

configure_requires:

    Module                       Need Have  
    ---------------------------- ---- ------
    ExtUtils::MakeMaker          6.30 6.58  


------------------------------
ENVIRONMENT AND OTHER CONTEXT
------------------------------

Environment variables:

    AUTOMATED_TESTING = 1
    LANG = en_US.UTF-8
    LANGUAGE = en_US:en
    PATH = /usr/lib/ccache:/home/sand/bin:/usr/local/bin:/usr/bin:/bin:/usr/bin/X11:/usr/games:/usr/local/perl/bin:/usr/X11/bin:/sbin:/usr/sbin
    PERL5LIB = 
    PERL5OPT = 
    PERL5_CPANPLUS_IS_RUNNING = 4641
    PERL5_CPAN_IS_RUNNING = 4641
    PERL_MM_USE_DEFAULT = 1
    SHELL = /usr/bin/zsh
    TERM = screen

Perl special variables (and OS-specific diagnostics, for MSWin32):

    $^X = /home/sand/src/perl/repoperls/installed-perls/perl/v5.15.0-77-g6bb18b5/1df5/bin/perl
    $UID/$EUID = 1001 / 1001
    $GID = 1001 1001
    $EGID = 1001 1001

Perl module toolchain versions installed:

    Module              Have       
    ------------------- -----------
    CPAN                1.97_51    
    CPAN::Meta          2.110930001
    Cwd                 3.37       
    ExtUtils::CBuilder  0.280204   
    ExtUtils::Command   1.17       
    ExtUtils::Install   1.56       
    ExtUtils::MakeMaker 6.58       
    ExtUtils::Manifest  1.58       
    ExtUtils::ParseXS   3.00_03    
    File::Spec          3.33       
    JSON                2.53       
    JSON::PP            2.27200    
    Module::Build       0.39_01    
    Module::Signature   0.68       
    Parse::CPAN::Meta   1.4401     
    Test::Harness       3.23       
    Test::More          0.98       
    YAML                0.73       
    YAML::Syck          n/a        
    version             0.88       


--

Summary of my perl5 (revision 5 version 15 subversion 0) configuration:
  Commit id: 6bb18b54070eef37fdc718ad193cd88a1569f0cd
  Platform:
    osname=linux, osvers=2.6.39-1-amd64, archname=x86_64-linux
    uname='linux k81 2.6.39-1-amd64 #1 smp tue may 24 14:34:19 utc 2011 x86_64 gnulinux '
    config_args='-Dprefix=/home/src/perl/repoperls/installed-perls/perl/v5.15.0-77-g6bb18b5/1df5 -Dinstallusrbinperl=n -Uversiononly -Dusedevel -des -Ui_db -Uuseithreads -Uuselongdouble -DDEBUGGING=-g'
    hint=recommended, useposix=true, d_sigaction=define
    useithreads=undef, usemultiplicity=undef
    useperlio=define, d_sfio=undef, uselargefiles=define, usesocks=undef
    use64bitint=define, use64bitall=define, uselongdouble=undef
    usemymalloc=n, bincompat5005=undef
  Compiler:
    cc='cc', ccflags ='-fno-strict-aliasing -pipe -fstack-protector -I/usr/local/include -D_LARGEFILE_SOURCE -D_FILE_OFFSET_BITS=64',
    optimize='-O2 -g',
    cppflags='-fno-strict-aliasing -pipe -fstack-protector -I/usr/local/include'
    ccversion='', gccversion='4.6.1 20110616 (prerelease)', gccosandvers=''
    intsize=4, longsize=8, ptrsize=8, doublesize=8, byteorder=12345678
    d_longlong=define, longlongsize=8, d_longdbl=define, longdblsize=16
    ivtype='long', ivsize=8, nvtype='double', nvsize=8, Off_t='off_t', lseeksize=8
    alignbytes=8, prototype=define
  Linker and Libraries:
    ld='cc', ldflags =' -fstack-protector -L/usr/local/lib'
    libpth=/usr/local/lib /lib /usr/lib /usr/lib/x86_64-linux-gnu /lib64 /usr/lib64
    libs=-lnsl -ldb -ldl -lm -lcrypt -lutil -lc
    perllibs=-lnsl -ldl -lm -lcrypt -lutil -lc
    libc=, so=so, useshrplib=false, libperl=libperl.a
    gnulibc_version='2.13'
  Dynamic Linking:
    dlsrc=dl_dlopen.xs, dlext=so, d_dlsymun=undef, ccdlflags='-Wl,-E'
    cccdlflags='-fPIC', lddlflags='-shared -O2 -g -L/usr/local/lib -fstack-protector'


Characteristics of this binary (from libperl): 
  Compile-time options: PERL_DONT_CREATE_GVSV PERL_MALLOC_WRAP
                        PERL_PRESERVE_IVUV PERL_USE_DEVEL USE_64_BIT_ALL
                        USE_64_BIT_INT USE_LARGE_FILES USE_LOCALE
                        USE_LOCALE_COLLATE USE_LOCALE_CTYPE
                        USE_LOCALE_NUMERIC USE_PERLIO USE_PERL_ATOF
  Built under linux
  Compiled at Jun 23 2011 09:04:19
  %ENV:
    PERL5LIB=""
    PERL5OPT=""
    PERL5_CPANPLUS_IS_RUNNING="4641"
    PERL5_CPAN_IS_RUNNING="4641"
    PERL_MM_USE_DEFAULT="1"
  @INC:
    /home/src/perl/repoperls/installed-perls/perl/v5.15.0-77-g6bb18b5/1df5/lib/site_perl/5.15.0/x86_64-linux
    /home/src/perl/repoperls/installed-perls/perl/v5.15.0-77-g6bb18b5/1df5/lib/site_perl/5.15.0
    /home/src/perl/repoperls/installed-perls/perl/v5.15.0-77-g6bb18b5/1df5/lib/5.15.0/x86_64-linux
    /home/src/perl/repoperls/installed-perls/perl/v5.15.0-77-g6bb18b5/1df5/lib/5.15.0
    .