Report for Test-TempDir-0.10

Back
From: metabase:user:314402c4-2aae-11df-837a-5e0a49663a4f
Subject: PASS Test-TempDir-0.10 v5.24.1 GNU/Linux
Date: 2017-05-12T20:54:33Z

This distribution has been tested as part of the CPAN Testers
project, supporting the Perl programming language.  See
http://wiki.cpantesters.org/ for more information or email
questions to cpan-testers-discuss@perl.org


--
Dear Karen Etheridge,

This is a computer-generated report for Test-TempDir-0.10
on perl 5.24.1, created by CPAN-Reporter-1.2018.

Thank you for uploading your work to CPAN.  Congratulations!
All tests were successful.

Sections of this report:

    * Tester comments
    * Program output
    * Prerequisites
    * Environment and other context

------------------------------
TESTER COMMENTS
------------------------------

Additional comments from tester:

none provided

------------------------------
PROGRAM OUTPUT
------------------------------

Output from './Build test':

# 
# Versions for all modules listed in MYMETA.json (including optional ones):
# 
# === Configure Requires ===
# 
#     Module               Want  Have
#     ------------------- ----- -----
#     Module::Build::Tiny 0.039 0.039
# 
# === Test Requires ===
# 
#     Module              Want     Have
#     ------------------- ---- --------
#     ExtUtils::MakeMaker  any     7.24
#     File::Path          2.04  2.12_01
#     File::Spec           any  3.63_01
#     Test::More          0.88 1.302085
#     Test::Requires       any     0.10
#     ok                   any 1.302085
# 
# === Test Recommends ===
# 
#     Module         Want     Have
#     ---------- -------- --------
#     CPAN::Meta 2.120900 2.150005
# 
# === Runtime Requires ===
# 
#     Module                       Want     Have
#     ---------------------------- ---- --------
#     Carp                          any     1.40
#     File::NFSLock                 any     1.27
#     File::Spec                    any  3.63_01
#     File::Temp                    any   0.2304
#     Moose                         any   2.2004
#     Moose::Util::TypeConstraints  any   2.2004
#     MooseX::Types::Path::Class    any     0.09
#     Path::Class                   any     0.37
#     Sub::Exporter                 any    0.987
#     Test::Builder                 any 1.302085
#     namespace::autoclean         0.08     0.28
#     strict                        any     1.11
#     warnings                      any     1.36
# 
# === Runtime Recommends ===
# 
#     Module             Want    Have
#     ------------------ ---- -------
#     Directory::Scratch  any missing
# 
t/00-report-prereqs.t .. ok
t/00_load.t ............ ok
t/basic.t .............. ok
t/directory_scratch.t .. skipped: Test requires module 'Directory::Scratch' but it's not found
t/factory.t ............ ok
t/handle.t ............. ok
All tests successful.
Files=6, Tests=70,  5 wallclock secs ( 0.07 usr  0.02 sys +  3.61 cusr  0.26 csys =  3.96 CPU)
Result: PASS

------------------------------
PREREQUISITES
------------------------------

Prerequisite modules loaded:

requires:

    Module                       Need     Have    
    ---------------------------- -------- --------
    Carp                         0        1.40    
    File::NFSLock                0        1.27    
    File::Spec                   0        3.63_01 
    File::Temp                   0        0.2304  
    Moose                        0        2.2004  
    Moose::Util::TypeConstraints 0        2.2004  
    MooseX::Types::Path::Class   0        0.09    
    namespace::autoclean         0.08     0.28    
    Path::Class                  0        0.37    
    perl                         5.006    5.024001
    strict                       0        1.11    
    Sub::Exporter                0        0.987   
    Test::Builder                0        1.302085
    warnings                     0        1.36    

build_requires:

    Module                       Need     Have    
    ---------------------------- -------- --------
    ExtUtils::MakeMaker          0        7.24    
    File::Path                   2.04     2.12_01 
    File::Spec                   0        3.63_01 
    ok                           0        1.302085
    perl                         5.006    5.024001
    Test::More                   0.88     1.302085
    Test::Requires               0        0.10    

configure_requires:

    Module                       Need     Have    
    ---------------------------- -------- --------
    Module::Build::Tiny          0.039    0.039   
    perl                         5.006    5.024001

opt_requires:

    Module                       Need     Have    
    ---------------------------- -------- --------
  ! Directory::Scratch           0        n/a     

opt_build_requires:

    Module                       Need     Have    
    ---------------------------- -------- --------
    CPAN::Meta                   2.120900 2.150005


------------------------------
ENVIRONMENT AND OTHER CONTEXT
------------------------------

Environment variables:

    LANG = en_US.UTF-8
    PATH = /usr/local/bin:/usr/bin:/bin:/usr/local/sbin:/usr/sbin:/sbin:/home/cpansand/bin/linux-gnu:/home/cpansand/bin/sh:/home/cpansand/bin:/usr/games:/home/cpansand/devel:/home/eserte/src/srezic-misc/scripts
    PERL5LIB = /home/cpansand/.cpan/build/2017051218/File-NFSLock-1.27-_2L4Bb/blib/arch:/home/cpansand/.cpan/build/2017051218/File-NFSLock-1.27-_2L4Bb/blib/lib:/home/cpansand/.cpan/build/2017051218/MooseX-YAML-0.04-1wHyD_/blib/arch:/home/cpansand/.cpan/build/2017051218/MooseX-YAML-0.04-1wHyD_/blib/lib:/home/cpansand/.cpan/build/2017051218/MooseX-Blessed-Reconstruct-1.00-AOL_mg/blib/arch:/home/cpansand/.cpan/build/2017051218/MooseX-Blessed-Reconstruct-1.00-AOL_mg/blib/lib:/home/cpansand/.cpan/build/2017051218/Data-Swap-0.08-JPTGle/blib/arch:/home/cpansand/.cpan/build/2017051218/Data-Swap-0.08-JPTGle/blib/lib:/home/cpansand/.cpan/build/2017051218/Search-GIN-0.11-Fa0ewJ/blib/arch:/home/cpansand/.cpan/build/2017051218/Search-GIN-0.11-Fa0ewJ/blib/lib:/home/cpansand/.cpan/build/2017051218/MooseX-Types-Set-Object-0.05-0bHp0o/blib/arch:/home/cpansand/.cpan/build/2017051218/MooseX-Types-Set-Object-0.05-0bHp0o/blib/lib:/home/cpansand/.cpan/build/2017051218/Cache-Ref-0.04-pdsHjz/blib/arch:/home/cpansand/.cpan/build/2017051218/Cache-Ref-0.04-pdsHjz/blib/lib:/home/cpansand/.cpan/build/2017051218/Bread-Board-0.34-qwbqca/blib/arch:/home/cpansand/.cpan/build/2017051218/Bread-Board-0.34-qwbqca/blib/lib:/home/cpansand/.cpan/build/2017051218/HTTP-Throwable-0.026-44ImZ2/blib/arch:/home/cpansand/.cpan/build/2017051218/HTTP-Throwable-0.026-44ImZ2/blib/lib
    PERL5OPT = 
    PERL5_CPANPLUS_IS_RUNNING = 19660
    PERL5_CPAN_IS_RUNNING = 19660
    PERL5_CPAN_IS_RUNNING_IN_RECURSION = 10181,19660
    PERLDOC = -MPod::Perldoc::ToTextOverstrike
    PERL_BATCH = yes
    PERL_CANARY_STABILITY_NOPROMPT = 1
    PERL_CPAN_REPORTER_CONFIG = /var/tmp/cpansmoker-1002/2017051218/cpanreporter_000_config.ini
    PERL_EXTUTILS_AUTOINSTALL = --defaultdeps
    SHELL = /bin/zsh
    TERM = screen.xterm-256color
    TMPDIR = /var/tmp/cpansmoker-1002/2017051218

Perl special variables (and OS-specific diagnostics, for MSWin32):

    $^X = /opt/perl-5.24.1t/bin/perl
    $UID/$EUID = 1002 / 1002
    $GID = 1002 1002
    $EGID = 1002 1002

Perl module toolchain versions installed:

    Module              Have      
    ------------------- ----------
    CPAN                2.11_01   
    CPAN::Meta          2.150005  
    Cwd                 3.63_01   
    ExtUtils::CBuilder  0.280225  
    ExtUtils::Command   7.24      
    ExtUtils::Install   2.08      
    ExtUtils::MakeMaker 7.24      
    ExtUtils::Manifest  1.70      
    ExtUtils::ParseXS   3.31      
    File::Spec          3.63_01   
    JSON                2.90      
    JSON::PP            2.27300_01
    Module::Build       0.4220    
    Module::Signature   0.81      
    Parse::CPAN::Meta   1.4417_001
    Test::Harness       3.38      
    Test::More          1.302085  
    YAML                1.23      
    YAML::Syck          1.29      
    version             0.9918    


--

Summary of my perl5 (revision 5 version 24 subversion 1) configuration:
   
  Platform:
    osname=linux, osvers=4.4.0-64-generic, archname=x86_64-linux-thread-multi
    uname='linux prod3 4.4.0-64-generic #85-ubuntu smp mon feb 20 11:50:30 utc 2017 x86_64 x86_64 x86_64 gnulinux '
    config_args='-ds -e -Dprefix=/opt/perl-5.24.1t -Dusethreads -Dcf_email=srezic@cpan.org'
    hint=recommended, useposix=true, d_sigaction=define
    useithreads=define, usemultiplicity=define
    use64bitint=define, use64bitall=define, uselongdouble=undef
    usemymalloc=n, bincompat5005=undef
  Compiler:
    cc='cc', ccflags ='-D_REENTRANT -D_GNU_SOURCE -fwrapv -fno-strict-aliasing -pipe -fstack-protector-strong -I/usr/local/include -D_LARGEFILE_SOURCE -D_FILE_OFFSET_BITS=64',
    optimize='-O2',
    cppflags='-D_REENTRANT -D_GNU_SOURCE -fwrapv -fno-strict-aliasing -pipe -fstack-protector-strong -I/usr/local/include'
    ccversion='', gccversion='5.4.0 20160609', gccosandvers=''
    intsize=4, longsize=8, ptrsize=8, doublesize=8, byteorder=12345678, doublekind=3
    d_longlong=define, longlongsize=8, d_longdbl=define, longdblsize=16, longdblkind=3
    ivtype='long', ivsize=8, nvtype='double', nvsize=8, Off_t='off_t', lseeksize=8
    alignbytes=8, prototype=define
  Linker and Libraries:
    ld='cc', ldflags =' -fstack-protector-strong -L/usr/local/lib'
    libpth=/usr/local/lib /usr/lib/gcc/x86_64-linux-gnu/5/include-fixed /usr/include/x86_64-linux-gnu /usr/lib /lib/x86_64-linux-gnu /lib/../lib /usr/lib/x86_64-linux-gnu /usr/lib/../lib /lib
    libs=-lpthread -lnsl -lgdbm -ldb -ldl -lm -lcrypt -lutil -lc -lgdbm_compat
    perllibs=-lpthread -lnsl -ldl -lm -lcrypt -lutil -lc
    libc=libc-2.23.so, so=so, useshrplib=false, libperl=libperl.a
    gnulibc_version='2.23'
  Dynamic Linking:
    dlsrc=dl_dlopen.xs, dlext=so, d_dlsymun=undef, ccdlflags='-Wl,-E'
    cccdlflags='-fPIC', lddlflags='-shared -O2 -L/usr/local/lib -fstack-protector-strong'


Characteristics of this binary (from libperl): 
  Compile-time options: HAS_TIMES MULTIPLICITY PERLIO_LAYERS
                        PERL_COPY_ON_WRITE PERL_DONT_CREATE_GVSV
                        PERL_HASH_FUNC_ONE_AT_A_TIME_HARD
                        PERL_IMPLICIT_CONTEXT PERL_MALLOC_WRAP
                        PERL_PRESERVE_IVUV USE_64_BIT_ALL USE_64_BIT_INT
                        USE_ITHREADS USE_LARGE_FILES USE_LOCALE
                        USE_LOCALE_COLLATE USE_LOCALE_CTYPE
                        USE_LOCALE_NUMERIC USE_LOCALE_TIME USE_PERLIO
                        USE_PERL_ATOF USE_REENTRANT_API
  Built under linux
  Compiled at Feb 23 2017 20:10:29
  %ENV:
    PERL5LIB="/home/cpansand/.cpan/build/2017051218/File-NFSLock-1.27-_2L4Bb/blib/arch:/home/cpansand/.cpan/build/2017051218/File-NFSLock-1.27-_2L4Bb/blib/lib:/home/cpansand/.cpan/build/2017051218/MooseX-YAML-0.04-1wHyD_/blib/arch:/home/cpansand/.cpan/build/2017051218/MooseX-YAML-0.04-1wHyD_/blib/lib:/home/cpansand/.cpan/build/2017051218/MooseX-Blessed-Reconstruct-1.00-AOL_mg/blib/arch:/home/cpansand/.cpan/build/2017051218/MooseX-Blessed-Reconstruct-1.00-AOL_mg/blib/lib:/home/cpansand/.cpan/build/2017051218/Data-Swap-0.08-JPTGle/blib/arch:/home/cpansand/.cpan/build/2017051218/Data-Swap-0.08-JPTGle/blib/lib:/home/cpansand/.cpan/build/2017051218/Search-GIN-0.11-Fa0ewJ/blib/arch:/home/cpansand/.cpan/build/2017051218/Search-GIN-0.11-Fa0ewJ/blib/lib:/home/cpansand/.cpan/build/2017051218/MooseX-Types-Set-Object-0.05-0bHp0o/blib/arch:/home/cpansand/.cpan/build/2017051218/MooseX-Types-Set-Object-0.05-0bHp0o/blib/lib:/home/cpansand/.cpan/build/2017051218/Cache-Ref-0.04-pdsHjz/blib/arch:/home/cpansand/.cpan/build/2017051218/Cache-Ref-0.04-pdsHjz/blib/lib:/home/cpansand/.cpan/build/2017051218/Bread-Board-0.34-qwbqca/blib/arch:/home/cpansand/.cpan/build/2017051218/Bread-Board-0.34-qwbqca/blib/lib:/home/cpansand/.cpan/build/2017051218/HTTP-Throwable-0.026-44ImZ2/blib/arch:/home/cpansand/.cpan/build/2017051218/HTTP-Throwable-0.026-44ImZ2/blib/lib"
    PERL5OPT=""
    PERL5_CPANPLUS_IS_RUNNING="19660"
    PERL5_CPAN_IS_RUNNING="19660"
    PERL5_CPAN_IS_RUNNING_IN_RECURSION="10181,19660"
    PERLDOC="-MPod::Perldoc::ToTextOverstrike"
    PERL_BATCH="yes"
    PERL_CANARY_STABILITY_NOPROMPT="1"
    PERL_CPAN_REPORTER_CONFIG="/var/tmp/cpansmoker-1002/2017051218/cpanreporter_000_config.ini"
    PERL_EXTUTILS_AUTOINSTALL="--defaultdeps"
  @INC:
    /home/cpansand/.cpan/build/2017051218/File-NFSLock-1.27-_2L4Bb/blib/arch
    /home/cpansand/.cpan/build/2017051218/File-NFSLock-1.27-_2L4Bb/blib/lib
    /home/cpansand/.cpan/build/2017051218/MooseX-YAML-0.04-1wHyD_/blib/arch
    /home/cpansand/.cpan/build/2017051218/MooseX-YAML-0.04-1wHyD_/blib/lib
    /home/cpansand/.cpan/build/2017051218/MooseX-Blessed-Reconstruct-1.00-AOL_mg/blib/arch
    /home/cpansand/.cpan/build/2017051218/MooseX-Blessed-Reconstruct-1.00-AOL_mg/blib/lib
    /home/cpansand/.cpan/build/2017051218/Data-Swap-0.08-JPTGle/blib/arch
    /home/cpansand/.cpan/build/2017051218/Data-Swap-0.08-JPTGle/blib/lib
    /home/cpansand/.cpan/build/2017051218/Search-GIN-0.11-Fa0ewJ/blib/arch
    /home/cpansand/.cpan/build/2017051218/Search-GIN-0.11-Fa0ewJ/blib/lib
    /home/cpansand/.cpan/build/2017051218/MooseX-Types-Set-Object-0.05-0bHp0o/blib/arch
    /home/cpansand/.cpan/build/2017051218/MooseX-Types-Set-Object-0.05-0bHp0o/blib/lib
    /home/cpansand/.cpan/build/2017051218/Cache-Ref-0.04-pdsHjz/blib/arch
    /home/cpansand/.cpan/build/2017051218/Cache-Ref-0.04-pdsHjz/blib/lib
    /home/cpansand/.cpan/build/2017051218/Bread-Board-0.34-qwbqca/blib/arch
    /home/cpansand/.cpan/build/2017051218/Bread-Board-0.34-qwbqca/blib/lib
    /home/cpansand/.cpan/build/2017051218/HTTP-Throwable-0.026-44ImZ2/blib/arch
    /home/cpansand/.cpan/build/2017051218/HTTP-Throwable-0.026-44ImZ2/blib/lib
    /opt/perl-5.24.1t/lib/site_perl/5.24.1/x86_64-linux-thread-multi
    /opt/perl-5.24.1t/lib/site_perl/5.24.1
    /opt/perl-5.24.1t/lib/5.24.1/x86_64-linux-thread-multi
    /opt/perl-5.24.1t/lib/5.24.1
    .