Dist-Zilla-Plugin-Git v2.051 Perl 5 v5.41.9 darwin-2level

Status
Pass
From
John SJ Anderson
Dist
Dist-Zilla-Plugin-Git v2.051
Platform
Perl 5 v5.41.9 darwin-2level
Date
2025-03-19 20:31:56
ID
335ac6d6-0501-11f0-b5a3-d682951163d0
This distribution has been tested as part of the CPAN Testers
project, supporting the Perl programming language.  See
http://wiki.cpantesters.org/ for more information or email
questions to cpan-testers-discuss@perl.org


--
Dear ETHER,

This is a computer-generated report for Dist-Zilla-Plugin-Git-2.051
on perl 5.41.9, created by App::cpanminus::reporter 0.22 (1.7048).

Thank you for uploading your work to CPAN.  Congratulations!
All tests were successful.

Sections of this report:

    * Tester comments
    * Program output
    * Prerequisites
    * Environment and other context

------------------------------
TESTER COMMENTS
------------------------------

Additional comments from tester:

none provided

------------------------------
PROGRAM OUTPUT
------------------------------

Output from '':

Building and testing Dist-Zilla-Plugin-Git-2.051
cp lib/Dist/Zilla/Plugin/Git/Init.pm blib/lib/Dist/Zilla/Plugin/Git/Init.pm
cp lib/Dist/Zilla/Role/Git/StringFormatter.pm blib/lib/Dist/Zilla/Role/Git/StringFormatter.pm
cp lib/Dist/Zilla/Plugin/Git/Tag.pm blib/lib/Dist/Zilla/Plugin/Git/Tag.pm
cp lib/Dist/Zilla/Role/Git/DirtyFiles.pm blib/lib/Dist/Zilla/Role/Git/DirtyFiles.pm
cp lib/Dist/Zilla/Plugin/Git/Commit.pm blib/lib/Dist/Zilla/Plugin/Git/Commit.pm
cp lib/Dist/Zilla/Plugin/Git.pm blib/lib/Dist/Zilla/Plugin/Git.pm
cp lib/Dist/Zilla/Plugin/Git/Push.pm blib/lib/Dist/Zilla/Plugin/Git/Push.pm
cp lib/Dist/Zilla/Plugin/Git/Check.pm blib/lib/Dist/Zilla/Plugin/Git/Check.pm
cp lib/Dist/Zilla/PluginBundle/Git.pm blib/lib/Dist/Zilla/PluginBundle/Git.pm
cp lib/Dist/Zilla/Role/Git/Repo.pm blib/lib/Dist/Zilla/Role/Git/Repo.pm
cp lib/Dist/Zilla/Plugin/Git/GatherDir.pm blib/lib/Dist/Zilla/Plugin/Git/GatherDir.pm
cp lib/Dist/Zilla/Plugin/Git/NextVersion.pm blib/lib/Dist/Zilla/Plugin/Git/NextVersion.pm
cp lib/Dist/Zilla/Plugin/Git/CommitBuild.pm blib/lib/Dist/Zilla/Plugin/Git/CommitBuild.pm
"/opt/plenv/versions/5.41.9/bin/perl5.41.9" "-Iblib/arch" "-Iblib/lib" Makefile_git.PL Makefile_git 
"/opt/plenv/versions/5.41.9/bin/perl5.41.9" "-Iblib/arch" "-Iblib/lib" Makefile_git.PL Makefile_git 
PERL_DL_NONLAZY=1 "/opt/plenv/versions/5.41.9/bin/perl5.41.9" "-MExtUtils::Command::MM" "-MTest::Harness" "-e" "undef *Test::Harness::Switches; test_harness(0, 'blib/lib', 'blib/arch')" t/*.t
# 
# Versions for all modules listed in MYMETA.json (including optional ones):
# 
# === Configure Requires ===
# 
#     Module               Want     Have
#     ------------------- ----- --------
#     ExtUtils::MakeMaker   any     7.70
#     Text::ParseWords      any     3.31
#     perl                5.010 5.041009
#     version               any   0.9933
# 
# === Build Requires ===
# 
#     Module              Want Have
#     ------------------- ---- ----
#     ExtUtils::MakeMaker  any 7.70
# 
# === Test Requires ===
# 
#     Module                            Want     Have
#     -------------------------------- ----- --------
#     CPAN::Meta::Check                0.011    0.018
#     CPAN::Meta::Requirements           any    2.143
#     Dist::Zilla::File::InMemory        any    6.032
#     Dist::Zilla::Plugin::Config::Git   any     0.92
#     Dist::Zilla::Role::Releaser        any    6.032
#     Dist::Zilla::Tester                any    6.032
#     Encode                             any     3.21
#     Exporter                           any     5.79
#     ExtUtils::MakeMaker                any     7.70
#     File::Copy                         any     2.41
#     File::Copy::Recursive              any     0.45
#     File::Path                        2.07     2.18
#     File::Spec                         any     3.93
#     File::Which                        any     1.27
#     File::pushd                        any    1.016
#     Log::Dispatchouli                  any    3.009
#     Test::DZil                         any    6.032
#     Test::Fatal                        any    0.017
#     Test::More                        0.88 1.302209
#     lib                                any     0.65
#     perl                             5.010 5.041009
#     utf8                               any     1.27
# 
# === Test Recommends ===
# 
#     Module         Want     Have
#     ---------- -------- --------
#     CPAN::Meta 2.120900 2.150010
# 
# === Runtime Requires ===
# 
#     Module                                 Want     Have
#     ---------------------------------- -------- --------
#     Cwd                                     any     3.92
#     DateTime                                any     1.66
#     Dist::Zilla                               4    6.032
#     Dist::Zilla::Plugin::GatherDir     4.200016    6.032
#     Dist::Zilla::Role::AfterBuild           any    6.032
#     Dist::Zilla::Role::AfterMint            any    6.032
#     Dist::Zilla::Role::AfterRelease         any    6.032
#     Dist::Zilla::Role::BeforeRelease        any    6.032
#     Dist::Zilla::Role::FilePruner           any    6.032
#     Dist::Zilla::Role::GitConfig            any     0.92
#     Dist::Zilla::Role::PluginBundle         any    6.032
#     Dist::Zilla::Role::VersionProvider      any    6.032
#     File::Spec::Functions                   any     3.93
#     File::Temp                              any   0.2311
#     File::chdir                             any   0.1011
#     Git::Wrapper                          0.021    0.048
#     IPC::Open3                              any     1.24
#     IPC::System::Simple                     any     1.30
#     List::Util                             1.45  1.68_01
#     Module::Runtime                         any    0.016
#     Moose                                   any   2.2207
#     Moose::Role                             any   2.2207
#     MooseX::Has::Sugar                      any 1.000006
#     Path::Tiny                            0.048    0.148
#     String::Formatter                       any    1.235
#     Try::Tiny                               any     0.32
#     Type::Utils                             any 2.006000
#     Types::Path::Tiny                       any    0.006
#     Types::Standard                         any 2.006000
#     Version::Next                           any    1.000
#     constant                                any     1.33
#     namespace::autoclean                   0.09     0.31
#     perl                                  5.010 5.041009
#     strict                                  any     1.13
#     version                                0.80   0.9933
#     warnings                                any     1.73
# 
# === Other Modules ===
# 
#     Module            Have
#     --------------- ------
#     Encode            3.21
#     File::Temp      0.2311
#     JSON::PP          4.16
#     Module::Runtime  0.016
#     Pod::Coverage     0.23
#     Sub::Name         0.28
#     YAML              1.31
#     autodie           2.37
# 
t/00-report-prereqs.t ........... ok
# git version 2.39.5 (Apple Git-154)
t/000-report-git-version.t ...... ok
t/check.t ....................... ok
t/commit-build-custom.t ......... ok
t/commit-build-src-as-parent.t .. ok
t/commit-build.t ................ ok
t/commit-dirtydir.t ............. ok
t/commit-message.t .............. ok
t/commit-signoff.t .............. ok
t/commit-utf8.t ................. ok
t/commit-ws.t ................... ok
t/commit.t ...................... ok
t/gatherdir-multi.t ............. ok
t/gatherdir.t ................... ok
t/push-gitconfig.t .............. ok
t/push-multi.t .................. ok
t/push.t ........................ ok
t/repo-dir.t .................... ok
t/tag-signed.t .................. skipped: gpg couldn't be located in $PATH; required for GPG-signed tags
t/tag.t ......................... ok
t/version-by-branch.t ........... ok
t/version-default.t ............. ok
t/version-extraction.t .......... ok
t/version-regexp.t .............. ok
t/zzz-check-breaks.t ............ ok
All tests successful.
Files=25, Tests=203, 14 wallclock secs ( 0.03 usr  0.02 sys +  8.31 cusr  3.90 csys = 12.26 CPU)
Result: PASS

------------------------------
PREREQUISITES
------------------------------

Prerequisite modules loaded:

runtime:

    Module                             Need     Have    
    ---------------------------------- -------- --------
    constant                           0        1.33    
    Cwd                                0        3.92    
    DateTime                           0        1.66    
    Dist::Zilla                        4        6.032   
    Dist::Zilla::Plugin::GatherDir     4.200016 6.032   
    Dist::Zilla::Role::AfterBuild      0        6.032   
    Dist::Zilla::Role::AfterMint       0        6.032   
    Dist::Zilla::Role::AfterRelease    0        6.032   
    Dist::Zilla::Role::BeforeRelease   0        6.032   
    Dist::Zilla::Role::FilePruner      0        6.032   
    Dist::Zilla::Role::GitConfig       0        0.92    
    Dist::Zilla::Role::PluginBundle    0        6.032   
    Dist::Zilla::Role::VersionProvider 0        6.032   
    File::chdir                        0        0.1011  
    File::Spec::Functions              0        3.93    
    File::Temp                         0        0.2311  
    Git::Wrapper                       0.021    0.048   
    IPC::Open3                         0        1.24    
    IPC::System::Simple                0        1.30    
    List::Util                         1.45     1.68_01 
    Module::Runtime                    0        0.016   
    Moose                              0        2.2207  
    Moose::Role                        0        2.2207  
    MooseX::Has::Sugar                 0        1.000006
    namespace::autoclean               0.09     0.31    
    Path::Tiny                         0.048    0.148   
    perl                               5.010    5.041009
    strict                             0        1.13    
    String::Formatter                  0        1.235   
    Try::Tiny                          0        0.32    
    Type::Utils                        0        2.006000
    Types::Path::Tiny                  0        0.006   
    Types::Standard                    0        2.006000
    version                            0.80     0.9933  
    Version::Next                      0        1.000   
    warnings                           0        1.73    

build:

    Module                             Need     Have    
    ---------------------------------- -------- --------
    ExtUtils::MakeMaker                0        7.70    

configure:

    Module                             Need     Have    
    ---------------------------------- -------- --------
    ExtUtils::MakeMaker                0        7.70    
    Text::ParseWords                   0        3.31    
    version                            0        0.9933  


------------------------------
ENVIRONMENT AND OTHER CONTEXT
------------------------------

Environment variables:

    LANG = en_US.UTF-8
    LC_ALL = en_US.UTF-8
    LC_TERMINAL = iTerm2
    LC_TERMINAL_VERSION = 3.5.11
    PATH = /opt/plenv/versions/5.41.9/bin:/opt/plenv/libexec:/opt/plenv/plugins/perl-build/bin:/Users/genehack/src/git-subrepo/lib:/Users/genehack/bin:/opt/plenv/shims:/opt/plenv/bin:/opt/homebrew/bin:/opt/local/bin:/usr/bin:/bin:/usr/sbin:/sbin:/usr/local/opt/fzf/bin/
    PERL_CPANM_OPT = --skip-installed --prompt
    SHELL = /bin/zsh
    TERM = screen-256color
    TMPDIR = /var/folders/p0/j7mly95s4nd__w74h26sqqkc0000gn/T/

Perl special variables (and OS-specific diagnostics, for MSWin32):

    EGID = 20 20 12 61 79 80 81 98 701 33 100 204 250 395 398 101 400
    EUID = 501
    EXECUTABLE_NAME = /opt/plenv/versions/5.41.9/bin/perl5.41.9
    GID = 20 20 12 61 79 80 81 98 701 33 100 204 250 395 398 101 400
    UID = 501

Perl module toolchain versions installed:

    Module              Have    
    ------------------- --------
    CPAN                2.38    
    CPAN::Meta          2.150010
    Cwd                 3.92    
    ExtUtils::CBuilder  0.280240
    ExtUtils::Command   7.70    
    ExtUtils::Install   2.22    
    ExtUtils::MakeMaker 7.70    
    ExtUtils::Manifest  1.75    
    ExtUtils::ParseXS   3.57    
    File::Spec          3.93    
    JSON                4.10    
    JSON::PP            4.16    
    Module::Build       0.4234  
    Module::Signature   n/a     
    Parse::CPAN::Meta   2.150010
    Test::Harness       3.50    
    Test::More          1.302209
    YAML                1.31    
    YAML::Syck          n/a     
    version             0.9933  


--

Summary of my perl5 (revision 5 version 41 subversion 9) configuration:
   
  Platform:
    osname=darwin
    osvers=24.3.0
    archname=darwin-2level
    uname='darwin nextmac.home.genehack.org 24.3.0 darwin kernel version 24.3.0: thu jan 2 20:24:23 pst 2025; root:xnu-11215.81.4~3release_arm64_t6031 arm64 arm darwin '
    config_args='-Dprefix=/opt/plenv/versions/5.41.9 -de -Dversiononly -Dusedevel -A'eval:scriptdir=/opt/plenv/versions/5.41.9/bin''
    hint=recommended
    useposix=true
    d_sigaction=define
    useithreads=undef
    usemultiplicity=undef
    use64bitint=define
    use64bitall=define
    uselongdouble=undef
    usemymalloc=n
    default_inc_excludes_dot=define
  Compiler:
    cc='cc'
    ccflags ='-fno-common -DPERL_DARWIN -mmacosx-version-min=15.3 -DNO_THREAD_SAFE_QUERYLOCALE -DNO_POSIX_2008_LOCALE -DHAS_BROKEN_LANGINFO_CODESET -fno-strict-aliasing -pipe -fstack-protector-strong -I/usr/local/include'
    optimize='-O3'
    cppflags='-fno-common -DPERL_DARWIN -mmacosx-version-min=15.3 -DNO_THREAD_SAFE_QUERYLOCALE -DNO_POSIX_2008_LOCALE -DHAS_BROKEN_LANGINFO_CODESET -fno-strict-aliasing -pipe -fstack-protector-strong -I/usr/local/include'
    ccversion=''
    gccversion='Apple LLVM 16.0.0 (clang-1600.0.26.6)'
    gccosandvers=''
    intsize=4
    longsize=8
    ptrsize=8
    doublesize=8
    byteorder=12345678
    doublekind=3
    d_longlong=define
    longlongsize=8
    d_longdbl=define
    longdblsize=8
    longdblkind=0
    ivtype='long'
    ivsize=8
    nvtype='double'
    nvsize=8
    Off_t='off_t'
    lseeksize=8
    alignbytes=8
    prototype=define
  Linker and Libraries:
    ld='cc'
    ldflags =' -mmacosx-version-min=15.3 -fstack-protector-strong -L/usr/local/lib'
    libpth=/usr/local/lib /Applications/Xcode.app/Contents/Developer/Toolchains/XcodeDefault.xctoolchain/usr/lib/clang/16/lib /Applications/Xcode.app/Contents/Developer/Platforms/MacOSX.platform/Developer/SDKs/MacOSX.sdk/usr/lib /Applications/Xcode.app/Contents/Developer/Toolchains/XcodeDefault.xctoolchain/usr/lib /usr/lib
    libs= 
    perllibs=
    libc=
    so=dylib
    useshrplib=false
    libperl=libperl.a
    gnulibc_version=''
  Dynamic Linking:
    dlsrc=dl_dlopen.xs
    dlext=bundle
    d_dlsymun=undef
    ccdlflags=' '
    cccdlflags=' '
    lddlflags=' -mmacosx-version-min=15.3 -bundle -undefined dynamic_lookup -L/usr/local/lib -fstack-protector-strong'


Characteristics of this binary (from libperl): 
  Compile-time options:
    HAS_LONG_DOUBLE
    HAS_STRTOLD
    HAS_TIMES
    PERLIO_LAYERS
    PERL_COPY_ON_WRITE
    PERL_DONT_CREATE_GVSV
    PERL_HASH_FUNC_SIPHASH13
    PERL_HASH_USE_SBOX32
    PERL_MALLOC_WRAP
    PERL_OP_PARENT
    PERL_PRESERVE_IVUV
    PERL_USE_DEVEL
    PERL_USE_SAFE_PUTENV
    USE_64_BIT_ALL
    USE_64_BIT_INT
    USE_LARGE_FILES
    USE_LOCALE
    USE_LOCALE_COLLATE
    USE_LOCALE_CTYPE
    USE_LOCALE_NUMERIC
    USE_LOCALE_TIME
    USE_PERLIO
    USE_PERL_ATOF
  Built under darwin
  Compiled at Mar 19 2025 12:41:29
  %ENV:
    PERL_CPANM_OPT="--skip-installed --prompt"
  @INC:
    /opt/plenv/versions/5.41.9/lib/perl5/site_perl/5.41.9/darwin-2level
    /opt/plenv/versions/5.41.9/lib/perl5/site_perl/5.41.9
    /opt/plenv/versions/5.41.9/lib/perl5/5.41.9/darwin-2level
    /opt/plenv/versions/5.41.9/lib/perl5/5.41.9