Test-Moose-More v0.050 Perl 5 v5.8.9 x86_64-linux-thread-multi

Status
Pass
From
David Cantrell (DCANTRELL)
Dist
Test-Moose-More v0.050
Platform
Perl 5 v5.8.9 x86_64-linux-thread-multi
Date
2017-09-22 14:20:34
ID
32d43f76-9fa1-11e7-8096-4567ca56a595
This distribution has been tested as part of the CPAN Testers
project, supporting the Perl programming language.  See
http://wiki.cpantesters.org/ for more information or email
questions to cpan-testers-discuss@perl.org


--
Dear Chris Weyl,

This is a computer-generated report for Test-Moose-More-0.050
on perl 5.8.9, created by CPAN-Reporter-1.2018.

Thank you for uploading your work to CPAN.  Congratulations!
All tests were successful.

Sections of this report:

    * Tester comments
    * Program output
    * Prerequisites
    * Environment and other context

------------------------------
TESTER COMMENTS
------------------------------

Additional comments from tester:

this report is from an automated smoke testing program
and was not reviewed by a human for accuracy

------------------------------
PROGRAM OUTPUT
------------------------------

Output from '/usr/bin/make test':

PERL_DL_NONLAZY=1 "/home/david/cpantesting/perl-5.8.9/bin/perl" "-MExtUtils::Command::MM" "-MTest::Harness" "-e" "undef *Test::Harness::Switches; test_harness(0, 'blib/lib', 'blib/arch')" t/*.t t/attribute_options_ok/*.t t/is_class_ok/*.t t/validate_attribute/*.t t/validate_class/*.t t/validate_role/*.t t/validate_thing/*.t t/wrapped/*.t
t/00-check-deps.t ...................................... ok
Warning: Use of "shift" without parentheses is ambiguous at /home/david/cpantesting/perl-5.8.9/.cpan/build/Test-Moose-More-0.050-0/blib/lib/Test/Moose/More.pm line 110.
Warning: Use of "shift" without parentheses is ambiguous at /home/david/cpantesting/perl-5.8.9/.cpan/build/Test-Moose-More-0.050-0/blib/lib/Test/Moose/More.pm line 111.
t/00-compile.t ......................................... ok
# 
# Versions for all modules listed in MYMETA.json (including optional ones):
# 
# === Configure Requires ===
# 
#     Module              Want Have
#     ------------------- ---- ----
#     ExtUtils::MakeMaker  any 7.24
# 
# === Build Requires ===
# 
#     Module              Want Have
#     ------------------- ---- ----
#     ExtUtils::MakeMaker  any 7.24
# 
# === Test Requires ===
# 
#     Module                  Want     Have
#     ---------------------- ----- --------
#     ExtUtils::MakeMaker      any     7.24
#     File::Spec               any     3.62
#     IO::Handle               any     1.27
#     IPC::Open3               any     1.03
#     List::Util              1.45     1.49
#     Moose                    any   2.2006
#     Moose::Meta::Attribute   any   2.2006
#     Moose::Role              any   2.2006
#     Moose::Util::MetaRole    any   2.2006
#     TAP::SimpleOutput      0.009    0.009
#     Test::Builder::Tester    any 1.302096
#     Test::CheckDeps        0.010    0.010
#     Test::More              0.94 1.302096
#     namespace::autoclean     any     0.28
# 
# === Test Recommends ===
# 
#     Module         Want     Have
#     ---------- -------- --------
#     CPAN::Meta 2.120900 2.143240
# 
# === Runtime Requires ===
# 
#     Module                       Want     Have
#     ---------------------------- ---- --------
#     Carp                          any     1.38
#     Data::OptList                 any    0.110
#     List::MoreUtils               any    0.425
#     List::Util                   1.45     1.49
#     Moose::Util                   any   2.2006
#     Moose::Util::TypeConstraints  any   2.2006
#     Scalar::Util                  any     1.49
#     Sub::Exporter::Progressive    any 0.001013
#     Syntax::Keyword::Junction     any 0.003008
#     Test::Builder                 any 1.302096
#     Test::Moose                   any   2.2006
#     Test::More                   0.94 1.302096
#     strict                        any     1.03
#     warnings                      any  1.05_01
# 
t/00-report-prereqs.t .................................. ok
Warning: Use of "shift" without parentheses is ambiguous at /home/david/cpantesting/perl-5.8.9/.cpan/build/Test-Moose-More-0.050-0/blib/lib/Test/Moose/More.pm line 110.
Warning: Use of "shift" without parentheses is ambiguous at /home/david/cpantesting/perl-5.8.9/.cpan/build/Test-Moose-More-0.050-0/blib/lib/Test/Moose/More.pm line 111.
t/attribute_options_ok/basic.t ......................... ok
Warning: Use of "shift" without parentheses is ambiguous at /home/david/cpantesting/perl-5.8.9/.cpan/build/Test-Moose-More-0.050-0/blib/lib/Test/Moose/More.pm line 110.
Warning: Use of "shift" without parentheses is ambiguous at /home/david/cpantesting/perl-5.8.9/.cpan/build/Test-Moose-More-0.050-0/blib/lib/Test/Moose/More.pm line 111.
t/attribute_options_ok/subtest-wrapper.t ............... ok
Warning: Use of "shift" without parentheses is ambiguous at /home/david/cpantesting/perl-5.8.9/.cpan/build/Test-Moose-More-0.050-0/blib/lib/Test/Moose/More.pm line 110.
Warning: Use of "shift" without parentheses is ambiguous at /home/david/cpantesting/perl-5.8.9/.cpan/build/Test-Moose-More-0.050-0/blib/lib/Test/Moose/More.pm line 111.
t/check_sugar.t ........................................ ok
Warning: Use of "shift" without parentheses is ambiguous at /home/david/cpantesting/perl-5.8.9/.cpan/build/Test-Moose-More-0.050-0/blib/lib/Test/Moose/More.pm line 110.
Warning: Use of "shift" without parentheses is ambiguous at /home/david/cpantesting/perl-5.8.9/.cpan/build/Test-Moose-More-0.050-0/blib/lib/Test/Moose/More.pm line 111.
t/definition_context.t ................................. ok
Warning: Use of "shift" without parentheses is ambiguous at /home/david/cpantesting/perl-5.8.9/.cpan/build/Test-Moose-More-0.050-0/blib/lib/Test/Moose/More.pm line 110.
Warning: Use of "shift" without parentheses is ambiguous at /home/david/cpantesting/perl-5.8.9/.cpan/build/Test-Moose-More-0.050-0/blib/lib/Test/Moose/More.pm line 111.
t/does_metaroles_ok.t .................................. ok
Warning: Use of "shift" without parentheses is ambiguous at /home/david/cpantesting/perl-5.8.9/.cpan/build/Test-Moose-More-0.050-0/blib/lib/Test/Moose/More.pm line 110.
Warning: Use of "shift" without parentheses is ambiguous at /home/david/cpantesting/perl-5.8.9/.cpan/build/Test-Moose-More-0.050-0/blib/lib/Test/Moose/More.pm line 111.
t/does_not_metaroles_ok.t .............................. ok
Warning: Use of "shift" without parentheses is ambiguous at /home/david/cpantesting/perl-5.8.9/.cpan/build/Test-Moose-More-0.050-0/blib/lib/Test/Moose/More.pm line 110.
Warning: Use of "shift" without parentheses is ambiguous at /home/david/cpantesting/perl-5.8.9/.cpan/build/Test-Moose-More-0.050-0/blib/lib/Test/Moose/More.pm line 111.
t/does_not_ok.t ........................................ ok
Warning: Use of "shift" without parentheses is ambiguous at /home/david/cpantesting/perl-5.8.9/.cpan/build/Test-Moose-More-0.050-0/blib/lib/Test/Moose/More.pm line 110.
Warning: Use of "shift" without parentheses is ambiguous at /home/david/cpantesting/perl-5.8.9/.cpan/build/Test-Moose-More-0.050-0/blib/lib/Test/Moose/More.pm line 111.
t/does_ok.t ............................................ ok
Warning: Use of "shift" without parentheses is ambiguous at /home/david/cpantesting/perl-5.8.9/.cpan/build/Test-Moose-More-0.050-0/blib/lib/Test/Moose/More.pm line 110.
Warning: Use of "shift" without parentheses is ambiguous at /home/david/cpantesting/perl-5.8.9/.cpan/build/Test-Moose-More-0.050-0/blib/lib/Test/Moose/More.pm line 111.
t/has_attribute_ok.t ................................... ok
Warning: Use of "shift" without parentheses is ambiguous at /home/david/cpantesting/perl-5.8.9/.cpan/build/Test-Moose-More-0.050-0/blib/lib/Test/Moose/More.pm line 110.
Warning: Use of "shift" without parentheses is ambiguous at /home/david/cpantesting/perl-5.8.9/.cpan/build/Test-Moose-More-0.050-0/blib/lib/Test/Moose/More.pm line 111.
t/is_anon_ok.t ......................................... ok
Warning: Use of "shift" without parentheses is ambiguous at /home/david/cpantesting/perl-5.8.9/.cpan/build/Test-Moose-More-0.050-0/blib/lib/Test/Moose/More.pm line 110.
Warning: Use of "shift" without parentheses is ambiguous at /home/david/cpantesting/perl-5.8.9/.cpan/build/Test-Moose-More-0.050-0/blib/lib/Test/Moose/More.pm line 111.
t/is_class_ok/basic.t .................................. ok
Warning: Use of "shift" without parentheses is ambiguous at /home/david/cpantesting/perl-5.8.9/.cpan/build/Test-Moose-More-0.050-0/blib/lib/Test/Moose/More.pm line 110.
Warning: Use of "shift" without parentheses is ambiguous at /home/david/cpantesting/perl-5.8.9/.cpan/build/Test-Moose-More-0.050-0/blib/lib/Test/Moose/More.pm line 111.
t/is_class_ok/moose-meta-attribute-should-be-moosey.t .. ok
Warning: Use of "shift" without parentheses is ambiguous at /home/david/cpantesting/perl-5.8.9/.cpan/build/Test-Moose-More-0.050-0/blib/lib/Test/Moose/More.pm line 110.
Warning: Use of "shift" without parentheses is ambiguous at /home/david/cpantesting/perl-5.8.9/.cpan/build/Test-Moose-More-0.050-0/blib/lib/Test/Moose/More.pm line 111.
t/is_immutable_ok.t .................................... ok
Warning: Use of "shift" without parentheses is ambiguous at /home/david/cpantesting/perl-5.8.9/.cpan/build/Test-Moose-More-0.050-0/blib/lib/Test/Moose/More.pm line 110.
Warning: Use of "shift" without parentheses is ambiguous at /home/david/cpantesting/perl-5.8.9/.cpan/build/Test-Moose-More-0.050-0/blib/lib/Test/Moose/More.pm line 111.
t/is_not_anon_ok.t ..................................... ok
Warning: Use of "shift" without parentheses is ambiguous at /home/david/cpantesting/perl-5.8.9/.cpan/build/Test-Moose-More-0.050-0/blib/lib/Test/Moose/More.pm line 110.
Warning: Use of "shift" without parentheses is ambiguous at /home/david/cpantesting/perl-5.8.9/.cpan/build/Test-Moose-More-0.050-0/blib/lib/Test/Moose/More.pm line 111.
t/is_role_ok.t ......................................... ok
Warning: Use of "shift" without parentheses is ambiguous at /home/david/cpantesting/perl-5.8.9/.cpan/build/Test-Moose-More-0.050-0/blib/lib/Test/Moose/More.pm line 110.
Warning: Use of "shift" without parentheses is ambiguous at /home/david/cpantesting/perl-5.8.9/.cpan/build/Test-Moose-More-0.050-0/blib/lib/Test/Moose/More.pm line 111.
t/meta_ok.t ............................................ ok
Warning: Use of "shift" without parentheses is ambiguous at /home/david/cpantesting/perl-5.8.9/.cpan/build/Test-Moose-More-0.050-0/blib/lib/Test/Moose/More.pm line 110.
Warning: Use of "shift" without parentheses is ambiguous at /home/david/cpantesting/perl-5.8.9/.cpan/build/Test-Moose-More-0.050-0/blib/lib/Test/Moose/More.pm line 111.
t/method_from_pkg_ok.t ................................. ok
Warning: Use of "shift" without parentheses is ambiguous at /home/david/cpantesting/perl-5.8.9/.cpan/build/Test-Moose-More-0.050-0/blib/lib/Test/Moose/More.pm line 110.
Warning: Use of "shift" without parentheses is ambiguous at /home/david/cpantesting/perl-5.8.9/.cpan/build/Test-Moose-More-0.050-0/blib/lib/Test/Moose/More.pm line 111.
t/method_is_accessor_ok.t .............................. ok
Warning: Use of "shift" without parentheses is ambiguous at /home/david/cpantesting/perl-5.8.9/.cpan/build/Test-Moose-More-0.050-0/blib/lib/Test/Moose/More.pm line 110.
Warning: Use of "shift" without parentheses is ambiguous at /home/david/cpantesting/perl-5.8.9/.cpan/build/Test-Moose-More-0.050-0/blib/lib/Test/Moose/More.pm line 111.
t/method_is_not_accessor_ok.t .......................... ok
Warning: Use of "shift" without parentheses is ambiguous at /home/david/cpantesting/perl-5.8.9/.cpan/build/Test-Moose-More-0.050-0/blib/lib/Test/Moose/More.pm line 110.
Warning: Use of "shift" without parentheses is ambiguous at /home/david/cpantesting/perl-5.8.9/.cpan/build/Test-Moose-More-0.050-0/blib/lib/Test/Moose/More.pm line 111.
t/method_not_from_pkg_ok.t ............................. ok
Warning: Use of "shift" without parentheses is ambiguous at /home/david/cpantesting/perl-5.8.9/.cpan/build/Test-Moose-More-0.050-0/blib/lib/Test/Moose/More.pm line 110.
Warning: Use of "shift" without parentheses is ambiguous at /home/david/cpantesting/perl-5.8.9/.cpan/build/Test-Moose-More-0.050-0/blib/lib/Test/Moose/More.pm line 111.
t/method_ok.t .......................................... ok
Warning: Use of "shift" without parentheses is ambiguous at /home/david/cpantesting/perl-5.8.9/.cpan/build/Test-Moose-More-0.050-0/blib/lib/Test/Moose/More.pm line 110.
Warning: Use of "shift" without parentheses is ambiguous at /home/david/cpantesting/perl-5.8.9/.cpan/build/Test-Moose-More-0.050-0/blib/lib/Test/Moose/More.pm line 111.
t/no_meta_ok.t ......................................... ok
Warning: Use of "shift" without parentheses is ambiguous at /home/david/cpantesting/perl-5.8.9/.cpan/build/Test-Moose-More-0.050-0/blib/lib/Test/Moose/More.pm line 110.
Warning: Use of "shift" without parentheses is ambiguous at /home/david/cpantesting/perl-5.8.9/.cpan/build/Test-Moose-More-0.050-0/blib/lib/Test/Moose/More.pm line 111.
t/pristine_ok.t ........................................ ok
Warning: Use of "shift" without parentheses is ambiguous at /home/david/cpantesting/perl-5.8.9/.cpan/build/Test-Moose-More-0.050-0/blib/lib/Test/Moose/More.pm line 110.
Warning: Use of "shift" without parentheses is ambiguous at /home/david/cpantesting/perl-5.8.9/.cpan/build/Test-Moose-More-0.050-0/blib/lib/Test/Moose/More.pm line 111.
t/requires_method_ok.t ................................. ok
Warning: Use of "shift" without parentheses is ambiguous at /home/david/cpantesting/perl-5.8.9/.cpan/build/Test-Moose-More-0.050-0/blib/lib/Test/Moose/More.pm line 110.
Warning: Use of "shift" without parentheses is ambiguous at /home/david/cpantesting/perl-5.8.9/.cpan/build/Test-Moose-More-0.050-0/blib/lib/Test/Moose/More.pm line 111.
t/subtest-1.t .......................................... ok
Warning: Use of "shift" without parentheses is ambiguous at /home/david/cpantesting/perl-5.8.9/.cpan/build/Test-Moose-More-0.050-0/blib/lib/Test/Moose/More.pm line 110.
Warning: Use of "shift" without parentheses is ambiguous at /home/david/cpantesting/perl-5.8.9/.cpan/build/Test-Moose-More-0.050-0/blib/lib/Test/Moose/More.pm line 111.
t/validate_attribute/basic.t ........................... ok
Warning: Use of "shift" without parentheses is ambiguous at /home/david/cpantesting/perl-5.8.9/.cpan/build/Test-Moose-More-0.050-0/blib/lib/Test/Moose/More.pm line 110.
Warning: Use of "shift" without parentheses is ambiguous at /home/david/cpantesting/perl-5.8.9/.cpan/build/Test-Moose-More-0.050-0/blib/lib/Test/Moose/More.pm line 111.
t/validate_attribute/coerce.t .......................... ok
Warning: Use of "shift" without parentheses is ambiguous at /home/david/cpantesting/perl-5.8.9/.cpan/build/Test-Moose-More-0.050-0/blib/lib/Test/Moose/More.pm line 110.
Warning: Use of "shift" without parentheses is ambiguous at /home/david/cpantesting/perl-5.8.9/.cpan/build/Test-Moose-More-0.050-0/blib/lib/Test/Moose/More.pm line 111.
t/validate_attribute/in_roles.t ........................ ok
Warning: Use of "shift" without parentheses is ambiguous at /home/david/cpantesting/perl-5.8.9/.cpan/build/Test-Moose-More-0.050-0/blib/lib/Test/Moose/More.pm line 110.
Warning: Use of "shift" without parentheses is ambiguous at /home/david/cpantesting/perl-5.8.9/.cpan/build/Test-Moose-More-0.050-0/blib/lib/Test/Moose/More.pm line 111.
t/validate_attribute/lazy.t ............................ ok
Warning: Use of "shift" without parentheses is ambiguous at /home/david/cpantesting/perl-5.8.9/.cpan/build/Test-Moose-More-0.050-0/blib/lib/Test/Moose/More.pm line 110.
Warning: Use of "shift" without parentheses is ambiguous at /home/david/cpantesting/perl-5.8.9/.cpan/build/Test-Moose-More-0.050-0/blib/lib/Test/Moose/More.pm line 111.
t/validate_attribute/required.t ........................ ok
Warning: Use of "shift" without parentheses is ambiguous at /home/david/cpantesting/perl-5.8.9/.cpan/build/Test-Moose-More-0.050-0/blib/lib/Test/Moose/More.pm line 110.
Warning: Use of "shift" without parentheses is ambiguous at /home/david/cpantesting/perl-5.8.9/.cpan/build/Test-Moose-More-0.050-0/blib/lib/Test/Moose/More.pm line 111.
t/validate_class/basic.t ............................... ok
Warning: Use of "shift" without parentheses is ambiguous at /home/david/cpantesting/perl-5.8.9/.cpan/build/Test-Moose-More-0.050-0/blib/lib/Test/Moose/More.pm line 110.
Warning: Use of "shift" without parentheses is ambiguous at /home/david/cpantesting/perl-5.8.9/.cpan/build/Test-Moose-More-0.050-0/blib/lib/Test/Moose/More.pm line 111.
t/validate_class/metaclasses.t ......................... ok
Warning: Use of "shift" without parentheses is ambiguous at /home/david/cpantesting/perl-5.8.9/.cpan/build/Test-Moose-More-0.050-0/blib/lib/Test/Moose/More.pm line 110.
Warning: Use of "shift" without parentheses is ambiguous at /home/david/cpantesting/perl-5.8.9/.cpan/build/Test-Moose-More-0.050-0/blib/lib/Test/Moose/More.pm line 111.
t/validate_class/metaroles.t ........................... ok
Warning: Use of "shift" without parentheses is ambiguous at /home/david/cpantesting/perl-5.8.9/.cpan/build/Test-Moose-More-0.050-0/blib/lib/Test/Moose/More.pm line 110.
Warning: Use of "shift" without parentheses is ambiguous at /home/david/cpantesting/perl-5.8.9/.cpan/build/Test-Moose-More-0.050-0/blib/lib/Test/Moose/More.pm line 111.
t/validate_class/methods.t ............................. ok
Warning: Use of "shift" without parentheses is ambiguous at /home/david/cpantesting/perl-5.8.9/.cpan/build/Test-Moose-More-0.050-0/blib/lib/Test/Moose/More.pm line 110.
Warning: Use of "shift" without parentheses is ambiguous at /home/david/cpantesting/perl-5.8.9/.cpan/build/Test-Moose-More-0.050-0/blib/lib/Test/Moose/More.pm line 111.
t/validate_role/basic.t ................................ ok
Warning: Use of "shift" without parentheses is ambiguous at /home/david/cpantesting/perl-5.8.9/.cpan/build/Test-Moose-More-0.050-0/blib/lib/Test/Moose/More.pm line 110.
Warning: Use of "shift" without parentheses is ambiguous at /home/david/cpantesting/perl-5.8.9/.cpan/build/Test-Moose-More-0.050-0/blib/lib/Test/Moose/More.pm line 111.
t/validate_role/compose.t .............................. ok
Warning: Use of "shift" without parentheses is ambiguous at /home/david/cpantesting/perl-5.8.9/.cpan/build/Test-Moose-More-0.050-0/blib/lib/Test/Moose/More.pm line 110.
Warning: Use of "shift" without parentheses is ambiguous at /home/david/cpantesting/perl-5.8.9/.cpan/build/Test-Moose-More-0.050-0/blib/lib/Test/Moose/More.pm line 111.
t/validate_role/metaclasses.t .......................... ok
Warning: Use of "shift" without parentheses is ambiguous at /home/david/cpantesting/perl-5.8.9/.cpan/build/Test-Moose-More-0.050-0/blib/lib/Test/Moose/More.pm line 110.
Warning: Use of "shift" without parentheses is ambiguous at /home/david/cpantesting/perl-5.8.9/.cpan/build/Test-Moose-More-0.050-0/blib/lib/Test/Moose/More.pm line 111.
t/validate_role/metaroles.t ............................ ok
Warning: Use of "shift" without parentheses is ambiguous at /home/david/cpantesting/perl-5.8.9/.cpan/build/Test-Moose-More-0.050-0/blib/lib/Test/Moose/More.pm line 110.
Warning: Use of "shift" without parentheses is ambiguous at /home/david/cpantesting/perl-5.8.9/.cpan/build/Test-Moose-More-0.050-0/blib/lib/Test/Moose/More.pm line 111.
t/validate_thing/metaclasses.t ......................... ok
Warning: Use of "shift" without parentheses is ambiguous at /home/david/cpantesting/perl-5.8.9/.cpan/build/Test-Moose-More-0.050-0/blib/lib/Test/Moose/More.pm line 110.
Warning: Use of "shift" without parentheses is ambiguous at /home/david/cpantesting/perl-5.8.9/.cpan/build/Test-Moose-More-0.050-0/blib/lib/Test/Moose/More.pm line 111.
t/validate_thing/methods.t ............................. ok
Warning: Use of "shift" without parentheses is ambiguous at /home/david/cpantesting/perl-5.8.9/.cpan/build/Test-Moose-More-0.050-0/blib/lib/Test/Moose/More.pm line 110.
Warning: Use of "shift" without parentheses is ambiguous at /home/david/cpantesting/perl-5.8.9/.cpan/build/Test-Moose-More-0.050-0/blib/lib/Test/Moose/More.pm line 111.
t/validate_thing/sugar.t ............................... ok
Warning: Use of "shift" without parentheses is ambiguous at /home/david/cpantesting/perl-5.8.9/.cpan/build/Test-Moose-More-0.050-0/blib/lib/Test/Moose/More.pm line 110.
Warning: Use of "shift" without parentheses is ambiguous at /home/david/cpantesting/perl-5.8.9/.cpan/build/Test-Moose-More-0.050-0/blib/lib/Test/Moose/More.pm line 111.
t/wrapped/in_roles.t ................................... ok
All tests successful.

Test Summary Report
-------------------
t/00-check-deps.t                                    (Wstat: 0 Tests: 32 Failed: 0)
  TODO passed:   32
Files=45, Tests=235, 35 wallclock secs ( 0.17 usr  0.16 sys + 11.96 cusr  1.10 csys = 13.39 CPU)
Result: PASS

------------------------------
PREREQUISITES
------------------------------

Prerequisite modules loaded:

requires:

    Module                       Need  Have    
    ---------------------------- ----- --------
    Carp                         0     1.38    
    Data::OptList                0     0.110   
    List::MoreUtils              0     0.425   
    List::Util                   1.45  1.49    
    Moose::Util                  0     2.2006  
    Moose::Util::TypeConstraints 0     2.2006  
    perl                         5.006 5.008009
    Scalar::Util                 0     1.49    
    strict                       0     1.03    
    Sub::Exporter::Progressive   0     0.001013
    Syntax::Keyword::Junction    0     0.003008
    Test::Builder                0     1.302096
    Test::Moose                  0     2.2006  
    Test::More                   0.94  1.302096
    warnings                     0     1.05_01 

build_requires:

    Module                       Need  Have    
    ---------------------------- ----- --------
    ExtUtils::MakeMaker          0     7.24    
    File::Spec                   0     3.62    
    IO::Handle                   0     1.27    
    IPC::Open3                   0     1.03    
    List::Util                   1.45  1.49    
  ! Moose                        0     broken  
  ! Moose::Meta::Attribute       0     broken  
    Moose::Role                  0     2.2006  
    Moose::Util::MetaRole        0     2.2006  
    namespace::autoclean         0     0.28    
    TAP::SimpleOutput            0.009 0.009   
    Test::Builder::Tester        0     1.302096
    Test::CheckDeps              0.010 0.010   
    Test::More                   0.94  1.302096

configure_requires:

    Module                       Need  Have    
    ---------------------------- ----- --------
    ExtUtils::MakeMaker          0     7.24    
    perl                         5.006 5.008009


------------------------------
ENVIRONMENT AND OTHER CONTEXT
------------------------------

Environment variables:

    AUTOMATED_TESTING = 1
    NONINTERACTIVE_TESTING = 1
    PATH = /usr/local/bin:/usr/bin:/bin:/usr/local/games:/usr/games
    PERL = 5.8.9
    PERL5LIB = 
    PERL5OPT = 
    PERL5_CPANPLUS_IS_RUNNING = 6293
    PERL5_CPAN_IS_RUNNING = 6293
    PERLVER = 5.8.9
    PERL_INLINE_DIRECTORY = /home/david/.Inline-5.8.9
    PERL_MM_USE_DEFAULT = 1
    PERL_USE_UNSAFE_INC = 0
    SHELL = /bin/bash
    TERM = screen

Perl special variables (and OS-specific diagnostics, for MSWin32):

    $^X = /home/david/cpantesting/perl-5.8.9/bin/perl
    $UID/$EUID = 1000 / 1000
    $GID = 1000 1000
    $EGID = 1000 1000

Perl module toolchain versions installed:

    Module              Have    
    ------------------- --------
    CPAN                2.14    
    CPAN::Meta          2.143240
    Cwd                 3.62    
    ExtUtils::CBuilder  0.280226
    ExtUtils::Command   7.24    
    ExtUtils::Install   1.54    
    ExtUtils::MakeMaker 7.24    
    ExtUtils::Manifest  1.70    
    ExtUtils::ParseXS   3.35    
    File::Spec          3.62    
    JSON                2.90    
    JSON::PP            2.27400 
    Module::Build       0.4224  
    Module::Signature   n/a     
    Parse::CPAN::Meta   1.4414  
    Test::Harness       3.39    
    Test::More          1.302096
    YAML                1.18    
    YAML::Syck          n/a     
    version             0.9917  


--

Summary of my perl5 (revision 5 version 8 subversion 9) configuration:
  Platform:
    osname=linux, osvers=3.16.0-4-amd64, archname=x86_64-linux-thread-multi
    uname='linux pigsty.barnyard.co.uk 3.16.0-4-amd64 #1 smp debian 3.16.36-1+deb8u1 (2016-09-03) x86_64 gnulinux '
    config_args='-de -Duse64bitall -Dusethreads -Dprefix=/home/david/cpantesting/perl-5.8.9'
    hint=recommended, useposix=true, d_sigaction=define
    usethreads=define use5005threads=undef useithreads=define usemultiplicity=define
    useperlio=define d_sfio=undef uselargefiles=define usesocks=undef
    use64bitint=define use64bitall=define uselongdouble=undef
    usemymalloc=n, bincompat5005=undef
  Compiler:
    cc='cc', ccflags ='-D_REENTRANT -D_GNU_SOURCE -fno-strict-aliasing -pipe -I/usr/local/include -D_LARGEFILE_SOURCE -D_FILE_OFFSET_BITS=64',
    optimize='-O2',
    cppflags='-D_REENTRANT -D_GNU_SOURCE -fno-strict-aliasing -pipe -I/usr/local/include'
    ccversion='', gccversion='4.9.2', gccosandvers=''
    intsize=4, longsize=8, ptrsize=8, doublesize=8, byteorder=12345678
    d_longlong=define, longlongsize=8, d_longdbl=define, longdblsize=16
    ivtype='long', ivsize=8, nvtype='double', nvsize=8, Off_t='off_t', lseeksize=8
    alignbytes=8, prototype=define
  Linker and Libraries:
    ld='cc', ldflags =' -L/usr/local/lib'
    libpth=/usr/local/lib /lib/x86_64-linux-gnu /lib/../lib /usr/lib/x86_64-linux-gnu /usr/lib/../lib /lib /usr/lib
    libs=-lnsl -ldb -ldl -lm -lcrypt -lutil -lpthread -lc
    perllibs=-lnsl -ldl -lm -lcrypt -lutil -lpthread -lc
    libc=libc-2.19.so, so=so, useshrplib=false, libperl=libperl.a
    gnulibc_version='2.19'
  Dynamic Linking:
    dlsrc=dl_dlopen.xs, dlext=so, d_dlsymun=undef, ccdlflags='-Wl,-E'
    cccdlflags='-fPIC', lddlflags='-shared -O2 -L/usr/local/lib'


Characteristics of this binary (from libperl): 
  Compile-time options: MULTIPLICITY PERL_IMPLICIT_CONTEXT PERL_MALLOC_WRAP
                        USE_64_BIT_ALL USE_64_BIT_INT USE_FAST_STDIO
                        USE_ITHREADS USE_LARGE_FILES USE_PERLIO
                        USE_REENTRANT_API
  Locally applied patches:
	Devel::PatchPerl 1.44
  Built under linux
  Compiled at Oct 12 2016 14:10:05
  %ENV:
    PERL="5.8.9"
    PERL5LIB=""
    PERL5OPT=""
    PERL5_CPANPLUS_IS_RUNNING="6293"
    PERL5_CPAN_IS_RUNNING="6293"
    PERLVER="5.8.9"
    PERL_INLINE_DIRECTORY="/home/david/.Inline-5.8.9"
    PERL_MM_USE_DEFAULT="1"
    PERL_USE_UNSAFE_INC="0"
  @INC:
    /home/david/cpantesting/perl-5.8.9/lib/5.8.9/x86_64-linux-thread-multi
    /home/david/cpantesting/perl-5.8.9/lib/5.8.9
    /home/david/cpantesting/perl-5.8.9/lib/site_perl/5.8.9/x86_64-linux-thread-multi
    /home/david/cpantesting/perl-5.8.9/lib/site_perl/5.8.9
    .