Project2-Gantt v0.009 Perl 5 v5.36.0 x86_64-linux

Status
Pass
From
Slaven Rezić
Dist
Project2-Gantt v0.009
Platform
Perl 5 v5.36.0 x86_64-linux
Date
2023-02-18 17:46:39
ID
32a68e86-afb4-11ed-a129-a6306e8775ea
This distribution has been tested as part of the CPAN Testers
project, supporting the Perl programming language.  See
http://wiki.cpantesters.org/ for more information or email
questions to cpan-testers-discuss@perl.org


--
Dear Bruno Ramos,

This is a computer-generated report for Project2-Gantt-0.009
on perl 5.36.0, created by CPAN-Reporter-1.2018.

Thank you for uploading your work to CPAN.  Congratulations!
All tests were successful.

Sections of this report:

    * Tester comments
    * Program output
    * Prerequisites
    * Environment and other context

------------------------------
TESTER COMMENTS
------------------------------

Additional comments from tester:

none provided

------------------------------
PROGRAM OUTPUT
------------------------------

Output from '/usr/bin/make test':

PERL_DL_NONLAZY=1 "/opt/perl-5.36.0/bin/perl" "-MExtUtils::Command::MM" "-MTest::Harness" "-e" "undef *Test::Harness::Switches; test_harness(0, 'blib/lib', 'blib/arch')" t/*.t
# 
# Versions for all modules listed in MYMETA.json (including optional ones):
# 
# === Configure Requires ===
# 
#     Module              Want Have
#     ------------------- ---- ----
#     ExtUtils::MakeMaker  any 7.64
# 
# === Build Requires ===
# 
#     Module              Want Have
#     ------------------- ---- ----
#     ExtUtils::MakeMaker  any 7.64
# 
# === Test Requires ===
# 
#     Module              Want     Have
#     ------------------- ---- --------
#     ExtUtils::MakeMaker  any     7.64
#     File::Find::Rule     any     0.34
#     File::Spec           any     3.84
#     Test::Directory      any    0.051
#     Test::More           any 1.302190
# 
# === Test Recommends ===
# 
#     Module         Want     Have
#     ---------- -------- --------
#     CPAN::Meta 2.120900 2.150010
# 
# === Runtime Requires ===
# 
#     Module             Want     Have
#     ----------------- ----- --------
#     Alien::Font::Vera 0.013    0.013
#     Imager            1.019    1.019
#     Mojolicious        9.31     9.31
#     perl              5.020 5.036000
# 
t/00-report-prereqs.t .. ok
# Project2::Gantt
# Project2::Gantt::Resource
# Project2::Gantt::Task
# Project2::Gantt::GanttHeader
# Project2::Gantt::DateUtils
# Project2::Gantt::ImageWriter
# Project2::Gantt::Globals
# Project2::Gantt::SpanInfo
# Project2::Gantt::TimeSpan
# Project2::Gantt::Skin
# Project2::Gantt::TextUtils
# Project2::Gantt::Skin::Small
# Project2::Gantt::Skin::Medium
# Project2::Gantt::Skin::Large
t/compile.t ............ ok
# $VAR1 = bless( {
#                  'dir' => 'test-directory-tmp-xsXzx'
#                }, 'Test::Directory' );
# $VAR1 = 'test-directory-tmp-xsXzx/gantt-hours.png';
t/gantt-hours.t ........ ok
t/project2_gantt.t ..... ok
t/time_piece.t ......... ok
All tests successful.
Files=5, Tests=25,  0 wallclock secs ( 0.01 usr  0.02 sys +  0.49 cusr  0.10 csys =  0.62 CPU)
Result: PASS

------------------------------
PREREQUISITES
------------------------------

Prerequisite modules loaded:

requires:

    Module              Need  Have    
    ------------------- ----- --------
    Alien::Font::Vera   0.013 0.013   
    Imager              1.019 1.019   
    Mojolicious         9.31  9.31    
    perl                5.020 5.036000

build_requires:

    Module              Need  Have    
    ------------------- ----- --------
    ExtUtils::MakeMaker 0     7.64    
    File::Find::Rule    0     0.34    
    File::Spec          0     3.84    
    Test::Directory     0     0.051   
    Test::More          0     1.302190

configure_requires:

    Module              Need  Have    
    ------------------- ----- --------
    ExtUtils::MakeMaker 0     7.64    


------------------------------
ENVIRONMENT AND OTHER CONTEXT
------------------------------

Environment variables:

    LANG = C
    PATH = /usr/local/bin:/usr/bin:/bin:/usr/local/sbin:/usr/sbin:/sbin:/home/cpansand/bin/linux-gnu:/home/cpansand/bin/sh:/home/cpansand/bin:/usr/games:/home/cpansand/devel:/home/eserte/src/srezic-misc/scripts
    PERL5LIB = /home/cpansand/.cpan/build/2023021817/Test-Directory-0.051-0/blib/arch:/home/cpansand/.cpan/build/2023021817/Test-Directory-0.051-0/blib/lib:/home/cpansand/.cpan/build/2023021817/Mojolicious-9.31-0/blib/arch:/home/cpansand/.cpan/build/2023021817/Mojolicious-9.31-0/blib/lib:/home/cpansand/.cpan/build/2023021817/Imager-1.019-0/blib/arch:/home/cpansand/.cpan/build/2023021817/Imager-1.019-0/blib/lib:/home/cpansand/.cpan/build/2023021817/Alien-Font-Vera-0.013-0/blib/arch:/home/cpansand/.cpan/build/2023021817/Alien-Font-Vera-0.013-0/blib/lib
    PERL5OPT = 
    PERL5_CPANPLUS_IS_RUNNING = 782821
    PERL5_CPAN_IS_RUNNING = 782821
    PERL5_CPAN_IS_RUNNING_IN_RECURSION = 101194,782821
    PERLDOC = -MPod::Perldoc::ToTextOverstrike
    PERL_BATCH = yes
    PERL_CANARY_STABILITY_NOPROMPT = 1
    PERL_CPAN_REPORTER_CONFIG = /var/tmp/cpansmoker-1023/2023021807/cpanreporter_000_config.ini
    PERL_EXTUTILS_AUTOINSTALL = --defaultdeps
    PERL_USE_UNSAFE_INC = 1
    SHELL = /usr/bin/zsh
    TERM = screen
    TMPDIR = /var/tmp/cpansmoker-1023/2023021807

Perl special variables (and OS-specific diagnostics, for MSWin32):

    $^X = /opt/perl-5.36.0/bin/perl
    $UID/$EUID = 1023 / 1023
    $GID = 1023 1023
    $EGID = 1023 1023

Perl module toolchain versions installed:

    Module              Have    
    ------------------- --------
    CPAN                2.33    
    CPAN::Meta          2.150010
    Cwd                 3.84    
    ExtUtils::CBuilder  0.280236
    ExtUtils::Command   7.64    
    ExtUtils::Install   2.20    
    ExtUtils::MakeMaker 7.64    
    ExtUtils::Manifest  1.73    
    ExtUtils::ParseXS   3.45    
    File::Spec          3.84    
    JSON                4.06    
    JSON::PP            4.07    
    Module::Build       0.4231  
    Module::Signature   n/a     
    Parse::CPAN::Meta   2.150010
    Test::Harness       3.44    
    Test::More          1.302190
    YAML                1.30    
    YAML::Syck          1.34    
    version             0.9929  


--

Summary of my perl5 (revision 5 version 36 subversion 0) configuration:
   
  Platform:
    osname=linux
    osvers=5.10.0-13-amd64
    archname=x86_64-linux
    uname='linux eserte 5.10.0-13-amd64 #1 smp debian 5.10.106-1 (2022-03-17) x86_64 gnulinux '
    config_args='-ds -e -Dprefix=/opt/perl-5.36.0 -Dcf_email=srezic@cpan.org'
    hint=recommended
    useposix=true
    d_sigaction=define
    useithreads=undef
    usemultiplicity=undef
    use64bitint=define
    use64bitall=define
    uselongdouble=undef
    usemymalloc=n
    default_inc_excludes_dot=define
  Compiler:
    cc='cc'
    ccflags ='-fwrapv -fno-strict-aliasing -pipe -fstack-protector-strong -I/usr/local/include -D_LARGEFILE_SOURCE -D_FILE_OFFSET_BITS=64 -D_FORTIFY_SOURCE=2'
    optimize='-O2'
    cppflags='-fwrapv -fno-strict-aliasing -pipe -fstack-protector-strong -I/usr/local/include'
    ccversion=''
    gccversion='10.2.1 20210110'
    gccosandvers=''
    intsize=4
    longsize=8
    ptrsize=8
    doublesize=8
    byteorder=12345678
    doublekind=3
    d_longlong=define
    longlongsize=8
    d_longdbl=define
    longdblsize=16
    longdblkind=3
    ivtype='long'
    ivsize=8
    nvtype='double'
    nvsize=8
    Off_t='off_t'
    lseeksize=8
    alignbytes=8
    prototype=define
  Linker and Libraries:
    ld='cc'
    ldflags =' -fstack-protector-strong -L/usr/local/lib'
    libpth=/usr/local/lib /usr/lib/x86_64-linux-gnu /usr/lib /lib/x86_64-linux-gnu /lib
    libs=-lpthread -lnsl -lgdbm -ldb -ldl -lm -lcrypt -lutil -lc
    perllibs=-lpthread -lnsl -ldl -lm -lcrypt -lutil -lc
    libc=libc-2.31.so
    so=so
    useshrplib=false
    libperl=libperl.a
    gnulibc_version='2.31'
  Dynamic Linking:
    dlsrc=dl_dlopen.xs
    dlext=so
    d_dlsymun=undef
    ccdlflags='-Wl,-E'
    cccdlflags='-fPIC'
    lddlflags='-shared -O2 -L/usr/local/lib -fstack-protector-strong'


Characteristics of this binary (from libperl): 
  Compile-time options:
    HAS_TIMES
    PERLIO_LAYERS
    PERL_COPY_ON_WRITE
    PERL_DONT_CREATE_GVSV
    PERL_MALLOC_WRAP
    PERL_OP_PARENT
    PERL_PRESERVE_IVUV
    USE_64_BIT_ALL
    USE_64_BIT_INT
    USE_LARGE_FILES
    USE_LOCALE
    USE_LOCALE_COLLATE
    USE_LOCALE_CTYPE
    USE_LOCALE_NUMERIC
    USE_LOCALE_TIME
    USE_PERLIO
    USE_PERL_ATOF
  Built under linux
  Compiled at May 30 2022 18:42:58
  %ENV:
    PERL5LIB="/home/cpansand/.cpan/build/2023021817/Test-Directory-0.051-0/blib/arch:/home/cpansand/.cpan/build/2023021817/Test-Directory-0.051-0/blib/lib:/home/cpansand/.cpan/build/2023021817/Mojolicious-9.31-0/blib/arch:/home/cpansand/.cpan/build/2023021817/Mojolicious-9.31-0/blib/lib:/home/cpansand/.cpan/build/2023021817/Imager-1.019-0/blib/arch:/home/cpansand/.cpan/build/2023021817/Imager-1.019-0/blib/lib:/home/cpansand/.cpan/build/2023021817/Alien-Font-Vera-0.013-0/blib/arch:/home/cpansand/.cpan/build/2023021817/Alien-Font-Vera-0.013-0/blib/lib"
    PERL5OPT=""
    PERL5_CPANPLUS_IS_RUNNING="782821"
    PERL5_CPAN_IS_RUNNING="782821"
    PERL5_CPAN_IS_RUNNING_IN_RECURSION="101194,782821"
    PERLDOC="-MPod::Perldoc::ToTextOverstrike"
    PERL_BATCH="yes"
    PERL_CANARY_STABILITY_NOPROMPT="1"
    PERL_CPAN_REPORTER_CONFIG="/var/tmp/cpansmoker-1023/2023021807/cpanreporter_000_config.ini"
    PERL_EXTUTILS_AUTOINSTALL="--defaultdeps"
    PERL_USE_UNSAFE_INC="1"
  @INC:
    /home/cpansand/.cpan/build/2023021817/Test-Directory-0.051-0/blib/arch
    /home/cpansand/.cpan/build/2023021817/Test-Directory-0.051-0/blib/lib
    /home/cpansand/.cpan/build/2023021817/Mojolicious-9.31-0/blib/arch
    /home/cpansand/.cpan/build/2023021817/Mojolicious-9.31-0/blib/lib
    /home/cpansand/.cpan/build/2023021817/Imager-1.019-0/blib/arch
    /home/cpansand/.cpan/build/2023021817/Imager-1.019-0/blib/lib
    /home/cpansand/.cpan/build/2023021817/Alien-Font-Vera-0.013-0/blib/arch
    /home/cpansand/.cpan/build/2023021817/Alien-Font-Vera-0.013-0/blib/lib
    /opt/perl-5.36.0/lib/site_perl/5.36.0/x86_64-linux
    /opt/perl-5.36.0/lib/site_perl/5.36.0
    /opt/perl-5.36.0/lib/5.36.0/x86_64-linux
    /opt/perl-5.36.0/lib/5.36.0
    .