Encode v3.21 Perl 5 v5.22.4 x86_64-linux-thread-multi
- Status
- Pass
- From
- Nigel Horne
- Dist
-
Encode v3.21
- Platform
- Perl 5 v5.22.4 x86_64-linux-thread-multi
- Date
- 2025-10-19 19:24:14
- ID
- 328c4df6-ad21-11f0-a23b-3e1dbb89be80
This distribution has been tested as part of the CPAN Testers
project, supporting the Perl programming language. See
http://wiki.cpantesters.org/ for more information or email
questions to cpan-testers-discuss@perl.org
--
Dear Dan Kogai,
This is a computer-generated report for Encode-3.21
on perl 5.22.4, created by CPAN-Reporter-1.2018.
Thank you for uploading your work to CPAN. Congratulations!
All tests were successful.
Sections of this report:
* Tester comments
* Program output
* Prerequisites
* Environment and other context
------------------------------
TESTER COMMENTS
------------------------------
Additional comments from tester:
this report is from an automated smoke testing program
and was not reviewed by a human for accuracy
------------------------------
PROGRAM OUTPUT
------------------------------
Output from '/usr/bin/make test':
"/home/njh/perl5/perlbrew/perls/perl-5.22.4/bin/perl5.22.4" -MExtUtils::Command::MM -e 'cp_nonempty' -- Encode.bs blib/arch/auto/Encode/Encode.bs 644
make[1]: Entering directory '/tmp/user/1000/build/Encode-3.21-0/Byte'
"/home/njh/perl5/perlbrew/perls/perl-5.22.4/bin/perl5.22.4" -MExtUtils::Command::MM -e 'cp_nonempty' -- Byte.bs ../blib/arch/auto/Encode/Byte/Byte.bs 644
make[1]: Leaving directory '/tmp/user/1000/build/Encode-3.21-0/Byte'
make[1]: Entering directory '/tmp/user/1000/build/Encode-3.21-0/CN'
"/home/njh/perl5/perlbrew/perls/perl-5.22.4/bin/perl5.22.4" -MExtUtils::Command::MM -e 'cp_nonempty' -- CN.bs ../blib/arch/auto/Encode/CN/CN.bs 644
make[1]: Leaving directory '/tmp/user/1000/build/Encode-3.21-0/CN'
make[1]: Entering directory '/tmp/user/1000/build/Encode-3.21-0/EBCDIC'
"/home/njh/perl5/perlbrew/perls/perl-5.22.4/bin/perl5.22.4" -MExtUtils::Command::MM -e 'cp_nonempty' -- EBCDIC.bs ../blib/arch/auto/Encode/EBCDIC/EBCDIC.bs 644
make[1]: Leaving directory '/tmp/user/1000/build/Encode-3.21-0/EBCDIC'
make[1]: Entering directory '/tmp/user/1000/build/Encode-3.21-0/JP'
"/home/njh/perl5/perlbrew/perls/perl-5.22.4/bin/perl5.22.4" -MExtUtils::Command::MM -e 'cp_nonempty' -- JP.bs ../blib/arch/auto/Encode/JP/JP.bs 644
make[1]: Leaving directory '/tmp/user/1000/build/Encode-3.21-0/JP'
make[1]: Entering directory '/tmp/user/1000/build/Encode-3.21-0/KR'
"/home/njh/perl5/perlbrew/perls/perl-5.22.4/bin/perl5.22.4" -MExtUtils::Command::MM -e 'cp_nonempty' -- KR.bs ../blib/arch/auto/Encode/KR/KR.bs 644
make[1]: Leaving directory '/tmp/user/1000/build/Encode-3.21-0/KR'
make[1]: Entering directory '/tmp/user/1000/build/Encode-3.21-0/Symbol'
"/home/njh/perl5/perlbrew/perls/perl-5.22.4/bin/perl5.22.4" -MExtUtils::Command::MM -e 'cp_nonempty' -- Symbol.bs ../blib/arch/auto/Encode/Symbol/Symbol.bs 644
make[1]: Leaving directory '/tmp/user/1000/build/Encode-3.21-0/Symbol'
make[1]: Entering directory '/tmp/user/1000/build/Encode-3.21-0/TW'
"/home/njh/perl5/perlbrew/perls/perl-5.22.4/bin/perl5.22.4" -MExtUtils::Command::MM -e 'cp_nonempty' -- TW.bs ../blib/arch/auto/Encode/TW/TW.bs 644
make[1]: Leaving directory '/tmp/user/1000/build/Encode-3.21-0/TW'
make[1]: Entering directory '/tmp/user/1000/build/Encode-3.21-0/Unicode'
"/home/njh/perl5/perlbrew/perls/perl-5.22.4/bin/perl5.22.4" -MExtUtils::Command::MM -e 'cp_nonempty' -- Unicode.bs ../blib/arch/auto/Encode/Unicode/Unicode.bs 644
make[1]: Leaving directory '/tmp/user/1000/build/Encode-3.21-0/Unicode'
make[1]: Entering directory '/tmp/user/1000/build/Encode-3.21-0/Byte'
"/home/njh/perl5/perlbrew/perls/perl-5.22.4/bin/perl5.22.4" -MExtUtils::Command::MM -e 'cp_nonempty' -- Byte.bs ../blib/arch/auto/Encode/Byte/Byte.bs 644
No tests defined for Encode::Byte extension.
make[1]: Leaving directory '/tmp/user/1000/build/Encode-3.21-0/Byte'
make[1]: Entering directory '/tmp/user/1000/build/Encode-3.21-0/CN'
"/home/njh/perl5/perlbrew/perls/perl-5.22.4/bin/perl5.22.4" -MExtUtils::Command::MM -e 'cp_nonempty' -- CN.bs ../blib/arch/auto/Encode/CN/CN.bs 644
No tests defined for Encode::CN extension.
make[1]: Leaving directory '/tmp/user/1000/build/Encode-3.21-0/CN'
make[1]: Entering directory '/tmp/user/1000/build/Encode-3.21-0/EBCDIC'
"/home/njh/perl5/perlbrew/perls/perl-5.22.4/bin/perl5.22.4" -MExtUtils::Command::MM -e 'cp_nonempty' -- EBCDIC.bs ../blib/arch/auto/Encode/EBCDIC/EBCDIC.bs 644
No tests defined for Encode::EBCDIC extension.
make[1]: Leaving directory '/tmp/user/1000/build/Encode-3.21-0/EBCDIC'
make[1]: Entering directory '/tmp/user/1000/build/Encode-3.21-0/JP'
"/home/njh/perl5/perlbrew/perls/perl-5.22.4/bin/perl5.22.4" -MExtUtils::Command::MM -e 'cp_nonempty' -- JP.bs ../blib/arch/auto/Encode/JP/JP.bs 644
No tests defined for Encode::JP extension.
make[1]: Leaving directory '/tmp/user/1000/build/Encode-3.21-0/JP'
make[1]: Entering directory '/tmp/user/1000/build/Encode-3.21-0/KR'
"/home/njh/perl5/perlbrew/perls/perl-5.22.4/bin/perl5.22.4" -MExtUtils::Command::MM -e 'cp_nonempty' -- KR.bs ../blib/arch/auto/Encode/KR/KR.bs 644
No tests defined for Encode::KR extension.
make[1]: Leaving directory '/tmp/user/1000/build/Encode-3.21-0/KR'
make[1]: Entering directory '/tmp/user/1000/build/Encode-3.21-0/Symbol'
"/home/njh/perl5/perlbrew/perls/perl-5.22.4/bin/perl5.22.4" -MExtUtils::Command::MM -e 'cp_nonempty' -- Symbol.bs ../blib/arch/auto/Encode/Symbol/Symbol.bs 644
No tests defined for Encode::Symbol extension.
make[1]: Leaving directory '/tmp/user/1000/build/Encode-3.21-0/Symbol'
make[1]: Entering directory '/tmp/user/1000/build/Encode-3.21-0/TW'
"/home/njh/perl5/perlbrew/perls/perl-5.22.4/bin/perl5.22.4" -MExtUtils::Command::MM -e 'cp_nonempty' -- TW.bs ../blib/arch/auto/Encode/TW/TW.bs 644
No tests defined for Encode::TW extension.
make[1]: Leaving directory '/tmp/user/1000/build/Encode-3.21-0/TW'
make[1]: Entering directory '/tmp/user/1000/build/Encode-3.21-0/Unicode'
"/home/njh/perl5/perlbrew/perls/perl-5.22.4/bin/perl5.22.4" -MExtUtils::Command::MM -e 'cp_nonempty' -- Unicode.bs ../blib/arch/auto/Encode/Unicode/Unicode.bs 644
No tests defined for Encode::Unicode extension.
make[1]: Leaving directory '/tmp/user/1000/build/Encode-3.21-0/Unicode'
PERL_DL_NONLAZY=1 "/home/njh/perl5/perlbrew/perls/perl-5.22.4/bin/perl5.22.4" "-MExtUtils::Command::MM" "-MTest::Harness" "-e" "undef *Test::Harness::Switches; test_harness(0, 'blib/lib', 'blib/arch')" t/*.t
t/at-tw.t .................. ok
t/at-cn.t .................. ok
t/cow.t .................... ok
t/decode.t ................. ok
t/enc_eucjp.t .............. ok
t/enc_data.t ............... ok
t/enc_utf8.t ............... ok
t/enc_module.t ............. ok
t/Aliases.t ................ ok
t/encoding-locale.t ........ ok
t/encoding.t ............... ok
t/Encoder.t ................ ok
t/from_to.t ................ ok
t/fallback.t ............... ok
t/grow.t ................... ok
t/CJKT.t ................... ok
t/guess.t .................. ok
t/gsm0338.t ................ ok
t/Encode.t ................. ok
t/jis7-fallback.t .......... ok
t/isa.t .................... ok
t/jperl.t .................. ok
t/magic.t .................. ok
t/mime-name.t .............. ok
t/mime_header_iso2022jp.t .. ok
t/rt113164.t ............... ok
t/piconv.t ................. ok
t/rt65541.t ................ ok
t/rt76824.t ................ ok
t/rt85489.t ................ ok
t/rt86327.t ................ ok
t/taint.t .................. ok
t/truncated_utf8.t ......... ok
t/undef.t .................. ok
t/Unicode.t ................ ok
t/use-Encode-Alias.t ....... ok
t/Unicode_trailing_nul.t ... ok
t/perlio.t ................. ok
t/utf32warnings.t .......... ok
t/utf8ref.t ................ ok
t/utf8strict.t ............. ok
t/whatwg-aliases.t ......... skipped: For maintainers only
t/utf8warnings.t ........... ok
t/xml.t .................... ok
t/mime-header.t ............ ok
All tests successful.
Test Summary Report
-------------------
t/truncated_utf8.t (Wstat: 0 Tests: 9 Failed: 0)
TODO passed: 9
Files=45, Tests=7836, 1 wallclock secs ( 0.55 usr 0.05 sys + 4.27 cusr 0.41 csys = 5.28 CPU)
Result: PASS
------------------------------
PREREQUISITES
------------------------------
Prerequisite modules loaded:
requires:
Module Need Have
------------------- ----- --------
Exporter 5.57 5.72
parent 0.221 0.232
Storable 0 2.53_02
build_requires:
Module Need Have
------------------- ----- --------
ExtUtils::MakeMaker 0 7.62
Test::More 0.92 1.302186
configure_requires:
Module Need Have
------------------- ----- --------
ExtUtils::MakeMaker 0 7.62
------------------------------
ENVIRONMENT AND OTHER CONTEXT
------------------------------
Environment variables:
AUTOMATED_TESTING = 1
HARNESS_OPTIONS = j4
LANG = en_US.UTF-8
PATH = /home/njh/perl5/perlbrew/bin:/home/njh/perl5/perlbrew/perls/perl-5.22.4/bin:/home/njh/perl5/perlbrew/bin:/home/njh/src/njh/smoker/bin:/usr/bin:/bin
PERL5LIB =
PERL5OPT =
PERL5_CPANPLUS_IS_RUNNING = 3302625
PERL5_CPAN_IS_RUNNING = 3302625
PERL5_CPAN_IS_RUNNING_IN_RECURSION = 3302615,3302625
PERLBREW_LIB =
PERLBREW_MANPATH = /home/njh/perl5/perlbrew/perls/perl-5.22.4/man
PERLBREW_PATH = /home/njh/perl5/perlbrew/bin:/home/njh/perl5/perlbrew/perls/perl-5.22.4/bin
PERLBREW_PERL = perl-5.22.4
PERLBREW_ROOT = /home/njh/perl5/perlbrew
PERLBREW_SHELLRC_VERSION = 1.02
PERLBREW_VERSION = 1.02
PERL_LOCAL_LIB_ROOT =
PERL_MM_USE_DEFAULT = 1
PERL_USE_UNSAFE_INC = 1
SHELL = /bin/sh
TEMP = /tmp/user/1000
TMPDIR = /tmp/user/1000/testwrapper.3302618
Perl special variables (and OS-specific diagnostics, for MSWin32):
$^X = /home/njh/perl5/perlbrew/perls/perl-5.22.4/bin/perl5.22.4
$UID/$EUID = 1000 / 1000
$GID = 1000 4 24 25 29 30 44 46 103 108 115 123 996 1000
$EGID = 1000 4 24 25 29 30 44 46 103 108 115 123 996 1000
Perl module toolchain versions installed:
Module Have
------------------- ----------
CPAN 2.28
CPAN::Meta 2.150010
Cwd 3.75
ExtUtils::CBuilder 0.280221
ExtUtils::Command 7.62
ExtUtils::Install 2.06
ExtUtils::MakeMaker 7.62
ExtUtils::Manifest 1.70
ExtUtils::ParseXS 3.28
File::Spec 3.75
JSON 4.02
JSON::PP 2.27300_01
Module::Build 0.4224
Module::Signature n/a
Parse::CPAN::Meta 2.150010
Test::Harness 3.35_01
Test::More 1.302186
YAML 1.31
YAML::Syck 1.34
version 0.9909
--
Summary of my perl5 (revision 5 version 22 subversion 4) configuration:
Platform:
osname=linux, osvers=4.9.0-3-amd64, archname=x86_64-linux-thread-multi
uname='linux amelia 4.9.0-3-amd64 #1 smp debian 4.9.25-1 (2017-05-02) x86_64 gnulinux '
config_args='-de -Dprefix=/home/njh/perl5/perlbrew/perls/perl-5.22.4 -Duseithreads -Dusemultiplicity -Dusedevel -Accflags= -Aeval:scriptdir=/home/njh/perl5/perlbrew/perls/perl-5.22.4/bin'
hint=recommended, useposix=true, d_sigaction=define
useithreads=define, usemultiplicity=define
use64bitint=define, use64bitall=define, uselongdouble=undef
usemymalloc=n, bincompat5005=undef
Compiler:
cc='cc', ccflags ='-D_REENTRANT -D_GNU_SOURCE -fwrapv -fno-strict-aliasing -pipe -fstack-protector-strong -I/usr/local/include -D_LARGEFILE_SOURCE -D_FILE_OFFSET_BITS=64',
optimize='-O2',
cppflags='-D_REENTRANT -D_GNU_SOURCE -fwrapv -fno-strict-aliasing -pipe -fstack-protector-strong -I/usr/local/include'
ccversion='', gccversion='6.4.0 20170704', gccosandvers=''
intsize=4, longsize=8, ptrsize=8, doublesize=8, byteorder=12345678, doublekind=3
d_longlong=define, longlongsize=8, d_longdbl=define, longdblsize=16, longdblkind=3
ivtype='long', ivsize=8, nvtype='double', nvsize=8, Off_t='off_t', lseeksize=8
alignbytes=8, prototype=define
Linker and Libraries:
ld='cc', ldflags =' -fstack-protector-strong -L/usr/local/lib'
libpth=/usr/local/lib /usr/lib/gcc/x86_64-linux-gnu/6/include-fixed /usr/include/x86_64-linux-gnu /usr/lib /lib/x86_64-linux-gnu /lib/../lib /usr/lib/x86_64-linux-gnu /usr/lib/../lib /lib /lib64 /usr/lib64
libs=-lpthread -lnsl -lgdbm -ldb -ldl -lm -lcrypt -lutil -lc -lgdbm_compat
perllibs=-lpthread -lnsl -ldl -lm -lcrypt -lutil -lc
libc=libc-2.24.so, so=so, useshrplib=false, libperl=libperl.a
gnulibc_version='2.24'
Dynamic Linking:
dlsrc=dl_dlopen.xs, dlext=so, d_dlsymun=undef, ccdlflags='-Wl,-E'
cccdlflags='-fPIC', lddlflags='-shared -O2 -L/usr/local/lib -fstack-protector-strong'
Characteristics of this binary (from libperl):
Compile-time options: HAS_TIMES MULTIPLICITY PERLIO_LAYERS
PERL_DONT_CREATE_GVSV
PERL_HASH_FUNC_ONE_AT_A_TIME_HARD
PERL_IMPLICIT_CONTEXT PERL_MALLOC_WRAP
PERL_NEW_COPY_ON_WRITE PERL_PRESERVE_IVUV
PERL_USE_DEVEL USE_64_BIT_ALL USE_64_BIT_INT
USE_ITHREADS USE_LARGE_FILES USE_LOCALE
USE_LOCALE_COLLATE USE_LOCALE_CTYPE
USE_LOCALE_NUMERIC USE_LOCALE_TIME USE_PERLIO
USE_PERL_ATOF USE_REENTRANT_API
Built under linux
Compiled at Jul 19 2017 00:51:15
%ENV:
PERL5LIB=""
PERL5OPT=""
PERL5_CPANPLUS_IS_RUNNING="3302625"
PERL5_CPAN_IS_RUNNING="3302625"
PERL5_CPAN_IS_RUNNING_IN_RECURSION="3302615,3302625"
PERLBREW_LIB=""
PERLBREW_MANPATH="/home/njh/perl5/perlbrew/perls/perl-5.22.4/man"
PERLBREW_PATH="/home/njh/perl5/perlbrew/bin:/home/njh/perl5/perlbrew/perls/perl-5.22.4/bin"
PERLBREW_PERL="perl-5.22.4"
PERLBREW_ROOT="/home/njh/perl5/perlbrew"
PERLBREW_SHELLRC_VERSION="1.02"
PERLBREW_VERSION="1.02"
PERL_LOCAL_LIB_ROOT=""
PERL_MM_USE_DEFAULT="1"
PERL_USE_UNSAFE_INC="1"
@INC:
/home/njh/perl5/perlbrew/perls/perl-5.22.4/lib/site_perl/5.22.4/x86_64-linux-thread-multi
/home/njh/perl5/perlbrew/perls/perl-5.22.4/lib/site_perl/5.22.4
/home/njh/perl5/perlbrew/perls/perl-5.22.4/lib/5.22.4/x86_64-linux-thread-multi
/home/njh/perl5/perlbrew/perls/perl-5.22.4/lib/5.22.4
.