Params-Util v1.102 Perl 5 v5.37.5 x86_64-linux
- Status
- Pass
- From
- Slaven Rezić
- Dist
-
Params-Util v1.102
- Platform
- Perl 5 v5.37.5 x86_64-linux
- Date
- 2022-10-31 15:03:35
- ID
- 31a74c38-592d-11ed-88e7-dc2c6e8775ea
This distribution has been tested as part of the CPAN Testers
project, supporting the Perl programming language. See
http://wiki.cpantesters.org/ for more information or email
questions to cpan-testers-discuss@perl.org
--
Dear Jens Rehsack,
This is a computer-generated report for Params-Util-1.102
on perl 5.37.5, created by CPAN-Reporter-1.2018.
Thank you for uploading your work to CPAN. Congratulations!
All tests were successful.
Sections of this report:
* Tester comments
* Program output
* Prerequisites
* Environment and other context
------------------------------
TESTER COMMENTS
------------------------------
Additional comments from tester:
none provided
------------------------------
PROGRAM OUTPUT
------------------------------
Output from '/usr/bin/make test':
"/opt/perl-5.37.5/bin/perl5.37.5" -MExtUtils::Command::MM -e 'cp_nonempty' -- Util.bs blib/arch/auto/Params/Util/Util.bs 644
PERL_DL_NONLAZY=1 "/opt/perl-5.37.5/bin/perl5.37.5" "-MExtUtils::Command::MM" "-MTest::Harness" "-e" "undef *Test::Harness::Switches; test_harness(0, 'blib/lib', 'blib/arch')" t/pp/*.t t/xs/*.t xt/*.t
t/pp/01_compile.t .... ok
t/pp/02_main.t ....... ok
t/pp/03_all.t ........ ok
t/pp/04_codelike.t ... ok
t/pp/05_typelike.t ... ok
t/pp/06_invocant.t ... ok
t/pp/07_handle.t ..... ok
t/pp/08_driver.t ..... ok
t/pp/09_insideout.t .. ok
t/xs/01_compile.t .... ok
t/xs/02_main.t ....... ok
t/xs/03_all.t ........ ok
t/xs/04_codelike.t ... ok
t/xs/05_typelike.t ... ok
t/xs/06_invocant.t ... ok
t/xs/07_handle.t ..... ok
t/xs/08_driver.t ..... ok
t/xs/09_insideout.t .. ok
All tests successful.
Files=18, Tests=1864, 1 wallclock secs ( 0.10 usr 0.01 sys + 0.85 cusr 0.12 csys = 1.08 CPU)
Result: PASS
------------------------------
PREREQUISITES
------------------------------
Prerequisite modules loaded:
requires:
Module Need Have
------------------- ---- --------
Scalar::Util 1.18 1.63
XSLoader 0.22 0.32
build_requires:
Module Need Have
------------------- ---- --------
ExtUtils::MakeMaker 0 7.64
Storable 0 3.27
Test::LeakTrace 0 0.17
Test::More 0.96 1.302191
configure_requires:
Module Need Have
------------------- ---- --------
Carp 0 1.54
ExtUtils::MakeMaker 0 7.64
File::Basename 0 2.86
File::Copy 0 2.40
File::Path 0 2.18
File::Spec 0 3.87
IPC::Cmd 0 1.04
parent 0 0.238
------------------------------
ENVIRONMENT AND OTHER CONTEXT
------------------------------
Environment variables:
LANG = de_DE.UTF-8
LANGUAGE = de_DE
PATH = /usr/local/bin:/usr/bin:/bin:/usr/local/sbin:/usr/sbin:/sbin:/home/slaven_rezic/bin/linux-gnu:/home/slaven_rezic/bin/sh:/home/slaven_rezic/bin:/home/slaven_rezic/bin/pistachio-perl/bin:/usr/games:/home/slaven_rezic/devel:/home/slaven_rezic/work/drafts-slaven.rezic/misc:/home/slaven_rezic/work2/fzf/bin:/home/slaven_rezic/src/srezic-misc/scripts
PERL5LIB =
PERL5OPT =
PERL5_CPANPLUS_IS_RUNNING = 2420793
PERL5_CPAN_IS_RUNNING = 2420793
PERL5_CPAN_IS_RUNNING_IN_RECURSION = 2420770,2420793
PERLDOC = -MPod::Perldoc::ToTextOverstrike
PERL_BATCH = yes
PERL_CANARY_STABILITY_NOPROMPT = 1
PERL_CPAN_REPORTER_CONFIG = /var/tmp/cpansmoker-1000/2022103115/cpanreporter_000_config.ini
PERL_EXTUTILS_AUTOINSTALL = --defaultdeps
PERL_MM_USE_DEFAULT = 1
PERL_USE_UNSAFE_INC = 1
SHELL = /bin/zsh
STDPERL = /home/slaven_rezic/bin/pistachio-perl/bin/perl
TERM = screen
TMPDIR = /var/tmp/cpansmoker-1000/2022103115
Perl special variables (and OS-specific diagnostics, for MSWin32):
$^X = /opt/perl-5.37.5/bin/perl5.37.5
$UID/$EUID = 1000 / 1000
$GID = 1000 4 24 27 30 46 121 131 132 135 138 1000 1002
$EGID = 1000 4 24 27 30 46 121 131 132 135 138 1000 1002
Perl module toolchain versions installed:
Module Have
------------------- --------
CPAN 2.34
CPAN::Meta 2.150010
Cwd 3.86
ExtUtils::CBuilder 0.280237
ExtUtils::Command 7.64
ExtUtils::Install 2.20
ExtUtils::MakeMaker 7.64
ExtUtils::Manifest 1.73
ExtUtils::ParseXS 3.46
File::Spec 3.87
JSON n/a
JSON::PP 4.12
Module::Build 0.4231
Module::Signature n/a
Parse::CPAN::Meta 2.150010
Test::Harness 3.44
Test::More 1.302191
YAML 1.30
YAML::Syck 1.34
version 0.9929
--
Summary of my perl5 (revision 5 version 37 subversion 5) configuration:
Platform:
osname=linux
osvers=5.15.0-46-generic
archname=x86_64-linux
uname='linux slaven-rezic-thinkpad-t14s-gen-1 5.15.0-46-generic #49~20.04.1-ubuntu smp thu aug 4 19:15:44 utc 2022 x86_64 x86_64 x86_64 gnulinux '
config_args='-ds -e -Dprefix=/opt/perl-5.37.5 -Dusedevel -Dusemallocwrap=no -Dcf_email=srezic@cpan.org'
hint=recommended
useposix=true
d_sigaction=define
useithreads=undef
usemultiplicity=undef
use64bitint=define
use64bitall=define
uselongdouble=undef
usemymalloc=n
default_inc_excludes_dot=define
Compiler:
cc='cc'
ccflags ='-fwrapv -fno-strict-aliasing -pipe -fstack-protector-strong -I/usr/local/include -D_LARGEFILE_SOURCE -D_FILE_OFFSET_BITS=64'
optimize='-O2'
cppflags='-fwrapv -fno-strict-aliasing -pipe -fstack-protector-strong -I/usr/local/include'
ccversion=''
gccversion='9.4.0'
gccosandvers=''
intsize=4
longsize=8
ptrsize=8
doublesize=8
byteorder=12345678
doublekind=3
d_longlong=define
longlongsize=8
d_longdbl=define
longdblsize=16
longdblkind=3
ivtype='long'
ivsize=8
nvtype='double'
nvsize=8
Off_t='off_t'
lseeksize=8
alignbytes=8
prototype=define
Linker and Libraries:
ld='cc'
ldflags =' -fstack-protector-strong -L/usr/local/lib'
libpth=/usr/local/lib /usr/lib/x86_64-linux-gnu /usr/lib /usr/lib64
libs=-lpthread -lgdbm -ldb -ldl -lm -lcrypt -lutil -lc
perllibs=-lpthread -ldl -lm -lcrypt -lutil -lc
libc=libc-2.31.so
so=so
useshrplib=false
libperl=libperl.a
gnulibc_version='2.31'
Dynamic Linking:
dlsrc=dl_dlopen.xs
dlext=so
d_dlsymun=undef
ccdlflags='-Wl,-E'
cccdlflags='-fPIC'
lddlflags='-shared -O2 -L/usr/local/lib -fstack-protector-strong'
Characteristics of this binary (from libperl):
Compile-time options:
HAS_TIMES
PERLIO_LAYERS
PERL_COPY_ON_WRITE
PERL_DONT_CREATE_GVSV
PERL_HASH_FUNC_SIPHASH13
PERL_HASH_USE_SBOX32
PERL_OP_PARENT
PERL_PRESERVE_IVUV
PERL_USE_DEVEL
PERL_USE_SAFE_PUTENV
USE_64_BIT_ALL
USE_64_BIT_INT
USE_LARGE_FILES
USE_LOCALE
USE_LOCALE_COLLATE
USE_LOCALE_CTYPE
USE_LOCALE_NUMERIC
USE_LOCALE_TIME
USE_PERLIO
USE_PERL_ATOF
Built under linux
Compiled at Oct 31 2022 15:37:38
%ENV:
PERL5LIB=""
PERL5OPT=""
PERL5_CPANPLUS_IS_RUNNING="2420793"
PERL5_CPAN_IS_RUNNING="2420793"
PERL5_CPAN_IS_RUNNING_IN_RECURSION="2420770,2420793"
PERLDOC="-MPod::Perldoc::ToTextOverstrike"
PERL_BATCH="yes"
PERL_CANARY_STABILITY_NOPROMPT="1"
PERL_CPAN_REPORTER_CONFIG="/var/tmp/cpansmoker-1000/2022103115/cpanreporter_000_config.ini"
PERL_EXTUTILS_AUTOINSTALL="--defaultdeps"
PERL_MM_USE_DEFAULT="1"
PERL_USE_UNSAFE_INC="1"
@INC:
/opt/perl-5.37.5/lib/site_perl/5.37.5/x86_64-linux
/opt/perl-5.37.5/lib/site_perl/5.37.5
/opt/perl-5.37.5/lib/5.37.5/x86_64-linux
/opt/perl-5.37.5/lib/5.37.5
.