Google-Ads-AdWords-Client v5.8.2 Perl 5 v5.24.4 x86_64-linux

Status
Pass
From
Slaven Rezić (SREZIC)
Dist
Google-Ads-AdWords-Client v5.8.2
Platform
Perl 5 v5.24.4 x86_64-linux
Date
2019-09-29 16:28:38
ID
313c8180-e2d6-11e9-961c-4e8a1f24ea8f
This distribution has been tested as part of the CPAN Testers
project, supporting the Perl programming language.  See
http://wiki.cpantesters.org/ for more information or email
questions to cpan-testers-discuss@perl.org


--
Dear Nadine Sundquist,

This is a computer-generated report for Google-Ads-AdWords-Client-5.8.2
on perl 5.24.4, created by CPAN-Reporter-1.2018.

Thank you for uploading your work to CPAN.  Congratulations!
All tests were successful.

Sections of this report:

    * Tester comments
    * Program output
    * Prerequisites
    * Environment and other context

------------------------------
TESTER COMMENTS
------------------------------

Additional comments from tester:

none provided

------------------------------
PROGRAM OUTPUT
------------------------------

Output from './Build test':

t/001_require.t ....................... ok
t/011_Client.t ........................ ok
t/012_Serializer.t .................... ok
t/013_Deserializer.t .................. ok
t/014_XPathSAXParser.t ................ ok
t/015_RequestStats.t .................. ok
t/017_OAuth2ApplicationsHandler.t ..... ok
t/018_MapUtils.t ...................... ok
t/019_OAuth2ServiceAccountsHandler.t .. ok
t/020_GenerateOfflineCredentials.t .... ok
t/021_ReportingConfiguration.t ........ ok
t/022_ReportUtils.t ................... ok
t/023_AdsUtilityRegistry.t ............ ok
t/024_BatchJobHandler.t ............... ok
t/025_ReportQueryBuilder.t ............ ok
t/026_ServiceQueryBuilder.t ........... ok
All tests successful.
Files=16, Tests=1859,  8 wallclock secs ( 0.14 usr  0.21 sys +  5.29 cusr  1.63 csys =  7.27 CPU)
Result: PASS

------------------------------
PREREQUISITES
------------------------------

Prerequisite modules loaded:

requires:

    Module                    Need    Have      
    ------------------------- ------- ----------
    Class::Load               0       0.25      
    Class::Std::Fast          0       0.0.8     
    Crypt::OpenSSL::RSA       0       0.31      
    Cwd                       0       3.75      
    Data::Uniqid              0       0.12      
    Date::Format              0       2.24      
    Date::Parse               0       2.30      
    Digest::SHA               0       5.95_01   
    File::Basename            0       2.85      
    File::HomeDir             0       1.004     
    File::Path                0       2.12_01   
    File::Spec                0       3.75      
    File::Temp                0       0.2309    
    Getopt::Long              0       2.51      
    HTTP::Server::Simple::CGI 0       0         
    IO::Socket::SSL           0       2.066     
    JSON::Parse               0       0.55      
    List::Util                0       1.50      
    Log::Log4perl             0       1.49      
    LWP::Protocol::https      0       6.07      
    LWP::UserAgent            0       6.39      
    Math::Random::MT          0       1.17      
    perl                      v5.14.0 5.024004  
    POSIX                     0       1.65_01   
    SOAP::WSDL                v2.0.10 3.003     
    Template                  0       2.29      
    URI::Escape               0       3.31      
    XML::LibXML               0       2.0201    
    XML::Simple               0       2.25      
    XML::XPath                0       1.44      

build_requires:

    Module                    Need    Have      
    ------------------------- ------- ----------
    Class::Std::Fast          v0.0.5  0.0.8     
    Config::Properties        0       1.80      
    Module::Build             0       0.4229    
    Test::Deep                0       1.128     
    Test::Exception           0       0.43      
    Test::MockObject          0       1.20180705
    Test::MockObject::Extends 0       1.20180705
    Test::More                0       1.302167  

configure_requires:

    Module                    Need    Have      
    ------------------------- ------- ----------
    Module::Build             0.42    0.4229    


------------------------------
ENVIRONMENT AND OTHER CONTEXT
------------------------------

Environment variables:

    LANG = en_US.UTF-8
    PATH = /usr/local/bin:/usr/bin:/bin:/usr/local/sbin:/usr/sbin:/sbin:/home/cpansand/bin/linux-gnu:/home/cpansand/bin/sh:/home/cpansand/bin:/usr/games:/home/cpansand/devel:/home/eserte/src/srezic-misc/scripts
    PERL5LIB = /home/cpansand/.cpan/build/2019092616/Data-Uniqid-0.12-2c5y0r/blib/arch:/home/cpansand/.cpan/build/2019092616/Data-Uniqid-0.12-2c5y0r/blib/lib:/home/cpansand/.cpan/build/2019092616/Math-Random-MT-1.17-whO5Hv/blib/arch:/home/cpansand/.cpan/build/2019092616/Math-Random-MT-1.17-whO5Hv/blib/lib:/home/cpansand/.cpan/build/2019092616/Config-Properties-1.80-hI4_oQ/blib/arch:/home/cpansand/.cpan/build/2019092616/Config-Properties-1.80-hI4_oQ/blib/lib:/home/cpansand/.cpan/build/2019092616/SOAP-WSDL-3.003-4lwXPY/blib/arch:/home/cpansand/.cpan/build/2019092616/SOAP-WSDL-3.003-4lwXPY/blib/lib:/home/cpansand/.cpan/build/2019092616/Class-Std-Fast-v0.0.8-oSTdx4/blib/arch:/home/cpansand/.cpan/build/2019092616/Class-Std-Fast-v0.0.8-oSTdx4/blib/lib:/home/cpansand/.cpan/build/2019092616/Class-Std-0.013-FSPCUd/blib/arch:/home/cpansand/.cpan/build/2019092616/Class-Std-0.013-FSPCUd/blib/lib
    PERL5OPT = 
    PERL5_CPANPLUS_IS_RUNNING = 24068
    PERL5_CPAN_IS_RUNNING = 24068
    PERL5_CPAN_IS_RUNNING_IN_RECURSION = 24012,24068
    PERLDOC = -MPod::Perldoc::ToTextOverstrike
    PERL_BATCH = yes
    PERL_CANARY_STABILITY_NOPROMPT = 1
    PERL_CPAN_REPORTER_CONFIG = /var/tmp/cpansmoker-1023/2019092616/cpanreporter_000_config.ini
    PERL_EXTUTILS_AUTOINSTALL = --defaultdeps
    SHELL = /usr/bin/zsh
    TERM = screen
    TMPDIR = /var/tmp/cpansmoker-1023/2019092616

Perl special variables (and OS-specific diagnostics, for MSWin32):

    $^X = /opt/perl-5.24.4/bin/perl
    $UID/$EUID = 1023 / 1023
    $GID = 1023 1023
    $EGID = 1023 1023

Perl module toolchain versions installed:

    Module              Have    
    ------------------- --------
    CPAN                2.11_01 
    CPAN::Meta          2.150010
    Cwd                 3.75    
    ExtUtils::CBuilder  0.280231
    ExtUtils::Command   7.38    
    ExtUtils::Install   2.06    
    ExtUtils::MakeMaker 7.38    
    ExtUtils::Manifest  1.70    
    ExtUtils::ParseXS   3.35    
    File::Spec          3.75    
    JSON                4.02    
    JSON::PP            4.04    
    Module::Build       0.4229  
    Module::Signature   n/a     
    Parse::CPAN::Meta   2.150010
    Test::Harness       3.42    
    Test::More          1.302167
    YAML                1.29    
    YAML::Syck          1.31    
    version             0.9916  


--

Summary of my perl5 (revision 5 version 24 subversion 4) configuration:
   
  Platform:
    osname=linux, osvers=4.4.0-157-generic, archname=x86_64-linux
    uname='linux ubuntu16 4.4.0-157-generic #185-ubuntu smp tue jul 23 09:17:01 utc 2019 x86_64 x86_64 x86_64 gnulinux '
    config_args='-ds -e -Dprefix=/opt/perl-5.24.4 -Dcf_email=srezic@cpan.org'
    hint=recommended, useposix=true, d_sigaction=define
    useithreads=undef, usemultiplicity=undef
    use64bitint=define, use64bitall=define, uselongdouble=undef
    usemymalloc=n, bincompat5005=undef
  Compiler:
    cc='cc', ccflags ='-fwrapv -fno-strict-aliasing -pipe -fstack-protector-strong -I/usr/local/include -D_LARGEFILE_SOURCE -D_FILE_OFFSET_BITS=64',
    optimize='-O2',
    cppflags='-fwrapv -fno-strict-aliasing -pipe -fstack-protector-strong -I/usr/local/include'
    ccversion='', gccversion='5.4.0 20160609', gccosandvers=''
    intsize=4, longsize=8, ptrsize=8, doublesize=8, byteorder=12345678, doublekind=3
    d_longlong=define, longlongsize=8, d_longdbl=define, longdblsize=16, longdblkind=3
    ivtype='long', ivsize=8, nvtype='double', nvsize=8, Off_t='off_t', lseeksize=8
    alignbytes=8, prototype=define
  Linker and Libraries:
    ld='cc', ldflags =' -fstack-protector-strong -L/usr/local/lib'
    libpth=/usr/local/lib /usr/lib/gcc/x86_64-linux-gnu/5/include-fixed /usr/include/x86_64-linux-gnu /usr/lib /lib/x86_64-linux-gnu /lib/../lib /usr/lib/x86_64-linux-gnu /usr/lib/../lib /lib
    libs=-lpthread -lnsl -ldb -ldl -lm -lcrypt -lutil -lc
    perllibs=-lpthread -lnsl -ldl -lm -lcrypt -lutil -lc
    libc=libc-2.23.so, so=so, useshrplib=false, libperl=libperl.a
    gnulibc_version='2.23'
  Dynamic Linking:
    dlsrc=dl_dlopen.xs, dlext=so, d_dlsymun=undef, ccdlflags='-Wl,-E'
    cccdlflags='-fPIC', lddlflags='-shared -O2 -L/usr/local/lib -fstack-protector-strong'


Characteristics of this binary (from libperl): 
  Compile-time options: HAS_TIMES PERLIO_LAYERS PERL_COPY_ON_WRITE
                        PERL_DONT_CREATE_GVSV
                        PERL_HASH_FUNC_ONE_AT_A_TIME_HARD PERL_MALLOC_WRAP
                        PERL_PRESERVE_IVUV USE_64_BIT_ALL USE_64_BIT_INT
                        USE_LARGE_FILES USE_LOCALE USE_LOCALE_COLLATE
                        USE_LOCALE_CTYPE USE_LOCALE_NUMERIC USE_LOCALE_TIME
                        USE_PERLIO USE_PERL_ATOF
  Built under linux
  Compiled at Aug  6 2019 17:24:30
  %ENV:
    PERL5LIB="/home/cpansand/.cpan/build/2019092616/Data-Uniqid-0.12-2c5y0r/blib/arch:/home/cpansand/.cpan/build/2019092616/Data-Uniqid-0.12-2c5y0r/blib/lib:/home/cpansand/.cpan/build/2019092616/Math-Random-MT-1.17-whO5Hv/blib/arch:/home/cpansand/.cpan/build/2019092616/Math-Random-MT-1.17-whO5Hv/blib/lib:/home/cpansand/.cpan/build/2019092616/Config-Properties-1.80-hI4_oQ/blib/arch:/home/cpansand/.cpan/build/2019092616/Config-Properties-1.80-hI4_oQ/blib/lib:/home/cpansand/.cpan/build/2019092616/SOAP-WSDL-3.003-4lwXPY/blib/arch:/home/cpansand/.cpan/build/2019092616/SOAP-WSDL-3.003-4lwXPY/blib/lib:/home/cpansand/.cpan/build/2019092616/Class-Std-Fast-v0.0.8-oSTdx4/blib/arch:/home/cpansand/.cpan/build/2019092616/Class-Std-Fast-v0.0.8-oSTdx4/blib/lib:/home/cpansand/.cpan/build/2019092616/Class-Std-0.013-FSPCUd/blib/arch:/home/cpansand/.cpan/build/2019092616/Class-Std-0.013-FSPCUd/blib/lib"
    PERL5OPT=""
    PERL5_CPANPLUS_IS_RUNNING="24068"
    PERL5_CPAN_IS_RUNNING="24068"
    PERL5_CPAN_IS_RUNNING_IN_RECURSION="24012,24068"
    PERLDOC="-MPod::Perldoc::ToTextOverstrike"
    PERL_BATCH="yes"
    PERL_CANARY_STABILITY_NOPROMPT="1"
    PERL_CPAN_REPORTER_CONFIG="/var/tmp/cpansmoker-1023/2019092616/cpanreporter_000_config.ini"
    PERL_EXTUTILS_AUTOINSTALL="--defaultdeps"
  @INC:
    /home/cpansand/.cpan/build/2019092616/Data-Uniqid-0.12-2c5y0r/blib/arch
    /home/cpansand/.cpan/build/2019092616/Data-Uniqid-0.12-2c5y0r/blib/lib
    /home/cpansand/.cpan/build/2019092616/Math-Random-MT-1.17-whO5Hv/blib/arch
    /home/cpansand/.cpan/build/2019092616/Math-Random-MT-1.17-whO5Hv/blib/lib
    /home/cpansand/.cpan/build/2019092616/Config-Properties-1.80-hI4_oQ/blib/arch
    /home/cpansand/.cpan/build/2019092616/Config-Properties-1.80-hI4_oQ/blib/lib
    /home/cpansand/.cpan/build/2019092616/SOAP-WSDL-3.003-4lwXPY/blib/arch
    /home/cpansand/.cpan/build/2019092616/SOAP-WSDL-3.003-4lwXPY/blib/lib
    /home/cpansand/.cpan/build/2019092616/Class-Std-Fast-v0.0.8-oSTdx4/blib/arch
    /home/cpansand/.cpan/build/2019092616/Class-Std-Fast-v0.0.8-oSTdx4/blib/lib
    /home/cpansand/.cpan/build/2019092616/Class-Std-0.013-FSPCUd/blib/arch
    /home/cpansand/.cpan/build/2019092616/Class-Std-0.013-FSPCUd/blib/lib
    /opt/perl-5.24.4/lib/site_perl/5.24.4/x86_64-linux
    /opt/perl-5.24.4/lib/site_perl/5.24.4
    /opt/perl-5.24.4/lib/5.24.4/x86_64-linux
    /opt/perl-5.24.4/lib/5.24.4
    .