Back
From: metabase:user:30f4dfbe-2aae-11df-837a-5e0a49663a4f
Subject: PASS Parse-Eyapp-1.21 v5.12.2 GNU/Linux
Date: 2017-07-05T04:34:11Z
This distribution has been tested as part of the CPAN Testers
project, supporting the Perl programming language. See
http://wiki.cpantesters.org/ for more information or email
questions to cpan-testers-discuss@perl.org
--
Dear William N. Braswell, Jr.,
This is a computer-generated report for Parse-Eyapp-1.21
on perl 5.12.2, created by CPAN-Reporter-1.2018.
Thank you for uploading your work to CPAN. Congratulations!
All tests were successful.
Sections of this report:
* Tester comments
* Program output
* Prerequisites
* Environment and other context
------------------------------
TESTER COMMENTS
------------------------------
Additional comments from tester:
this report is from an automated smoke testing program
and was not reviewed by a human for accuracy
------------------------------
PROGRAM OUTPUT
------------------------------
Output from '/usr/bin/make test':
PERL_DL_NONLAZY=1 /home/njh/perl5/perlbrew/perls/perl-5.12.2/bin/perl "-MExtUtils::Command::MM" "-e" "test_harness(0, 'blib/lib', 'blib/arch')" t/*.t
t/03newgrammar.t ............................ ok
t/01calc.t .................................. ok
t/04foldandzero.t ........................... ok
t/05treewithvars.t .......................... ok
t/06meta.t .................................. ok
t/07translationschemetype.t ................. ok
t/08tschemetypestar.t ....................... ok
t/09ts_with_defaultaction.t ................. ok
t/11ts_simplify_codes.t ..................... ok
t/12ts_simplify_with_s.t .................... ok
t/10ts_with_treereg.t ....................... ok
t/13ts_simplify_with_delete.t ............... ok
t/16treeregswitharrayattheend.t ............. ok
t/14ts_simplify_with_trreereg.t ............. ok
t/15treeregswith2arrays.t ................... ok
t/17fatherisscalar.t ........................ ok
t/19treeregswitharrays2transf.t ............. ok
t/18fatherpatternwitharrays.t ............... ok
t/20treeregswitharrays2transf.t ............. ok
t/21fatherisdot.t ........................... ok
t/22treeregswithregexpwithid.t .............. ok
t/23treeregswitharraysandregexps.t .......... ok
t/24prefixes.t .............................. ok
t/25foldwithnew.t ........................... ok
t/26foldwithnewwithvars.t ................... ok
t/27unshiftinmyself.t ....................... ok
t/28unshifttwoitems.t ....................... ok
t/29foldinglistsofexpressions.t ............. ok
t/31optional.t .............................. ok
t/30complextreereg.t ........................ ok
t/32deletenodewithwarn.t .................... ok
t/33moveinvariantoutofloop.t ................ ok
t/34moveinvariantoutofloopcomplexformula.t .. ok
t/35match.t ................................. ok
t/36tswithmultipledefact.t .................. ok
t/37tsplus.t ................................ ok
t/38tspostfix.t ............................. ok
t/38tspostfix_resultisarray.t ............... ok
t/39tspostfix.t ............................. ok
t/42pod.t ................................... skipped: Developer test
t/40wrongoptionforTreeregexp_new.t .......... ok
t/41indexbug.t .............................. ok
t/43dotandscalar.t .......................... ok
t/44repeatedarray.t ......................... ok
t/45starandarray.t .......................... ok
t/46starandstar.t ........................... ok
t/47ruleindex.t ............................. ok
t/48yyprefix.t .............................. ok
t/49conflicts.t ............................. ok
t/52accesors.t .............................. ok
t/53accessorsskip.t ......................... ok
t/55builder.t ............................... ok
t/56equal.t ................................. ok
t/54alias_and_yyprefix.t .................... ok
t/50SimpleChalfscope.t ...................... ok
t/58standalone.t ............................ ok
t/57testequal.t ............................. ok
t/61standalonegift.t ........................ ok
t/59newgrammarerrors.t ...................... ok
t/60dynamicyyprefix_and_alias.t ............. ok
t/62docinsideeyapp.t ........................ ok
t/64standalonegiftandeyapp.t ................ ok
t/63docwithdoublecut.t ...................... ok
t/65yydebugandpod.t ......................... ok
t/70dos2unix.t .............................. ok
t/71dynamicconflictresolution.t ............. ok
t/66yydebugstandaloneandpod.t ............... ok
t/72mixedstandaloneanddynamicload.t ......... ok
t/73dynamicshiftreduceconflictresolution.t .. ok
t/67outputfile.t ............................ ok
t/75tokenandvariablewiththesamename.t ....... ok
t/74lalrdependanttest.t ..................... ok
t/77lexicalanalyzergeneration.t ............. ok
t/76minusvoption.t .......................... ok
t/78twolexers.t ............................. ok
t/79syntactictokenwithdef.t ................. ok
t/81tokendirectiveandsubstitution.t ......... ok
t/82expectandPLI.t .......................... ok
t/80ppcr.t .................................. ok
t/83parsingstringsandtrees.t ................ ok
t/84graphics.t .............................. ok
t/85minusSoption.t .......................... ok
t/86recycle.t ............................... ok
t/87namingSchemes.t ......................... ok
t/88explorer.t .............................. ok
t/98nopm.t .................................. ok
t/99Cplusplusgrammar.t ...................... skipped: Developer test
All tests successful.
Files=87, Tests=881, 19 wallclock secs ( 2.13 usr 0.56 sys + 63.90 cusr 4.78 csys = 71.37 CPU)
Result: PASS
------------------------------
PREREQUISITES
------------------------------
Prerequisite modules loaded:
requires:
Module Need Have
------------------- ---- -----
Data::Dumper 1.0 2.145
List::Util 1.0 1.47
Parse::Yapp 1.2 1.2
Pod::Usage 1.0 1.61
build_requires:
Module Need Have
------------------- ---- -----
ExtUtils::MakeMaker 0 6.66
configure_requires:
Module Need Have
------------------- ---- -----
ExtUtils::MakeMaker 0 6.66
------------------------------
ENVIRONMENT AND OTHER CONTEXT
------------------------------
Environment variables:
AUTOMATED_TESTING = 1
HARNESS_OPTIONS = j4
LANG = en_GB.UTF-8
PATH = /home/njh/perl5/perlbrew/bin:/home/njh/perl5/perlbrew/perls/perl-5.12.2/bin:/home/njh/perl5/perlbrew/bin:/usr/bin:/bin
PERL5LIB = /home/njh/.cpan/build/Parse-Yapp-1.2-JTDDqL/blib/arch:/home/njh/.cpan/build/Parse-Yapp-1.2-JTDDqL/blib/lib:/home/njh/.cpan/build/Filter-Simple-0.91-1PWfj6/blib/arch:/home/njh/.cpan/build/Filter-Simple-0.91-1PWfj6/blib/lib:/home/njh/.cpan/build/PadWalker-2.2-5v57Jt/blib/arch:/home/njh/.cpan/build/PadWalker-2.2-5v57Jt/blib/lib
PERL5OPT =
PERL5_CPANPLUS_IS_RUNNING = 6172
PERL5_CPAN_IS_RUNNING = 6172
PERLBREW_BASHRC_VERSION = 0.74
PERLBREW_HOME = /home/njh/.perlbrew
PERLBREW_LIB =
PERLBREW_MANPATH = /home/njh/perl5/perlbrew/perls/perl-5.12.2/man
PERLBREW_PATH = /home/njh/perl5/perlbrew/bin:/home/njh/perl5/perlbrew/perls/perl-5.12.2/bin
PERLBREW_PERL = perl-5.12.2
PERLBREW_ROOT = /home/njh/perl5/perlbrew
PERLBREW_VERSION = 0.74
PERL_LOCAL_LIB_ROOT =
SHELL = /bin/sh
Perl special variables (and OS-specific diagnostics, for MSWin32):
$^X = /home/njh/perl5/perlbrew/perls/perl-5.12.2/bin/perl
$UID/$EUID = 1000 / 1000
$GID = 1000 4 20 24 27 29 44 46 60 100 101 108 997 998 999 1000
$EGID = 1000 4 20 24 27 29 44 46 60 100 101 108 997 998 999 1000
Perl module toolchain versions installed:
Module Have
------------------- --------
CPAN 2.00
CPAN::Meta 2.150005
Cwd 3.47
ExtUtils::CBuilder 0.280216
ExtUtils::Command 1.17
ExtUtils::Install 1.55
ExtUtils::MakeMaker 6.66
ExtUtils::Manifest 1.61
ExtUtils::ParseXS 3.18
File::Spec 3.47
JSON 2.90
JSON::PP 2.27400
Module::Build 0.4218
Module::Signature 0.70
Parse::CPAN::Meta 1.4422
Test::Harness 3.36
Test::More 1.302075
YAML 0.98
YAML::Syck 1.29
version 0.9902
--
Summary of my perl5 (revision 5 version 12 subversion 2) configuration:
Platform:
osname=linux, osvers=3.2.27+, archname=armv6l-linux-thread-multi
uname='linux pi 3.2.27+ #250 preempt thu oct 18 19:03:02 bst 2012 armv6l gnulinux '
config_args='-de -Dprefix=/home/njh/perl5/perlbrew/perls/perl-5.12.2 -Duseithreads -Dusemultiplicity -Accflags=-Os -W -Wformat=2 -Wswitch -Wshadow -Wwrite-strings -Wuninitialized -Wall -pipe -fomit-frame-pointer -pedantic -D_FORTIFY_SOURCE=2 -Wpointer-arith -Wstrict-prototypes -fstack-protector -Wstack-protector -Wextra -Wbad-function-cast -Wcast-align -Wcast-qual -Wdisabled-optimization -Wendif-labels -Wfloat-equal -Wformat-nonliteral -Winline -Wmissing-declarations -Wmissing-prototypes -Wnested-externs -Wpointer-arith -Wundef -Wformat-security -Aeval:scriptdir=/home/njh/perl5/perlbrew/perls/perl-5.12.2/bin'
hint=recommended, useposix=true, d_sigaction=define
useithreads=define, usemultiplicity=define
useperlio=define, d_sfio=undef, uselargefiles=define, usesocks=undef
use64bitint=undef, use64bitall=undef, uselongdouble=undef
usemymalloc=n, bincompat5005=undef
Compiler:
cc='cc', ccflags ='-D_REENTRANT -D_GNU_SOURCE -Os -W -Wformat=2 -Wswitch -Wshadow -Wwrite-strings -Wuninitialized -Wall -pipe -fomit-frame-pointer -pedantic -D_FORTIFY_SOURCE=2 -Wpointer-arith -Wstrict-prototypes -fstack-protector -Wstack-protector -Wextra -Wbad-function-cast -Wcast-align -Wcast-qual -Wdisabled-optimization -Wendif-labels -Wfloat-equal -Wformat-nonliteral -Winline -Wmissing-declarations -Wmissing-prototypes -Wnested-externs -Wpointer-arith -Wundef -Wformat-security -fno-strict-aliasing -I/usr/local/include -D_LARGEFILE_SOURCE -D_FILE_OFFSET_BITS=64',
optimize='-O2',
cppflags='-D_REENTRANT -D_GNU_SOURCE -Os -W -Wformat=2 -Wswitch -Wshadow -Wwrite-strings -Wuninitialized -Wall -pipe -fomit-frame-pointer -pedantic -D_FORTIFY_SOURCE=2 -Wpointer-arith -Wstrict-prototypes -fstack-protector -Wstack-protector -Wextra -Wbad-function-cast -Wcast-align -Wcast-qual -Wdisabled-optimization -Wendif-labels -Wfloat-equal -Wformat-nonliteral -Winline -Wmissing-declarations -Wmissing-prototypes -Wnested-externs -Wpointer-arith -Wundef -Wformat-security -fno-strict-aliasing -I/usr/local/include'
ccversion='', gccversion='4.6.3', gccosandvers=''
intsize=4, longsize=4, ptrsize=4, doublesize=8, byteorder=1234
d_longlong=define, longlongsize=8, d_longdbl=define, longdblsize=8
ivtype='long', ivsize=4, nvtype='double', nvsize=8, Off_t='off_t', lseeksize=8
alignbytes=8, prototype=define
Linker and Libraries:
ld='cc', ldflags =' -fstack-protector -L/usr/local/lib'
libpth=/usr/local/lib /lib/arm-linux-gnueabihf /lib /usr/lib/arm-linux-gnueabihf /usr/lib
libs=-lnsl -lgdbm -ldb -ldl -lm -lcrypt -lutil -lpthread -lc -lgdbm_compat
perllibs=-lnsl -ldl -lm -lcrypt -lutil -lpthread -lc
libc=, so=so, useshrplib=false, libperl=libperl.a
gnulibc_version='2.13'
Dynamic Linking:
dlsrc=dl_dlopen.xs, dlext=so, d_dlsymun=undef, ccdlflags='-Wl,-E'
cccdlflags='-fPIC', lddlflags='-shared -O2 -L/usr/local/lib -fstack-protector'
Characteristics of this binary (from libperl):
Compile-time options: MULTIPLICITY PERL_DONT_CREATE_GVSV
PERL_IMPLICIT_CONTEXT PERL_MALLOC_WRAP USE_ITHREADS
USE_LARGE_FILES USE_PERLIO USE_PERL_ATOF
USE_REENTRANT_API
Built under linux
Compiled at Feb 5 2013 08:23:57
%ENV:
PERL5LIB="/home/njh/.cpan/build/Parse-Yapp-1.2-JTDDqL/blib/arch:/home/njh/.cpan/build/Parse-Yapp-1.2-JTDDqL/blib/lib:/home/njh/.cpan/build/Filter-Simple-0.91-1PWfj6/blib/arch:/home/njh/.cpan/build/Filter-Simple-0.91-1PWfj6/blib/lib:/home/njh/.cpan/build/PadWalker-2.2-5v57Jt/blib/arch:/home/njh/.cpan/build/PadWalker-2.2-5v57Jt/blib/lib"
PERL5OPT=""
PERL5_CPANPLUS_IS_RUNNING="6172"
PERL5_CPAN_IS_RUNNING="6172"
PERLBREW_BASHRC_VERSION="0.74"
PERLBREW_HOME="/home/njh/.perlbrew"
PERLBREW_LIB=""
PERLBREW_MANPATH="/home/njh/perl5/perlbrew/perls/perl-5.12.2/man"
PERLBREW_PATH="/home/njh/perl5/perlbrew/bin:/home/njh/perl5/perlbrew/perls/perl-5.12.2/bin"
PERLBREW_PERL="perl-5.12.2"
PERLBREW_ROOT="/home/njh/perl5/perlbrew"
PERLBREW_VERSION="0.74"
PERL_LOCAL_LIB_ROOT=""
@INC:
/home/njh/.cpan/build/Parse-Yapp-1.2-JTDDqL/blib/arch
/home/njh/.cpan/build/Parse-Yapp-1.2-JTDDqL/blib/lib
/home/njh/.cpan/build/Filter-Simple-0.91-1PWfj6/blib/arch
/home/njh/.cpan/build/Filter-Simple-0.91-1PWfj6/blib/lib
/home/njh/.cpan/build/PadWalker-2.2-5v57Jt/blib/arch
/home/njh/.cpan/build/PadWalker-2.2-5v57Jt/blib/lib
/home/njh/perl5/perlbrew/perls/perl-5.12.2/lib/site_perl/5.12.2/armv6l-linux-thread-multi
/home/njh/perl5/perlbrew/perls/perl-5.12.2/lib/site_perl/5.12.2
/home/njh/perl5/perlbrew/perls/perl-5.12.2/lib/5.12.2/armv6l-linux-thread-multi
/home/njh/perl5/perlbrew/perls/perl-5.12.2/lib/5.12.2
.